{"text_format":"1","workbook":"xlsx","n_sheets":8,"sheets":["COG","UM-TP-B-P-CFG-CeGe","PP y Comp","Ejes PLADI","PLA-FO-01","Calendarización","Resumen CONAC","Resumen PbR"],"not_rendered":{"charts":0,"images":1,"macros":1,"external_links":1,"defined_names":208,"comments":3,"pivot_tables":2},"unopened":[],"bounds":{"document_bytes":16777216,"sheet_cells":100000,"rows_first":2000,"rows_last":500,"rows_between":2000,"halvings":0,"cell_chars":16384,"cell_head_chars":4096},"cells_cut":0,"cells_raw":0,"read":"whole","date_system":"1900"}

{"sheet":"COG","index":0,"n_rows":91,"n_cols":25,"rows_kept":91,"cut":false,"hidden":true,"merged":[]}
["RUBRO",null,"1000 Servicios Personales.",null,"2000 Materiales y Suministros.",null,"3000 Servicios Generales.",null,"4000 Transferencias, asignaciones, subsidios y otras ayudas.",null,"5000 Bienes muebles, inmuebles e intangibles.",null,"6000 Inversión Pública.",null,null,null,null,null,null,null,null,null,"Cve.Entidad","EntidadUG","CeGe"]
["1000 Servicios Personales.",null,"1211. Honorarios.",null,"2111. Materiales y útiles  de oficina.",null,"3111. Servicio de agua.",null,"4411. Ayudas sociales a personas.",null,"5111. Muebles de oficina y estantería.",null,"6221. Edificación no habitacional.",null,null,null,"Campus Guanajuato",null,null,null,"Rectoría de Campus Guanajuato",null,"CGTOR","Rectoría de Campus Guanajuato","200101 Rectoría de Campus Guanajuato"]
["2000 Materiales y Suministros.",null,"1212. Honorarios Asimilados.",null,"2112. Equipos menores de oficina.",null,"3121. Servicios de gas.",null,"4413. Premios estudiantiles.",null,"5121. Muebles, excepto de oficina y estantería.",null,"6271. Instalaciones y equipamiento en construcciones.",null,null,null,"Campus Guanajuato",null,null,null,null,null,"CGTODCSH","División de Ciencias Sociales y Humanidades RCGT","200201 División Ciencias Sociales y Humanidades RCG"]
["3000 Servicios Generales.",null,null,null,"2121. Materiales y útiles de impresión y reproducción.",null,"3161. Servicios de telecomunicaciones y satélites.",null,"4414. Premios a deportistas.",null,"5131. Libros, revistas y otros elementos coleccionables.",null,"6291. Trabajos de acabados en edificaciones y otros trabajos especializados.",null,null,null,"Rectoría de Campus Guanajuato",null,null,null,null,null,null,"Departamento de Filosofía CGT","200202 Departamento de Filosofía CGT"]
["4000 Transferencias, asignaciones, subsidios y otras ayudas.",null,null,null,"2131. Material estadístico y geográfico.",null,"3171. Servicios de acceso a internet.",null,"4415. Premios literarios.",null,"5151. Computadoras y equipo periférico.",null,null,null,null,null,"División Ciencias Sociales y Humanidades CGT",null,null,null,"Rectoría de Campus León",null,null,"Departamento de Educación CGT","200203 Departamento de Educación CGT"]
["5000 Bienes muebles, inmuebles e intangibles.",null,null,null,"2141. Materiales y útiles de tecnologías de la información.",null,"3172. Servicio de redes.",null,"4421. Becas.",null,"5152. Medios magnéticos y ópticos.",null,null,null,null,null,"División Ciencias Naturales y Exactas CGT",null,null,null,null,null,null,"Departamento de Letras Hispánicas CGT","200204 Departamento de Letras Hispánicas CGT"]
["6000 Inversión Pública.",null,null,null,"2142. Equipos menores de tecnologías de la información.",null,"3173. Servicios de procesamiento de información.",null,"4441. Ayudas sociales a actividades científicas o académicas.",null,"5191. Otros mobiliarios y equipos de administración.",null,null,null,null,null,"División Arquitectura, Arte y Diseño CGT",null,null,null,null,null,null,"Departamento de Historia CGT","200205 Departamento de Historia CGT"]
[null,null,null,null,"2151. Material impreso e información digital.",null,"3181. Servicio postal.",null,null,null,"5211. Equipo de audio y de video.",null,null,null,null,null,"División Ingenierías CGT",null,null,null,"Rectoría de Campus Irapuato - Salamanca",null,null,"Departamento de Lenguas CGT","200206 Departamento de Lenguas CGT"]
[null,null,null,null,"2152. Libros.",null,"3211. Arrendamiento de terrenos.",null,null,null,"5221. Aparatos deportivos.",null,null,null,null,null,"División Ciencias Económico Administrativas CGT",null,null,null,null,null,null,"Departamento de Estudios de Cultura y Sociedad CGT","200207 Departamento de Estudios de Cultura y Sociedad CGT"]
[null,null,null,null,"2161. Material de Limpieza.",null,"3221. Arrendamiento de edificios y locales.",null,null,null,"5231. Cámaras fotográficas y de video.",null,null,null,null,null,"División Derecho, Política y Gobierno CGT",null,null,null,null,null,"CGTODCNE","División de Ciencias Naturales y Exactas RCGT","200301 División Ciencias Naturales Exactas RCG"]
[null,null,null,null,"2171. Materiales y útiles de enseñanza.",null,"3231. Arrendamiento de equipo de administración.",null,null,null,"5291. Otro mobiliario y equipo educacional y recreativo.",null,null,null,null,null,null,null,null,null,"Rectoría de Campus Celaya - Salvatierra",null,null,"Departamento de Ingeniería Química CGT","200302 Departamento de Ingeniería Química CGT"]
[null,null,null,null,"2212. Productos alimenticios para el personal en las instalaciones de las dependencias y entidades.",null,"3232. Arrendamiento de equipo educativo y recreativo.",null,null,null,"5311. Equipo para uso médico, dental y para laboratorio.",null,null,null,null,null,"Campus León",null,null,null,null,null,null,"Departamento de Química CGT","200303 Departamento de Química CGT"]
[null,null,null,null,"2221. Productos alimenticios para animales.",null,"3233. Arrendamiento de equipo y bienes informáticos.",null,null,null,"5321. Instrumentos médicos.",null,null,null,null,null,"Campus León",null,null,null,null,null,null,"Departamento de Biología CGT","200304 Departamento de Biología CGT"]
[null,null,null,null,"2231. Utensilios para el servicio de alimentación.",null,"3241. Arrendamiento de equipo médico y de laboratorio.",null,null,null,"5322. Instrumentos de laboratorio.",null,null,null,null,null,"Rectoría de Campus León",null,null,null,null,null,null,"Deparmento de Farmacia CGT","200305 Departamento de Farmacia CGT"]
[null,null,null,null,"2411. Materiales de construcción minerales no metálicos.",null,"3252. Arrendamiento de vehículos terrestres, aéreos, marítimos, lacustres y fluviales para servicios administrativos.",null,null,null,"5431. Equipo aeroespacial.",null,null,null,null,null,"División de Ciencias e Ingenierías CLE",null,null,null,null,null,null,"Departamento de Astronomía CGT","200306 Departamento de Astronomía CGT"]
[null,null,null,null,"2421. Materiales de construcción de concreto.",null,"3261. Arrendamiento de maquinaria y equipo.",null,null,null,"5611. Maquinaria y equipo agropecuario.",null,null,null,null,null,"División de Ciencias de la Salud CLE",null,null,"DCNMS","Colegio del Nivel Medio Superior",null,null,"Departamento de Matemáticas CGT","200307 Departamento de Matemáticas CGT"]
[null,null,null,null,"2431. Materiales de construcción de cal y yeso.",null,"3262. Arrendamiento de herramientas.",null,null,null,"5621. Maquinaria y equipo industrial.",null,null,null,null,null,"División Ciencias Sociales y Humanidades CLE",null,null,null,"Dirección del Colegio del Nivel Medio Superior",null,null,"Departamento de Enfermeria y Obstetricia CGT","200308 Departamento de Enfermería CGT"]
[null,null,null,null,"2441. Materiales de construcción de madera.",null,"3271. Arrendamiento de activos intangibles.",null,null,null,"5631. Maquinaria y equipo de construcción.",null,null,null,null,null,null,null,null,null,"Escuela de Nivel Medio Superior Celaya",null,"CGTODAAD","División de Arquitectura, Arte y Diseño RCGT","200401 División Arquitectura, Arte y Diseño RCG"]
[null,null,null,null,"2451. Materiales de construcción de vidrio.",null,"3291. Otros Arrendamientos.",null,null,null,"5641. Sistemas de aire acondicionado, calefacción y de refrigeración industrial y comercial.",null,null,null,null,null,"Campus Irapuato-Salamanca",null,null,null,"Escuela de Nivel Medio Superior Guanajuato",null,null,"Departamento de Artes Visuales CGT","200402 Departamento de Artes Visuales CGT"]
[null,null,null,null,"2461. Material eléctrico y electrónico.",null,"3311. Servicios legales.",null,null,null,"5651. Equipo de comunicación y telecomunicación.",null,null,null,null,null,"Campus Irapuato-Salamanca",null,null,null,"Escuela de Nivel Medio Superior Irapuato",null,null,"Departamento de Arquitectura CGT","200403 Departamento de Arquitectura CGT"]
[null,null,null,null,"2471. Artículos metálicos para la construcción.",null,"3312. Servicios de Contabilidad.",null,null,null,"5661. Accesorios de iluminación.",null,null,null,null,null,"Rectoría de Campus Irapuato - Salamanca",null,null,null,"Escuela de Nivel Medio Superior León",null,null,"Departamento de Diseño CGT","200404 Departamento de Diseño CGT"]
[null,null,null,null,"2481. Materiales complementarios.",null,"3313. Servicios de Auditoría.",null,null,null,"5662. Aparatos eléctricos de uso domestico.",null,null,null,null,null,"Centro Interdisiplinario del Noreste CIS",null,null,null,"Escuela de Nivel Medio Superior León Centro Historico",null,null,"Departamento de Música CGT","200405 Departamento de Música CGT"]
[null,null,null,null,"2491. Materiales diversos.",null,"3314. Otros servicios relacionados.",null,null,null,"5663. Equipo de generación y distribución de energía eléctrica.",null,null,null,null,null,"División Ciencias de la Vida CIS",null,null,null,"Escuela de Nivel Medio Superior Pénjamo",null,"CGTODI","División de Ingenierías RCGT","200501 División Ingenierías RCG"]
[null,null,null,null,"2511. Productos químicos básicos (sustancias químicas).",null,"3321. Servicios de Diseño, Arquitectura, Ingeniería y actividades relacionadas.",null,null,null,"5671. Herramientas y máquinas-herramienta.",null,null,null,null,null,"División de Ingenierías CIS",null,null,null,"Escuela de Nivel Medio Superior Salamanca",null,null,"Departamento de Ingeniería Civil CGT","200502 Departamento de Ingeniería Civil CGT"]
[null,null,null,null,"2521. Fertilizantes y abonos.",null,"3331. Servicios de Consultoría Administrativa.",null,null,null,"5691. Otros equipos.",null,null,null,null,null,null,null,null,null,"Escuela de Nivel Medio Superior Salvatierra",null,null,"Departamento de Ingeniería Geomática e Hidráulica CGT","200503 Departamento de Ingeniería Geomática e Hidráulica CGT"]
[null,null,null,null,"2522. Plaguicidas y pesticidas.",null,"3332. Servicios de Procesos, Técnica y Tecnologías de la Información.",null,null,null,"5711. Bovinos.",null,null,null,null,null,"Campus Celaya-Salvatierra",null,null,null,"Escuela de Nivel Medio Superior San Luis de la Paz",null,null,"Departamento de Ingeniería en Minas, Metalurgía y Geología GT","200504 Departamento de Ingeniería en Minas, Metalurgia Geología CGT"]
[null,null,null,null,"2531. Medicinas y productos farmacéuticos.",null,"3341. Servicios de Capacitación.",null,null,null,"5721. Porcinos.",null,null,null,null,null,"Campus Celaya-Salvatierra",null,null,null,"Escuela de Nivel Medio Superior Silao",null,"CGTODCEA","División de Ciencias Económico Administrativas RCGT","200601 División Económico Administrativas RCG"]
[null,null,null,null,"2541. Materiales, accesorios y suministros médicos.",null,"3351. Servicios de Investigación Científica.",null,null,null,"5731. Aves.",null,null,null,null,null,"Rectoría de Campus Celaya - Salvatierra",null,null,null,"Escuela de Nivel Medio Superior de Moroleón",null,null,"Departamento de Estudios Organizacionales CGT","200602 Departamento de Estudios Organizacionales CGT"]
[null,null,null,null,"2551. Materiales, accesorios y suministros de laboratorio.",null,"3352. Servicios de Investigación de Desarrollo.",null,null,null,"5741. Ovinos y caprinos.",null,null,null,null,null,"División Ciencias de la Salud e Ingenierías CCS",null,null,null,"Colegio del Nivel Medio Superior",null,null,"Departamento de Economía y Finanzas CGT","200603 Departamento de Economía y Finanzas CGT"]
[null,null,null,null,"2561. Fibras sintéticas, hules, plásticos y derivados.",null,"3353. Servicios Estadísticos y Geográficos.",null,null,null,"5751. Peces y acuicultura.",null,null,null,null,null,"División Ciencias Sociales y Administrativas CCS",null,null,null,null,null,null,"Departamento de Gestión y Dirección de Empresas CGT","200604 Departamento de Gestión y Dirección Empresas CGT"]
[null,null,null,null,"2591. Otros productos químicos.",null,"3362. Servicios de Impresión.",null,null,null,"5761. Equinos.",null,null,null,null,null,null,null,null,null,null,null,"CGTODDPG","División de Derecho, Política y Gobierno RCGT","200701 División Derecho, Política Gobierno RCG"]
[null,null,null,null,"2612. Combustibles, lubricantes, aditivos para vehículo y fluviales asignados a servidores públicos.",null,"3363. Servicios de Fotocopiado.",null,null,null,"5771. Especies menores y de zoológico.",null,null,null,null,null,"Colegio del Nivel Medio Superior",null,null,null,null,null,null,"Departamento de Derecho CGT","200702 Departamento de Derecho CGT"]
[null,null,null,null,"2613. Combustibles, lubricantes y aditivos para maquinaria, equipo de producción y servicios administrativos.",null,"3364. Servicios de apoyo administrativo.",null,null,null,"5781. Árboles y plantas.",null,null,null,null,null,"Colegio del Nivel Medio Superior",null,null,null,null,null,null,"Departamento de Gestión Pública CGT","200703 Departamento de Gestión Pública CGT"]
[null,null,null,null,"2621. Carbón y sus derivados.",null,"3371. Servicios de protección y seguridad.",null,null,null,"5791. Otros activos biológicos.",null,null,null,null,null,"Dirección Del Colegio del Nivel Medio Superior",null,null,null,null,null,null,"Departamento de Estudios Políticos y de Gobierno","200704 Departamento de Estudios Políticos y de Gobierno"]
[null,null,null,null,"2711. Vestuario y uniformes.",null,"3381. Servicios de vigilancia.",null,null,null,"5911. Software.",null,null,null,null,null,"Escuela de Nivel Medio Superior Celaya",null,null,null,null,null,"CISR","Rectoría de Campus Irapuato - Salamanca","400101 Rectoría de Campus Irapuato - Salamanca"]
[null,null,null,null,"2712. Enseres de escenografía.",null,"3391. Servicios Profesionales, Científicos y Técnicos Integrales.",null,null,null,"5921. Patentes.",null,null,null,null,null,"Escuela de Nivel Medio Superior Guanajuato",null,null,null,null,null,"CISCIS","Centro Interdisiplinario del Noreste CIS","400102 Centro Interdisciplinario del Noreste CIS"]
[null,null,null,null,"2721. Prendas de seguridad.",null,"3441. Seguros de responsabilidad patrimonial y fianzas.",null,null,null,"5931. Marcas.",null,null,null,null,null,"Escuela de Nivel Medio Superior Irapuato",null,null,null,null,null,"CISDCV","División de Ciencias de la Vida RCIS","400201 División Ciencias de la Vida RCIS "]
[null,null,null,null,"2731. Artículos deportivos.",null,"3451. Seguro de bienes patrimoniales.",null,null,null,"5941. Derechos.",null,null,null,null,null,"Escuela de Nivel Medio Superior León",null,null,null,null,null,null,"Departamento de Agronomía CIS","400202 Departamento de Agronomía CIS"]
[null,null,null,null,"2741. Productos textiles.",null,"3461. Almacenaje, envase y embalaje.",null,null,null,"5951. Concesiones.",null,null,null,null,null,"Escuela de Nivel Medio Superior León Centro Historico",null,null,null,null,null,null,"Departamento de Alimentos CIS","400203 Departamento de Alimentos CIS"]
[null,null,null,null,"2751. Blancos y otros productos textiles, excepto prendas de vestir.",null,"3471. Fletes y Maniobras.",null,null,null,"5971. Licencias informáticas  e intelectuales.",null,null,null,null,null,"Escuela de Nivel Medio Superior Pénjamo",null,null,null,null,null,null,"Departamento de Ingeniería Agrícola CIS","400204 Departamento de Ingeniería Agrícola CIS"]
[null,null,null,null,"2911. Herramientas menores.",null,"3511. Conservación y Mantenimiento de Inmuebles.",null,null,null,"5981. Licencias industriales, comerciales y otras.",null,null,null,null,null,"Escuela de Nivel Medio Superior Salamanca",null,null,null,null,null,null,"Departamento de Enfermería y Obstetricia CSI","400205 Departamento de Enfermería y Obstetricia CIS"]
[null,null,null,null,"2921. Refacciones y accesorios menores de edificios.",null,"3512. Adaptación de Inmuebles.",null,null,null,"5991. Otros activos intangibles.",null,null,null,null,null,"Escuela de Nivel Medio Superior Salvatierra",null,null,null,null,null,null,"Departamento de Ciencias Ambientales CSI","400206 Departamento de Ciencias Ambientales CIS"]
[null,null,null,null,"2931. Refacciones y accesorios menores de mobiliario .",null,"3521. Instalación, reparación y mantenimiento de mobiliario y equipo de administración.",null,null,null,null,null,null,null,null,null,"Escuela de Nivel Medio Superior San Luis de la Paz",null,null,null,null,null,null,"Departamento de Veterinaria y Zootecnia CSI","400207 Departamento de Veterinaria y Zootecnia CIS"]
[null,null,null,null,"2932. Refacciones y accesorios menores de equipo educacional y recreativo.",null,"3522. Instalación, reparación y mantenimiento de mobiliario y equipo educativo y recreativo.",null,null,null,null,null,null,null,null,null,"Escuela de Nivel Medio Superior Silao",null,null,null,null,null,"CISDI","División de Ingenierías RCIS","400301 División Ingenierías RCIS"]
[null,null,null,null,"2941. Refacciones y accesorios menores de equipo de cómputo y tecnologías de la información.",null,"3531. Instalación, reparación y mantenimiento de bienes informáticos.",null,null,null,null,null,null,null,null,null,"Escuela de Nivel Medio Superior de Moroleón",null,null,null,null,null,null,"Departamento de Ingeniería Mecánica CSI","400302 Departamento de Ingeniería Mecánica CIS"]
[null,null,null,null,"2951. Refacciones y accesorios menores de equipo de laboratorio.",null,"3541. Instalación, reparación y mantenimiento de equipo médico y de laboratorio.",null,null,null,null,null,null,null,null,null,null,null,null,null,null,null,null,"Departamento de Ingeniería Eléctrica CSI","400303 Departamento de Ingeniería Eléctrica CIS"]
[null,null,null,null,"2961. Refacciones y accesorios menores de equipo de transporte.",null,"3551. Mantenimiento y conservación de vehículos terrestres, aéreos, marítimos, lacustres y fluviales.",null,null,null,null,null,null,null,null,null,null,null,null,null,null,null,null,"Departamento de Ingeniería Eléctronica CSI","400304 Departamento Ingeniería Electrónica CIS"]
[null,null,null,null,"2981. Refacciones y accesorios menores de maquinaria y otros equipos.",null,"3571. Instalación, mantenimiento de maquinaria, otros equipos y herramienta.",null,null,null,null,null,null,null,null,null,"DEPTOS",null,null,null,null,null,null,"Departamento de Arte y Empresas CSI","400305 Departamento de Arte y Empresas CIS"]
[null,null,null,null,"2991. Refacciones y accesorios menores de otros bienes muebles.",null,"3581. Servicios de limpieza y manejo de desechos.",null,null,null,null,null,null,null,null,null,"Campus Guanajuato","CGTOR",null,null,null,null,null,"Departamento de Estudios Multidisciplinarios CIS","400306 Departamento de Estudios Multidisciplinarios CIS"]
[null,null,null,null,null,null,"3591. Servicios de jardinería y fumigación.",null,null,null,null,null,null,null,null,null,"Rectoría de Campus Guanajuato","CGTOR",null,null,null,null,"CCSR","Rectoría de Campus Celaya - Salvatierra","500101 Rectoría de Campus Celaya - Salvatierra"]
[null,null,null,null,null,null,"3621. Promoción para la venta de bienes o servicios.",null,null,null,null,null,null,null,null,null,"División Ciencias Sociales y Humanidades CGT","CGTODCSH",null,null,null,null,"CCSDCSI","División de Ciencias de la Salud e Ingenierías RCCS","500201 División Ciencias de Salud e Ing. RCCS"]
[null,null,null,null,null,null,"3631. Servicio de creatividad, preproducción y producción de publicidad, excepto internet.",null,null,null,null,null,null,null,null,null,"División Ciencias Naturales y Exactas CGT","CGTODCNE",null,null,null,null,null,"Departamento de Enfermería y Obstetricia CCS","500202 Departamento de Enfermería y Obstetricia CCS"]
[null,null,null,null,null,null,"3641. Servicios de revelado de fotografías.",null,null,null,null,null,null,null,null,null,"División Arquitectura, Arte y Diseño CGT","CGTODAAD",null,null,null,null,null,"Departamento de Enfermería Clínica CCS","500203 Departamento de Enfermería Clínica CCS"]
[null,null,null,null,null,null,"3651. Servicios de la industria fílmica, del sonido y del video.",null,null,null,null,null,null,null,null,null,"División Ingenierías CGT","CGTODI",null,null,null,null,null,"Departamento de Ingeniería Agroindustrial  CCS","500204 Departamento de Ingeniería Agroindustrial CCS"]
[null,null,null,null,null,null,"3661. Servicio de creación y difusión de contenido exclusivamente a través de internet.",null,null,null,null,null,null,null,null,null,"División Ciencias Económico Administrativas CGT","CGTODCEA",null,null,null,null,"CCSDCSA","División Ciencias Sociales y Administrativas RCCS","500301 División Ciencias Sociales y Admon RCCS"]
[null,null,null,null,null,null,"3691. Otros servicios de información.",null,null,null,null,null,null,null,null,null,"División Derecho, Política y Gobierno CGT","CGTODDPG",null,null,null,null,null,"Departamento de Estudios Sociales CCS","500302 Departamento de Estudios Sociales CCS"]
[null,null,null,null,null,null,"3711. Pasajes aéreos nacionales para servidores públicos en el desempeño de comisiones y funciones oficiales.",null,null,null,null,null,null,null,null,null,"Campus León","CLEOR",null,null,null,null,null,"Departamento de Finanzas y Administración CCS","500303 Departamento de Finanzas y Administración CCS"]
[null,null,null,null,null,null,"3712. Pasajes aéreos internacionales para servidores públicos en el desempeño de comisiones y funciones oficiales.",null,null,null,null,null,null,null,null,null,"Rectoría de Campus León","CLEOR",null,null,null,null,null,"Departamento de Estudios Culturales Demográficos y Políticos CCS","500304 Departamento de Estudios de Cultura, Demografía y Política"]
[null,null,null,null,null,null,"3721. Pasajes terrestres nacionales para servidores públicos en el desempeño de comisiones y funciones oficiales.",null,null,null,null,null,null,null,null,null,"División de Ciencias e Ingenierías CLE","CLEODCI",null,null,null,null,"CLEOR","Rectoría de Campus León","300101 Rectoría de Campus León"]
[null,null,null,null,null,null,"3722. Pasajes terrestres internacionales para servidores públicos en el desempeño de comisiones y funciones oficiales.",null,null,null,null,null,null,null,null,null,"División de Ciencias de la Salud CLE","CLEODCS",null,null,null,null,"CLEODCI","División de Ciencias e Ingeniería RCLE","300201 División Ciencias e Ingenierías RCL"]
[null,null,null,null,null,null,"3731. Pasajes marítimos, lacustres y fluviales nacionales para servidores públicos en el desempeño de comisiones y funciones oficiales.",null,null,null,null,null,null,null,null,null,"División Ciencias Sociales y Humanidades CLE","CLEODCSH",null,null,null,null,null,"Departamento de Física CLE","300202 Departamento de Física CLE"]
[null,null,null,null,null,null,"3732. Pasajes marítimos, lacustres y fluviales internacionales para servidores públicos en el desempeño de comisiones y funciones oficiales.",null,null,null,null,null,null,null,null,null,"Campus Irapuato-Salamanca","CISR",null,null,null,null,null,"Departamento de Ingeniería Física CLE","300203 Departamento de Ingeniería Física CLE"]
[null,null,null,null,null,null,"3741. Transporte en vehículos especializados.",null,null,null,null,null,null,null,null,null,"Rectoría de Campus Irapuato - Salamanca","CISR",null,null,null,null,null,"Departamento de Ingenierías Química, Electrónica y Biomédica CLE","300204 Departamento de Ingeniería Química Electrónica y Biomédica"]
[null,null,null,null,null,null,"3751. Viáticos Nacionales para servidores públicos.",null,null,null,null,null,null,null,null,null,"Centro Interdisiplinario del Noreste CIS","CISCIS",null,null,null,null,"CLEODCS","División de Ciencias de la Salud RCLE","300301 División Ciencias de la Salud RCL"]
[null,null,null,null,null,null,"3754. Trabajo de Campo.",null,null,null,null,null,null,null,null,null,"División Ciencias de la Vida CIS","CISDCV",null,null,null,null,null,"Departamento de Psicología CLE","300302 Departamento de Psicología CLE"]
[null,null,null,null,null,null,"3761. Viáticos en el Extranjero.",null,null,null,null,null,null,null,null,null,"División de Ingenierías CIS","CISDI",null,null,null,null,null,"Departamento de Medicina y Nutrición CLE","300303 Departamento de Medicina y Nutrición CLE"]
[null,null,null,null,null,null,"3781. Servicios integrales de traslado y viáticos.",null,null,null,null,null,null,null,null,null,"Campus Celaya-Salvatierra","CCSR",null,null,null,null,null,"Departamento de Ciencias Médicas CLE","300304 Departamento de Investigaciones Médicas CLE"]
[null,null,null,null,null,null,"3791. Otros servicios de traslado y hospedaje.",null,null,null,null,null,null,null,null,null,"Rectoría de Campus Celaya - Salvatierra","CCSR",null,null,null,null,null,"Departamento de Ciencias Aplicadas al Trabajo CLE","300305 Departamento de Ciencias Aplicadas al Trabajo CLE"]
[null,null,null,null,null,null,"3812. Gastos de ceremonial de los titulares de las dependencias y entidades",null,null,null,null,null,null,null,null,null,"División Ciencias de la Salud e Ingenierías CCS","CCSDCSI",null,null,null,null,null,"Departamento de Enfermería y Obstetricia (León) CLE","300306 Departamento de Enfermería y Obstetricia (León) CLE"]
[null,null,null,null,null,null,"3821. Gastos de orden social y cultural.",null,null,null,null,null,null,null,null,null,"División Ciencias Sociales y Administrativas CCS","CCSDCSA",null,null,null,null,null,"Departamento de Enfermería y Obstetricia (Gto) CLE","300307 Departamento de Enfermería y Obstetricia (Gto) CLE"]
[null,null,null,null,null,null,"3831. Congresos y convenciones.",null,null,null,null,null,null,null,null,null,"Colegio del Nivel Medio Superior","CNMSMS",null,null,null,null,"CLEODCSH","División de Ciencias Sociales y Humanidades RCLE","300401 División de Ciencias Sociales y Humanidades RCL"]
[null,null,null,null,null,null,"3841. Exposiciones.",null,null,null,null,null,null,null,null,null,"Dirección Del Colegio del Nivel Medio Superior","CNMSMS",null,null,null,null,null,"Departamento de Estudios Sociales CLE","300402 Departamento de Estudios Sociales CLE"]
[null,null,null,null,null,null,"3853. Gastos de representación.",null,null,null,null,null,null,null,null,null,"Escuela de Nivel Medio Superior Celaya","ENMSCE",null,null,null,null,null,"Departamento de Gestión Pública y Desarrollo CLE","300403 Departamento de Gestión Pública y Desarrollo CLE"]
[null,null,null,null,null,null,"3921. Otros impuestos y derechos.",null,null,null,null,null,null,null,null,null,"Escuela de Nivel Medio Superior Guanajuato","ENMSGU",null,null,null,null,null,"Departamento de Estudios Culturales CLE","300404 Departamento de Estudios Culturales CLE"]
[null,null,null,null,null,null,"3981. Impuesto sobre nóminas",null,null,null,null,null,null,null,null,null,"Escuela de Nivel Medio Superior Irapuato","ENMSIR",null,null,null,null,"ENMSCE","Escuela de Nivel Medio Superior Celaya","600201 ENMS Celaya"]
[null,null,null,null,null,null,null,null,null,null,null,null,null,null,null,null,"Escuela de Nivel Medio Superior León","ENMSLE",null,null,null,null,"ENMSGU","Escuela de Nivel Medio Superior Guanajuato","600301 ENMS Guanajuato"]
[null,null,null,null,null,null,null,null,null,null,null,null,null,null,null,null,"Escuela de Nivel Medio Superior León Centro Historico","ENMSLC",null,null,null,null,"ENMSIR","Escuela de Nivel Medio Superior Irapuato","600401 ENMS Irapuato"]
[null,null,null,null,null,null,null,null,null,null,null,null,null,null,null,null,"Escuela de Nivel Medio Superior Pénjamo","ENMSPE",null,null,null,null,"ENMSLE","Escuela de Nivel Medio Superior León","600501 ENMS León"]
[null,null,null,null,null,null,null,null,null,null,null,null,null,null,null,null,"Escuela de Nivel Medio Superior Salamanca","ENMSSA",null,null,null,null,"ENMSLC","Escuela de Nivel Medio Superior León Centro Historico","600601 ENMS Centro Histórico León"]
[null,null,null,null,null,null,null,null,null,null,null,null,null,null,null,null,"Escuela de Nivel Medio Superior Salvatierra","ENMSSL",null,null,null,null,"ENMSPE","Escuela de Nivel Medio Superior Pénjamo","600701 ENMS Pénjamo"]
[null,null,null,null,null,null,null,null,null,null,null,null,null,null,null,null,"Escuela de Nivel Medio Superior San Luis de la Paz","ENMSLP",null,null,null,null,"ENMSSA","Escuela de Nivel Medio Superior Salamanca","600801 ENMS Salamanca"]
[null,null,null,null,null,null,null,null,null,null,null,null,null,null,null,null,"Escuela de Nivel Medio Superior Silao","ENMSSI",null,null,null,null,"ENMSSL","Escuela de Nivel Medio Superior Salvatierra","600901 ENMS Salvatierra"]
[null,null,null,null,null,null,null,null,null,null,null,null,null,null,null,null,"Escuela de Nivel Medio Superior de Moroleón","ENMSMO",null,null,null,null,"ENMSLP","Escuela de Nivel Medio Superior San Luis de la Paz","601001 ENMS San Luis de la Paz"]
[null,null,null,null,null,null,null,null,null,null,null,null,null,null,null,null,null,null,null,null,null,null,"ENMSSI","Escuela de Nivel Medio Superior Silao","601101 ENMS Silao"]
[null,null,null,null,null,null,null,null,null,null,null,null,null,null,null,null,null,null,null,null,null,null,"ENMSMO","Escuela de Nivel Medio Superior de Moroleón","601201 ENMS Moroleón"]
[null,null,null,null,null,null,null,null,null,null,null,null,null,null,null,"ID_CAMPUS","NOMBRE_CAMPUS","NOMBRE_CORTO_CAMPUS","Rector",null,null,null,"CNMSMS","Dirección del Colegio del Nivel Medio Superior","600101 Dirección del CNMS"]
[null,null,null,null,null,null,null,null,null,null,null,null,null,null,null,2,"Campus Guanajuato","CGTO","DRA. TERESITA DE JESÚS RENDÓN HUERTA BARRERA","TPA"]
[null,null,null,null,null,null,null,null,null,null,null,null,null,null,null,3,"Campus León","CLEO","DR. CARLOS HIDALGO VALADEZ","TPA"]
[null,null,null,null,null,null,null,null,null,null,null,null,null,null,null,4,"Campus Irapuato-Salamanca","CIS","DR. ARMANDO GALLEGOS MUÑOZ","TPA"]
[null,null,null,null,null,null,null,null,null,null,null,null,null,null,null,5,"Campus Celaya-Salvatierra","CCS","DRA. GRACIELA MA. DE LA LUZ RUÍZ AGUILAR","TPA"]
[null,null,null,null,null,null,null,null,null,null,null,null,null,null,null,6,"Colegio del Nivel Medio Superior","CNMS","DR. J MERCED RIZO CARMONA","TPB"]

{"sheet":"UM-TP-B-P-CFG-CeGe","index":1,"n_rows":48,"n_cols":4,"rows_kept":48,"cut":false,"hidden":true,"merged":[]}
["UNIDAD DE MEDIDA",null,"AF 1er NIVEL"]
["Caja.",null,"252 Educación Media Superior."]
["Paquete.",null,"253 Educación Superior."]
["Pieza.",null,"256 Otros Servicios Educativos y Actividades Inherentes."]
["Servicio.",null,"381 Investigación Científica."]
[null,null,"382 Desarrollo Tecnológico."]
[null,null,"383 Servicios Científicos y Tecnológicos"]
[null,null,"384 Innovación.",{"$f":"IFERROR(VLOOKUP(#REF!,'UM-TP-B-P-CFG-CeGe'!$D$25:$D$32,2,FALSE),\"\")","v":""}]
[]
[]
[]
[]
[]
["Proyecto_de_Rectoría","PRORE"]
["Transversal de Alumnos."]
["Transversal de Entidades."]
[]
[]
["Proyecto_de_División","PRODI"]
["Alumnos."]
["Entidades."]
[]
[]
["Proyecto_de_Departamento","PRODE"]
["Alumnos."]
["Entidades."]
[]
[]
["Proyecto_de_Dirección_del_CNMS","PRODCNM"]
["Transversal de Alumnos."]
["Transversal de Entidades."]
[]
[]
["Proyecto_de_ENMS","PROENM"]
["Alumnos."]
["Entidades."]
[]
[]
["TIPO DE PROYECTO A"]
["Proyecto de Rectoría","PRORE"]
["Proyecto de División","PRODI"]
["Proyecto de Departamento","PRODE"]
["Proyecto de Dirección del CNMS","PRODCNM"]
["Proyecto de ENMS","PROENM"]
[]
["TIPO DE PROYECTO B"]
["Proyecto de Dirección del CNMS"]
["Proyecto de ENMS"]

{"sheet":"PP y Comp","index":2,"n_rows":244,"n_cols":59,"rows_kept":244,"cut":false,"hidden":true,"merged":[[57,1,62,1],[0,49,22,49],[32,1,40,1],[41,1,48,1],[49,1,51,1],[52,1,56,1],[71,1,75,1],[76,1,77,1],[78,1,82,1],[63,1,68,1],[69,1,70,1],[98,1,99,1],[102,1,103,1],[104,1,106,1],[83,1,84,1],[85,1,97,1],[124,1,128,1],[129,1,141,1],[142,1,146,1],[107,1,111,1],[112,1,115,1],[116,1,123,1],[156,1,159,1],[160,1,161,1],[162,1,169,1],[147,1,148,1],[149,1,152,1],[153,1,155,1]]}
["DATOS A ACTUALIZAR (SOLO MODIFICAR DATOS DE LLAS CELDAS EN \"AZUL\")",null,null,null,null,null,null,null,"Nomenclatura","Programa presupuestario",null,{"$f":"CELL(\"contenido\",'PP y Comp'!J2)","v":"E066 - Cobertura educativa de la Universidad de Guanajuato."},null,{"$f":"CELL(\"contenido\",'PP y Comp'!J3)","v":"E067 - Trayectoria Estudiantil Consolidada."},null,{"$f":"CELL(\"contenido\",'PP y Comp'!J4)","v":"E068 - Vinculación de la Comunidad Universitaria con los sectores económico y social."},null,{"$f":"CELL(\"contenido\",'PP y Comp'!J5)","v":"E040 - Investigación, desarrollo tecnológico e innovación de la Universidad de Guanajuato."},null,{"$f":"CELL(\"contenido\",'PP y Comp'!J6)","v":"E035 - Extensión del conocimiento, arte y cultura."},null,{"$f":"CELL(\"contenido\",'PP y Comp'!J7)","v":"R001 - Universidad con sentido humanista y responsabilidad social."},null,{"$f":"CELL(\"contenido\",'PP y Comp'!J8)","v":"M001 - Gestión eficiente y orientada a resultados."},null,null,null,null,null,null,null,"AF1R1","AF1R1",null,null,null,null,null,null,null,null,null,null,null,null,null,null,null,null,"NO MOVER COLUMNA",null,null,null,null,null," =INDIRECTO(\"PbR\"&IZQUIERDA(D25,4)&IZQUIERDA(E25,2))"," =SI(IZQUIERDA(D25,4)=\"R001\",INDIRECTO(\"_\"&IZQUIERDA(D25,4)&IZQUIERDA(E25,2)),INDIRECTO(IZQUIERDA(D25,4)&IZQUIERDA(E25,2)))"]
[null,"PP","Componente","AF","Bien o Servicio",null,null,null,"E066",{"$f":"CELL(\"contenido\",'PP y Comp'!B3)","v":"E066 - Cobertura educativa de la Universidad de Guanajuato."},null,{"$f":"CELL(\"contenido\",'PP y Comp'!C3)","v":"C01. Programas educativos pertinentes y apegados al modelo educativo de la Institución con reconocimiento de calidad impartidos."},null,{"$f":"CELL(\"contenido\",'PP y Comp'!C6)","v":"C01. Apoyos económicos y en especie que favorezcan la permanencia de los estudiantes, otorgados"},null,{"$f":"CELL(\"contenido\",'PP y Comp'!C10)","v":"C01. Servicios y apoyos de internacionalización para la interculturalidad otorgados a los estudiantes."},null,{"$f":"CELL(\"contenido\",'PP y Comp'!C13)","v":"C01. Avances científicos y tecnológicos difundidos."},null,{"$f":"CELL(\"contenido\",'PP y Comp'!C16)","v":"C01. Talleres de formación artística y cultural impartidos en las sedes universitarias de la UG, incrementados"},null,{"$f":"CELL(\"contenido\",'PP y Comp'!C20)","v":"C01. Acciones para acceder al conocimiento y respeto de los derechos humanos."},null,{"$f":"CELL(\"contenido\",'PP y Comp'!C22)","v":"C01. Información, planeación, seguimiento, calidad y mejora continua."},null,null,null,null,null,null,null,381,381,null,null,null,null,null,null,null,null,null,null,null,null,null,null,null,null,null,null,null,null,null,null," =INDIRECTO(\"PbR\"&SI(EXTRAE(E25,3,1)=\"0\",\"M00110_\",IZQUIERDA(D25,4)&0&EXTRAE(E25,2,1)))","   =SI. ERROR(BUSCARV(IZQUIERDA(D25,4)&IZQUIERDA(E25,2),MetaPbR,2,FALSO),\"N/A\")"]
[null,"E066 - Cobertura educativa de la Universidad de Guanajuato.","C01. Programas educativos pertinentes y apegados al modelo educativo de la Institución con reconocimiento de calidad impartidos.","E06601-PC2852","Programas Educativos ofertados por la Universidad de Guanajuato",null,null,null,"E067",{"$f":"CELL(\"contenido\",'PP y Comp'!B6)","v":"E067 - Trayectoria Estudiantil Consolidada."},null,{"$f":"CELL(\"contenido\",'PP y Comp'!C4)","v":"C02. Capacitación y certificación de la planta docente en competencias y habilidades pedagógicas innovadoras, otorgadas."},null,{"$f":"CELL(\"contenido\",'PP y Comp'!C7)","v":"C02. Servicios para la regularización y acompañamiento en la trayectoria escolar de los estudiantes, otorgados"},null,{"$f":"CELL(\"contenido\",'PP y Comp'!C11)","v":"C02. Eventos que fomentan la formación emprendedora y de liderazgo en los estudiantes UG ofertados."},null,{"$f":"CELL(\"contenido\",'PP y Comp'!C14)","v":"C03. Proyectos de Investigación desarrollados con calidad por los investigadores de prestigio y Cuerpos Académicos Consolidados."},null,{"$f":"CELL(\"contenido\",'PP y Comp'!C17)","v":"C02. Eventos artísticos y culturales de alto impacto social de la UG presentados a la población."},null,{"$f":"CELL(\"contenido\",'PP y Comp'!C21)","v":"C02. Acciones de fomento de salvaguarda y buenas prácticas ambientales."},null,{"$f":"CELL(\"contenido\",'PP y Comp'!C23)","v":"C02. Gestión financiera."},null,null,null,null,null,null,null,382,382,null," =indirecto(\"_\"&SI(EXTRAE(E25,3,1)=\"0\",\"M00110\",IZQUIERDA(D25,4)&0&EXTRAE(E25,2,1)))",null,null,null,null,null,null,null,null,null,null,null,null,null,null,null,null,null,null,null,null,"INDICADOR  PbR 2023","IE - IC  DEL  PLADI 2021-2030"]
[null,{"$f":"B3","v":"E066 - Cobertura educativa de la Universidad de Guanajuato."},"C02. Capacitación y certificación de la planta docente en competencias y habilidades pedagógicas innovadoras, otorgadas.","E06602-PC2853","Profesores de tiempo completo y medio tiempo capacitados y/o certificados para el buen desempeño docente",null,null,null,"E068",{"$f":"CELL(\"contenido\",'PP y Comp'!B10)","v":"E068 - Vinculación de la Comunidad Universitaria con los sectores económico y social."},null,{"$f":"CELL(\"contenido\",'PP y Comp'!C5)","v":"C03. Infraestructura y equipamiento implementados para el desarrollo de los Programas Educativos."},null,{"$f":"CELL(\"contenido\",'PP y Comp'!C8)","v":"C03. Servicios y promoción de actividades deportivas, artísticas y culturales, de prevención de la salud y la seguridad como parte de la trayectoria académica de los estudiantes ofertados."},null,{"$f":"CELL(\"contenido\",'PP y Comp'!C12)","v":"C03. Servicios de vinculación con instituciones u organismos afines a la formación y la responsabilidad social para realizar el servicio social, las prácticas profesionales y prestación de servicios, ofertada a los estudiantes y profesores."},null,{"$f":"CELL(\"contenido\",'PP y Comp'!C15)","v":"C04. Infraestructura y equipamiento implementados para el desarrollo de las investigaciones, tecnologías e innovaciones."},null,{"$f":"CELL(\"contenido\",'PP y Comp'!C18)","v":"C03. Infraestructura y equipamiento implementados para el desarrollo de eventos culturales, artísticos, literarios y de educación continua."},null,null,null,{"$f":"CELL(\"contenido\",'PP y Comp'!C24)","v":"C03. Administración de Recursos Humanos."},null,null,null,null,null,null,null,383,383,null,null,null,null,null,null,null,null,null,null,null,null,null,null,null,null,null,null,null,null,null,"PbRE066C1 - E066C1","14409 Porcentaje de programas educativos de licenciatura evaluables con reconocimiento de calidad","IE-PLADI-01 Porcentaje de programas educativos de licenciatura evaluables con reconocimiento de calidad","propósito 66"]
[null,{"$f":"B3","v":"E066 - Cobertura educativa de la Universidad de Guanajuato."},"C03. Infraestructura y equipamiento implementados para el desarrollo de los Programas Educativos.","E06603-PB3072","\t\nObra construida y habilitación de espacios para las funciones de la Educación Media Superior y Superior.",null,null,null,"E040",{"$f":"CELL(\"contenido\",'PP y Comp'!B13)","v":"E040 - Investigación, desarrollo tecnológico e innovación de la Universidad de Guanajuato."},null,null,null,{"$f":"CELL(\"contenido\",'PP y Comp'!C9)","v":"C04. Infraestructura y equipamiento para el desarrollo de las actividades deportivas, artísticas y culturales, de prevención de la salud y la seguridad de los estudiantes, implementados"},null,null,null,null,null,{"$f":"CELL(\"contenido\",'PP y Comp'!C19)","v":"C04. Servicios de producción y publicación de productos editoriales de la Universidad otorgados."},null,null,null,{"$f":"CELL(\"contenido\",'PP y Comp'!C25)","v":"C04. Adquisiciones y control de bienes muebles e inmuebles."},null,null,null,null,null,null,null,384,384,null,null,null,null,null,null,null,null,null,null,null,null,null,null,null,null,null,null,null,null,null,null,"14378 Porcentaje de programas educativos con evaluación curricular vigente","IE-PLADI-02 Porcentaje de programas educativos con evaluación curricular vigente ","C1 66"]
[null,"E067 - Trayectoria Estudiantil Consolidada.","C01. Apoyos económicos y en especie que favorezcan la permanencia de los estudiantes, otorgados","E06701-PB2893","Becas aprobadas y otorgadas a estudiantes",null,null,null,"E035",{"$f":"CELL(\"contenido\",'PP y Comp'!B16)","v":"E035 - Extensión del conocimiento, arte y cultura."},null,null,null,null,null,null,null,null,null,null,null,null,null,{"$f":"CELL(\"contenido\",'PP y Comp'!C26)","v":"C05. Servicios y Tecnologías de la Información."},null,null,null,null,null,null,null,null,null,null,null,null,null,null,null," =INDIRECTO(\"PP\"&IZQUIERDA(D25,4)&IZQUIERDA(E25,2)&\"_\")",null,null,null,null,null,null,null,null,null,null,null,null,null,null,null,"14395 Tasa de variación de la matrícula total de la Universidad de Guanajuato","IE-PLADI-09 Tasa de variación de la matrícula total de la Universidad de Guanajuato","propósito 66"]
[null,{"$f":"B6","v":"E067 - Trayectoria Estudiantil Consolidada."},"C02. Servicios para la regularización y acompañamiento en la trayectoria escolar de los estudiantes, otorgados","E06702-PB2855","Tutorías otorgadas a estudiantes de nivel medio superior y nivel superior por profesores de la Universidad.",null,null,null,"R001",{"$f":"CELL(\"contenido\",'PP y Comp'!B20)","v":"R001 - Universidad con sentido humanista y responsabilidad social."},null,null,null,null,null,null,null,null,null,null,null,null,null,{"$f":"CELL(\"contenido\",'PP y Comp'!C27)","v":"C06. Gestión y mantenimiento de la infraestructura."},null,null,null,null,null,null,null,"AF1R2","AF1R2",null,null,null,null,null,null," =INDIRECTO(\"PP\"&SI(EXTRAE(E25,3,1)=\"0\",\"M00110_\",IZQUIERDA(D25,4)&0&EXTRAE(E25,2,1)&\"_\"))",null,null,null,null,null,null,null,null,null,null,null,null,null,null,null,"14377 Porcentaje de la matrícula del nivel superior y medio superior que cursa una o más UDA en la modalidad a distancia en línea o semipresencial","IE-PLADI-10 Porcentaje de la matrícula del nivel superior y medio superior que cursa una o más UDA en la modalidad a distancia en línea o semipresencial","C1 66"]
[null,{"$f":"B6","v":"E067 - Trayectoria Estudiantil Consolidada."},"C03. Servicios y promoción de actividades deportivas, artísticas y culturales, de prevención de la salud y la seguridad como parte de la trayectoria académica de los estudiantes ofertados.","E06703-PB2856","Servicios otorgados para el desarrollo estudiantil.",null,null,null,"M001",{"$f":"CELL(\"contenido\",'PP y Comp'!B31)","v":"M001 - Gestión eficiente y orientada a resultados."},null,null,null,null,null,null,null,null,null,null,null,null,null,{"$f":"CELL(\"contenido\",'PP y Comp'!C28)","v":"C07. Servicio de transporte y mensajería."},null,null,null,null,null,null,null,null,null,null,null,null,null,null,null,null,null,null,null,null,null,null,null,null,null,null,null,null,null,null,null,"2655 - Porcentaje de Programas educativos que operan bajo el nuevo Modelo Educativo de la UG","Eje PLADI - Programas Educativos (Flexibilidad y multidisciplina en la oferta educativa)."]
[null,{"$f":"B6","v":"E067 - Trayectoria Estudiantil Consolidada."},"C04. Infraestructura y equipamiento para el desarrollo de las actividades deportivas, artísticas y culturales, de prevención de la salud y la seguridad de los estudiantes, implementados","E06704-PB3073","Acciones de infraestructura para las funciones de la trayectoria académica",null,null,null,null,null,null,null,null,null,null,null,null,null,null,null,null,null,null,{"$f":"CELL(\"contenido\",'PP y Comp'!C29)","v":"C08. Seguridad de las instalaciones."},null,null,null,null,null,null,null,null,null,null,{"$f":"B3","v":"E066 - Cobertura educativa de la Universidad de Guanajuato."},"E066","_E066",null,null,null,null,null,null,null,null,null,null,null,null,null,null,null,null,null,"PbRE066C2 - E066C2","14380 Porcentaje de profesores capacitados en programas de formación docente","IC-PLADI-03 Porcentaje de profesores capacitados en programas de formación docente","C2 66"]
[null,"E068 - Vinculación de la Comunidad Universitaria con los sectores económico y social.","C01. Servicios y apoyos de internacionalización para la interculturalidad otorgados a los estudiantes.","E06801-PB2857","Cursos, talleres u otros eventos de competencias internacionales e interculturales realizados para la comunidad UG",null,null,null,null,null,null,null,null,null,null,null,null,null,null,null,null,null,null,{"$f":"CELL(\"contenido\",'PP y Comp'!C30)","v":"C09. Comunicación Institucional."},null,null,null,null,null,null,null,"AF1R3","AF1R3",null,{"$f":"B6","v":"E067 - Trayectoria Estudiantil Consolidada."},"E067","_E067",null,null,null,null,null,null,null,null,null,null,null,null,null,null,null,null,null,null,"14379 Porcentaje de profesores que realizan actividades académicas internacionales","IC-PLADI-04 Porcentaje de profesores que realizan actividades académicas internacionales","C2 66"]
[null,{"$f":"B10","v":"E068 - Vinculación de la Comunidad Universitaria con los sectores económico y social."},"C02. Eventos que fomentan la formación emprendedora y de liderazgo en los estudiantes UG ofertados.","E06802-PB2858","Eventos relacionados con la formación emprendedora y el liderazgo.",null,null,null,null,null,null,null,null,null,null,null,null,null,null,null,null,null,null,{"$f":"CELL(\"contenido\",'PP y Comp'!C31)","v":"C10. Servicio gerencial."},null,null,null,null,null,null,null,253,253,null,{"$f":"B10","v":"E068 - Vinculación de la Comunidad Universitaria con los sectores económico y social."},"E068","_E068",null,null,null,null,null,null,null,null,null,null,null,null,null,null,null,null,null,null,"2657 - Porcentaje de profesores de tiempo completo con reconocimiento de Perfil Deseable PRODEP","IE-PLADI-19 Porcentaje de PTC con reconocimiento de Perfil Deseable PRODEP","C2 66"]
[null,{"$f":"B10","v":"E068 - Vinculación de la Comunidad Universitaria con los sectores económico y social."},"C03. Servicios de vinculación con instituciones u organismos afines a la formación y la responsabilidad social para realizar el servicio social, las prácticas profesionales y prestación de servicios, ofertada a los estudiantes y profesores.","E06803-PB2859","Servicios de vinculación de los estudiantes con organismos externos","N/A PARA POA: \nProyectos de vinculación realizados por profesores con el sector social, productivo o público.",null,null,null,null,null,null,null,null,null,null,null,null,null,null,null,null,null,null,null,null,null,null,null,null,null,256,256,null,{"$f":"B13","v":"E040 - Investigación, desarrollo tecnológico e innovación de la Universidad de Guanajuato."},"E040","_E040",null,null,null,null,null,null,null,null,null,null,null,null,null,null,null,null,null,null,"S/Ind PbR para IE-PLADI-22","IE-PLADI-22 Porcentaje de PTC que participan en proyectos académicos con impacto internacional ","sin alineación"]
[null,"E040 - Investigación, desarrollo tecnológico e innovación de la Universidad de Guanajuato.","C01. Avances científicos y tecnológicos difundidos.","E04001-PB2860","Actividades de divulgación de la ciencia ofrecidos a la sociedad",null,null,null,null,null,null,null,null,null,null,null,null,null,null,null,null,null,null,null,null,null,null,null,null,null,null,null,null,null,{"$f":"B16","v":"E035 - Extensión del conocimiento, arte y cultura."},"E035","_E035",null,null,null,null,null,null,null,null,null,null,null,null,null,null,null,null,null,null,"S/Ind PbR para IE-PLADI-23","IE-PLADI-23 Porcentaje de profesores, investigadores o representantes de organismos e instituciones extranjeras involucrados en proyectos académicos de la UG respecto al total de PTC","sin alineación"]
[null,{"$f":"B13","v":"E040 - Investigación, desarrollo tecnológico e innovación de la Universidad de Guanajuato."},"C03. Proyectos de Investigación desarrollados con calidad por los investigadores de prestigio y Cuerpos Académicos Consolidados.","E04003-PC0845","Cuerpos Académicos Consolidados de la Universidad de Guanajuato",null,null,null,null,null,null,null,null,null,null,null,null,null,null,null,null,null,null,null,null,null,null,null,null,null,null,null,null,null,{"$f":"B20","v":"R001 - Universidad con sentido humanista y responsabilidad social."},"R001","_R001",null,null,null,null,null,null,null,null,null,null,null,null,null,null,null,null,null,"PbRE066C3 - E066C3","S/Ind PbR para IE-PLADI-31","IE-PLADI-31 Índice de espacios universitarios con acciones para la sustentabilidad","sin alineación"]
[null,{"$f":"B13","v":"E040 - Investigación, desarrollo tecnológico e innovación de la Universidad de Guanajuato."},"C04. Infraestructura y equipamiento implementados para el desarrollo de las investigaciones, tecnologías e innovaciones.","E04004-PB3071","Obras de construcción y rehabilitación de espacios para las funciones de investigación científica y tecnológica que realiza la Universidad de Guanajuato.",null,null,null,null,null,null,{"$f":"CELL(\"contenido\",'PP y Comp'!L2)","v":"C01. Programas educativos pertinentes y apegados al modelo educativo de la Institución con reconocimiento de calidad impartidos."},null,{"$f":"CELL(\"contenido\",'PP y Comp'!L3)","v":"C02. Capacitación y certificación de la planta docente en competencias y habilidades pedagógicas innovadoras, otorgadas."},null,{"$f":"CELL(\"contenido\",'PP y Comp'!L4)","v":"C03. Infraestructura y equipamiento implementados para el desarrollo de los Programas Educativos."},null,null,null,null,null,null,null,null,null,null,null,null,null,null,null,"AF1R4","AF1R4",null,{"$f":"B22","v":"M001 - Gestión eficiente y orientada a resultados."},"M001","_M001",null,null,null,null,null,null,null,null,null,null,null,null,null,null,null,null,null,null,"14381 Porcentaje de espacios académicos con conectividad óptima","IE-PLADI-32 Porcentaje de espacios académicos con conectividad óptima","c3 66"]
[null,"E035 - Extensión del conocimiento, arte y cultura.","C01. Talleres de formación artística y cultural impartidos en las sedes universitarias de la UG, incrementados","E03501-PB2861","Cursos y Talleres de formación artística y cultural",null,null,null,null,{"$f":"CELL(\"contenido\",'PP y Comp'!L1)","v":"E066 - Cobertura educativa de la Universidad de Guanajuato."},null,{"$f":"CELL(\"contenido\",'PP y Comp'!F33)","v":"Adecuación de los PE al MEUG. (E06601.01)"},null,{"$f":"CELL(\"contenido\",'PP y Comp'!F42)","v":"Impartición de asignaturas de PEL. (E06602.01)"},null,{"$f":"CELL(\"contenido\",'PP y Comp'!F50)","v":"Equipamiento para la operación de los PE. (E06603.01)"},null,null,null,null,null,null,null,null,null,null,null,null,null,null,null,256,256,null,"O001. Transparencia Rendición de Cuentas Evaluación Control Interno y Fiscalización.","O001","_O001","NO APLICA",null,null,null,null,null,null,null,null,null,null,null,null,null,null,null,null,null,"1601 - Porcentaje de acciones de infraestructura de Educación Media Superior realizados","Eje PLADI - Espacios Universitarios (Plan maestro de infraestructura) NMS."]
[null,{"$f":"B16","v":"E035 - Extensión del conocimiento, arte y cultura."},"C02. Eventos artísticos y culturales de alto impacto social de la UG presentados a la población.","E03502-PB0847","Eventos y actividades artísticas ofertadas a la población",null,null,null,{"$f":"CELL(\"contenido\",'PP y Comp'!L1)","v":"E066 - Cobertura educativa de la Universidad de Guanajuato."},{"$f":"CELL(\"contenido\",'PP y Comp'!L2)","v":"C01. Programas educativos pertinentes y apegados al modelo educativo de la Institución con reconocimiento de calidad impartidos."},null,{"$f":"CELL(\"contenido\",'PP y Comp'!F34)","v":"Evaluaciones y acreditaciones de PE. (E06601.02)"},null,{"$f":"CELL(\"contenido\",'PP y Comp'!F43)","v":"Evaluación docente. (E06602.02)"},null,{"$f":"CELL(\"contenido\",'PP y Comp'!F51)","v":"Proyectos de infraestructura de red y conectividad para el desarrollo de los PE. (E06603.02)"},null,null,null,null,null,null,null,null,null,null,null,null,null,null,null,null,null,null,null,null,null,null,null,null,null,null,null,null,null,null,null,null,null,null,null,null,null,null,null,"1281 - Porcentaje de acciones de infraestructura de Educación Superior realizados","Eje PLADI - Espacios Universitarios (Plan maestro de infraestructura) NS."]
[null,{"$f":"B16","v":"E035 - Extensión del conocimiento, arte y cultura."},"C03. Infraestructura y equipamiento implementados para el desarrollo de eventos culturales, artísticos, literarios y de educación continua.","E03503-PB3070","Obra construida y recintos habilitados para la cultura, las artes y educación continua",null,null,null,{"$f":"CELL(\"contenido\",'PP y Comp'!L1)","v":"E066 - Cobertura educativa de la Universidad de Guanajuato."},{"$f":"CELL(\"contenido\",'PP y Comp'!L3)","v":"C02. Capacitación y certificación de la planta docente en competencias y habilidades pedagógicas innovadoras, otorgadas."},null,{"$f":"CELL(\"contenido\",'PP y Comp'!F35)","v":"Estudios de pertinencia, planificación del incremento de la oferta y cobertura de PE, difusión de PE. (E06601.03)"},null,{"$f":"CELL(\"contenido\",'PP y Comp'!F44)","v":"Estímulos al desempeño docente. (E06602.03)"},null,{"$f":"CELL(\"contenido\",'PP y Comp'!F52)","v":"Habilitación, Mantenimiento y conservación de bienes muebles e inmuebles para el desarrollo de PE. (E06603.03)"},null,null,null,null,null,null,null,null,null,null,null,null,null,null,null,"AF1R5","AF1R5",null,null,null,null,null,null,null,null,null,null,null,null,null,null,null,null,null,null,null,null,null,"PbRE067C1 - E067C1","14384 Porcentaje de estudiantes en condición vulnerable que reciben algún tipo de beca, apoyo o estímulo","IE-PLADI-14 Porcentaje de estudiantes en condición vulnerable que reciben algún tipo de beca, apoyo o estímulo","c1 67"]
[null,{"$f":"B16","v":"E035 - Extensión del conocimiento, arte y cultura."},"C04. Servicios de producción y publicación de productos editoriales de la Universidad otorgados.","E03504-PB2862","Producción y publicación de obras editoriales generadas por autores universitarios y externos, con sello editorial de la Universidad de Guanajuato.",null,null,null,{"$f":"CELL(\"contenido\",'PP y Comp'!L1)","v":"E066 - Cobertura educativa de la Universidad de Guanajuato."},{"$f":"CELL(\"contenido\",'PP y Comp'!L4)","v":"C03. Infraestructura y equipamiento implementados para el desarrollo de los Programas Educativos."},null,{"$f":"CELL(\"contenido\",'PP y Comp'!F36)","v":"Oferta educativa en modalidades no convencionales (unidades de aprendizaje en línea). (E06601.04)"},null,{"$f":"CELL(\"contenido\",'PP y Comp'!F45)","v":"Re categorización docente. (E06602.04)"},null,null,null,null,null,null,null,null,null,null,null,null,null,null,null,null,null,252,252,null,null,null,null,null,null,null,null,null,null,null,null,null,null,null,null,null,null,null,null,null,null,"S/Ind PbR para IE-PLADI-12","IE-PLADI-12 Porcentaje de estudiantes en situación de vulnerabilidad admitidos mediante los mecanismos institucionales de pase regulado respecto a la matrícula total","Sin alineación"]
[null,"R001 - Universidad con sentido humanista y responsabilidad social.","C01. Acciones para acceder al conocimiento y respeto de los derechos humanos.","R00101-GC1271","N/A - GC1271-01 Proceso de Gestión",null,null,null,null,null,null,{"$f":"CELL(\"contenido\",'PP y Comp'!F37)","v":"Comunidades digitales de aprendizaje. (E06601.05)"},null,{"$f":"CELL(\"contenido\",'PP y Comp'!F46)","v":"Formación, capacitación y actualización de PTC y PTP. (E06602.05)"},null,null,null,null,null,null,null,null,null,null,null,null,null,null,null,null,null,null,null,null,null,null,null,null,null,null,null,null,null,null,null,null,null,null,null,null,null,null,null,null,"PbRE067C2 - E067C2","14385 Porcentaje de estudiantes que obtienen nota satisfactoria en exámenes de egreso","IC-PLADI-01 Porcentaje de estudiantes que obtienen nota satisfactoria en exámenes de egreso","C02  67"]
[null,{"$f":"B20","v":"R001 - Universidad con sentido humanista y responsabilidad social."},"C02. Acciones de fomento de salvaguarda y buenas prácticas ambientales.","R00102-GC1271","N/A - GC1271-02 Proceso de Gestión",null,null,null,null,null,null,{"$f":"CELL(\"contenido\",'PP y Comp'!F38)","v":"Administración de Programas Educativos (Asignación y control de cargas académicas). (E06601.06)"},null,{"$f":"CELL(\"contenido\",'PP y Comp'!F47)","v":"Reclutamiento, selección y contratación de profesores. (E06602.06)"},null,null,null,null,null,null,null,null,null,null,null,null,null,null,null,null,null,"AF1R6","AF1R6",null,null,null,null,null,null,null,null,null,null,null,null,null,null,null,null,null,null,null,null,null,null,"S/Ind PbR para IE-PLADI-03","IE-PLADI-03 Variación porcentual en el número de programas educativos de nivel superior que permiten obtener una doble titulación","C02 66"]
[null,"M001 - Gestión eficiente y orientada a resultados.","C01. Información, planeación, seguimiento, calidad y mejora continua.","M00101-GB1136","N/A - GB1136-01 Proceso de Gestión",null,null,null,null,null,null,{"$f":"CELL(\"contenido\",'PP y Comp'!F39)","v":"Acervo y Servicios bibliotecarios. (E06601.07)"},null,{"$f":"CELL(\"contenido\",'PP y Comp'!F48)","v":"Trámite para la Certificación en competencias docentes. (E06602.07)"},null,null,null,null,null,null,null,null,null,null,null,null,null,null,null,null,null,253,253,null,null,null,null,null,null,null,null,null,null,null,null,null,null,null,null,null,null,null,null,null,null,"14382 Eficiencia terminal ","IE-PLADI-07 Eficiencia terminal ","Proposito 67"]
[null,{"$f":"B22","v":"M001 - Gestión eficiente y orientada a resultados."},"C02. Gestión financiera.","M00102-GB1136","N/A - GB1136-02 Proceso de Gestión",null,null,null,null,null,null,{"$f":"CELL(\"contenido\",'PP y Comp'!F40)","v":"Evaluación, Certificación y Fortalecimiento de Instituciones Incorporadas. (E06601.08)"},null,{"$f":"CELL(\"contenido\",'PP y Comp'!F49)","v":"Gestión de apoyos para la movilidad académica nacional e internacional (internos y externos a la UG). (E06602.08)"},null,null,null,null,null,null,null,null,null,null,null,null,null,null,null,null,null,null,null,null,null,null,null,null,null,null,null,null,null,null,null,null,null,null,null,null,null,null,null,null,null,"14383 Índice de titulación de licenciatura","IE-PLADI-08 Índice de titulación de licenciatura","Proposito 67"]
[null,{"$f":"B22","v":"M001 - Gestión eficiente y orientada a resultados."},"C03. Administración de Recursos Humanos.","M00103-GB1136","N/A - GB1136-03 Proceso de Gestión",null,null,null,null,null,null,{"$f":"CELL(\"contenido\",'PP y Comp'!F41)","v":"Material didáctico y/o servicios para el desarrollo de actividades de los PE. (E06601.09)"},null,null,null,null,null,null,null,null,null,null,null,null,null,null,null,null,null,null,null,"AF1R7","AF1R7",null,null,null,null,null,null,null,null,null,null,null,null,null,null,null,null,"funcion final",null,null,null,null,null,"14396 Tasa de absorción de estudiantes del nivel medio superior","IE-PLADI-13 Tasa de absorción de estudiantes del nivel medio superior","c2 67"]
[null,{"$f":"B22","v":"M001 - Gestión eficiente y orientada a resultados."},"C04. Adquisiciones y control de bienes muebles e inmuebles.","M00104-GB1136","N/A - GB1136-04 Proceso de Gestión",null,null,null,null,null,null,null,null,null,null,null,null,null,null,null,null,null,null,null,null,null,null,null,null,null,null,256,256,null,null,null,null,null,null,null,null,null,null,null,null,null,null,null,null,{"$f":"IFERROR(IF(AND('PLA-FO-01'!D25<>\"\",'PLA-FO-01'!S25<>\"\",'PLA-FO-01'!E25<>\"\"),_xlfn.IFS(OR(AND(LEFT('PLA-FO-01'!D25,4)=\"E040\",LEFT('PLA-FO-01'!E25,3)=\"C01\"),AND(LEFT('PLA-FO-01'!D25,4)=\"E040\",LEFT('PLA-FO-01'!E25,3)=\"C03\"),AND(LEFT('PLA-FO-01'!D25,4)=\"E040\",LEFT('PLA-FO-01'!E25,3)=\"C04\")),\"AF1R1\",AND(LEFT('PLA-FO-01'!D25,4)=\"E040\",LEFT('PLA-FO-01'!E25,3)=\"C02\",LEFT('PLA-FO-01'!S25,2)<>\"60\"),\"AF1R2\",AND(LEFT('PLA-FO-01'!D25,4)=\"E035\",LEFT('PLA-FO-01'!S25,5)=\"20040\"),\"AF1R3\",AND(LEFT('PLA-FO-01'!D25,4)=\"E035\",LEFT('PLA-FO-01'!S25,5)<>\"20040\"),\"AF1R4\",OR(AND(LEFT('PLA-FO-01'!D25,4)=\"E066\",LEFT('PLA-FO-01'!S25,2)=\"60\"),AND(LEFT('PLA-FO-01'!D25,4)=\"E067\",LEFT('PLA-FO-01'!S25,2)=\"60\"),AND(LEFT('PLA-FO-01'!D25,4)=\"E068\",LEFT('PLA-FO-01'!S25,2)=\"60\")),\"AF1R5\",OR(AND(LEFT('PLA-FO-01'!D25,4)=\"E066\",LEFT('PLA-FO-01'!S25,2)<>\"60\"),AND(LEFT('PLA-FO-01'!D25,4)=\"E067\",LEFT('PLA-FO-01'!S25,2)<>\"60\"),AND(LEFT('PLA-FO-01'!D25,4)=\"E068\",LEFT('PLA-FO-01'!S25,2)<>\"60\")),\"AF1R6\",OR(LEFT('PLA-FO-01'!D25,4)=\"R001\",LEFT('PLA-FO-01'!D25,4)=\"O001\",LEFT('PLA-FO-01'!D25,4)=\"M001\"),\"AF1R7\"),\"Falta Valor\"), \"NO APLICA, revisar!\")","v":"Falta Valor"},null,null,null,null,null,"Entregable - Tutorías otorgadas a estudiantes de nivel medio superior y nivel superior por profesores de la Universidad.","Eje PLADI - Estudiantes (Consolidación de la tutoría)."]
[null,{"$f":"B22","v":"M001 - Gestión eficiente y orientada a resultados."},"C05. Servicios y Tecnologías de la Información.","M00105-GB1136","N/A - GB1136-05 Proceso de Gestión",null,null,null,null,null,null,{"$f":"CELL(\"contenido\",'PP y Comp'!N2)","v":"C01. Apoyos económicos y en especie que favorezcan la permanencia de los estudiantes, otorgados"},null,{"$f":"CELL(\"contenido\",'PP y Comp'!N3)","v":"C02. Servicios para la regularización y acompañamiento en la trayectoria escolar de los estudiantes, otorgados"},null,{"$f":"CELL(\"contenido\",'PP y Comp'!N4)","v":"C03. Servicios y promoción de actividades deportivas, artísticas y culturales, de prevención de la salud y la seguridad como parte de la trayectoria académica de los estudiantes ofertados."},null,{"$f":"CELL(\"contenido\",'PP y Comp'!N5)","v":"C04. Infraestructura y equipamiento para el desarrollo de las actividades deportivas, artísticas y culturales, de prevención de la salud y la seguridad de los estudiantes, implementados"},null,null,null,null,null,null,null,null,null,null,null,null,null,null,null,null,null,null,null,null,null,null,null,null,null,null,null,null,null,null,null,{"$f":"IFERROR(IF(AND('PLA-FO-01'!D26<>\"\",'PLA-FO-01'!S26<>\"\",'PLA-FO-01'!E26<>\"\"),_xlfn.IFS(OR(AND(LEFT('PLA-FO-01'!D26,4)=\"E040\",LEFT('PLA-FO-01'!E26,3)=\"C01\"),AND(LEFT('PLA-FO-01'!D26,4)=\"E040\",LEFT('PLA-FO-01'!E26,3)=\"C03\"),AND(LEFT('PLA-FO-01'!D26,4)=\"E040\",LEFT('PLA-FO-01'!E26,3)=\"C04\")),\"AF1R1\",AND(LEFT('PLA-FO-01'!D26,4)=\"E040\",LEFT('PLA-FO-01'!E26,3)=\"C02\",LEFT('PLA-FO-01'!S26,2)<>\"60\"),\"AF1R2\",AND(LEFT('PLA-FO-01'!D26,4)=\"E035\",LEFT('PLA-FO-01'!S26,5)=\"20040\"),\"AF1R3\",AND(LEFT('PLA-FO-01'!D26,4)=\"E035\",LEFT('PLA-FO-01'!S26,5)<>\"20040\"),\"AF1R4\",OR(AND(LEFT('PLA-FO-01'!D26,4)=\"E066\",LEFT('PLA-FO-01'!S26,2)=\"60\"),AND(LEFT('PLA-FO-01'!D26,4)=\"E067\",LEFT('PLA-FO-01'!S26,2)=\"60\"),AND(LEFT('PLA-FO-01'!D26,4)=\"E068\",LEFT('PLA-FO-01'!S26,2)=\"60\")),\"AF1R5\",OR(AND(LEFT('PLA-FO-01'!D26,4)=\"E066\",LEFT('PLA-FO-01'!S26,2)<>\"60\"),AND(LEFT('PLA-FO-01'!D26,4)=\"E067\",LEFT('PLA-FO-01'!S26,2)<>\"60\"),AND(LEFT('PLA-FO-01'!D26,4)=\"E068\",LEFT('PLA-FO-01'!S26,2)<>\"60\")),\"AF1R6\",OR(LEFT('PLA-FO-01'!D26,4)=\"R001\",LEFT('PLA-FO-01'!D26,4)=\"O001\",LEFT('PLA-FO-01'!D26,4)=\"M001\"),\"AF1R7\"),\"Falta Valor\"), \"NO APLICA, revisar!\")","v":"Falta Valor"},null,null,null,null,"PbRE067C3 - E067C3","12766 - Porcentaje de estudiantes evaluados en su estado de salud física","Eje PLADI - Persona y presencia universitaria (Estilos de vida saludable)."]
[null,{"$f":"B22","v":"M001 - Gestión eficiente y orientada a resultados."},"C06. Gestión y mantenimiento de la infraestructura.","M00106-GB1136","N/A - GB1136-06 Proceso de Gestión",null,null,null,null,{"$f":"CELL(\"contenido\",'PP y Comp'!N1)","v":"E067 - Trayectoria Estudiantil Consolidada."},null,{"$f":"CELL(\"contenido\",'PP y Comp'!F53)","v":"Gestión de Becas. (E06701.01)"},null,{"$f":"CELL(\"contenido\",'PP y Comp'!F58)","v":"Inscripción y Admisión. (E06702.01)"},null,{"$f":"CELL(\"contenido\",'PP y Comp'!F64)","v":"Deportes. (E06703.01)"},null,{"$f":"CELL(\"contenido\",'PP y Comp'!F70)","v":"Equipamiento para la Trayectoria Académica. (E06704.01)"},null,null,null,null,null,null,null,null,null,null,null,null,null,null,null,null,null,null,null,null,null,null,null,null,null,null,null,null,null,null,null,{"$f":"IFERROR(IF(AND('PLA-FO-01'!D27<>\"\",'PLA-FO-01'!S27<>\"\",'PLA-FO-01'!E27<>\"\"),_xlfn.IFS(OR(AND(LEFT('PLA-FO-01'!D27,4)=\"E040\",LEFT('PLA-FO-01'!E27,3)=\"C01\"),AND(LEFT('PLA-FO-01'!D27,4)=\"E040\",LEFT('PLA-FO-01'!E27,3)=\"C03\"),AND(LEFT('PLA-FO-01'!D27,4)=\"E040\",LEFT('PLA-FO-01'!E27,3)=\"C04\")),\"AF1R1\",AND(LEFT('PLA-FO-01'!D27,4)=\"E040\",LEFT('PLA-FO-01'!E27,3)=\"C02\",LEFT('PLA-FO-01'!S27,2)<>\"60\"),\"AF1R2\",AND(LEFT('PLA-FO-01'!D27,4)=\"E035\",LEFT('PLA-FO-01'!S27,5)=\"20040\"),\"AF1R3\",AND(LEFT('PLA-FO-01'!D27,4)=\"E035\",LEFT('PLA-FO-01'!S27,5)<>\"20040\"),\"AF1R4\",OR(AND(LEFT('PLA-FO-01'!D27,4)=\"E066\",LEFT('PLA-FO-01'!S27,2)=\"60\"),AND(LEFT('PLA-FO-01'!D27,4)=\"E067\",LEFT('PLA-FO-01'!S27,2)=\"60\"),AND(LEFT('PLA-FO-01'!D27,4)=\"E068\",LEFT('PLA-FO-01'!S27,2)=\"60\")),\"AF1R5\",OR(AND(LEFT('PLA-FO-01'!D27,4)=\"E066\",LEFT('PLA-FO-01'!S27,2)<>\"60\"),AND(LEFT('PLA-FO-01'!D27,4)=\"E067\",LEFT('PLA-FO-01'!S27,2)<>\"60\"),AND(LEFT('PLA-FO-01'!D27,4)=\"E068\",LEFT('PLA-FO-01'!S27,2)<>\"60\")),\"AF1R6\",OR(LEFT('PLA-FO-01'!D27,4)=\"R001\",LEFT('PLA-FO-01'!D27,4)=\"O001\",LEFT('PLA-FO-01'!D27,4)=\"M001\"),\"AF1R7\"),\"Falta Valor\"), \"NO APLICA, revisar!\")","v":"Falta Valor"},null,null,null,null,null,"Entregable - Servicios otorgados en los módulos para el desarrollo estudiantil","Eje PLADI - Estudiantes (Grupos organizados y sociedades de alumnos)."]
[null,{"$f":"B22","v":"M001 - Gestión eficiente y orientada a resultados."},"C07. Servicio de transporte y mensajería.","M00107-GB1136","N/A - GB1136-07 Proceso de Gestión",null,null,null,{"$f":"CELL(\"contenido\",'PP y Comp'!N1)","v":"E067 - Trayectoria Estudiantil Consolidada."},{"$f":"CELL(\"contenido\",'PP y Comp'!N2)","v":"C01. Apoyos económicos y en especie que favorezcan la permanencia de los estudiantes, otorgados"},null,{"$f":"CELL(\"contenido\",'PP y Comp'!F54)","v":"Equidad Regional. (E06701.02)"},null,{"$f":"CELL(\"contenido\",'PP y Comp'!F59)","v":"Exámenes de ingreso y egreso (EGEL, CENEVAL, PLANEA …) (E06702.02)"},null,{"$f":"CELL(\"contenido\",'PP y Comp'!F65)","v":"Desarrollo de actividades recreativas culturales y/o artísticas para estudiantes. (E06703.02)"},null,{"$f":"CELL(\"contenido\",'PP y Comp'!F71)","v":"Habilitación, Mantenimiento y conservación de bienes muebles e inmuebles para la Trayectoria Académica. (E06704.02)"},null,null,null,null,null,null,null,null,null,null,null,null,null,null,null,null,null,null,null,null,null,null,null,null,null,null,null,null,null,null,null,{"$f":"IFERROR(IF(AND('PLA-FO-01'!D28<>\"\",'PLA-FO-01'!S28<>\"\",'PLA-FO-01'!E28<>\"\"),_xlfn.IFS(OR(AND(LEFT('PLA-FO-01'!D28,4)=\"E040\",LEFT('PLA-FO-01'!E28,3)=\"C01\"),AND(LEFT('PLA-FO-01'!D28,4)=\"E040\",LEFT('PLA-FO-01'!E28,3)=\"C03\"),AND(LEFT('PLA-FO-01'!D28,4)=\"E040\",LEFT('PLA-FO-01'!E28,3)=\"C04\")),\"AF1R1\",AND(LEFT('PLA-FO-01'!D28,4)=\"E040\",LEFT('PLA-FO-01'!E28,3)=\"C02\",LEFT('PLA-FO-01'!S28,2)<>\"60\"),\"AF1R2\",AND(LEFT('PLA-FO-01'!D28,4)=\"E035\",LEFT('PLA-FO-01'!S28,5)=\"20040\"),\"AF1R3\",AND(LEFT('PLA-FO-01'!D28,4)=\"E035\",LEFT('PLA-FO-01'!S28,5)<>\"20040\"),\"AF1R4\",OR(AND(LEFT('PLA-FO-01'!D28,4)=\"E066\",LEFT('PLA-FO-01'!S28,2)=\"60\"),AND(LEFT('PLA-FO-01'!D28,4)=\"E067\",LEFT('PLA-FO-01'!S28,2)=\"60\"),AND(LEFT('PLA-FO-01'!D28,4)=\"E068\",LEFT('PLA-FO-01'!S28,2)=\"60\")),\"AF1R5\",OR(AND(LEFT('PLA-FO-01'!D28,4)=\"E066\",LEFT('PLA-FO-01'!S28,2)<>\"60\"),AND(LEFT('PLA-FO-01'!D28,4)=\"E067\",LEFT('PLA-FO-01'!S28,2)<>\"60\"),AND(LEFT('PLA-FO-01'!D28,4)=\"E068\",LEFT('PLA-FO-01'!S28,2)<>\"60\")),\"AF1R6\",OR(LEFT('PLA-FO-01'!D28,4)=\"R001\",LEFT('PLA-FO-01'!D28,4)=\"O001\",LEFT('PLA-FO-01'!D28,4)=\"M001\"),\"AF1R7\"),\"Falta Valor\"), \"NO APLICA, revisar!\")","v":"Falta Valor"},null,null,null,null,"PbRE067C4 - E067C4","12514 - Porcentaje de acciones de infraestructura para el desarrollo de actividades de trayectoria académica","Eje PLADI - Espacios Universitarios (Plan maestro de infraestructura)."]
[null,{"$f":"B22","v":"M001 - Gestión eficiente y orientada a resultados."},"C08. Seguridad de las instalaciones.","M00108-GB1136","N/A - GB1136-08 Proceso de Gestión",null,null,null,{"$f":"CELL(\"contenido\",'PP y Comp'!N1)","v":"E067 - Trayectoria Estudiantil Consolidada."},{"$f":"CELL(\"contenido\",'PP y Comp'!N3)","v":"C02. Servicios para la regularización y acompañamiento en la trayectoria escolar de los estudiantes, otorgados"},null,{"$f":"CELL(\"contenido\",'PP y Comp'!F55)","v":"Pase Regulado. (E06701.03)"},null,{"$f":"CELL(\"contenido\",'PP y Comp'!F60)","v":"Tutoría Académica. (E06702.03)"},null,{"$f":"CELL(\"contenido\",'PP y Comp'!F66)","v":"Orientación educativa y/o vocacional. (E06703.03)"},null,null,null,null,null,null,null,null,null,null,null,null,null,null,null,null,null,null,null,null,null,null,null,null,null,null,null,null,null,null,null,null,null,{"$f":"IFERROR(IF(AND('PLA-FO-01'!D29<>\"\",'PLA-FO-01'!S29<>\"\",'PLA-FO-01'!E29<>\"\"),_xlfn.IFS(OR(AND(LEFT('PLA-FO-01'!D29,4)=\"E040\",LEFT('PLA-FO-01'!E29,3)=\"C01\"),AND(LEFT('PLA-FO-01'!D29,4)=\"E040\",LEFT('PLA-FO-01'!E29,3)=\"C03\"),AND(LEFT('PLA-FO-01'!D29,4)=\"E040\",LEFT('PLA-FO-01'!E29,3)=\"C04\")),\"AF1R1\",AND(LEFT('PLA-FO-01'!D29,4)=\"E040\",LEFT('PLA-FO-01'!E29,3)=\"C02\",LEFT('PLA-FO-01'!S29,2)<>\"60\"),\"AF1R2\",AND(LEFT('PLA-FO-01'!D29,4)=\"E035\",LEFT('PLA-FO-01'!S29,5)=\"20040\"),\"AF1R3\",AND(LEFT('PLA-FO-01'!D29,4)=\"E035\",LEFT('PLA-FO-01'!S29,5)<>\"20040\"),\"AF1R4\",OR(AND(LEFT('PLA-FO-01'!D29,4)=\"E066\",LEFT('PLA-FO-01'!S29,2)=\"60\"),AND(LEFT('PLA-FO-01'!D29,4)=\"E067\",LEFT('PLA-FO-01'!S29,2)=\"60\"),AND(LEFT('PLA-FO-01'!D29,4)=\"E068\",LEFT('PLA-FO-01'!S29,2)=\"60\")),\"AF1R5\",OR(AND(LEFT('PLA-FO-01'!D29,4)=\"E066\",LEFT('PLA-FO-01'!S29,2)<>\"60\"),AND(LEFT('PLA-FO-01'!D29,4)=\"E067\",LEFT('PLA-FO-01'!S29,2)<>\"60\"),AND(LEFT('PLA-FO-01'!D29,4)=\"E068\",LEFT('PLA-FO-01'!S29,2)<>\"60\")),\"AF1R6\",OR(LEFT('PLA-FO-01'!D29,4)=\"R001\",LEFT('PLA-FO-01'!D29,4)=\"O001\",LEFT('PLA-FO-01'!D29,4)=\"M001\"),\"AF1R7\"),\"Falta Valor\"), \"NO APLICA, revisar!\")","v":"Falta Valor"},null,null,null,null,"PbRE068C1 - E068C1","14390 Porcentaje de estudiantes de nivel superior de la UG que realizan actividades de Internacionalización","IC-PLADI-02 Porcentaje de estudiantes de la UG que realizan actividades de Internacionalización","C01 68"]
[null,{"$f":"B22","v":"M001 - Gestión eficiente y orientada a resultados."},"C09. Comunicación Institucional.","M00109-GB1136","N/A - GB1136-09 Proceso de Gestión",null,null,null,{"$f":"CELL(\"contenido\",'PP y Comp'!N1)","v":"E067 - Trayectoria Estudiantil Consolidada."},{"$f":"CELL(\"contenido\",'PP y Comp'!N4)","v":"C03. Servicios y promoción de actividades deportivas, artísticas y culturales, de prevención de la salud y la seguridad como parte de la trayectoria académica de los estudiantes ofertados."},null,{"$f":"CELL(\"contenido\",'PP y Comp'!F56)","v":"Servicio de Transporte universitario para estudiantes. (E06701.04)"},null,{"$f":"CELL(\"contenido\",'PP y Comp'!F61)","v":"Titulación. (E06702.04)"},null,{"$f":"CELL(\"contenido\",'PP y Comp'!F67)","v":"Orientación psicológica. (E06703.04)"},null,null,null,null,null,null,null,null,null,null,null,null,null,null,null,null,null,null,null,null,null,null,null,null,null,null,null,null,null,null,null,null,null,{"$f":"IFERROR(IF(AND('PLA-FO-01'!D30<>\"\",'PLA-FO-01'!S30<>\"\",'PLA-FO-01'!E30<>\"\"),_xlfn.IFS(OR(AND(LEFT('PLA-FO-01'!D30,4)=\"E040\",LEFT('PLA-FO-01'!E30,3)=\"C01\"),AND(LEFT('PLA-FO-01'!D30,4)=\"E040\",LEFT('PLA-FO-01'!E30,3)=\"C03\"),AND(LEFT('PLA-FO-01'!D30,4)=\"E040\",LEFT('PLA-FO-01'!E30,3)=\"C04\")),\"AF1R1\",AND(LEFT('PLA-FO-01'!D30,4)=\"E040\",LEFT('PLA-FO-01'!E30,3)=\"C02\",LEFT('PLA-FO-01'!S30,2)<>\"60\"),\"AF1R2\",AND(LEFT('PLA-FO-01'!D30,4)=\"E035\",LEFT('PLA-FO-01'!S30,5)=\"20040\"),\"AF1R3\",AND(LEFT('PLA-FO-01'!D30,4)=\"E035\",LEFT('PLA-FO-01'!S30,5)<>\"20040\"),\"AF1R4\",OR(AND(LEFT('PLA-FO-01'!D30,4)=\"E066\",LEFT('PLA-FO-01'!S30,2)=\"60\"),AND(LEFT('PLA-FO-01'!D30,4)=\"E067\",LEFT('PLA-FO-01'!S30,2)=\"60\"),AND(LEFT('PLA-FO-01'!D30,4)=\"E068\",LEFT('PLA-FO-01'!S30,2)=\"60\")),\"AF1R5\",OR(AND(LEFT('PLA-FO-01'!D30,4)=\"E066\",LEFT('PLA-FO-01'!S30,2)<>\"60\"),AND(LEFT('PLA-FO-01'!D30,4)=\"E067\",LEFT('PLA-FO-01'!S30,2)<>\"60\"),AND(LEFT('PLA-FO-01'!D30,4)=\"E068\",LEFT('PLA-FO-01'!S30,2)<>\"60\")),\"AF1R6\",OR(LEFT('PLA-FO-01'!D30,4)=\"R001\",LEFT('PLA-FO-01'!D30,4)=\"O001\",LEFT('PLA-FO-01'!D30,4)=\"M001\"),\"AF1R7\"),\"Falta Valor\"), \"NO APLICA, revisar!\")","v":"Falta Valor"},null,null,null,null,null,"14388 Porcentaje de estudiantes del NMS de la UG que realizan actividades de internacionalización","IC-PLADI-11 Porcentaje de estudiantes del NMS de la UG que realizan actividades de internacionalización","C01 68","¿IE 11?"]
[null,{"$f":"B22","v":"M001 - Gestión eficiente y orientada a resultados."},"C10. Servicio gerencial.","M00110-GB1136","N/A - GB1136-10 Proceso de Gestión",null,null,null,{"$f":"CELL(\"contenido\",'PP y Comp'!N1)","v":"E067 - Trayectoria Estudiantil Consolidada."},{"$f":"CELL(\"contenido\",'PP y Comp'!N5)","v":"C04. Infraestructura y equipamiento para el desarrollo de las actividades deportivas, artísticas y culturales, de prevención de la salud y la seguridad de los estudiantes, implementados"},null,{"$f":"CELL(\"contenido\",'PP y Comp'!F57)","v":"Gestión de Apoyos y estímulos. (E06701.05)"},null,{"$f":"CELL(\"contenido\",'PP y Comp'!F62)","v":"Seguimiento a Egresados. (E06702.05)"},null,{"$f":"CELL(\"contenido\",'PP y Comp'!F68)","v":"Salud integral (nutrición y módulos activación física). (E06703.05)"},null,null,null,null,null,null,null,null,null,null,null,null,null,null,null,null,null,null,null,null,null,null,null,null,null,null,null,null,null,null,null,null,null,{"$f":"IFERROR(IF(AND('PLA-FO-01'!D31<>\"\",'PLA-FO-01'!S31<>\"\",'PLA-FO-01'!E31<>\"\"),_xlfn.IFS(OR(AND(LEFT('PLA-FO-01'!D31,4)=\"E040\",LEFT('PLA-FO-01'!E31,3)=\"C01\"),AND(LEFT('PLA-FO-01'!D31,4)=\"E040\",LEFT('PLA-FO-01'!E31,3)=\"C03\"),AND(LEFT('PLA-FO-01'!D31,4)=\"E040\",LEFT('PLA-FO-01'!E31,3)=\"C04\")),\"AF1R1\",AND(LEFT('PLA-FO-01'!D31,4)=\"E040\",LEFT('PLA-FO-01'!E31,3)=\"C02\",LEFT('PLA-FO-01'!S31,2)<>\"60\"),\"AF1R2\",AND(LEFT('PLA-FO-01'!D31,4)=\"E035\",LEFT('PLA-FO-01'!S31,5)=\"20040\"),\"AF1R3\",AND(LEFT('PLA-FO-01'!D31,4)=\"E035\",LEFT('PLA-FO-01'!S31,5)<>\"20040\"),\"AF1R4\",OR(AND(LEFT('PLA-FO-01'!D31,4)=\"E066\",LEFT('PLA-FO-01'!S31,2)=\"60\"),AND(LEFT('PLA-FO-01'!D31,4)=\"E067\",LEFT('PLA-FO-01'!S31,2)=\"60\"),AND(LEFT('PLA-FO-01'!D31,4)=\"E068\",LEFT('PLA-FO-01'!S31,2)=\"60\")),\"AF1R5\",OR(AND(LEFT('PLA-FO-01'!D31,4)=\"E066\",LEFT('PLA-FO-01'!S31,2)<>\"60\"),AND(LEFT('PLA-FO-01'!D31,4)=\"E067\",LEFT('PLA-FO-01'!S31,2)<>\"60\"),AND(LEFT('PLA-FO-01'!D31,4)=\"E068\",LEFT('PLA-FO-01'!S31,2)<>\"60\")),\"AF1R6\",OR(LEFT('PLA-FO-01'!D31,4)=\"R001\",LEFT('PLA-FO-01'!D31,4)=\"O001\",LEFT('PLA-FO-01'!D31,4)=\"M001\"),\"AF1R7\"),\"Falta Valor\"), \"NO APLICA, revisar!\")","v":"Falta Valor"},null,null,null,null,null,"S/Ind PbR para IE-PLADI-15","IE-PLADI-15 Tasa de variación del número de proyectos estudiantiles con impacto internacional","sin alineación"]
[null,null,null,null,null,null,null,null,null,null,null,null,null,{"$f":"CELL(\"contenido\",'PP y Comp'!F63)","v":"Trayectoria educativa. (E06702.06)"},null,{"$f":"CELL(\"contenido\",'PP y Comp'!F69)","v":"Servicios médicos,  Seguro contra Accidentes, Ambulancias para eventos académicos, deportivos y/o culturales. (E06703.06)"},null,null,null,null,null,null,null,null,null,null,null,null,null,null,null,null,null,null,null,null,null,null,null,null,null,null,null,null,null,null,null,null,null,{"$f":"IFERROR(IF(AND('PLA-FO-01'!D32<>\"\",'PLA-FO-01'!S32<>\"\",'PLA-FO-01'!E32<>\"\"),_xlfn.IFS(OR(AND(LEFT('PLA-FO-01'!D32,4)=\"E040\",LEFT('PLA-FO-01'!E32,3)=\"C01\"),AND(LEFT('PLA-FO-01'!D32,4)=\"E040\",LEFT('PLA-FO-01'!E32,3)=\"C03\"),AND(LEFT('PLA-FO-01'!D32,4)=\"E040\",LEFT('PLA-FO-01'!E32,3)=\"C04\")),\"AF1R1\",AND(LEFT('PLA-FO-01'!D32,4)=\"E040\",LEFT('PLA-FO-01'!E32,3)=\"C02\",LEFT('PLA-FO-01'!S32,2)<>\"60\"),\"AF1R2\",AND(LEFT('PLA-FO-01'!D32,4)=\"E035\",LEFT('PLA-FO-01'!S32,5)=\"20040\"),\"AF1R3\",AND(LEFT('PLA-FO-01'!D32,4)=\"E035\",LEFT('PLA-FO-01'!S32,5)<>\"20040\"),\"AF1R4\",OR(AND(LEFT('PLA-FO-01'!D32,4)=\"E066\",LEFT('PLA-FO-01'!S32,2)=\"60\"),AND(LEFT('PLA-FO-01'!D32,4)=\"E067\",LEFT('PLA-FO-01'!S32,2)=\"60\"),AND(LEFT('PLA-FO-01'!D32,4)=\"E068\",LEFT('PLA-FO-01'!S32,2)=\"60\")),\"AF1R5\",OR(AND(LEFT('PLA-FO-01'!D32,4)=\"E066\",LEFT('PLA-FO-01'!S32,2)<>\"60\"),AND(LEFT('PLA-FO-01'!D32,4)=\"E067\",LEFT('PLA-FO-01'!S32,2)<>\"60\"),AND(LEFT('PLA-FO-01'!D32,4)=\"E068\",LEFT('PLA-FO-01'!S32,2)<>\"60\")),\"AF1R6\",OR(LEFT('PLA-FO-01'!D32,4)=\"R001\",LEFT('PLA-FO-01'!D32,4)=\"O001\",LEFT('PLA-FO-01'!D32,4)=\"M001\"),\"AF1R7\"),\"Falta Valor\"), \"NO APLICA, revisar!\")","v":"Falta Valor"},null,null,null,null,null,"S/Ind PbR para IE-PLADI-16","IE-PLADI-16 Porcentaje de estudiantes de IES nacionales y extranjeras que participan en actividades académicas de la UG respecto a la matrícula total","sin alineación"]
["E066","C1","Adecuación de los PE al MEUG.","E06601.01",{"$f":"CONCATENATE(\"(\",D33,\")\")","v":"(E06601.01)"},{"$f":"_xlfn.TEXTJOIN(\" \",FALSE,C33,E33)","v":"Adecuación de los PE al MEUG. (E06601.01)"},null,null,null,null,null,null,null,null,null,null,null,null,null,null,null,null,null,null,null,null,null,null,null,null,null,null,null,null,null,null,null,null,null,null,null,null,null,null,null,null,null,null,null,{"$f":"IFERROR(IF(AND('PLA-FO-01'!D33<>\"\",'PLA-FO-01'!S33<>\"\",'PLA-FO-01'!E33<>\"\"),_xlfn.IFS(OR(AND(LEFT('PLA-FO-01'!D33,4)=\"E040\",LEFT('PLA-FO-01'!E33,3)=\"C01\"),AND(LEFT('PLA-FO-01'!D33,4)=\"E040\",LEFT('PLA-FO-01'!E33,3)=\"C03\"),AND(LEFT('PLA-FO-01'!D33,4)=\"E040\",LEFT('PLA-FO-01'!E33,3)=\"C04\")),\"AF1R1\",AND(LEFT('PLA-FO-01'!D33,4)=\"E040\",LEFT('PLA-FO-01'!E33,3)=\"C02\",LEFT('PLA-FO-01'!S33,2)<>\"60\"),\"AF1R2\",AND(LEFT('PLA-FO-01'!D33,4)=\"E035\",LEFT('PLA-FO-01'!S33,5)=\"20040\"),\"AF1R3\",AND(LEFT('PLA-FO-01'!D33,4)=\"E035\",LEFT('PLA-FO-01'!S33,5)<>\"20040\"),\"AF1R4\",OR(AND(LEFT('PLA-FO-01'!D33,4)=\"E066\",LEFT('PLA-FO-01'!S33,2)=\"60\"),AND(LEFT('PLA-FO-01'!D33,4)=\"E067\",LEFT('PLA-FO-01'!S33,2)=\"60\"),AND(LEFT('PLA-FO-01'!D33,4)=\"E068\",LEFT('PLA-FO-01'!S33,2)=\"60\")),\"AF1R5\",OR(AND(LEFT('PLA-FO-01'!D33,4)=\"E066\",LEFT('PLA-FO-01'!S33,2)<>\"60\"),AND(LEFT('PLA-FO-01'!D33,4)=\"E067\",LEFT('PLA-FO-01'!S33,2)<>\"60\"),AND(LEFT('PLA-FO-01'!D33,4)=\"E068\",LEFT('PLA-FO-01'!S33,2)<>\"60\")),\"AF1R6\",OR(LEFT('PLA-FO-01'!D33,4)=\"R001\",LEFT('PLA-FO-01'!D33,4)=\"O001\",LEFT('PLA-FO-01'!D33,4)=\"M001\"),\"AF1R7\"),\"Falta Valor\"), \"NO APLICA, revisar!\")","v":"Falta Valor"},null,null,null,null,null,"S/Ind PbR para IE-PLADI-17","IE-PLADI-17 Porcentaje de estudiantes extranjeros inscritos con fines de obtención de grado respecto a la matrícula total de nivel superior","sin alineación"]
["E066",null,"Evaluaciones y acreditaciones de PE.","E06601.02",{"$f":"CONCATENATE(\"(\",D34,\")\")","v":"(E06601.02)"},{"$f":"_xlfn.TEXTJOIN(\" \",FALSE,C34,E34)","v":"Evaluaciones y acreditaciones de PE. (E06601.02)"}," ",null,null,null,null,{"$f":"CELL(\"contenido\",'PP y Comp'!P2)","v":"C01. Servicios y apoyos de internacionalización para la interculturalidad otorgados a los estudiantes."},null,{"$f":"CELL(\"contenido\",'PP y Comp'!P3)","v":"C02. Eventos que fomentan la formación emprendedora y de liderazgo en los estudiantes UG ofertados."},null,{"$f":"CELL(\"contenido\",'PP y Comp'!P4)","v":"C03. Servicios de vinculación con instituciones u organismos afines a la formación y la responsabilidad social para realizar el servicio social, las prácticas profesionales y prestación de servicios, ofertada a los estudiantes y profesores."},null,null,null,null,null,null,null,null,null,null,null,null,null,null,null,null,null,null,null,null,null,null,null,null,null,null,null,null,null,null,null,null,null,{"$f":"IFERROR(IF(AND('PLA-FO-01'!D34<>\"\",'PLA-FO-01'!S34<>\"\",'PLA-FO-01'!E34<>\"\"),_xlfn.IFS(OR(AND(LEFT('PLA-FO-01'!D34,4)=\"E040\",LEFT('PLA-FO-01'!E34,3)=\"C01\"),AND(LEFT('PLA-FO-01'!D34,4)=\"E040\",LEFT('PLA-FO-01'!E34,3)=\"C03\"),AND(LEFT('PLA-FO-01'!D34,4)=\"E040\",LEFT('PLA-FO-01'!E34,3)=\"C04\")),\"AF1R1\",AND(LEFT('PLA-FO-01'!D34,4)=\"E040\",LEFT('PLA-FO-01'!E34,3)=\"C02\",LEFT('PLA-FO-01'!S34,2)<>\"60\"),\"AF1R2\",AND(LEFT('PLA-FO-01'!D34,4)=\"E035\",LEFT('PLA-FO-01'!S34,5)=\"20040\"),\"AF1R3\",AND(LEFT('PLA-FO-01'!D34,4)=\"E035\",LEFT('PLA-FO-01'!S34,5)<>\"20040\"),\"AF1R4\",OR(AND(LEFT('PLA-FO-01'!D34,4)=\"E066\",LEFT('PLA-FO-01'!S34,2)=\"60\"),AND(LEFT('PLA-FO-01'!D34,4)=\"E067\",LEFT('PLA-FO-01'!S34,2)=\"60\"),AND(LEFT('PLA-FO-01'!D34,4)=\"E068\",LEFT('PLA-FO-01'!S34,2)=\"60\")),\"AF1R5\",OR(AND(LEFT('PLA-FO-01'!D34,4)=\"E066\",LEFT('PLA-FO-01'!S34,2)<>\"60\"),AND(LEFT('PLA-FO-01'!D34,4)=\"E067\",LEFT('PLA-FO-01'!S34,2)<>\"60\"),AND(LEFT('PLA-FO-01'!D34,4)=\"E068\",LEFT('PLA-FO-01'!S34,2)<>\"60\")),\"AF1R6\",OR(LEFT('PLA-FO-01'!D34,4)=\"R001\",LEFT('PLA-FO-01'!D34,4)=\"O001\",LEFT('PLA-FO-01'!D34,4)=\"M001\"),\"AF1R7\"),\"Falta Valor\"), \"NO APLICA, revisar!\")","v":"Falta Valor"},null,null,null,null,"PbRE068C2 - E068C2","2643 - Tasa de variación en el número de proyectos de emprendimiento creados por estudiantes  de la UG","S/Ind PLADI para PbR 2643"]
["E066",null,"Estudios de pertinencia, planificación del incremento de la oferta y cobertura de PE, difusión de PE.","E06601.03","(E06601.03)","Estudios de pertinencia, planificación del incremento de la oferta y cobertura de PE, difusión de PE. (E06601.03)"," ",null,null,{"$f":"CELL(\"contenido\",'PP y Comp'!P1)","v":"E068 - Vinculación de la Comunidad Universitaria con los sectores económico y social."},null,{"$f":"CELL(\"contenido\",'PP y Comp'!F72)","v":"Internacionalización y movilidad: Promoción y tramitación para la movilidad nacional e internacional de Estudiantes UG y estudiantes extranjeros (Estancias Académicas y/o Estancias de investigación para alumnos). (E06801.01)"},null,{"$f":"CELL(\"contenido\",'PP y Comp'!F77)","v":"Eventos de formación emprendedora. (E06802.01)"},null,{"$f":"CELL(\"contenido\",'PP y Comp'!F79)","v":"Vinculación con entes externos. (E06803.01)"},null,null,null,null,null,null,null,null,null,null,null,null,null,null,null,null,null,null,null,null,null,null,null,null,null,null,null,null,null,null,null,null,null,{"$f":"IFERROR(IF(AND('PLA-FO-01'!D35<>\"\",'PLA-FO-01'!S35<>\"\",'PLA-FO-01'!E35<>\"\"),_xlfn.IFS(OR(AND(LEFT('PLA-FO-01'!D35,4)=\"E040\",LEFT('PLA-FO-01'!E35,3)=\"C01\"),AND(LEFT('PLA-FO-01'!D35,4)=\"E040\",LEFT('PLA-FO-01'!E35,3)=\"C03\"),AND(LEFT('PLA-FO-01'!D35,4)=\"E040\",LEFT('PLA-FO-01'!E35,3)=\"C04\")),\"AF1R1\",AND(LEFT('PLA-FO-01'!D35,4)=\"E040\",LEFT('PLA-FO-01'!E35,3)=\"C02\",LEFT('PLA-FO-01'!S35,2)<>\"60\"),\"AF1R2\",AND(LEFT('PLA-FO-01'!D35,4)=\"E035\",LEFT('PLA-FO-01'!S35,5)=\"20040\"),\"AF1R3\",AND(LEFT('PLA-FO-01'!D35,4)=\"E035\",LEFT('PLA-FO-01'!S35,5)<>\"20040\"),\"AF1R4\",OR(AND(LEFT('PLA-FO-01'!D35,4)=\"E066\",LEFT('PLA-FO-01'!S35,2)=\"60\"),AND(LEFT('PLA-FO-01'!D35,4)=\"E067\",LEFT('PLA-FO-01'!S35,2)=\"60\"),AND(LEFT('PLA-FO-01'!D35,4)=\"E068\",LEFT('PLA-FO-01'!S35,2)=\"60\")),\"AF1R5\",OR(AND(LEFT('PLA-FO-01'!D35,4)=\"E066\",LEFT('PLA-FO-01'!S35,2)<>\"60\"),AND(LEFT('PLA-FO-01'!D35,4)=\"E067\",LEFT('PLA-FO-01'!S35,2)<>\"60\"),AND(LEFT('PLA-FO-01'!D35,4)=\"E068\",LEFT('PLA-FO-01'!S35,2)<>\"60\")),\"AF1R6\",OR(LEFT('PLA-FO-01'!D35,4)=\"R001\",LEFT('PLA-FO-01'!D35,4)=\"O001\",LEFT('PLA-FO-01'!D35,4)=\"M001\"),\"AF1R7\"),\"Falta Valor\"), \"NO APLICA, revisar!\")","v":"Falta Valor"},null,null,null,null,"PbRE068C3 - E068C3","2641 - Porcentaje de empleadores que se encuentran satisfechos o muy satisfechos con los egresados","IC-PLADI-09 Porcentaje de empleadores que se encuentran satisfechos o muy satisfechos con los egresados","propósito 68"]
["E066",null,"Oferta educativa en modalidades no convencionales (unidades de aprendizaje en línea).","E06601.04","(E06601.04)","Oferta educativa en modalidades no convencionales (unidades de aprendizaje en línea). (E06601.04)"," ",null,{"$f":"CELL(\"contenido\",'PP y Comp'!P1)","v":"E068 - Vinculación de la Comunidad Universitaria con los sectores económico y social."},{"$f":"CELL(\"contenido\",'PP y Comp'!P2)","v":"C01. Servicios y apoyos de internacionalización para la interculturalidad otorgados a los estudiantes."},null,{"$f":"CELL(\"contenido\",'PP y Comp'!F73)","v":"Gestión de convenios de  colaboración académica (para estudiantes). (E06801.02)"},null,{"$f":"CELL(\"contenido\",'PP y Comp'!F78)","v":"Eventos de fomento al liderazgo estudiantil. (E06802.02)"},null,{"$f":"CELL(\"contenido\",'PP y Comp'!F80)","v":"Seguimiento a Servicio Social Profesional. (E06803.02)"},null,null,null,null,null,null,null,null,null,null,null,null,null,null,null,null,null,null,null,null,null,null,null,null,null,null,null,null,null,null,null,null,null,{"$f":"IFERROR(IF(AND('PLA-FO-01'!D36<>\"\",'PLA-FO-01'!S36<>\"\",'PLA-FO-01'!E36<>\"\"),_xlfn.IFS(OR(AND(LEFT('PLA-FO-01'!D36,4)=\"E040\",LEFT('PLA-FO-01'!E36,3)=\"C01\"),AND(LEFT('PLA-FO-01'!D36,4)=\"E040\",LEFT('PLA-FO-01'!E36,3)=\"C03\"),AND(LEFT('PLA-FO-01'!D36,4)=\"E040\",LEFT('PLA-FO-01'!E36,3)=\"C04\")),\"AF1R1\",AND(LEFT('PLA-FO-01'!D36,4)=\"E040\",LEFT('PLA-FO-01'!E36,3)=\"C02\",LEFT('PLA-FO-01'!S36,2)<>\"60\"),\"AF1R2\",AND(LEFT('PLA-FO-01'!D36,4)=\"E035\",LEFT('PLA-FO-01'!S36,5)=\"20040\"),\"AF1R3\",AND(LEFT('PLA-FO-01'!D36,4)=\"E035\",LEFT('PLA-FO-01'!S36,5)<>\"20040\"),\"AF1R4\",OR(AND(LEFT('PLA-FO-01'!D36,4)=\"E066\",LEFT('PLA-FO-01'!S36,2)=\"60\"),AND(LEFT('PLA-FO-01'!D36,4)=\"E067\",LEFT('PLA-FO-01'!S36,2)=\"60\"),AND(LEFT('PLA-FO-01'!D36,4)=\"E068\",LEFT('PLA-FO-01'!S36,2)=\"60\")),\"AF1R5\",OR(AND(LEFT('PLA-FO-01'!D36,4)=\"E066\",LEFT('PLA-FO-01'!S36,2)<>\"60\"),AND(LEFT('PLA-FO-01'!D36,4)=\"E067\",LEFT('PLA-FO-01'!S36,2)<>\"60\"),AND(LEFT('PLA-FO-01'!D36,4)=\"E068\",LEFT('PLA-FO-01'!S36,2)<>\"60\")),\"AF1R6\",OR(LEFT('PLA-FO-01'!D36,4)=\"R001\",LEFT('PLA-FO-01'!D36,4)=\"O001\",LEFT('PLA-FO-01'!D36,4)=\"M001\"),\"AF1R7\"),\"Falta Valor\"), \"NO APLICA, revisar!\")","v":"Falta Valor"},null,null,null,null,null,"S/Ind PbR para IC-PLADI-10","IC-PLADI-10 Tasa de variación de proyectos de vinculación con los sectores productivo, social y gubernamental que generan ingresos a la universidad o un impacto en la sociedad","sin alineacion"]
["E066",null,"Comunidades digitales de aprendizaje.","E06601.05","(E06601.05)","Comunidades digitales de aprendizaje. (E06601.05)"," ",null,{"$f":"CELL(\"contenido\",'PP y Comp'!P1)","v":"E068 - Vinculación de la Comunidad Universitaria con los sectores económico y social."},{"$f":"CELL(\"contenido\",'PP y Comp'!P3)","v":"C02. Eventos que fomentan la formación emprendedora y de liderazgo en los estudiantes UG ofertados."},null,{"$f":"CELL(\"contenido\",'PP y Comp'!F74)","v":"Acciones para la internacionalización en casa. (E06801.03)"},null,null,null,{"$f":"CELL(\"contenido\",'PP y Comp'!F81)","v":"Seguimiento a Servicio Social Universitario. (E06803.03)"},null,null,null,null,null,null,null,null,null,null,null,null,null,null,null,null,null,null,null,null,null,null,null,null,null,null,null,null,null,null,null,null,null,{"$f":"IFERROR(IF(AND('PLA-FO-01'!D37<>\"\",'PLA-FO-01'!S37<>\"\",'PLA-FO-01'!E37<>\"\"),_xlfn.IFS(OR(AND(LEFT('PLA-FO-01'!D37,4)=\"E040\",LEFT('PLA-FO-01'!E37,3)=\"C01\"),AND(LEFT('PLA-FO-01'!D37,4)=\"E040\",LEFT('PLA-FO-01'!E37,3)=\"C03\"),AND(LEFT('PLA-FO-01'!D37,4)=\"E040\",LEFT('PLA-FO-01'!E37,3)=\"C04\")),\"AF1R1\",AND(LEFT('PLA-FO-01'!D37,4)=\"E040\",LEFT('PLA-FO-01'!E37,3)=\"C02\",LEFT('PLA-FO-01'!S37,2)<>\"60\"),\"AF1R2\",AND(LEFT('PLA-FO-01'!D37,4)=\"E035\",LEFT('PLA-FO-01'!S37,5)=\"20040\"),\"AF1R3\",AND(LEFT('PLA-FO-01'!D37,4)=\"E035\",LEFT('PLA-FO-01'!S37,5)<>\"20040\"),\"AF1R4\",OR(AND(LEFT('PLA-FO-01'!D37,4)=\"E066\",LEFT('PLA-FO-01'!S37,2)=\"60\"),AND(LEFT('PLA-FO-01'!D37,4)=\"E067\",LEFT('PLA-FO-01'!S37,2)=\"60\"),AND(LEFT('PLA-FO-01'!D37,4)=\"E068\",LEFT('PLA-FO-01'!S37,2)=\"60\")),\"AF1R5\",OR(AND(LEFT('PLA-FO-01'!D37,4)=\"E066\",LEFT('PLA-FO-01'!S37,2)<>\"60\"),AND(LEFT('PLA-FO-01'!D37,4)=\"E067\",LEFT('PLA-FO-01'!S37,2)<>\"60\"),AND(LEFT('PLA-FO-01'!D37,4)=\"E068\",LEFT('PLA-FO-01'!S37,2)<>\"60\")),\"AF1R6\",OR(LEFT('PLA-FO-01'!D37,4)=\"R001\",LEFT('PLA-FO-01'!D37,4)=\"O001\",LEFT('PLA-FO-01'!D37,4)=\"M001\"),\"AF1R7\"),\"Falta Valor\"), \"NO APLICA, revisar!\")","v":"Falta Valor"},null,null,null,null,null,"14389 Porcentaje de programas educativos de licenciatura y TSU que incorporan la práctica o estancia profesional en su plan de estudios","IE-PLADI-06 Porcentaje de programas educativos de licenciatura y TSU que incorporan la práctica o estancia profesional en su plan de estudios","C3 68"]
["E066",null,"Administración de Programas Educativos (Asignación y control de cargas académicas).","E06601.06","(E06601.06)","Administración de Programas Educativos (Asignación y control de cargas académicas). (E06601.06)"," ",null,{"$f":"CELL(\"contenido\",'PP y Comp'!P1)","v":"E068 - Vinculación de la Comunidad Universitaria con los sectores económico y social."},{"$f":"CELL(\"contenido\",'PP y Comp'!P4)","v":"C03. Servicios de vinculación con instituciones u organismos afines a la formación y la responsabilidad social para realizar el servicio social, las prácticas profesionales y prestación de servicios, ofertada a los estudiantes y profesores."},null,{"$f":"CELL(\"contenido\",'PP y Comp'!F75)","v":"Administración de apoyos Especiales de Corta Duración. (E06801.04)"},null,null,null,{"$f":"CELL(\"contenido\",'PP y Comp'!F82)","v":"Prácticas profesionales. (E06803.04)"},null,null,null,null,null,null,null,null,null,null,null,null,null,null,null,null,null,null,null,null,null,null,null,null,null,null,null,null,null,null,null,null,null,{"$f":"IFERROR(IF(AND('PLA-FO-01'!D38<>\"\",'PLA-FO-01'!S38<>\"\",'PLA-FO-01'!E38<>\"\"),_xlfn.IFS(OR(AND(LEFT('PLA-FO-01'!D38,4)=\"E040\",LEFT('PLA-FO-01'!E38,3)=\"C01\"),AND(LEFT('PLA-FO-01'!D38,4)=\"E040\",LEFT('PLA-FO-01'!E38,3)=\"C03\"),AND(LEFT('PLA-FO-01'!D38,4)=\"E040\",LEFT('PLA-FO-01'!E38,3)=\"C04\")),\"AF1R1\",AND(LEFT('PLA-FO-01'!D38,4)=\"E040\",LEFT('PLA-FO-01'!E38,3)=\"C02\",LEFT('PLA-FO-01'!S38,2)<>\"60\"),\"AF1R2\",AND(LEFT('PLA-FO-01'!D38,4)=\"E035\",LEFT('PLA-FO-01'!S38,5)=\"20040\"),\"AF1R3\",AND(LEFT('PLA-FO-01'!D38,4)=\"E035\",LEFT('PLA-FO-01'!S38,5)<>\"20040\"),\"AF1R4\",OR(AND(LEFT('PLA-FO-01'!D38,4)=\"E066\",LEFT('PLA-FO-01'!S38,2)=\"60\"),AND(LEFT('PLA-FO-01'!D38,4)=\"E067\",LEFT('PLA-FO-01'!S38,2)=\"60\"),AND(LEFT('PLA-FO-01'!D38,4)=\"E068\",LEFT('PLA-FO-01'!S38,2)=\"60\")),\"AF1R5\",OR(AND(LEFT('PLA-FO-01'!D38,4)=\"E066\",LEFT('PLA-FO-01'!S38,2)<>\"60\"),AND(LEFT('PLA-FO-01'!D38,4)=\"E067\",LEFT('PLA-FO-01'!S38,2)<>\"60\"),AND(LEFT('PLA-FO-01'!D38,4)=\"E068\",LEFT('PLA-FO-01'!S38,2)<>\"60\")),\"AF1R6\",OR(LEFT('PLA-FO-01'!D38,4)=\"R001\",LEFT('PLA-FO-01'!D38,4)=\"O001\",LEFT('PLA-FO-01'!D38,4)=\"M001\"),\"AF1R7\"),\"Falta Valor\"), \"NO APLICA, revisar!\")","v":"Falta Valor"},null,null,null,null,null,"14397 Porcentaje de egresados que se incorporan a una actividad que crea valor, en los 6 meses posteriores a su egreso","IE-PLADI-18 Porcentaje de egresados que se incorporan a una actividad que crea valor, en los 6 meses posteriores a su egreso","C3 68"]
["E066",null,"Acervo y Servicios bibliotecarios.","E06601.07","(E06601.07)","Acervo y Servicios bibliotecarios. (E06601.07)"," ",null,null,null,null,{"$f":"CELL(\"contenido\",'PP y Comp'!F76)","v":"Cursos para el mejoramiento de idiomas. (E06801.05)"},null,null,null,{"$f":"CELL(\"contenido\",'PP y Comp'!F83)","v":"Gestión de contratos  de prestación de servicios y vinculación que otorgue la Universidad de Guanajuato a favor de terceros. (E06803.05)"},null,null,null,null,null,null,null,null,null,null,null,null,null,null,null,null,null,null,null,null,null,null,null,null,null,null,null,null,null,null,null,null,null,{"$f":"IFERROR(IF(AND('PLA-FO-01'!D39<>\"\",'PLA-FO-01'!S39<>\"\",'PLA-FO-01'!E39<>\"\"),_xlfn.IFS(OR(AND(LEFT('PLA-FO-01'!D39,4)=\"E040\",LEFT('PLA-FO-01'!E39,3)=\"C01\"),AND(LEFT('PLA-FO-01'!D39,4)=\"E040\",LEFT('PLA-FO-01'!E39,3)=\"C03\"),AND(LEFT('PLA-FO-01'!D39,4)=\"E040\",LEFT('PLA-FO-01'!E39,3)=\"C04\")),\"AF1R1\",AND(LEFT('PLA-FO-01'!D39,4)=\"E040\",LEFT('PLA-FO-01'!E39,3)=\"C02\",LEFT('PLA-FO-01'!S39,2)<>\"60\"),\"AF1R2\",AND(LEFT('PLA-FO-01'!D39,4)=\"E035\",LEFT('PLA-FO-01'!S39,5)=\"20040\"),\"AF1R3\",AND(LEFT('PLA-FO-01'!D39,4)=\"E035\",LEFT('PLA-FO-01'!S39,5)<>\"20040\"),\"AF1R4\",OR(AND(LEFT('PLA-FO-01'!D39,4)=\"E066\",LEFT('PLA-FO-01'!S39,2)=\"60\"),AND(LEFT('PLA-FO-01'!D39,4)=\"E067\",LEFT('PLA-FO-01'!S39,2)=\"60\"),AND(LEFT('PLA-FO-01'!D39,4)=\"E068\",LEFT('PLA-FO-01'!S39,2)=\"60\")),\"AF1R5\",OR(AND(LEFT('PLA-FO-01'!D39,4)=\"E066\",LEFT('PLA-FO-01'!S39,2)<>\"60\"),AND(LEFT('PLA-FO-01'!D39,4)=\"E067\",LEFT('PLA-FO-01'!S39,2)<>\"60\"),AND(LEFT('PLA-FO-01'!D39,4)=\"E068\",LEFT('PLA-FO-01'!S39,2)<>\"60\")),\"AF1R6\",OR(LEFT('PLA-FO-01'!D39,4)=\"R001\",LEFT('PLA-FO-01'!D39,4)=\"O001\",LEFT('PLA-FO-01'!D39,4)=\"M001\"),\"AF1R7\"),\"Falta Valor\"), \"NO APLICA, revisar!\")","v":"Falta Valor"},null,null,null,null,null,"2644 - Porcentaje de estudiantes de la UG que realizan estancias o prácticas profesionales en el sector productivo","S/Ind PLADI para PbR 2644"]
["E066",null,"Evaluación, Certificación y Fortalecimiento de Instituciones Incorporadas.","E06601.08","(E06601.08)","Evaluación, Certificación y Fortalecimiento de Instituciones Incorporadas. (E06601.08)"," ",null,null,null,null,null,null,null,null,null,null,null,null,null,null,null,null,null,null,null,null,null,null,null,null,null,null,null,null,null,null,null,null,null,null,null,null,null,null,null,null,null,null,{"$f":"IFERROR(IF(AND('PLA-FO-01'!D40<>\"\",'PLA-FO-01'!S40<>\"\",'PLA-FO-01'!E40<>\"\"),_xlfn.IFS(OR(AND(LEFT('PLA-FO-01'!D40,4)=\"E040\",LEFT('PLA-FO-01'!E40,3)=\"C01\"),AND(LEFT('PLA-FO-01'!D40,4)=\"E040\",LEFT('PLA-FO-01'!E40,3)=\"C03\"),AND(LEFT('PLA-FO-01'!D40,4)=\"E040\",LEFT('PLA-FO-01'!E40,3)=\"C04\")),\"AF1R1\",AND(LEFT('PLA-FO-01'!D40,4)=\"E040\",LEFT('PLA-FO-01'!E40,3)=\"C02\",LEFT('PLA-FO-01'!S40,2)<>\"60\"),\"AF1R2\",AND(LEFT('PLA-FO-01'!D40,4)=\"E035\",LEFT('PLA-FO-01'!S40,5)=\"20040\"),\"AF1R3\",AND(LEFT('PLA-FO-01'!D40,4)=\"E035\",LEFT('PLA-FO-01'!S40,5)<>\"20040\"),\"AF1R4\",OR(AND(LEFT('PLA-FO-01'!D40,4)=\"E066\",LEFT('PLA-FO-01'!S40,2)=\"60\"),AND(LEFT('PLA-FO-01'!D40,4)=\"E067\",LEFT('PLA-FO-01'!S40,2)=\"60\"),AND(LEFT('PLA-FO-01'!D40,4)=\"E068\",LEFT('PLA-FO-01'!S40,2)=\"60\")),\"AF1R5\",OR(AND(LEFT('PLA-FO-01'!D40,4)=\"E066\",LEFT('PLA-FO-01'!S40,2)<>\"60\"),AND(LEFT('PLA-FO-01'!D40,4)=\"E067\",LEFT('PLA-FO-01'!S40,2)<>\"60\"),AND(LEFT('PLA-FO-01'!D40,4)=\"E068\",LEFT('PLA-FO-01'!S40,2)<>\"60\")),\"AF1R6\",OR(LEFT('PLA-FO-01'!D40,4)=\"R001\",LEFT('PLA-FO-01'!D40,4)=\"O001\",LEFT('PLA-FO-01'!D40,4)=\"M001\"),\"AF1R7\"),\"Falta Valor\"), \"NO APLICA, revisar!\")","v":"Falta Valor"},null,null,null,null,"PbRE040C1 - E040C1","1830 Índice de artículos publicados en revistas estatales, nacionales e internacionales con arbitraje por PTC por año.","IC-PLADI-05 Índice de artículos publicados en revistas estatales, nacionales e internacionales con arbitraje por PTC por año","¿IE05?","¿IE 26?"]
["E066",null,"Material didáctico y/o servicios para el desarrollo de actividades de los PE.","E06601.09","(E06601.09)","Material didáctico y/o servicios para el desarrollo de actividades de los PE. (E06601.09)"," ",null,null,null,null,{"$f":"CELL(\"contenido\",'PP y Comp'!R2)","v":"C01. Avances científicos y tecnológicos difundidos."},null,{"$f":"CELL(\"contenido\",'PP y Comp'!R3)","v":"C03. Proyectos de Investigación desarrollados con calidad por los investigadores de prestigio y Cuerpos Académicos Consolidados."},null,{"$f":"CELL(\"contenido\",'PP y Comp'!R4)","v":"C04. Infraestructura y equipamiento implementados para el desarrollo de las investigaciones, tecnologías e innovaciones."},null,null,null,null,null,null,null,null,null,null,null,null,null,null,null,null,null,null,null,null,null,null,null,null,null,null,null,null,null,null,null,null,null,{"$f":"IFERROR(IF(AND('PLA-FO-01'!D41<>\"\",'PLA-FO-01'!S41<>\"\",'PLA-FO-01'!E41<>\"\"),_xlfn.IFS(OR(AND(LEFT('PLA-FO-01'!D41,4)=\"E040\",LEFT('PLA-FO-01'!E41,3)=\"C01\"),AND(LEFT('PLA-FO-01'!D41,4)=\"E040\",LEFT('PLA-FO-01'!E41,3)=\"C03\"),AND(LEFT('PLA-FO-01'!D41,4)=\"E040\",LEFT('PLA-FO-01'!E41,3)=\"C04\")),\"AF1R1\",AND(LEFT('PLA-FO-01'!D41,4)=\"E040\",LEFT('PLA-FO-01'!E41,3)=\"C02\",LEFT('PLA-FO-01'!S41,2)<>\"60\"),\"AF1R2\",AND(LEFT('PLA-FO-01'!D41,4)=\"E035\",LEFT('PLA-FO-01'!S41,5)=\"20040\"),\"AF1R3\",AND(LEFT('PLA-FO-01'!D41,4)=\"E035\",LEFT('PLA-FO-01'!S41,5)<>\"20040\"),\"AF1R4\",OR(AND(LEFT('PLA-FO-01'!D41,4)=\"E066\",LEFT('PLA-FO-01'!S41,2)=\"60\"),AND(LEFT('PLA-FO-01'!D41,4)=\"E067\",LEFT('PLA-FO-01'!S41,2)=\"60\"),AND(LEFT('PLA-FO-01'!D41,4)=\"E068\",LEFT('PLA-FO-01'!S41,2)=\"60\")),\"AF1R5\",OR(AND(LEFT('PLA-FO-01'!D41,4)=\"E066\",LEFT('PLA-FO-01'!S41,2)<>\"60\"),AND(LEFT('PLA-FO-01'!D41,4)=\"E067\",LEFT('PLA-FO-01'!S41,2)<>\"60\"),AND(LEFT('PLA-FO-01'!D41,4)=\"E068\",LEFT('PLA-FO-01'!S41,2)<>\"60\")),\"AF1R6\",OR(LEFT('PLA-FO-01'!D41,4)=\"R001\",LEFT('PLA-FO-01'!D41,4)=\"O001\",LEFT('PLA-FO-01'!D41,4)=\"M001\"),\"AF1R7\"),\"Falta Valor\"), \"NO APLICA, revisar!\")","v":"Falta Valor"},null,null,null,null,null,"14398 Porcentaje de artículos publicados en revistas arbitradas o indizadas con colaboración internacional","IC-PLADI-06 Porcentaje de artículos (publicados en revistas indexadas) con colaboración internacional","C1 40"]
["E066","C2","Impartición de asignaturas de PEL.","E06602.01",{"$f":"CONCATENATE(\"(\",D42,\")\")","v":"(E06602.01)"},"Impartición de asignaturas de PEL. (E06602.01)"," ",null,null,{"$f":"CELL(\"contenido\",'PP y Comp'!R1)","v":"E040 - Investigación, desarrollo tecnológico e innovación de la Universidad de Guanajuato."},null,{"$f":"CELL(\"contenido\",'PP y Comp'!F84)","v":"Acciones y publicaciones para promover, comunicar y divulgar la Ciencia y los Desarrollos Tecnológicos e Innovación universitarios. (E04001.01)"},null,{"$f":"CELL(\"contenido\",'PP y Comp'!F86)","v":"Convocatoria Institucional de Investigación Científica. (E04003.01)"},null,{"$f":"CELL(\"contenido\",'PP y Comp'!F99)","v":"Equipamiento  para la investigación, desarrollo tecnológico e innovación. (E04004.01)"},null,null,null,null,null,null,null,null,null,null,null,null,null,null,null,null,null,null,null,null,null,null,null,null,null,null,null,null,null,null,null,null,null,{"$f":"IFERROR(IF(AND('PLA-FO-01'!D42<>\"\",'PLA-FO-01'!S42<>\"\",'PLA-FO-01'!E42<>\"\"),_xlfn.IFS(OR(AND(LEFT('PLA-FO-01'!D42,4)=\"E040\",LEFT('PLA-FO-01'!E42,3)=\"C01\"),AND(LEFT('PLA-FO-01'!D42,4)=\"E040\",LEFT('PLA-FO-01'!E42,3)=\"C03\"),AND(LEFT('PLA-FO-01'!D42,4)=\"E040\",LEFT('PLA-FO-01'!E42,3)=\"C04\")),\"AF1R1\",AND(LEFT('PLA-FO-01'!D42,4)=\"E040\",LEFT('PLA-FO-01'!E42,3)=\"C02\",LEFT('PLA-FO-01'!S42,2)<>\"60\"),\"AF1R2\",AND(LEFT('PLA-FO-01'!D42,4)=\"E035\",LEFT('PLA-FO-01'!S42,5)=\"20040\"),\"AF1R3\",AND(LEFT('PLA-FO-01'!D42,4)=\"E035\",LEFT('PLA-FO-01'!S42,5)<>\"20040\"),\"AF1R4\",OR(AND(LEFT('PLA-FO-01'!D42,4)=\"E066\",LEFT('PLA-FO-01'!S42,2)=\"60\"),AND(LEFT('PLA-FO-01'!D42,4)=\"E067\",LEFT('PLA-FO-01'!S42,2)=\"60\"),AND(LEFT('PLA-FO-01'!D42,4)=\"E068\",LEFT('PLA-FO-01'!S42,2)=\"60\")),\"AF1R5\",OR(AND(LEFT('PLA-FO-01'!D42,4)=\"E066\",LEFT('PLA-FO-01'!S42,2)<>\"60\"),AND(LEFT('PLA-FO-01'!D42,4)=\"E067\",LEFT('PLA-FO-01'!S42,2)<>\"60\"),AND(LEFT('PLA-FO-01'!D42,4)=\"E068\",LEFT('PLA-FO-01'!S42,2)<>\"60\")),\"AF1R6\",OR(LEFT('PLA-FO-01'!D42,4)=\"R001\",LEFT('PLA-FO-01'!D42,4)=\"O001\",LEFT('PLA-FO-01'!D42,4)=\"M001\"),\"AF1R7\"),\"Falta Valor\"), \"NO APLICA, revisar!\")","v":"Falta Valor"},null,null,null,null,null,"Entregable - Actividades de divulgación de la ciencia ofertadas.","Eje PLADI- Personal Académico (Posicionamiento de la producción académica)."]
["E066",null,"Evaluación docente.","E06602.02",{"$f":"CONCATENATE(\"(\",D43,\")\")","v":"(E06602.02)"},"Evaluación docente. (E06602.02)"," ",null,{"$f":"CELL(\"contenido\",'PP y Comp'!R1)","v":"E040 - Investigación, desarrollo tecnológico e innovación de la Universidad de Guanajuato."},{"$f":"CELL(\"contenido\",'PP y Comp'!R2)","v":"C01. Avances científicos y tecnológicos difundidos."},null,{"$f":"CELL(\"contenido\",'PP y Comp'!F85)","v":"Apoyos para la participación en eventos de divulgación científica para alumnos y profesores. (E04001.02)"},null,{"$f":"CELL(\"contenido\",'PP y Comp'!F87)","v":"Gestión de Veranos Científicos. (E04003.02)"},null,{"$f":"CELL(\"contenido\",'PP y Comp'!F100)","v":"Habilitación, mantenimiento y conservación de bienes muebles e inmuebles para la investigación, desarrollo tecnológico e innovación. (E04004.02)"},null,null,null,null,null,null,null,null,null,null,null,null,null,null,null,null,null,null,null,null,null,null,null,null,null,null,null,null,null,null,null,null,null,{"$f":"IFERROR(IF(AND('PLA-FO-01'!D43<>\"\",'PLA-FO-01'!S43<>\"\",'PLA-FO-01'!E43<>\"\"),_xlfn.IFS(OR(AND(LEFT('PLA-FO-01'!D43,4)=\"E040\",LEFT('PLA-FO-01'!E43,3)=\"C01\"),AND(LEFT('PLA-FO-01'!D43,4)=\"E040\",LEFT('PLA-FO-01'!E43,3)=\"C03\"),AND(LEFT('PLA-FO-01'!D43,4)=\"E040\",LEFT('PLA-FO-01'!E43,3)=\"C04\")),\"AF1R1\",AND(LEFT('PLA-FO-01'!D43,4)=\"E040\",LEFT('PLA-FO-01'!E43,3)=\"C02\",LEFT('PLA-FO-01'!S43,2)<>\"60\"),\"AF1R2\",AND(LEFT('PLA-FO-01'!D43,4)=\"E035\",LEFT('PLA-FO-01'!S43,5)=\"20040\"),\"AF1R3\",AND(LEFT('PLA-FO-01'!D43,4)=\"E035\",LEFT('PLA-FO-01'!S43,5)<>\"20040\"),\"AF1R4\",OR(AND(LEFT('PLA-FO-01'!D43,4)=\"E066\",LEFT('PLA-FO-01'!S43,2)=\"60\"),AND(LEFT('PLA-FO-01'!D43,4)=\"E067\",LEFT('PLA-FO-01'!S43,2)=\"60\"),AND(LEFT('PLA-FO-01'!D43,4)=\"E068\",LEFT('PLA-FO-01'!S43,2)=\"60\")),\"AF1R5\",OR(AND(LEFT('PLA-FO-01'!D43,4)=\"E066\",LEFT('PLA-FO-01'!S43,2)<>\"60\"),AND(LEFT('PLA-FO-01'!D43,4)=\"E067\",LEFT('PLA-FO-01'!S43,2)<>\"60\"),AND(LEFT('PLA-FO-01'!D43,4)=\"E068\",LEFT('PLA-FO-01'!S43,2)<>\"60\")),\"AF1R6\",OR(LEFT('PLA-FO-01'!D43,4)=\"R001\",LEFT('PLA-FO-01'!D43,4)=\"O001\",LEFT('PLA-FO-01'!D43,4)=\"M001\"),\"AF1R7\"),\"Falta Valor\"), \"NO APLICA, revisar!\")","v":"Falta Valor"},null,null,null,null,"PbRE040C3 - E040C3","2629 - Porcentaje de proyectos de investigación con colaboración nacional o internacional","IC-PLADI-07 Porcentaje de proyectos de investigación con colaboración nacional o internacional","proposito 40"]
["E066",null,"Estímulos al desempeño docente.","E06602.03","(E06602.03)","Estímulos al desempeño docente. (E06602.03)"," ",null,{"$f":"CELL(\"contenido\",'PP y Comp'!R1)","v":"E040 - Investigación, desarrollo tecnológico e innovación de la Universidad de Guanajuato."},{"$f":"CELL(\"contenido\",'PP y Comp'!R3)","v":"C03. Proyectos de Investigación desarrollados con calidad por los investigadores de prestigio y Cuerpos Académicos Consolidados."},null,null,null,{"$f":"CELL(\"contenido\",'PP y Comp'!F88)","v":"Registro y ajustes de cuerpos académicos. (E04003.03)"},null,null,null,null,null,null,null,null,null,null,null,null,null,null,null,null,null,null,null,null,null,null,null,null,null,null,null,null,null,null,null,null,null,null,null,{"$f":"IFERROR(IF(AND('PLA-FO-01'!D44<>\"\",'PLA-FO-01'!S44<>\"\",'PLA-FO-01'!E44<>\"\"),_xlfn.IFS(OR(AND(LEFT('PLA-FO-01'!D44,4)=\"E040\",LEFT('PLA-FO-01'!E44,3)=\"C01\"),AND(LEFT('PLA-FO-01'!D44,4)=\"E040\",LEFT('PLA-FO-01'!E44,3)=\"C03\"),AND(LEFT('PLA-FO-01'!D44,4)=\"E040\",LEFT('PLA-FO-01'!E44,3)=\"C04\")),\"AF1R1\",AND(LEFT('PLA-FO-01'!D44,4)=\"E040\",LEFT('PLA-FO-01'!E44,3)=\"C02\",LEFT('PLA-FO-01'!S44,2)<>\"60\"),\"AF1R2\",AND(LEFT('PLA-FO-01'!D44,4)=\"E035\",LEFT('PLA-FO-01'!S44,5)=\"20040\"),\"AF1R3\",AND(LEFT('PLA-FO-01'!D44,4)=\"E035\",LEFT('PLA-FO-01'!S44,5)<>\"20040\"),\"AF1R4\",OR(AND(LEFT('PLA-FO-01'!D44,4)=\"E066\",LEFT('PLA-FO-01'!S44,2)=\"60\"),AND(LEFT('PLA-FO-01'!D44,4)=\"E067\",LEFT('PLA-FO-01'!S44,2)=\"60\"),AND(LEFT('PLA-FO-01'!D44,4)=\"E068\",LEFT('PLA-FO-01'!S44,2)=\"60\")),\"AF1R5\",OR(AND(LEFT('PLA-FO-01'!D44,4)=\"E066\",LEFT('PLA-FO-01'!S44,2)<>\"60\"),AND(LEFT('PLA-FO-01'!D44,4)=\"E067\",LEFT('PLA-FO-01'!S44,2)<>\"60\"),AND(LEFT('PLA-FO-01'!D44,4)=\"E068\",LEFT('PLA-FO-01'!S44,2)<>\"60\")),\"AF1R6\",OR(LEFT('PLA-FO-01'!D44,4)=\"R001\",LEFT('PLA-FO-01'!D44,4)=\"O001\",LEFT('PLA-FO-01'!D44,4)=\"M001\"),\"AF1R7\"),\"Falta Valor\"), \"NO APLICA, revisar!\")","v":"Falta Valor"},null,null,null,null,null,"1829 - Tasa de variación en el número de registros de derechos de autor y de publicaciones con ISBN o ISSN.","IC-PLADI-08 Tasa de variación en el número de registros de derechos de autor y de publicaciones con ISBN o ISSN","c1 40"]
["E066",null,"Re categorización docente.","E06602.04","(E06602.04)","Re categorización docente. (E06602.04)"," ",null,{"$f":"CELL(\"contenido\",'PP y Comp'!R1)","v":"E040 - Investigación, desarrollo tecnológico e innovación de la Universidad de Guanajuato."},{"$f":"CELL(\"contenido\",'PP y Comp'!R4)","v":"C04. Infraestructura y equipamiento implementados para el desarrollo de las investigaciones, tecnologías e innovaciones."},null,null,null,{"$f":"CELL(\"contenido\",'PP y Comp'!F89)","v":"Trámite de Convenios y Gestión de Apoyos Económicos para la Investigación. (E04003.04)"},null,null,null,null,null,null,null,null,null,null,null,null,null,null,null,null,null,null,null,null,null,null,null,null,null,null,null,null,null,null,null,null,null,null,null,{"$f":"IFERROR(IF(AND('PLA-FO-01'!D45<>\"\",'PLA-FO-01'!S45<>\"\",'PLA-FO-01'!E45<>\"\"),_xlfn.IFS(OR(AND(LEFT('PLA-FO-01'!D45,4)=\"E040\",LEFT('PLA-FO-01'!E45,3)=\"C01\"),AND(LEFT('PLA-FO-01'!D45,4)=\"E040\",LEFT('PLA-FO-01'!E45,3)=\"C03\"),AND(LEFT('PLA-FO-01'!D45,4)=\"E040\",LEFT('PLA-FO-01'!E45,3)=\"C04\")),\"AF1R1\",AND(LEFT('PLA-FO-01'!D45,4)=\"E040\",LEFT('PLA-FO-01'!E45,3)=\"C02\",LEFT('PLA-FO-01'!S45,2)<>\"60\"),\"AF1R2\",AND(LEFT('PLA-FO-01'!D45,4)=\"E035\",LEFT('PLA-FO-01'!S45,5)=\"20040\"),\"AF1R3\",AND(LEFT('PLA-FO-01'!D45,4)=\"E035\",LEFT('PLA-FO-01'!S45,5)<>\"20040\"),\"AF1R4\",OR(AND(LEFT('PLA-FO-01'!D45,4)=\"E066\",LEFT('PLA-FO-01'!S45,2)=\"60\"),AND(LEFT('PLA-FO-01'!D45,4)=\"E067\",LEFT('PLA-FO-01'!S45,2)=\"60\"),AND(LEFT('PLA-FO-01'!D45,4)=\"E068\",LEFT('PLA-FO-01'!S45,2)=\"60\")),\"AF1R5\",OR(AND(LEFT('PLA-FO-01'!D45,4)=\"E066\",LEFT('PLA-FO-01'!S45,2)<>\"60\"),AND(LEFT('PLA-FO-01'!D45,4)=\"E067\",LEFT('PLA-FO-01'!S45,2)<>\"60\"),AND(LEFT('PLA-FO-01'!D45,4)=\"E068\",LEFT('PLA-FO-01'!S45,2)<>\"60\")),\"AF1R6\",OR(LEFT('PLA-FO-01'!D45,4)=\"R001\",LEFT('PLA-FO-01'!D45,4)=\"O001\",LEFT('PLA-FO-01'!D45,4)=\"M001\"),\"AF1R7\"),\"Falta Valor\"), \"NO APLICA, revisar!\")","v":"Falta Valor"},null,null,null,null,null,"1831 - Porcentaje de PTC adscritos al Sistema Nacional de Investigadores o al Sistema Nacional de Creadores.","IE-PLADI-21 Porcentaje de PTC adscritos al SNI o al SNC.","c3 40"]
["E066",null,"Formación, capacitación y actualización de PTC y PTP.","E06602.05","(E06602.05)","Formación, capacitación y actualización de PTC y PTP. (E06602.05)"," ",null,null,null,null,null,null,{"$f":"CELL(\"contenido\",'PP y Comp'!F90)","v":"Gestión y seguimiento al PRODEP. (E04003.05)"},null,null,null,null,null,null,null,null,null,null,null,null,null,null,null,null,null,null,null,null,null,null,null,null,null,null,null,null,null,null,null,null,null,null,null,{"$f":"IFERROR(IF(AND('PLA-FO-01'!D46<>\"\",'PLA-FO-01'!S46<>\"\",'PLA-FO-01'!E46<>\"\"),_xlfn.IFS(OR(AND(LEFT('PLA-FO-01'!D46,4)=\"E040\",LEFT('PLA-FO-01'!E46,3)=\"C01\"),AND(LEFT('PLA-FO-01'!D46,4)=\"E040\",LEFT('PLA-FO-01'!E46,3)=\"C03\"),AND(LEFT('PLA-FO-01'!D46,4)=\"E040\",LEFT('PLA-FO-01'!E46,3)=\"C04\")),\"AF1R1\",AND(LEFT('PLA-FO-01'!D46,4)=\"E040\",LEFT('PLA-FO-01'!E46,3)=\"C02\",LEFT('PLA-FO-01'!S46,2)<>\"60\"),\"AF1R2\",AND(LEFT('PLA-FO-01'!D46,4)=\"E035\",LEFT('PLA-FO-01'!S46,5)=\"20040\"),\"AF1R3\",AND(LEFT('PLA-FO-01'!D46,4)=\"E035\",LEFT('PLA-FO-01'!S46,5)<>\"20040\"),\"AF1R4\",OR(AND(LEFT('PLA-FO-01'!D46,4)=\"E066\",LEFT('PLA-FO-01'!S46,2)=\"60\"),AND(LEFT('PLA-FO-01'!D46,4)=\"E067\",LEFT('PLA-FO-01'!S46,2)=\"60\"),AND(LEFT('PLA-FO-01'!D46,4)=\"E068\",LEFT('PLA-FO-01'!S46,2)=\"60\")),\"AF1R5\",OR(AND(LEFT('PLA-FO-01'!D46,4)=\"E066\",LEFT('PLA-FO-01'!S46,2)<>\"60\"),AND(LEFT('PLA-FO-01'!D46,4)=\"E067\",LEFT('PLA-FO-01'!S46,2)<>\"60\"),AND(LEFT('PLA-FO-01'!D46,4)=\"E068\",LEFT('PLA-FO-01'!S46,2)<>\"60\")),\"AF1R6\",OR(LEFT('PLA-FO-01'!D46,4)=\"R001\",LEFT('PLA-FO-01'!D46,4)=\"O001\",LEFT('PLA-FO-01'!D46,4)=\"M001\"),\"AF1R7\"),\"Falta Valor\"), \"NO APLICA, revisar!\")","v":"Falta Valor"},null,null,null,null,null,"14399 Porcentaje de Cuerpos Académicos Consolidados.","IE-PLADI-24 Porcentaje de Cuerpos Académicos Consolidados.","c3 40"]
["E066",null,"Reclutamiento, selección y contratación de profesores.","E06602.06","(E06602.06)","Reclutamiento, selección y contratación de profesores. (E06602.06)"," ",null,null,null,null,null,null,{"$f":"CELL(\"contenido\",'PP y Comp'!F91)","v":"Apoyo para participación en convocatorias con organismos financiadores externos. (E04003.06)"},null,null,null,null,null,null,null,null,null,null,null,null,null,null,null,null,null,null,null,null,null,null,null,null,null,null,null,null,null,null,null,null,null,null,null,{"$f":"IFERROR(IF(AND('PLA-FO-01'!D47<>\"\",'PLA-FO-01'!S47<>\"\",'PLA-FO-01'!E47<>\"\"),_xlfn.IFS(OR(AND(LEFT('PLA-FO-01'!D47,4)=\"E040\",LEFT('PLA-FO-01'!E47,3)=\"C01\"),AND(LEFT('PLA-FO-01'!D47,4)=\"E040\",LEFT('PLA-FO-01'!E47,3)=\"C03\"),AND(LEFT('PLA-FO-01'!D47,4)=\"E040\",LEFT('PLA-FO-01'!E47,3)=\"C04\")),\"AF1R1\",AND(LEFT('PLA-FO-01'!D47,4)=\"E040\",LEFT('PLA-FO-01'!E47,3)=\"C02\",LEFT('PLA-FO-01'!S47,2)<>\"60\"),\"AF1R2\",AND(LEFT('PLA-FO-01'!D47,4)=\"E035\",LEFT('PLA-FO-01'!S47,5)=\"20040\"),\"AF1R3\",AND(LEFT('PLA-FO-01'!D47,4)=\"E035\",LEFT('PLA-FO-01'!S47,5)<>\"20040\"),\"AF1R4\",OR(AND(LEFT('PLA-FO-01'!D47,4)=\"E066\",LEFT('PLA-FO-01'!S47,2)=\"60\"),AND(LEFT('PLA-FO-01'!D47,4)=\"E067\",LEFT('PLA-FO-01'!S47,2)=\"60\"),AND(LEFT('PLA-FO-01'!D47,4)=\"E068\",LEFT('PLA-FO-01'!S47,2)=\"60\")),\"AF1R5\",OR(AND(LEFT('PLA-FO-01'!D47,4)=\"E066\",LEFT('PLA-FO-01'!S47,2)<>\"60\"),AND(LEFT('PLA-FO-01'!D47,4)=\"E067\",LEFT('PLA-FO-01'!S47,2)<>\"60\"),AND(LEFT('PLA-FO-01'!D47,4)=\"E068\",LEFT('PLA-FO-01'!S47,2)<>\"60\")),\"AF1R6\",OR(LEFT('PLA-FO-01'!D47,4)=\"R001\",LEFT('PLA-FO-01'!D47,4)=\"O001\",LEFT('PLA-FO-01'!D47,4)=\"M001\"),\"AF1R7\"),\"Falta Valor\"), \"NO APLICA, revisar!\")","v":"Falta Valor"},null,null,null,null,null,"14401 Porcentaje de registros de propiedad industrial transferidos que generan recursos y/o pertinencia social a la universidad","IE-PLADI-29 Porcentaje de registros de propiedad industrial transferidos que generan recursos y/o pertinencia social a la universidad","propósito 40"]
["E066",null,"Trámite para la Certificación en competencias docentes.","E06602.07","(E06602.07)","Trámite para la Certificación en competencias docentes. (E06602.07)"," ",null,null,null,null,null,null,{"$f":"CELL(\"contenido\",'PP y Comp'!F92)","v":"Apoyos para la afiliación en asociaciones de colaboración científica. (E04003.07)"},null,null,null,null,null,null,null,null,null,null,null,null,null,null,null,null,null,null,null,null,null,null,null,null,null,null,null,null,null,null,null,null,null,null,null,{"$f":"IFERROR(IF(AND('PLA-FO-01'!D48<>\"\",'PLA-FO-01'!S48<>\"\",'PLA-FO-01'!E48<>\"\"),_xlfn.IFS(OR(AND(LEFT('PLA-FO-01'!D48,4)=\"E040\",LEFT('PLA-FO-01'!E48,3)=\"C01\"),AND(LEFT('PLA-FO-01'!D48,4)=\"E040\",LEFT('PLA-FO-01'!E48,3)=\"C03\"),AND(LEFT('PLA-FO-01'!D48,4)=\"E040\",LEFT('PLA-FO-01'!E48,3)=\"C04\")),\"AF1R1\",AND(LEFT('PLA-FO-01'!D48,4)=\"E040\",LEFT('PLA-FO-01'!E48,3)=\"C02\",LEFT('PLA-FO-01'!S48,2)<>\"60\"),\"AF1R2\",AND(LEFT('PLA-FO-01'!D48,4)=\"E035\",LEFT('PLA-FO-01'!S48,5)=\"20040\"),\"AF1R3\",AND(LEFT('PLA-FO-01'!D48,4)=\"E035\",LEFT('PLA-FO-01'!S48,5)<>\"20040\"),\"AF1R4\",OR(AND(LEFT('PLA-FO-01'!D48,4)=\"E066\",LEFT('PLA-FO-01'!S48,2)=\"60\"),AND(LEFT('PLA-FO-01'!D48,4)=\"E067\",LEFT('PLA-FO-01'!S48,2)=\"60\"),AND(LEFT('PLA-FO-01'!D48,4)=\"E068\",LEFT('PLA-FO-01'!S48,2)=\"60\")),\"AF1R5\",OR(AND(LEFT('PLA-FO-01'!D48,4)=\"E066\",LEFT('PLA-FO-01'!S48,2)<>\"60\"),AND(LEFT('PLA-FO-01'!D48,4)=\"E067\",LEFT('PLA-FO-01'!S48,2)<>\"60\"),AND(LEFT('PLA-FO-01'!D48,4)=\"E068\",LEFT('PLA-FO-01'!S48,2)<>\"60\")),\"AF1R6\",OR(LEFT('PLA-FO-01'!D48,4)=\"R001\",LEFT('PLA-FO-01'!D48,4)=\"O001\",LEFT('PLA-FO-01'!D48,4)=\"M001\"),\"AF1R7\"),\"Falta Valor\"), \"NO APLICA, revisar!\")","v":"Falta Valor"},null,null,null,null,null,"1828 - Tasa de variación en el número de registros de propiedad industrial.","Eje PLADI - Personal Académico (Patentes y propiedad intelectual)."]
["E066",null,"Gestión de apoyos para la movilidad académica nacional e internacional (internos y externos a la UG).","E06602.08","(E06602.08)","Gestión de apoyos para la movilidad académica nacional e internacional (internos y externos a la UG). (E06602.08)"," ",null,null,null,null,null,null,{"$f":"CELL(\"contenido\",'PP y Comp'!F93)","v":"Trámite de adscripción al S. N. I. (E04003.08)"},null,null,null,null,null,null,null,null,null,null,null,null,null,null,null,null,null,null,null,null,null,null,null,null,null,null,null,null,null,null,null,null,null,null,null,{"$f":"IFERROR(IF(AND('PLA-FO-01'!D49<>\"\",'PLA-FO-01'!S49<>\"\",'PLA-FO-01'!E49<>\"\"),_xlfn.IFS(OR(AND(LEFT('PLA-FO-01'!D49,4)=\"E040\",LEFT('PLA-FO-01'!E49,3)=\"C01\"),AND(LEFT('PLA-FO-01'!D49,4)=\"E040\",LEFT('PLA-FO-01'!E49,3)=\"C03\"),AND(LEFT('PLA-FO-01'!D49,4)=\"E040\",LEFT('PLA-FO-01'!E49,3)=\"C04\")),\"AF1R1\",AND(LEFT('PLA-FO-01'!D49,4)=\"E040\",LEFT('PLA-FO-01'!E49,3)=\"C02\",LEFT('PLA-FO-01'!S49,2)<>\"60\"),\"AF1R2\",AND(LEFT('PLA-FO-01'!D49,4)=\"E035\",LEFT('PLA-FO-01'!S49,5)=\"20040\"),\"AF1R3\",AND(LEFT('PLA-FO-01'!D49,4)=\"E035\",LEFT('PLA-FO-01'!S49,5)<>\"20040\"),\"AF1R4\",OR(AND(LEFT('PLA-FO-01'!D49,4)=\"E066\",LEFT('PLA-FO-01'!S49,2)=\"60\"),AND(LEFT('PLA-FO-01'!D49,4)=\"E067\",LEFT('PLA-FO-01'!S49,2)=\"60\"),AND(LEFT('PLA-FO-01'!D49,4)=\"E068\",LEFT('PLA-FO-01'!S49,2)=\"60\")),\"AF1R5\",OR(AND(LEFT('PLA-FO-01'!D49,4)=\"E066\",LEFT('PLA-FO-01'!S49,2)<>\"60\"),AND(LEFT('PLA-FO-01'!D49,4)=\"E067\",LEFT('PLA-FO-01'!S49,2)<>\"60\"),AND(LEFT('PLA-FO-01'!D49,4)=\"E068\",LEFT('PLA-FO-01'!S49,2)<>\"60\")),\"AF1R6\",OR(LEFT('PLA-FO-01'!D49,4)=\"R001\",LEFT('PLA-FO-01'!D49,4)=\"O001\",LEFT('PLA-FO-01'!D49,4)=\"M001\"),\"AF1R7\"),\"Falta Valor\"), \"NO APLICA, revisar!\")","v":"Falta Valor"},null,null,null,null,"PbRE040C4 - E040C4","Entregable - Actividades de divulgación de la ciencia ofertadas.","Eje PLADI - Personal Académico (Posicionamiento de la producción académica)."]
["E066","C3","Equipamiento para la operación de los PE.","E06603.01","(E06603.01)","Equipamiento para la operación de los PE. (E06603.01)"," ",null,null,null,null,null,null,{"$f":"CELL(\"contenido\",'PP y Comp'!F94)","v":"Trámite para la publicación (en libros y/o en revistas indexadas nacionales e internacionales). (E04003.09)"},null,null,null,null,null,null,null,null,null,null,null,null,null,null,null,null,null,null,null,null,null,null,null,null,null,null,null,null,null,null,null,null,null,null,null,{"$f":"IFERROR(IF(AND('PLA-FO-01'!D50<>\"\",'PLA-FO-01'!S50<>\"\",'PLA-FO-01'!E50<>\"\"),_xlfn.IFS(OR(AND(LEFT('PLA-FO-01'!D50,4)=\"E040\",LEFT('PLA-FO-01'!E50,3)=\"C01\"),AND(LEFT('PLA-FO-01'!D50,4)=\"E040\",LEFT('PLA-FO-01'!E50,3)=\"C03\"),AND(LEFT('PLA-FO-01'!D50,4)=\"E040\",LEFT('PLA-FO-01'!E50,3)=\"C04\")),\"AF1R1\",AND(LEFT('PLA-FO-01'!D50,4)=\"E040\",LEFT('PLA-FO-01'!E50,3)=\"C02\",LEFT('PLA-FO-01'!S50,2)<>\"60\"),\"AF1R2\",AND(LEFT('PLA-FO-01'!D50,4)=\"E035\",LEFT('PLA-FO-01'!S50,5)=\"20040\"),\"AF1R3\",AND(LEFT('PLA-FO-01'!D50,4)=\"E035\",LEFT('PLA-FO-01'!S50,5)<>\"20040\"),\"AF1R4\",OR(AND(LEFT('PLA-FO-01'!D50,4)=\"E066\",LEFT('PLA-FO-01'!S50,2)=\"60\"),AND(LEFT('PLA-FO-01'!D50,4)=\"E067\",LEFT('PLA-FO-01'!S50,2)=\"60\"),AND(LEFT('PLA-FO-01'!D50,4)=\"E068\",LEFT('PLA-FO-01'!S50,2)=\"60\")),\"AF1R5\",OR(AND(LEFT('PLA-FO-01'!D50,4)=\"E066\",LEFT('PLA-FO-01'!S50,2)<>\"60\"),AND(LEFT('PLA-FO-01'!D50,4)=\"E067\",LEFT('PLA-FO-01'!S50,2)<>\"60\"),AND(LEFT('PLA-FO-01'!D50,4)=\"E068\",LEFT('PLA-FO-01'!S50,2)<>\"60\")),\"AF1R6\",OR(LEFT('PLA-FO-01'!D50,4)=\"R001\",LEFT('PLA-FO-01'!D50,4)=\"O001\",LEFT('PLA-FO-01'!D50,4)=\"M001\"),\"AF1R7\"),\"Falta Valor\"), \"NO APLICA, revisar!\")","v":"Falta Valor"},null,null,null,null,null,"2630 - Porcentaje de acciones de infraestructura para el desarrollo de las investigaciones, tecnologías e innovaciones realizadas en la UG","Eje PLADI - Espacios Universitarios (Plan maestro de infraestructura)."]
["E066",null,"Proyectos de infraestructura de red y conectividad para el desarrollo de los PE.","E06603.02","(E06603.02)","Proyectos de infraestructura de red y conectividad para el desarrollo de los PE. (E06603.02)"," ",null,null,null,null,null,null,{"$f":"CELL(\"contenido\",'PP y Comp'!F95)","v":"Materiales y/o servicios para la investigación, desarrollo tecnológico e innovación. (E04003.10)"},null,null,null,null,null,null,null,null,null,null,null,null,null,null,null,null,null,null,null,null,null,null,null,null,null,null,null,null,null,null,null,null,null,null,null,{"$f":"IFERROR(IF(AND('PLA-FO-01'!D51<>\"\",'PLA-FO-01'!S51<>\"\",'PLA-FO-01'!E51<>\"\"),_xlfn.IFS(OR(AND(LEFT('PLA-FO-01'!D51,4)=\"E040\",LEFT('PLA-FO-01'!E51,3)=\"C01\"),AND(LEFT('PLA-FO-01'!D51,4)=\"E040\",LEFT('PLA-FO-01'!E51,3)=\"C03\"),AND(LEFT('PLA-FO-01'!D51,4)=\"E040\",LEFT('PLA-FO-01'!E51,3)=\"C04\")),\"AF1R1\",AND(LEFT('PLA-FO-01'!D51,4)=\"E040\",LEFT('PLA-FO-01'!E51,3)=\"C02\",LEFT('PLA-FO-01'!S51,2)<>\"60\"),\"AF1R2\",AND(LEFT('PLA-FO-01'!D51,4)=\"E035\",LEFT('PLA-FO-01'!S51,5)=\"20040\"),\"AF1R3\",AND(LEFT('PLA-FO-01'!D51,4)=\"E035\",LEFT('PLA-FO-01'!S51,5)<>\"20040\"),\"AF1R4\",OR(AND(LEFT('PLA-FO-01'!D51,4)=\"E066\",LEFT('PLA-FO-01'!S51,2)=\"60\"),AND(LEFT('PLA-FO-01'!D51,4)=\"E067\",LEFT('PLA-FO-01'!S51,2)=\"60\"),AND(LEFT('PLA-FO-01'!D51,4)=\"E068\",LEFT('PLA-FO-01'!S51,2)=\"60\")),\"AF1R5\",OR(AND(LEFT('PLA-FO-01'!D51,4)=\"E066\",LEFT('PLA-FO-01'!S51,2)<>\"60\"),AND(LEFT('PLA-FO-01'!D51,4)=\"E067\",LEFT('PLA-FO-01'!S51,2)<>\"60\"),AND(LEFT('PLA-FO-01'!D51,4)=\"E068\",LEFT('PLA-FO-01'!S51,2)<>\"60\")),\"AF1R6\",OR(LEFT('PLA-FO-01'!D51,4)=\"R001\",LEFT('PLA-FO-01'!D51,4)=\"O001\",LEFT('PLA-FO-01'!D51,4)=\"M001\"),\"AF1R7\"),\"Falta Valor\"), \"NO APLICA, revisar!\")","v":"Falta Valor"},null,null,null,null,"PbRE035C1 - E035C1","2625 - Tasa de variación en el número de integrantes en talleres y grupos artísticos de la UG.","Eje PLADI - Persona y presencia universitaria (Consolidación del proyecto cultural)."]
["E066",null,"Habilitación, Mantenimiento y conservación de bienes muebles e inmuebles para el desarrollo de PE.","E06603.03","(E06603.03)","Habilitación, Mantenimiento y conservación de bienes muebles e inmuebles para el desarrollo de PE. (E06603.03)"," ",null,null,null,null,null,null,{"$f":"CELL(\"contenido\",'PP y Comp'!F96)","v":"Becas para alumnos (Exclusivo para FF de Convenios de Investigación). (E04003.11)"},null,null,null,null,null,null,null,null,null,null,null,null,null,null,null,null,null,null,null,null,null,null,null,null,null,null,null,null,null,null,null,null,null,null,null,{"$f":"IFERROR(IF(AND('PLA-FO-01'!D52<>\"\",'PLA-FO-01'!S52<>\"\",'PLA-FO-01'!E52<>\"\"),_xlfn.IFS(OR(AND(LEFT('PLA-FO-01'!D52,4)=\"E040\",LEFT('PLA-FO-01'!E52,3)=\"C01\"),AND(LEFT('PLA-FO-01'!D52,4)=\"E040\",LEFT('PLA-FO-01'!E52,3)=\"C03\"),AND(LEFT('PLA-FO-01'!D52,4)=\"E040\",LEFT('PLA-FO-01'!E52,3)=\"C04\")),\"AF1R1\",AND(LEFT('PLA-FO-01'!D52,4)=\"E040\",LEFT('PLA-FO-01'!E52,3)=\"C02\",LEFT('PLA-FO-01'!S52,2)<>\"60\"),\"AF1R2\",AND(LEFT('PLA-FO-01'!D52,4)=\"E035\",LEFT('PLA-FO-01'!S52,5)=\"20040\"),\"AF1R3\",AND(LEFT('PLA-FO-01'!D52,4)=\"E035\",LEFT('PLA-FO-01'!S52,5)<>\"20040\"),\"AF1R4\",OR(AND(LEFT('PLA-FO-01'!D52,4)=\"E066\",LEFT('PLA-FO-01'!S52,2)=\"60\"),AND(LEFT('PLA-FO-01'!D52,4)=\"E067\",LEFT('PLA-FO-01'!S52,2)=\"60\"),AND(LEFT('PLA-FO-01'!D52,4)=\"E068\",LEFT('PLA-FO-01'!S52,2)=\"60\")),\"AF1R5\",OR(AND(LEFT('PLA-FO-01'!D52,4)=\"E066\",LEFT('PLA-FO-01'!S52,2)<>\"60\"),AND(LEFT('PLA-FO-01'!D52,4)=\"E067\",LEFT('PLA-FO-01'!S52,2)<>\"60\"),AND(LEFT('PLA-FO-01'!D52,4)=\"E068\",LEFT('PLA-FO-01'!S52,2)<>\"60\")),\"AF1R6\",OR(LEFT('PLA-FO-01'!D52,4)=\"R001\",LEFT('PLA-FO-01'!D52,4)=\"O001\",LEFT('PLA-FO-01'!D52,4)=\"M001\"),\"AF1R7\"),\"Falta Valor\"), \"NO APLICA, revisar!\")","v":"Falta Valor"},null,null,null,null,"PbRE035C2 - E035C2","14372 Tasa de variación de participantes de la comunidad universitaria y la sociedad en general en eventos y actividades culturales","IE-PLADI-27 Incremento en el número de participantes de la comunidad universitaria y la sociedad en general en eventos y actividades culturales","Proposito 35"]
["E067","C1","Gestión de Becas.","E06701.01","(E06701.01)",{"$f":"_xlfn.TEXTJOIN(\" \",FALSE,C53,E53)","v":"Gestión de Becas. (E06701.01)"}," ",null,null,null,null,null,null,{"$f":"CELL(\"contenido\",'PP y Comp'!F97)","v":"Estancias de Investigación de profesores. (E04003.12)"},null,null,null,null,null,null,null,null,null,null,null,null,null,null,null,null,null,null,null,null,null,null,null,null,null,null,null,null,null,null,null,null,null,null,null,{"$f":"IFERROR(IF(AND('PLA-FO-01'!D53<>\"\",'PLA-FO-01'!S53<>\"\",'PLA-FO-01'!E53<>\"\"),_xlfn.IFS(OR(AND(LEFT('PLA-FO-01'!D53,4)=\"E040\",LEFT('PLA-FO-01'!E53,3)=\"C01\"),AND(LEFT('PLA-FO-01'!D53,4)=\"E040\",LEFT('PLA-FO-01'!E53,3)=\"C03\"),AND(LEFT('PLA-FO-01'!D53,4)=\"E040\",LEFT('PLA-FO-01'!E53,3)=\"C04\")),\"AF1R1\",AND(LEFT('PLA-FO-01'!D53,4)=\"E040\",LEFT('PLA-FO-01'!E53,3)=\"C02\",LEFT('PLA-FO-01'!S53,2)<>\"60\"),\"AF1R2\",AND(LEFT('PLA-FO-01'!D53,4)=\"E035\",LEFT('PLA-FO-01'!S53,5)=\"20040\"),\"AF1R3\",AND(LEFT('PLA-FO-01'!D53,4)=\"E035\",LEFT('PLA-FO-01'!S53,5)<>\"20040\"),\"AF1R4\",OR(AND(LEFT('PLA-FO-01'!D53,4)=\"E066\",LEFT('PLA-FO-01'!S53,2)=\"60\"),AND(LEFT('PLA-FO-01'!D53,4)=\"E067\",LEFT('PLA-FO-01'!S53,2)=\"60\"),AND(LEFT('PLA-FO-01'!D53,4)=\"E068\",LEFT('PLA-FO-01'!S53,2)=\"60\")),\"AF1R5\",OR(AND(LEFT('PLA-FO-01'!D53,4)=\"E066\",LEFT('PLA-FO-01'!S53,2)<>\"60\"),AND(LEFT('PLA-FO-01'!D53,4)=\"E067\",LEFT('PLA-FO-01'!S53,2)<>\"60\"),AND(LEFT('PLA-FO-01'!D53,4)=\"E068\",LEFT('PLA-FO-01'!S53,2)<>\"60\")),\"AF1R6\",OR(LEFT('PLA-FO-01'!D53,4)=\"R001\",LEFT('PLA-FO-01'!D53,4)=\"O001\",LEFT('PLA-FO-01'!D53,4)=\"M001\"),\"AF1R7\"),\"Falta Valor\"), \"NO APLICA, revisar!\")","v":"Falta Valor"},null,null,null,null,null,"1880- Índice de satisfacción de la sociedad sobre la oferta cultural de la universidad","Eje PLADI - Persona y presencia universitaria (Consolidación del proyecto cultural)"]
["E067",null,"Equidad Regional.","E06701.02","(E06701.02)","Equidad Regional. (E06701.02)"," ",null,null,null,null,null,null,{"$f":"CELL(\"contenido\",'PP y Comp'!F98)","v":"Registro de propiedad Industrial. (E04003.13)"},null,null,null,null,null,null,null,null,null,null,null,null,null,null,null,null,null,null,null,null,null,null,null,null,null,null,null,null,null,null,null,null,null,null,null,{"$f":"IFERROR(IF(AND('PLA-FO-01'!D54<>\"\",'PLA-FO-01'!S54<>\"\",'PLA-FO-01'!E54<>\"\"),_xlfn.IFS(OR(AND(LEFT('PLA-FO-01'!D54,4)=\"E040\",LEFT('PLA-FO-01'!E54,3)=\"C01\"),AND(LEFT('PLA-FO-01'!D54,4)=\"E040\",LEFT('PLA-FO-01'!E54,3)=\"C03\"),AND(LEFT('PLA-FO-01'!D54,4)=\"E040\",LEFT('PLA-FO-01'!E54,3)=\"C04\")),\"AF1R1\",AND(LEFT('PLA-FO-01'!D54,4)=\"E040\",LEFT('PLA-FO-01'!E54,3)=\"C02\",LEFT('PLA-FO-01'!S54,2)<>\"60\"),\"AF1R2\",AND(LEFT('PLA-FO-01'!D54,4)=\"E035\",LEFT('PLA-FO-01'!S54,5)=\"20040\"),\"AF1R3\",AND(LEFT('PLA-FO-01'!D54,4)=\"E035\",LEFT('PLA-FO-01'!S54,5)<>\"20040\"),\"AF1R4\",OR(AND(LEFT('PLA-FO-01'!D54,4)=\"E066\",LEFT('PLA-FO-01'!S54,2)=\"60\"),AND(LEFT('PLA-FO-01'!D54,4)=\"E067\",LEFT('PLA-FO-01'!S54,2)=\"60\"),AND(LEFT('PLA-FO-01'!D54,4)=\"E068\",LEFT('PLA-FO-01'!S54,2)=\"60\")),\"AF1R5\",OR(AND(LEFT('PLA-FO-01'!D54,4)=\"E066\",LEFT('PLA-FO-01'!S54,2)<>\"60\"),AND(LEFT('PLA-FO-01'!D54,4)=\"E067\",LEFT('PLA-FO-01'!S54,2)<>\"60\"),AND(LEFT('PLA-FO-01'!D54,4)=\"E068\",LEFT('PLA-FO-01'!S54,2)<>\"60\")),\"AF1R6\",OR(LEFT('PLA-FO-01'!D54,4)=\"R001\",LEFT('PLA-FO-01'!D54,4)=\"O001\",LEFT('PLA-FO-01'!D54,4)=\"M001\"),\"AF1R7\"),\"Falta Valor\"), \"NO APLICA, revisar!\")","v":"Falta Valor"},null,null,null,null,null,"1783 - Tasa de variación en el número de proyectos culturales  de alto impacto social.","Eje PLADI - Persona y presencia universitaria (Consolidación del proyecto cultural)."]
["E067",null,"Pase Regulado.","E06701.03","(E06701.03)","Pase Regulado. (E06701.03)"," ",null,null,null,null,null,null,null,null,null,null,null,null,null,null,null,null,null,null,null,null,null,null,null,null,null,null,null,null,null,null,null,null,null,null,null,null,null,null,null,null,null,null,{"$f":"IFERROR(IF(AND('PLA-FO-01'!D55<>\"\",'PLA-FO-01'!S55<>\"\",'PLA-FO-01'!E55<>\"\"),_xlfn.IFS(OR(AND(LEFT('PLA-FO-01'!D55,4)=\"E040\",LEFT('PLA-FO-01'!E55,3)=\"C01\"),AND(LEFT('PLA-FO-01'!D55,4)=\"E040\",LEFT('PLA-FO-01'!E55,3)=\"C03\"),AND(LEFT('PLA-FO-01'!D55,4)=\"E040\",LEFT('PLA-FO-01'!E55,3)=\"C04\")),\"AF1R1\",AND(LEFT('PLA-FO-01'!D55,4)=\"E040\",LEFT('PLA-FO-01'!E55,3)=\"C02\",LEFT('PLA-FO-01'!S55,2)<>\"60\"),\"AF1R2\",AND(LEFT('PLA-FO-01'!D55,4)=\"E035\",LEFT('PLA-FO-01'!S55,5)=\"20040\"),\"AF1R3\",AND(LEFT('PLA-FO-01'!D55,4)=\"E035\",LEFT('PLA-FO-01'!S55,5)<>\"20040\"),\"AF1R4\",OR(AND(LEFT('PLA-FO-01'!D55,4)=\"E066\",LEFT('PLA-FO-01'!S55,2)=\"60\"),AND(LEFT('PLA-FO-01'!D55,4)=\"E067\",LEFT('PLA-FO-01'!S55,2)=\"60\"),AND(LEFT('PLA-FO-01'!D55,4)=\"E068\",LEFT('PLA-FO-01'!S55,2)=\"60\")),\"AF1R5\",OR(AND(LEFT('PLA-FO-01'!D55,4)=\"E066\",LEFT('PLA-FO-01'!S55,2)<>\"60\"),AND(LEFT('PLA-FO-01'!D55,4)=\"E067\",LEFT('PLA-FO-01'!S55,2)<>\"60\"),AND(LEFT('PLA-FO-01'!D55,4)=\"E068\",LEFT('PLA-FO-01'!S55,2)<>\"60\")),\"AF1R6\",OR(LEFT('PLA-FO-01'!D55,4)=\"R001\",LEFT('PLA-FO-01'!D55,4)=\"O001\",LEFT('PLA-FO-01'!D55,4)=\"M001\"),\"AF1R7\"),\"Falta Valor\"), \"NO APLICA, revisar!\")","v":"Falta Valor"},null,null,null,null,"PbRE035C3 - E035C3","2626 - Porcentaje de acciones de infraestructura realizadas para el desarrollo de actividades culturales, artísticas y de educación continua.","Eje PLADI - Espacios Universitarios (Plan maestro de infraestructura)."]
["E067",null,"Servicio de Transporte universitario para estudiantes.","E06701.04","(E06701.04)","Servicio de Transporte universitario para estudiantes. (E06701.04)"," ",null,null,null,null,{"$f":"CELL(\"contenido\",'PP y Comp'!T2)","v":"C01. Talleres de formación artística y cultural impartidos en las sedes universitarias de la UG, incrementados"},null,{"$f":"CELL(\"contenido\",'PP y Comp'!T3)","v":"C02. Eventos artísticos y culturales de alto impacto social de la UG presentados a la población."},null,{"$f":"CELL(\"contenido\",'PP y Comp'!T4)","v":"C03. Infraestructura y equipamiento implementados para el desarrollo de eventos culturales, artísticos, literarios y de educación continua."},null,{"$f":"CELL(\"contenido\",'PP y Comp'!T5)","v":"C04. Servicios de producción y publicación de productos editoriales de la Universidad otorgados."},null,null,null,null,null,null,null,null,null,null,null,null,null,null,null,null,null,null,null,null,null,null,null,null,null,null,null,null,null,null,null,{"$f":"IFERROR(IF(AND('PLA-FO-01'!D56<>\"\",'PLA-FO-01'!S56<>\"\",'PLA-FO-01'!E56<>\"\"),_xlfn.IFS(OR(AND(LEFT('PLA-FO-01'!D56,4)=\"E040\",LEFT('PLA-FO-01'!E56,3)=\"C01\"),AND(LEFT('PLA-FO-01'!D56,4)=\"E040\",LEFT('PLA-FO-01'!E56,3)=\"C03\"),AND(LEFT('PLA-FO-01'!D56,4)=\"E040\",LEFT('PLA-FO-01'!E56,3)=\"C04\")),\"AF1R1\",AND(LEFT('PLA-FO-01'!D56,4)=\"E040\",LEFT('PLA-FO-01'!E56,3)=\"C02\",LEFT('PLA-FO-01'!S56,2)<>\"60\"),\"AF1R2\",AND(LEFT('PLA-FO-01'!D56,4)=\"E035\",LEFT('PLA-FO-01'!S56,5)=\"20040\"),\"AF1R3\",AND(LEFT('PLA-FO-01'!D56,4)=\"E035\",LEFT('PLA-FO-01'!S56,5)<>\"20040\"),\"AF1R4\",OR(AND(LEFT('PLA-FO-01'!D56,4)=\"E066\",LEFT('PLA-FO-01'!S56,2)=\"60\"),AND(LEFT('PLA-FO-01'!D56,4)=\"E067\",LEFT('PLA-FO-01'!S56,2)=\"60\"),AND(LEFT('PLA-FO-01'!D56,4)=\"E068\",LEFT('PLA-FO-01'!S56,2)=\"60\")),\"AF1R5\",OR(AND(LEFT('PLA-FO-01'!D56,4)=\"E066\",LEFT('PLA-FO-01'!S56,2)<>\"60\"),AND(LEFT('PLA-FO-01'!D56,4)=\"E067\",LEFT('PLA-FO-01'!S56,2)<>\"60\"),AND(LEFT('PLA-FO-01'!D56,4)=\"E068\",LEFT('PLA-FO-01'!S56,2)<>\"60\")),\"AF1R6\",OR(LEFT('PLA-FO-01'!D56,4)=\"R001\",LEFT('PLA-FO-01'!D56,4)=\"O001\",LEFT('PLA-FO-01'!D56,4)=\"M001\"),\"AF1R7\"),\"Falta Valor\"), \"NO APLICA, revisar!\")","v":"Falta Valor"},null,null,null,null,"PbRE035C4 - E035C4","2627 - Tasa de variación en el número de productos editoriales por año.","Eje PLADI - Personal Académico (Posicionamiento de la producción académica)."]
["E067",null,"Gestión de Apoyos y estímulos.","E06701.05","(E06701.05)","Gestión de Apoyos y estímulos. (E06701.05)"," ",null,null,{"$f":"CELL(\"contenido\",'PP y Comp'!T1)","v":"E035 - Extensión del conocimiento, arte y cultura."},null,{"$f":"CELL(\"contenido\",'PP y Comp'!F101)","v":"Formación y desarrollo de grupos artísticos y culturales. (E03501.01)"},null,{"$f":"CELL(\"contenido\",'PP y Comp'!F102)","v":"Organización, difusión y ejecución de eventos culturales. (E03502.01)"},null,{"$f":"CELL(\"contenido\",'PP y Comp'!F103)","v":"Equipamiento de espacios culturales y desarrollo de eventos. (E03503.01)"},null,{"$f":"CELL(\"contenido\",'PP y Comp'!F105)","v":"Eventos para la divulgación literaria. (E03504.01)"},null,null,null,null,null,null,null,null,null,null,null,null,null,null,null,null,null,null,null,null,null,null,null,null,null,null,null,null,null,null,null,{"$f":"IFERROR(IF(AND('PLA-FO-01'!D57<>\"\",'PLA-FO-01'!S57<>\"\",'PLA-FO-01'!E57<>\"\"),_xlfn.IFS(OR(AND(LEFT('PLA-FO-01'!D57,4)=\"E040\",LEFT('PLA-FO-01'!E57,3)=\"C01\"),AND(LEFT('PLA-FO-01'!D57,4)=\"E040\",LEFT('PLA-FO-01'!E57,3)=\"C03\"),AND(LEFT('PLA-FO-01'!D57,4)=\"E040\",LEFT('PLA-FO-01'!E57,3)=\"C04\")),\"AF1R1\",AND(LEFT('PLA-FO-01'!D57,4)=\"E040\",LEFT('PLA-FO-01'!E57,3)=\"C02\",LEFT('PLA-FO-01'!S57,2)<>\"60\"),\"AF1R2\",AND(LEFT('PLA-FO-01'!D57,4)=\"E035\",LEFT('PLA-FO-01'!S57,5)=\"20040\"),\"AF1R3\",AND(LEFT('PLA-FO-01'!D57,4)=\"E035\",LEFT('PLA-FO-01'!S57,5)<>\"20040\"),\"AF1R4\",OR(AND(LEFT('PLA-FO-01'!D57,4)=\"E066\",LEFT('PLA-FO-01'!S57,2)=\"60\"),AND(LEFT('PLA-FO-01'!D57,4)=\"E067\",LEFT('PLA-FO-01'!S57,2)=\"60\"),AND(LEFT('PLA-FO-01'!D57,4)=\"E068\",LEFT('PLA-FO-01'!S57,2)=\"60\")),\"AF1R5\",OR(AND(LEFT('PLA-FO-01'!D57,4)=\"E066\",LEFT('PLA-FO-01'!S57,2)<>\"60\"),AND(LEFT('PLA-FO-01'!D57,4)=\"E067\",LEFT('PLA-FO-01'!S57,2)<>\"60\"),AND(LEFT('PLA-FO-01'!D57,4)=\"E068\",LEFT('PLA-FO-01'!S57,2)<>\"60\")),\"AF1R6\",OR(LEFT('PLA-FO-01'!D57,4)=\"R001\",LEFT('PLA-FO-01'!D57,4)=\"O001\",LEFT('PLA-FO-01'!D57,4)=\"M001\"),\"AF1R7\"),\"Falta Valor\"), \"NO APLICA, revisar!\")","v":"Falta Valor"},null,null,null,null,"PbRR001C1 - R001C1","S/Ind PbR para IE-PLADI-25","IE-PLADI-25 Porcentaje de personas pertenecientes a la comunidad universitaria capacitadas en temas de derechos humanos, igualdad humana y de género, y cultura de paz","sin alineación"]
["E067","C2","Inscripción y Admisión.","E06702.01","(E06702.01)","Inscripción y Admisión. (E06702.01)"," ",null,{"$f":"CELL(\"contenido\",'PP y Comp'!T1)","v":"E035 - Extensión del conocimiento, arte y cultura."},{"$f":"CELL(\"contenido\",'PP y Comp'!T2)","v":"C01. Talleres de formación artística y cultural impartidos en las sedes universitarias de la UG, incrementados"},null,null,null,null,null,{"$f":"CELL(\"contenido\",'PP y Comp'!F104)","v":"Habilitación, mantenimiento y conservación de espacios culturales y desarrollo de eventos. (E03503.02)"},null,{"$f":"CELL(\"contenido\",'PP y Comp'!F106)","v":"Edición y publicación de obras literarias. (E03504.02)"},null,null,null,null,null,null,null,null,null,null,null,null,null,null,null,null,null,null,null,null,null,null,null,null,null,null,null,null,null,null,null,{"$f":"IFERROR(IF(AND('PLA-FO-01'!D58<>\"\",'PLA-FO-01'!S58<>\"\",'PLA-FO-01'!E58<>\"\"),_xlfn.IFS(OR(AND(LEFT('PLA-FO-01'!D58,4)=\"E040\",LEFT('PLA-FO-01'!E58,3)=\"C01\"),AND(LEFT('PLA-FO-01'!D58,4)=\"E040\",LEFT('PLA-FO-01'!E58,3)=\"C03\"),AND(LEFT('PLA-FO-01'!D58,4)=\"E040\",LEFT('PLA-FO-01'!E58,3)=\"C04\")),\"AF1R1\",AND(LEFT('PLA-FO-01'!D58,4)=\"E040\",LEFT('PLA-FO-01'!E58,3)=\"C02\",LEFT('PLA-FO-01'!S58,2)<>\"60\"),\"AF1R2\",AND(LEFT('PLA-FO-01'!D58,4)=\"E035\",LEFT('PLA-FO-01'!S58,5)=\"20040\"),\"AF1R3\",AND(LEFT('PLA-FO-01'!D58,4)=\"E035\",LEFT('PLA-FO-01'!S58,5)<>\"20040\"),\"AF1R4\",OR(AND(LEFT('PLA-FO-01'!D58,4)=\"E066\",LEFT('PLA-FO-01'!S58,2)=\"60\"),AND(LEFT('PLA-FO-01'!D58,4)=\"E067\",LEFT('PLA-FO-01'!S58,2)=\"60\"),AND(LEFT('PLA-FO-01'!D58,4)=\"E068\",LEFT('PLA-FO-01'!S58,2)=\"60\")),\"AF1R5\",OR(AND(LEFT('PLA-FO-01'!D58,4)=\"E066\",LEFT('PLA-FO-01'!S58,2)<>\"60\"),AND(LEFT('PLA-FO-01'!D58,4)=\"E067\",LEFT('PLA-FO-01'!S58,2)<>\"60\"),AND(LEFT('PLA-FO-01'!D58,4)=\"E068\",LEFT('PLA-FO-01'!S58,2)<>\"60\")),\"AF1R6\",OR(LEFT('PLA-FO-01'!D58,4)=\"R001\",LEFT('PLA-FO-01'!D58,4)=\"O001\",LEFT('PLA-FO-01'!D58,4)=\"M001\"),\"AF1R7\"),\"Falta Valor\"), \"NO APLICA, revisar!\")","v":"Falta Valor"},null,null,null,null,"PbRR001C2 - R001C2","Entregable - Eventos de alto impacto en temas de aportación a la sustentabilidad y atención al cambio climático, realizados.","Eje PLADI - Universidad sustentable y agenda ambiental (Visión sustentable y agenda ambiental)."]
["E067",null,"Exámenes de ingreso y egreso (EGEL, CENEVAL, PLANEA …)","E06702.02","(E06702.02)","Exámenes de ingreso y egreso (EGEL, CENEVAL, PLANEA …) (E06702.02)"," ",null,{"$f":"CELL(\"contenido\",'PP y Comp'!T1)","v":"E035 - Extensión del conocimiento, arte y cultura."},{"$f":"CELL(\"contenido\",'PP y Comp'!T3)","v":"C02. Eventos artísticos y culturales de alto impacto social de la UG presentados a la población."},null,null,null,null,null,null,null,{"$f":"CELL(\"contenido\",'PP y Comp'!F107)","v":"Equipamiento para la producción y publicación literaria. (E03504.03)"},null,null,null,null,null,null,null,null,null,null,null,null,null,null,null,null,null,null,null,null,null,null,null,null,null,null,null,null,null,null,null,{"$f":"IFERROR(IF(AND('PLA-FO-01'!D59<>\"\",'PLA-FO-01'!S59<>\"\",'PLA-FO-01'!E59<>\"\"),_xlfn.IFS(OR(AND(LEFT('PLA-FO-01'!D59,4)=\"E040\",LEFT('PLA-FO-01'!E59,3)=\"C01\"),AND(LEFT('PLA-FO-01'!D59,4)=\"E040\",LEFT('PLA-FO-01'!E59,3)=\"C03\"),AND(LEFT('PLA-FO-01'!D59,4)=\"E040\",LEFT('PLA-FO-01'!E59,3)=\"C04\")),\"AF1R1\",AND(LEFT('PLA-FO-01'!D59,4)=\"E040\",LEFT('PLA-FO-01'!E59,3)=\"C02\",LEFT('PLA-FO-01'!S59,2)<>\"60\"),\"AF1R2\",AND(LEFT('PLA-FO-01'!D59,4)=\"E035\",LEFT('PLA-FO-01'!S59,5)=\"20040\"),\"AF1R3\",AND(LEFT('PLA-FO-01'!D59,4)=\"E035\",LEFT('PLA-FO-01'!S59,5)<>\"20040\"),\"AF1R4\",OR(AND(LEFT('PLA-FO-01'!D59,4)=\"E066\",LEFT('PLA-FO-01'!S59,2)=\"60\"),AND(LEFT('PLA-FO-01'!D59,4)=\"E067\",LEFT('PLA-FO-01'!S59,2)=\"60\"),AND(LEFT('PLA-FO-01'!D59,4)=\"E068\",LEFT('PLA-FO-01'!S59,2)=\"60\")),\"AF1R5\",OR(AND(LEFT('PLA-FO-01'!D59,4)=\"E066\",LEFT('PLA-FO-01'!S59,2)<>\"60\"),AND(LEFT('PLA-FO-01'!D59,4)=\"E067\",LEFT('PLA-FO-01'!S59,2)<>\"60\"),AND(LEFT('PLA-FO-01'!D59,4)=\"E068\",LEFT('PLA-FO-01'!S59,2)<>\"60\")),\"AF1R6\",OR(LEFT('PLA-FO-01'!D59,4)=\"R001\",LEFT('PLA-FO-01'!D59,4)=\"O001\",LEFT('PLA-FO-01'!D59,4)=\"M001\"),\"AF1R7\"),\"Falta Valor\"), \"NO APLICA, revisar!\")","v":"Falta Valor"},null,null,null,null,"PbRM001C1 - M001C1","PS - GB1136-01 Gestión Eficiente y Orientada a Resultados","GB1136-01 Eje PLADI - Gestión Institucional (Gestión de la calidad)."]
["E067",null,"Tutoría Académica.","E06702.03","(E06702.03)","Tutoría Académica. (E06702.03)"," ",null,{"$f":"CELL(\"contenido\",'PP y Comp'!T1)","v":"E035 - Extensión del conocimiento, arte y cultura."},{"$f":"CELL(\"contenido\",'PP y Comp'!T4)","v":"C03. Infraestructura y equipamiento implementados para el desarrollo de eventos culturales, artísticos, literarios y de educación continua."},null,null,null,null,null,null,null,null,null,null,null,null,null,null,null,null,null,null,null,null,null,null,null,null,null,null,null,null,null,null,null,null,null,null,null,null,null,null,null,{"$f":"IFERROR(IF(AND('PLA-FO-01'!D60<>\"\",'PLA-FO-01'!S60<>\"\",'PLA-FO-01'!E60<>\"\"),_xlfn.IFS(OR(AND(LEFT('PLA-FO-01'!D60,4)=\"E040\",LEFT('PLA-FO-01'!E60,3)=\"C01\"),AND(LEFT('PLA-FO-01'!D60,4)=\"E040\",LEFT('PLA-FO-01'!E60,3)=\"C03\"),AND(LEFT('PLA-FO-01'!D60,4)=\"E040\",LEFT('PLA-FO-01'!E60,3)=\"C04\")),\"AF1R1\",AND(LEFT('PLA-FO-01'!D60,4)=\"E040\",LEFT('PLA-FO-01'!E60,3)=\"C02\",LEFT('PLA-FO-01'!S60,2)<>\"60\"),\"AF1R2\",AND(LEFT('PLA-FO-01'!D60,4)=\"E035\",LEFT('PLA-FO-01'!S60,5)=\"20040\"),\"AF1R3\",AND(LEFT('PLA-FO-01'!D60,4)=\"E035\",LEFT('PLA-FO-01'!S60,5)<>\"20040\"),\"AF1R4\",OR(AND(LEFT('PLA-FO-01'!D60,4)=\"E066\",LEFT('PLA-FO-01'!S60,2)=\"60\"),AND(LEFT('PLA-FO-01'!D60,4)=\"E067\",LEFT('PLA-FO-01'!S60,2)=\"60\"),AND(LEFT('PLA-FO-01'!D60,4)=\"E068\",LEFT('PLA-FO-01'!S60,2)=\"60\")),\"AF1R5\",OR(AND(LEFT('PLA-FO-01'!D60,4)=\"E066\",LEFT('PLA-FO-01'!S60,2)<>\"60\"),AND(LEFT('PLA-FO-01'!D60,4)=\"E067\",LEFT('PLA-FO-01'!S60,2)<>\"60\"),AND(LEFT('PLA-FO-01'!D60,4)=\"E068\",LEFT('PLA-FO-01'!S60,2)<>\"60\")),\"AF1R6\",OR(LEFT('PLA-FO-01'!D60,4)=\"R001\",LEFT('PLA-FO-01'!D60,4)=\"O001\",LEFT('PLA-FO-01'!D60,4)=\"M001\"),\"AF1R7\"),\"Falta Valor\"), \"NO APLICA, revisar!\")","v":"Falta Valor"},null,null,null,null,"PbRM001C2 - M001C2","PS - GB1136-02 Gestión Eficiente y Orientada a Resultados","GB1136-02 Eje PLADI - Gestión Institucional (Gestión por Resultados)."]
["E067",null,"Titulación.","E06702.04","(E06702.04)","Titulación. (E06702.04)"," ",null,{"$f":"CELL(\"contenido\",'PP y Comp'!T1)","v":"E035 - Extensión del conocimiento, arte y cultura."},{"$f":"CELL(\"contenido\",'PP y Comp'!T5)","v":"C04. Servicios de producción y publicación de productos editoriales de la Universidad otorgados."},null,null,null,null,null,null,null,null,null,null,null,null,null,null,null,null,null,null,null,null,null,null,null,null,null,null,null,null,null,null,null,null,null,null,null,null,null,null,null,{"$f":"IFERROR(IF(AND('PLA-FO-01'!D61<>\"\",'PLA-FO-01'!S61<>\"\",'PLA-FO-01'!E61<>\"\"),_xlfn.IFS(OR(AND(LEFT('PLA-FO-01'!D61,4)=\"E040\",LEFT('PLA-FO-01'!E61,3)=\"C01\"),AND(LEFT('PLA-FO-01'!D61,4)=\"E040\",LEFT('PLA-FO-01'!E61,3)=\"C03\"),AND(LEFT('PLA-FO-01'!D61,4)=\"E040\",LEFT('PLA-FO-01'!E61,3)=\"C04\")),\"AF1R1\",AND(LEFT('PLA-FO-01'!D61,4)=\"E040\",LEFT('PLA-FO-01'!E61,3)=\"C02\",LEFT('PLA-FO-01'!S61,2)<>\"60\"),\"AF1R2\",AND(LEFT('PLA-FO-01'!D61,4)=\"E035\",LEFT('PLA-FO-01'!S61,5)=\"20040\"),\"AF1R3\",AND(LEFT('PLA-FO-01'!D61,4)=\"E035\",LEFT('PLA-FO-01'!S61,5)<>\"20040\"),\"AF1R4\",OR(AND(LEFT('PLA-FO-01'!D61,4)=\"E066\",LEFT('PLA-FO-01'!S61,2)=\"60\"),AND(LEFT('PLA-FO-01'!D61,4)=\"E067\",LEFT('PLA-FO-01'!S61,2)=\"60\"),AND(LEFT('PLA-FO-01'!D61,4)=\"E068\",LEFT('PLA-FO-01'!S61,2)=\"60\")),\"AF1R5\",OR(AND(LEFT('PLA-FO-01'!D61,4)=\"E066\",LEFT('PLA-FO-01'!S61,2)<>\"60\"),AND(LEFT('PLA-FO-01'!D61,4)=\"E067\",LEFT('PLA-FO-01'!S61,2)<>\"60\"),AND(LEFT('PLA-FO-01'!D61,4)=\"E068\",LEFT('PLA-FO-01'!S61,2)<>\"60\")),\"AF1R6\",OR(LEFT('PLA-FO-01'!D61,4)=\"R001\",LEFT('PLA-FO-01'!D61,4)=\"O001\",LEFT('PLA-FO-01'!D61,4)=\"M001\"),\"AF1R7\"),\"Falta Valor\"), \"NO APLICA, revisar!\")","v":"Falta Valor"},null,null,null,null,"PbRM001C3 - M001C3","PS - GB1136-03 Gestión Eficiente y Orientada a Resultados","GB1136-03 IE-PLADI-28 - Porcentaje de personal directivo o administrativo que participa en al menos una actividad de actualización o profesionalización de manera bianual"]
["E067",null,"Seguimiento a Egresados.","E06702.05","(E06702.05)","Seguimiento a Egresados. (E06702.05)"," ",null,null,null,null,null,null,null,null,null,null,null,null,null,null,null,null,null,null,null,null,null,null,null,null,null,null,null,null,null,null,null,null,null,null,null,null,null,null,null,null,null,null,{"$f":"IFERROR(IF(AND('PLA-FO-01'!D62<>\"\",'PLA-FO-01'!S62<>\"\",'PLA-FO-01'!E62<>\"\"),_xlfn.IFS(OR(AND(LEFT('PLA-FO-01'!D62,4)=\"E040\",LEFT('PLA-FO-01'!E62,3)=\"C01\"),AND(LEFT('PLA-FO-01'!D62,4)=\"E040\",LEFT('PLA-FO-01'!E62,3)=\"C03\"),AND(LEFT('PLA-FO-01'!D62,4)=\"E040\",LEFT('PLA-FO-01'!E62,3)=\"C04\")),\"AF1R1\",AND(LEFT('PLA-FO-01'!D62,4)=\"E040\",LEFT('PLA-FO-01'!E62,3)=\"C02\",LEFT('PLA-FO-01'!S62,2)<>\"60\"),\"AF1R2\",AND(LEFT('PLA-FO-01'!D62,4)=\"E035\",LEFT('PLA-FO-01'!S62,5)=\"20040\"),\"AF1R3\",AND(LEFT('PLA-FO-01'!D62,4)=\"E035\",LEFT('PLA-FO-01'!S62,5)<>\"20040\"),\"AF1R4\",OR(AND(LEFT('PLA-FO-01'!D62,4)=\"E066\",LEFT('PLA-FO-01'!S62,2)=\"60\"),AND(LEFT('PLA-FO-01'!D62,4)=\"E067\",LEFT('PLA-FO-01'!S62,2)=\"60\"),AND(LEFT('PLA-FO-01'!D62,4)=\"E068\",LEFT('PLA-FO-01'!S62,2)=\"60\")),\"AF1R5\",OR(AND(LEFT('PLA-FO-01'!D62,4)=\"E066\",LEFT('PLA-FO-01'!S62,2)<>\"60\"),AND(LEFT('PLA-FO-01'!D62,4)=\"E067\",LEFT('PLA-FO-01'!S62,2)<>\"60\"),AND(LEFT('PLA-FO-01'!D62,4)=\"E068\",LEFT('PLA-FO-01'!S62,2)<>\"60\")),\"AF1R6\",OR(LEFT('PLA-FO-01'!D62,4)=\"R001\",LEFT('PLA-FO-01'!D62,4)=\"O001\",LEFT('PLA-FO-01'!D62,4)=\"M001\"),\"AF1R7\"),\"Falta Valor\"), \"NO APLICA, revisar!\")","v":"Falta Valor"},null,null,null,null,"PbRM001C4 - M001C4","PS - GB1136-04 Gestión Eficiente y Orientada a Resultados","GB1136-04 Eje PLADI - Transparecia, rendición de cuentas y diversificación del sistema financiero (Adquisición de bienes y servicios)."]
["E067",null,"Trayectoria educativa.","E06702.06","(E06702.06)","Trayectoria educativa. (E06702.06)"," ",null,null,null,null,null,null,null,null,null,null,null,null,null,null,null,null,null,null,null,null,null,null,null,null,null,null,null,null,null,null,null,null,null,null,null,null,null,null,null,null,null,null,{"$f":"IFERROR(IF(AND('PLA-FO-01'!D63<>\"\",'PLA-FO-01'!S63<>\"\",'PLA-FO-01'!E63<>\"\"),_xlfn.IFS(OR(AND(LEFT('PLA-FO-01'!D63,4)=\"E040\",LEFT('PLA-FO-01'!E63,3)=\"C01\"),AND(LEFT('PLA-FO-01'!D63,4)=\"E040\",LEFT('PLA-FO-01'!E63,3)=\"C03\"),AND(LEFT('PLA-FO-01'!D63,4)=\"E040\",LEFT('PLA-FO-01'!E63,3)=\"C04\")),\"AF1R1\",AND(LEFT('PLA-FO-01'!D63,4)=\"E040\",LEFT('PLA-FO-01'!E63,3)=\"C02\",LEFT('PLA-FO-01'!S63,2)<>\"60\"),\"AF1R2\",AND(LEFT('PLA-FO-01'!D63,4)=\"E035\",LEFT('PLA-FO-01'!S63,5)=\"20040\"),\"AF1R3\",AND(LEFT('PLA-FO-01'!D63,4)=\"E035\",LEFT('PLA-FO-01'!S63,5)<>\"20040\"),\"AF1R4\",OR(AND(LEFT('PLA-FO-01'!D63,4)=\"E066\",LEFT('PLA-FO-01'!S63,2)=\"60\"),AND(LEFT('PLA-FO-01'!D63,4)=\"E067\",LEFT('PLA-FO-01'!S63,2)=\"60\"),AND(LEFT('PLA-FO-01'!D63,4)=\"E068\",LEFT('PLA-FO-01'!S63,2)=\"60\")),\"AF1R5\",OR(AND(LEFT('PLA-FO-01'!D63,4)=\"E066\",LEFT('PLA-FO-01'!S63,2)<>\"60\"),AND(LEFT('PLA-FO-01'!D63,4)=\"E067\",LEFT('PLA-FO-01'!S63,2)<>\"60\"),AND(LEFT('PLA-FO-01'!D63,4)=\"E068\",LEFT('PLA-FO-01'!S63,2)<>\"60\")),\"AF1R6\",OR(LEFT('PLA-FO-01'!D63,4)=\"R001\",LEFT('PLA-FO-01'!D63,4)=\"O001\",LEFT('PLA-FO-01'!D63,4)=\"M001\"),\"AF1R7\"),\"Falta Valor\"), \"NO APLICA, revisar!\")","v":"Falta Valor"},null,null,null,null,"PbRM001C5 - M001C5","PS - GB1136-05 Gestión Eficiente y Orientada a Resultados","GB1136-05 Eje PLADI - Gestión Institucional (Universidad digital)."]
["E067","C3","Deportes.","E06703.01","(E06703.01)","Deportes. (E06703.01)"," ",null,null,null,null,{"$f":"CELL(\"contenido\",'PP y Comp'!V2)","v":"C01. Acciones para acceder al conocimiento y respeto de los derechos humanos."},null,{"$f":"CELL(\"contenido\",'PP y Comp'!V3)","v":"C02. Acciones de fomento de salvaguarda y buenas prácticas ambientales."},null,null,null,null,null,null,null,null,null,null,null,null,null,null,null,null,null,null,null,null,null,null,null,null,null,null,null,null,null,null,null,null,null,null,null,{"$f":"IFERROR(IF(AND('PLA-FO-01'!D64<>\"\",'PLA-FO-01'!S64<>\"\",'PLA-FO-01'!E64<>\"\"),_xlfn.IFS(OR(AND(LEFT('PLA-FO-01'!D64,4)=\"E040\",LEFT('PLA-FO-01'!E64,3)=\"C01\"),AND(LEFT('PLA-FO-01'!D64,4)=\"E040\",LEFT('PLA-FO-01'!E64,3)=\"C03\"),AND(LEFT('PLA-FO-01'!D64,4)=\"E040\",LEFT('PLA-FO-01'!E64,3)=\"C04\")),\"AF1R1\",AND(LEFT('PLA-FO-01'!D64,4)=\"E040\",LEFT('PLA-FO-01'!E64,3)=\"C02\",LEFT('PLA-FO-01'!S64,2)<>\"60\"),\"AF1R2\",AND(LEFT('PLA-FO-01'!D64,4)=\"E035\",LEFT('PLA-FO-01'!S64,5)=\"20040\"),\"AF1R3\",AND(LEFT('PLA-FO-01'!D64,4)=\"E035\",LEFT('PLA-FO-01'!S64,5)<>\"20040\"),\"AF1R4\",OR(AND(LEFT('PLA-FO-01'!D64,4)=\"E066\",LEFT('PLA-FO-01'!S64,2)=\"60\"),AND(LEFT('PLA-FO-01'!D64,4)=\"E067\",LEFT('PLA-FO-01'!S64,2)=\"60\"),AND(LEFT('PLA-FO-01'!D64,4)=\"E068\",LEFT('PLA-FO-01'!S64,2)=\"60\")),\"AF1R5\",OR(AND(LEFT('PLA-FO-01'!D64,4)=\"E066\",LEFT('PLA-FO-01'!S64,2)<>\"60\"),AND(LEFT('PLA-FO-01'!D64,4)=\"E067\",LEFT('PLA-FO-01'!S64,2)<>\"60\"),AND(LEFT('PLA-FO-01'!D64,4)=\"E068\",LEFT('PLA-FO-01'!S64,2)<>\"60\")),\"AF1R6\",OR(LEFT('PLA-FO-01'!D64,4)=\"R001\",LEFT('PLA-FO-01'!D64,4)=\"O001\",LEFT('PLA-FO-01'!D64,4)=\"M001\"),\"AF1R7\"),\"Falta Valor\"), \"NO APLICA, revisar!\")","v":"Falta Valor"},null,null,null,null,"PbRM001C6 - M001C6","PS - GB1136-06 Gestión Eficiente y Orientada a Resultados","GB1136-06 Eje PLADI - Espacios Universitarios (Plan maestro de infraestructura)."]
["E067",null,"Desarrollo de actividades recreativas culturales y/o artísticas para estudiantes.","E06703.02","(E06703.02)","Desarrollo de actividades recreativas culturales y/o artísticas para estudiantes. (E06703.02)"," ",null,null,{"$f":"CELL(\"contenido\",'PP y Comp'!V1)","v":"R001 - Universidad con sentido humanista y responsabilidad social."},null,{"$f":"CELL(\"contenido\",'PP y Comp'!F108)","v":"Tutela de Derechos Académicos. (R00101.01)"},null,{"$f":"CELL(\"contenido\",'PP y Comp'!F113)","v":"Promoción a la cultura del medio ambiente y sustentabilidad. (R00102.01)"},null,null,null,null,null,null,null,null,null,null,null,null,null,null,null,null,null,null,null,null,null,null,null,null,null,null,null,null,null,null,null,null,null,null,null,{"$f":"IFERROR(IF(AND('PLA-FO-01'!D65<>\"\",'PLA-FO-01'!S65<>\"\",'PLA-FO-01'!E65<>\"\"),_xlfn.IFS(OR(AND(LEFT('PLA-FO-01'!D65,4)=\"E040\",LEFT('PLA-FO-01'!E65,3)=\"C01\"),AND(LEFT('PLA-FO-01'!D65,4)=\"E040\",LEFT('PLA-FO-01'!E65,3)=\"C03\"),AND(LEFT('PLA-FO-01'!D65,4)=\"E040\",LEFT('PLA-FO-01'!E65,3)=\"C04\")),\"AF1R1\",AND(LEFT('PLA-FO-01'!D65,4)=\"E040\",LEFT('PLA-FO-01'!E65,3)=\"C02\",LEFT('PLA-FO-01'!S65,2)<>\"60\"),\"AF1R2\",AND(LEFT('PLA-FO-01'!D65,4)=\"E035\",LEFT('PLA-FO-01'!S65,5)=\"20040\"),\"AF1R3\",AND(LEFT('PLA-FO-01'!D65,4)=\"E035\",LEFT('PLA-FO-01'!S65,5)<>\"20040\"),\"AF1R4\",OR(AND(LEFT('PLA-FO-01'!D65,4)=\"E066\",LEFT('PLA-FO-01'!S65,2)=\"60\"),AND(LEFT('PLA-FO-01'!D65,4)=\"E067\",LEFT('PLA-FO-01'!S65,2)=\"60\"),AND(LEFT('PLA-FO-01'!D65,4)=\"E068\",LEFT('PLA-FO-01'!S65,2)=\"60\")),\"AF1R5\",OR(AND(LEFT('PLA-FO-01'!D65,4)=\"E066\",LEFT('PLA-FO-01'!S65,2)<>\"60\"),AND(LEFT('PLA-FO-01'!D65,4)=\"E067\",LEFT('PLA-FO-01'!S65,2)<>\"60\"),AND(LEFT('PLA-FO-01'!D65,4)=\"E068\",LEFT('PLA-FO-01'!S65,2)<>\"60\")),\"AF1R6\",OR(LEFT('PLA-FO-01'!D65,4)=\"R001\",LEFT('PLA-FO-01'!D65,4)=\"O001\",LEFT('PLA-FO-01'!D65,4)=\"M001\"),\"AF1R7\"),\"Falta Valor\"), \"NO APLICA, revisar!\")","v":"Falta Valor"},null,null,null,null,"PbRM001C7 - M001C7","PS - GB1136-07 Gestión Eficiente y Orientada a Resultados","GB1136-07 Gestión Efectiva de la Universidad de Guanajuato"]
["E067",null,"Orientación educativa y/o vocacional.","E06703.03","(E06703.03)","Orientación educativa y/o vocacional. (E06703.03)"," ",null,{"$f":"CELL(\"contenido\",'PP y Comp'!V1)","v":"R001 - Universidad con sentido humanista y responsabilidad social."},"C1._Acciones_para_acceder_al_conocimiento_y_respeto_de_los_derechos_humanos.",null,{"$f":"CELL(\"contenido\",'PP y Comp'!F109)","v":"Promoción y vinculación de los derechos humanos. (R00101.02)"},null,{"$f":"CELL(\"contenido\",'PP y Comp'!F114)","v":"Educación Ambiental  (formación y actualización). (R00102.02)"},null,null,null,null,null,null,null,null,null,null,null,null,null,null,null,null,null,null,null,null,null,null,null,null,null,null,null,null,null,null,null,null,null,null,null,{"$f":"IFERROR(IF(AND('PLA-FO-01'!D66<>\"\",'PLA-FO-01'!S66<>\"\",'PLA-FO-01'!E66<>\"\"),_xlfn.IFS(OR(AND(LEFT('PLA-FO-01'!D66,4)=\"E040\",LEFT('PLA-FO-01'!E66,3)=\"C01\"),AND(LEFT('PLA-FO-01'!D66,4)=\"E040\",LEFT('PLA-FO-01'!E66,3)=\"C03\"),AND(LEFT('PLA-FO-01'!D66,4)=\"E040\",LEFT('PLA-FO-01'!E66,3)=\"C04\")),\"AF1R1\",AND(LEFT('PLA-FO-01'!D66,4)=\"E040\",LEFT('PLA-FO-01'!E66,3)=\"C02\",LEFT('PLA-FO-01'!S66,2)<>\"60\"),\"AF1R2\",AND(LEFT('PLA-FO-01'!D66,4)=\"E035\",LEFT('PLA-FO-01'!S66,5)=\"20040\"),\"AF1R3\",AND(LEFT('PLA-FO-01'!D66,4)=\"E035\",LEFT('PLA-FO-01'!S66,5)<>\"20040\"),\"AF1R4\",OR(AND(LEFT('PLA-FO-01'!D66,4)=\"E066\",LEFT('PLA-FO-01'!S66,2)=\"60\"),AND(LEFT('PLA-FO-01'!D66,4)=\"E067\",LEFT('PLA-FO-01'!S66,2)=\"60\"),AND(LEFT('PLA-FO-01'!D66,4)=\"E068\",LEFT('PLA-FO-01'!S66,2)=\"60\")),\"AF1R5\",OR(AND(LEFT('PLA-FO-01'!D66,4)=\"E066\",LEFT('PLA-FO-01'!S66,2)<>\"60\"),AND(LEFT('PLA-FO-01'!D66,4)=\"E067\",LEFT('PLA-FO-01'!S66,2)<>\"60\"),AND(LEFT('PLA-FO-01'!D66,4)=\"E068\",LEFT('PLA-FO-01'!S66,2)<>\"60\")),\"AF1R6\",OR(LEFT('PLA-FO-01'!D66,4)=\"R001\",LEFT('PLA-FO-01'!D66,4)=\"O001\",LEFT('PLA-FO-01'!D66,4)=\"M001\"),\"AF1R7\"),\"Falta Valor\"), \"NO APLICA, revisar!\")","v":"Falta Valor"},null,null,null,null,"PbRM001C8 - M001C8","PS - GB1136-08 Gestión Eficiente y Orientada a Resultados","GB1136-08 Entregable - Programa integral de seguridad universitaria implementado en las sedes universitarias"]
["E067",null,"Orientación psicológica.","E06703.04","(E06703.04)","Orientación psicológica. (E06703.04)"," ",null,{"$f":"CELL(\"contenido\",'PP y Comp'!V1)","v":"R001 - Universidad con sentido humanista y responsabilidad social."},"C2._Acciones_de_fomento_de_salvaguarda_y_buenas_prácticas_ambientales.",null,{"$f":"CELL(\"contenido\",'PP y Comp'!F110)","v":"Atención a casos de violencia. (R00101.03)"},null,{"$f":"CELL(\"contenido\",'PP y Comp'!F115)","v":"Eventos para la implementación de Buenas Prácticas Ambientales. (R00102.03)"},null,null,null,null,null,null,null,null,null,null,null,null,null,null,null,null,null,null,null,null,null,null,null,null,null,null,null,null,null,null,null,null,null,null,null,{"$f":"IFERROR(IF(AND('PLA-FO-01'!D67<>\"\",'PLA-FO-01'!S67<>\"\",'PLA-FO-01'!E67<>\"\"),_xlfn.IFS(OR(AND(LEFT('PLA-FO-01'!D67,4)=\"E040\",LEFT('PLA-FO-01'!E67,3)=\"C01\"),AND(LEFT('PLA-FO-01'!D67,4)=\"E040\",LEFT('PLA-FO-01'!E67,3)=\"C03\"),AND(LEFT('PLA-FO-01'!D67,4)=\"E040\",LEFT('PLA-FO-01'!E67,3)=\"C04\")),\"AF1R1\",AND(LEFT('PLA-FO-01'!D67,4)=\"E040\",LEFT('PLA-FO-01'!E67,3)=\"C02\",LEFT('PLA-FO-01'!S67,2)<>\"60\"),\"AF1R2\",AND(LEFT('PLA-FO-01'!D67,4)=\"E035\",LEFT('PLA-FO-01'!S67,5)=\"20040\"),\"AF1R3\",AND(LEFT('PLA-FO-01'!D67,4)=\"E035\",LEFT('PLA-FO-01'!S67,5)<>\"20040\"),\"AF1R4\",OR(AND(LEFT('PLA-FO-01'!D67,4)=\"E066\",LEFT('PLA-FO-01'!S67,2)=\"60\"),AND(LEFT('PLA-FO-01'!D67,4)=\"E067\",LEFT('PLA-FO-01'!S67,2)=\"60\"),AND(LEFT('PLA-FO-01'!D67,4)=\"E068\",LEFT('PLA-FO-01'!S67,2)=\"60\")),\"AF1R5\",OR(AND(LEFT('PLA-FO-01'!D67,4)=\"E066\",LEFT('PLA-FO-01'!S67,2)<>\"60\"),AND(LEFT('PLA-FO-01'!D67,4)=\"E067\",LEFT('PLA-FO-01'!S67,2)<>\"60\"),AND(LEFT('PLA-FO-01'!D67,4)=\"E068\",LEFT('PLA-FO-01'!S67,2)<>\"60\")),\"AF1R6\",OR(LEFT('PLA-FO-01'!D67,4)=\"R001\",LEFT('PLA-FO-01'!D67,4)=\"O001\",LEFT('PLA-FO-01'!D67,4)=\"M001\"),\"AF1R7\"),\"Falta Valor\"), \"NO APLICA, revisar!\")","v":"Falta Valor"},null,null,null,null,"PbRM001C9 - M001C9","PS - GB1136-09 Gestión Eficiente y Orientada a Resultados","GB1136-09 Entregable - Campañas institucionales de comunicación"]
["E067",null,"Salud integral (nutrición y módulos activación física).","E06703.05","(E06703.05)","Salud integral (nutrición y módulos activación física). (E06703.05)"," ",null,null,null,null,{"$f":"CELL(\"contenido\",'PP y Comp'!F111)","v":"Promoción de la igualdad de género. (R00101.04)"},null,{"$f":"CELL(\"contenido\",'PP y Comp'!F116)","v":"Ejecución de Planes de acción para el Manejo ambiental (control de residuos). (R00102.04)"},null,null,null,null,null,null,null,null,null,null,null,null,null,null,null,null,null,null,null,null,null,null,null,null,null,null,null,null,null,null,null,null,null,null,null,{"$f":"IFERROR(IF(AND('PLA-FO-01'!D68<>\"\",'PLA-FO-01'!S68<>\"\",'PLA-FO-01'!E68<>\"\"),_xlfn.IFS(OR(AND(LEFT('PLA-FO-01'!D68,4)=\"E040\",LEFT('PLA-FO-01'!E68,3)=\"C01\"),AND(LEFT('PLA-FO-01'!D68,4)=\"E040\",LEFT('PLA-FO-01'!E68,3)=\"C03\"),AND(LEFT('PLA-FO-01'!D68,4)=\"E040\",LEFT('PLA-FO-01'!E68,3)=\"C04\")),\"AF1R1\",AND(LEFT('PLA-FO-01'!D68,4)=\"E040\",LEFT('PLA-FO-01'!E68,3)=\"C02\",LEFT('PLA-FO-01'!S68,2)<>\"60\"),\"AF1R2\",AND(LEFT('PLA-FO-01'!D68,4)=\"E035\",LEFT('PLA-FO-01'!S68,5)=\"20040\"),\"AF1R3\",AND(LEFT('PLA-FO-01'!D68,4)=\"E035\",LEFT('PLA-FO-01'!S68,5)<>\"20040\"),\"AF1R4\",OR(AND(LEFT('PLA-FO-01'!D68,4)=\"E066\",LEFT('PLA-FO-01'!S68,2)=\"60\"),AND(LEFT('PLA-FO-01'!D68,4)=\"E067\",LEFT('PLA-FO-01'!S68,2)=\"60\"),AND(LEFT('PLA-FO-01'!D68,4)=\"E068\",LEFT('PLA-FO-01'!S68,2)=\"60\")),\"AF1R5\",OR(AND(LEFT('PLA-FO-01'!D68,4)=\"E066\",LEFT('PLA-FO-01'!S68,2)<>\"60\"),AND(LEFT('PLA-FO-01'!D68,4)=\"E067\",LEFT('PLA-FO-01'!S68,2)<>\"60\"),AND(LEFT('PLA-FO-01'!D68,4)=\"E068\",LEFT('PLA-FO-01'!S68,2)<>\"60\")),\"AF1R6\",OR(LEFT('PLA-FO-01'!D68,4)=\"R001\",LEFT('PLA-FO-01'!D68,4)=\"O001\",LEFT('PLA-FO-01'!D68,4)=\"M001\"),\"AF1R7\"),\"Falta Valor\"), \"NO APLICA, revisar!\")","v":"Falta Valor"},null,null,null,null,"PbRM001C10 - M001C10","PS - GB1136-10 Gestión Eficiente y Orientada a Resultados","GB1136-10 Gestión Efectiva de la Universidad de Guanajuato"]
["E067",null,"Servicios médicos,  Seguro contra Accidentes, Ambulancias para eventos académicos, deportivos y/o culturales.","E06703.06","(E06703.06)","Servicios médicos,  Seguro contra Accidentes, Ambulancias para eventos académicos, deportivos y/o culturales. (E06703.06)"," ",null,null,null,null,{"$f":"CELL(\"contenido\",'PP y Comp'!F112)","v":"Responsabilidad Social Universitaria. (R00101.05)"},null,null,null,null,null,null,null,null,null,null,null,null,null,null,null,null,null,null,null,null,null,null,null,null,null,null,null,null,null,null,null,null,null,null,null,null,null,{"$f":"IFERROR(IF(AND('PLA-FO-01'!D69<>\"\",'PLA-FO-01'!S69<>\"\",'PLA-FO-01'!E69<>\"\"),_xlfn.IFS(OR(AND(LEFT('PLA-FO-01'!D69,4)=\"E040\",LEFT('PLA-FO-01'!E69,3)=\"C01\"),AND(LEFT('PLA-FO-01'!D69,4)=\"E040\",LEFT('PLA-FO-01'!E69,3)=\"C03\"),AND(LEFT('PLA-FO-01'!D69,4)=\"E040\",LEFT('PLA-FO-01'!E69,3)=\"C04\")),\"AF1R1\",AND(LEFT('PLA-FO-01'!D69,4)=\"E040\",LEFT('PLA-FO-01'!E69,3)=\"C02\",LEFT('PLA-FO-01'!S69,2)<>\"60\"),\"AF1R2\",AND(LEFT('PLA-FO-01'!D69,4)=\"E035\",LEFT('PLA-FO-01'!S69,5)=\"20040\"),\"AF1R3\",AND(LEFT('PLA-FO-01'!D69,4)=\"E035\",LEFT('PLA-FO-01'!S69,5)<>\"20040\"),\"AF1R4\",OR(AND(LEFT('PLA-FO-01'!D69,4)=\"E066\",LEFT('PLA-FO-01'!S69,2)=\"60\"),AND(LEFT('PLA-FO-01'!D69,4)=\"E067\",LEFT('PLA-FO-01'!S69,2)=\"60\"),AND(LEFT('PLA-FO-01'!D69,4)=\"E068\",LEFT('PLA-FO-01'!S69,2)=\"60\")),\"AF1R5\",OR(AND(LEFT('PLA-FO-01'!D69,4)=\"E066\",LEFT('PLA-FO-01'!S69,2)<>\"60\"),AND(LEFT('PLA-FO-01'!D69,4)=\"E067\",LEFT('PLA-FO-01'!S69,2)<>\"60\"),AND(LEFT('PLA-FO-01'!D69,4)=\"E068\",LEFT('PLA-FO-01'!S69,2)<>\"60\")),\"AF1R6\",OR(LEFT('PLA-FO-01'!D69,4)=\"R001\",LEFT('PLA-FO-01'!D69,4)=\"O001\",LEFT('PLA-FO-01'!D69,4)=\"M001\"),\"AF1R7\"),\"Falta Valor\"), \"NO APLICA, revisar!\")","v":"Falta Valor"}]
["E067","C4","Equipamiento para la Trayectoria Académica.","E06704.01","(E06704.01)","Equipamiento para la Trayectoria Académica. (E06704.01)"," ",null,null,null,null,null,null,null,null,null,null,null,null,null,null,null,null,null,null,null,null,null,null,null,null,null,null,null,null,null,null,null,null,null,null,null,null,null,null,null,null,null,null,{"$f":"IFERROR(IF(AND('PLA-FO-01'!D70<>\"\",'PLA-FO-01'!S70<>\"\",'PLA-FO-01'!E70<>\"\"),_xlfn.IFS(OR(AND(LEFT('PLA-FO-01'!D70,4)=\"E040\",LEFT('PLA-FO-01'!E70,3)=\"C01\"),AND(LEFT('PLA-FO-01'!D70,4)=\"E040\",LEFT('PLA-FO-01'!E70,3)=\"C03\"),AND(LEFT('PLA-FO-01'!D70,4)=\"E040\",LEFT('PLA-FO-01'!E70,3)=\"C04\")),\"AF1R1\",AND(LEFT('PLA-FO-01'!D70,4)=\"E040\",LEFT('PLA-FO-01'!E70,3)=\"C02\",LEFT('PLA-FO-01'!S70,2)<>\"60\"),\"AF1R2\",AND(LEFT('PLA-FO-01'!D70,4)=\"E035\",LEFT('PLA-FO-01'!S70,5)=\"20040\"),\"AF1R3\",AND(LEFT('PLA-FO-01'!D70,4)=\"E035\",LEFT('PLA-FO-01'!S70,5)<>\"20040\"),\"AF1R4\",OR(AND(LEFT('PLA-FO-01'!D70,4)=\"E066\",LEFT('PLA-FO-01'!S70,2)=\"60\"),AND(LEFT('PLA-FO-01'!D70,4)=\"E067\",LEFT('PLA-FO-01'!S70,2)=\"60\"),AND(LEFT('PLA-FO-01'!D70,4)=\"E068\",LEFT('PLA-FO-01'!S70,2)=\"60\")),\"AF1R5\",OR(AND(LEFT('PLA-FO-01'!D70,4)=\"E066\",LEFT('PLA-FO-01'!S70,2)<>\"60\"),AND(LEFT('PLA-FO-01'!D70,4)=\"E067\",LEFT('PLA-FO-01'!S70,2)<>\"60\"),AND(LEFT('PLA-FO-01'!D70,4)=\"E068\",LEFT('PLA-FO-01'!S70,2)<>\"60\")),\"AF1R6\",OR(LEFT('PLA-FO-01'!D70,4)=\"R001\",LEFT('PLA-FO-01'!D70,4)=\"O001\",LEFT('PLA-FO-01'!D70,4)=\"M001\"),\"AF1R7\"),\"Falta Valor\"), \"NO APLICA, revisar!\")","v":"Falta Valor"}]
["E067",null,"Habilitación, Mantenimiento y conservación de bienes muebles e inmuebles para la Trayectoria Académica.","E06704.02","(E06704.02)","Habilitación, Mantenimiento y conservación de bienes muebles e inmuebles para la Trayectoria Académica. (E06704.02)"," ",null,null,null,null,{"$f":"CELL(\"contenido\",'PP y Comp'!X2)","v":"C01. Información, planeación, seguimiento, calidad y mejora continua."},null,{"$f":"CELL(\"contenido\",'PP y Comp'!X3)","v":"C02. Gestión financiera."},null,{"$f":"CELL(\"contenido\",'PP y Comp'!X4)","v":"C03. Administración de Recursos Humanos."},null,{"$f":"CELL(\"contenido\",'PP y Comp'!X5)","v":"C04. Adquisiciones y control de bienes muebles e inmuebles."},null,{"$f":"CELL(\"contenido\",'PP y Comp'!X6)","v":"C05. Servicios y Tecnologías de la Información."},null,{"$f":"CELL(\"contenido\",'PP y Comp'!X7)","v":"C06. Gestión y mantenimiento de la infraestructura."},null,{"$f":"CELL(\"contenido\",'PP y Comp'!X8)","v":"C07. Servicio de transporte y mensajería."},null,{"$f":"CELL(\"contenido\",'PP y Comp'!X9)","v":"C08. Seguridad de las instalaciones."},null,{"$f":"CELL(\"contenido\",'PP y Comp'!X10)","v":"C09. Comunicación Institucional."},null,{"$f":"CELL(\"contenido\",'PP y Comp'!X11)","v":"C10. Servicio gerencial."},null,null,null,null,null,null,null,null,null,null,null,null,null,null,null,null,null,null,null,{"$f":"IFERROR(IF(AND('PLA-FO-01'!D71<>\"\",'PLA-FO-01'!S71<>\"\",'PLA-FO-01'!E71<>\"\"),_xlfn.IFS(OR(AND(LEFT('PLA-FO-01'!D71,4)=\"E040\",LEFT('PLA-FO-01'!E71,3)=\"C01\"),AND(LEFT('PLA-FO-01'!D71,4)=\"E040\",LEFT('PLA-FO-01'!E71,3)=\"C03\"),AND(LEFT('PLA-FO-01'!D71,4)=\"E040\",LEFT('PLA-FO-01'!E71,3)=\"C04\")),\"AF1R1\",AND(LEFT('PLA-FO-01'!D71,4)=\"E040\",LEFT('PLA-FO-01'!E71,3)=\"C02\",LEFT('PLA-FO-01'!S71,2)<>\"60\"),\"AF1R2\",AND(LEFT('PLA-FO-01'!D71,4)=\"E035\",LEFT('PLA-FO-01'!S71,5)=\"20040\"),\"AF1R3\",AND(LEFT('PLA-FO-01'!D71,4)=\"E035\",LEFT('PLA-FO-01'!S71,5)<>\"20040\"),\"AF1R4\",OR(AND(LEFT('PLA-FO-01'!D71,4)=\"E066\",LEFT('PLA-FO-01'!S71,2)=\"60\"),AND(LEFT('PLA-FO-01'!D71,4)=\"E067\",LEFT('PLA-FO-01'!S71,2)=\"60\"),AND(LEFT('PLA-FO-01'!D71,4)=\"E068\",LEFT('PLA-FO-01'!S71,2)=\"60\")),\"AF1R5\",OR(AND(LEFT('PLA-FO-01'!D71,4)=\"E066\",LEFT('PLA-FO-01'!S71,2)<>\"60\"),AND(LEFT('PLA-FO-01'!D71,4)=\"E067\",LEFT('PLA-FO-01'!S71,2)<>\"60\"),AND(LEFT('PLA-FO-01'!D71,4)=\"E068\",LEFT('PLA-FO-01'!S71,2)<>\"60\")),\"AF1R6\",OR(LEFT('PLA-FO-01'!D71,4)=\"R001\",LEFT('PLA-FO-01'!D71,4)=\"O001\",LEFT('PLA-FO-01'!D71,4)=\"M001\"),\"AF1R7\"),\"Falta Valor\"), \"NO APLICA, revisar!\")","v":"Falta Valor"}]
["E068","C1","Internacionalización y movilidad: Promoción y tramitación para la movilidad nacional e internacional de Estudiantes UG y estudiantes extranjeros (Estancias Académicas y/o Estancias de investigación para alumnos).","E06801.01","(E06801.01)",{"$f":"_xlfn.TEXTJOIN(\" \",FALSE,C72,E72)","v":"Internacionalización y movilidad: Promoción y tramitación para la movilidad nacional e internacional de Estudiantes UG y estudiantes extranjeros (Estancias Académicas y/o Estancias de investigación para alumnos). (E06801.01)"}," ",null,null,{"$f":"CELL(\"contenido\",'PP y Comp'!X1)","v":"M001 - Gestión eficiente y orientada a resultados."},null,{"$f":"CELL(\"contenido\",'PP y Comp'!F117)","v":"Seguimiento a la Gestión de Calidad. (M00101.01)"},null,{"$f":"CELL(\"contenido\",'PP y Comp'!F125)","v":"Control y seguimiento presupuestal. (M00102.01)"},null,{"$f":"CELL(\"contenido\",'PP y Comp'!F130)","v":"Inducción, capacitación y desarrollo de competencias laborales. (M00103.01)"},null,{"$f":"CELL(\"contenido\",'PP y Comp'!F143)","v":"Gestión, ejecución y seguimiento a las Adquisiciones de bienes muebles e inmuebles. (M00104.01)"},null,{"$f":"CELL(\"contenido\",'PP y Comp'!F148)","v":"Soporte interno en tecnologías de la información. (M00105.01)"},null,{"$f":"CELL(\"contenido\",'PP y Comp'!F150)","v":"Conservación y mantenimiento de bienes inmuebles. (M00106.01)"},null,{"$f":"CELL(\"contenido\",'PP y Comp'!F154)","v":"Prestación de servicio de transporte. (M00107.01)"},null,{"$f":"CELL(\"contenido\",'PP y Comp'!F157)","v":"Adecuación y equipamiento de las sedes para la seguridad institucional. (M00108.01)"},null,{"$f":"CELL(\"contenido\",'PP y Comp'!F161)","v":"Generación de productos de comunicación y difusión. (M00109.01)"},null,{"$f":"CELL(\"contenido\",'PP y Comp'!F163)","v":"Asistencia a comisiones y representaciones institucionales. (M00110.01)"},null,null,null,null,null,null,null,null,null,null,null,null,null,null,null,null,null,null,null,{"$f":"IFERROR(IF(AND('PLA-FO-01'!D72<>\"\",'PLA-FO-01'!S72<>\"\",'PLA-FO-01'!E72<>\"\"),_xlfn.IFS(OR(AND(LEFT('PLA-FO-01'!D72,4)=\"E040\",LEFT('PLA-FO-01'!E72,3)=\"C01\"),AND(LEFT('PLA-FO-01'!D72,4)=\"E040\",LEFT('PLA-FO-01'!E72,3)=\"C03\"),AND(LEFT('PLA-FO-01'!D72,4)=\"E040\",LEFT('PLA-FO-01'!E72,3)=\"C04\")),\"AF1R1\",AND(LEFT('PLA-FO-01'!D72,4)=\"E040\",LEFT('PLA-FO-01'!E72,3)=\"C02\",LEFT('PLA-FO-01'!S72,2)<>\"60\"),\"AF1R2\",AND(LEFT('PLA-FO-01'!D72,4)=\"E035\",LEFT('PLA-FO-01'!S72,5)=\"20040\"),\"AF1R3\",AND(LEFT('PLA-FO-01'!D72,4)=\"E035\",LEFT('PLA-FO-01'!S72,5)<>\"20040\"),\"AF1R4\",OR(AND(LEFT('PLA-FO-01'!D72,4)=\"E066\",LEFT('PLA-FO-01'!S72,2)=\"60\"),AND(LEFT('PLA-FO-01'!D72,4)=\"E067\",LEFT('PLA-FO-01'!S72,2)=\"60\"),AND(LEFT('PLA-FO-01'!D72,4)=\"E068\",LEFT('PLA-FO-01'!S72,2)=\"60\")),\"AF1R5\",OR(AND(LEFT('PLA-FO-01'!D72,4)=\"E066\",LEFT('PLA-FO-01'!S72,2)<>\"60\"),AND(LEFT('PLA-FO-01'!D72,4)=\"E067\",LEFT('PLA-FO-01'!S72,2)<>\"60\"),AND(LEFT('PLA-FO-01'!D72,4)=\"E068\",LEFT('PLA-FO-01'!S72,2)<>\"60\")),\"AF1R6\",OR(LEFT('PLA-FO-01'!D72,4)=\"R001\",LEFT('PLA-FO-01'!D72,4)=\"O001\",LEFT('PLA-FO-01'!D72,4)=\"M001\"),\"AF1R7\"),\"Falta Valor\"), \"NO APLICA, revisar!\")","v":"Falta Valor"}]
["E068",null,"Gestión de convenios de  colaboración académica (para estudiantes).","E06801.02","(E06801.02)","Gestión de convenios de  colaboración académica (para estudiantes). (E06801.02)"," ",null,{"$f":"CELL(\"contenido\",'PP y Comp'!X1)","v":"M001 - Gestión eficiente y orientada a resultados."},{"$f":"CELL(\"contenido\",'PP y Comp'!X2)","v":"C01. Información, planeación, seguimiento, calidad y mejora continua."},null,{"$f":"CELL(\"contenido\",'PP y Comp'!F118)","v":"Acuerdo y seguimiento de metas institucionales en cumplimiento al PLADI. (M00101.02)"},null,{"$f":"CELL(\"contenido\",'PP y Comp'!F126)","v":"Programación y presupuestación financiera. (M00102.02)"},null,{"$f":"CELL(\"contenido\",'PP y Comp'!F131)","v":"Selección, contratación y movimientos de personal. (M00103.02)"},null,{"$f":"CELL(\"contenido\",'PP y Comp'!F144)","v":"Contratación de prestación de servicios. (M00104.02)"},null,{"$f":"CELL(\"contenido\",'PP y Comp'!F149)","v":"Gestión y ejecución de proyectos institucionales de TIC´s. (M00105.02)"},null,{"$f":"CELL(\"contenido\",'PP y Comp'!F151)","v":"Conservación y mantenimiento de bienes muebles. (M00106.02)"},null,{"$f":"CELL(\"contenido\",'PP y Comp'!F155)","v":"Adquisición y/o Mantenimiento de equipo de transporte. (M00107.02)"},null,{"$f":"CELL(\"contenido\",'PP y Comp'!F158)","v":"Seguridad patrimonial. (M00108.02)"},null,{"$f":"CELL(\"contenido\",'PP y Comp'!F162)","v":"Difusión de estrategias de comunicación . (M00109.02)"},null,{"$f":"CELL(\"contenido\",'PP y Comp'!F164)","v":"Sesiones de acuerdos. (M00110.02)"},null,null,null,null,null,null,null,null,null,null,null,null,null,null,null,null,null,null,null,{"$f":"IFERROR(IF(AND('PLA-FO-01'!D73<>\"\",'PLA-FO-01'!S73<>\"\",'PLA-FO-01'!E73<>\"\"),_xlfn.IFS(OR(AND(LEFT('PLA-FO-01'!D73,4)=\"E040\",LEFT('PLA-FO-01'!E73,3)=\"C01\"),AND(LEFT('PLA-FO-01'!D73,4)=\"E040\",LEFT('PLA-FO-01'!E73,3)=\"C03\"),AND(LEFT('PLA-FO-01'!D73,4)=\"E040\",LEFT('PLA-FO-01'!E73,3)=\"C04\")),\"AF1R1\",AND(LEFT('PLA-FO-01'!D73,4)=\"E040\",LEFT('PLA-FO-01'!E73,3)=\"C02\",LEFT('PLA-FO-01'!S73,2)<>\"60\"),\"AF1R2\",AND(LEFT('PLA-FO-01'!D73,4)=\"E035\",LEFT('PLA-FO-01'!S73,5)=\"20040\"),\"AF1R3\",AND(LEFT('PLA-FO-01'!D73,4)=\"E035\",LEFT('PLA-FO-01'!S73,5)<>\"20040\"),\"AF1R4\",OR(AND(LEFT('PLA-FO-01'!D73,4)=\"E066\",LEFT('PLA-FO-01'!S73,2)=\"60\"),AND(LEFT('PLA-FO-01'!D73,4)=\"E067\",LEFT('PLA-FO-01'!S73,2)=\"60\"),AND(LEFT('PLA-FO-01'!D73,4)=\"E068\",LEFT('PLA-FO-01'!S73,2)=\"60\")),\"AF1R5\",OR(AND(LEFT('PLA-FO-01'!D73,4)=\"E066\",LEFT('PLA-FO-01'!S73,2)<>\"60\"),AND(LEFT('PLA-FO-01'!D73,4)=\"E067\",LEFT('PLA-FO-01'!S73,2)<>\"60\"),AND(LEFT('PLA-FO-01'!D73,4)=\"E068\",LEFT('PLA-FO-01'!S73,2)<>\"60\")),\"AF1R6\",OR(LEFT('PLA-FO-01'!D73,4)=\"R001\",LEFT('PLA-FO-01'!D73,4)=\"O001\",LEFT('PLA-FO-01'!D73,4)=\"M001\"),\"AF1R7\"),\"Falta Valor\"), \"NO APLICA, revisar!\")","v":"Falta Valor"}]
["E068",null,"Acciones para la internacionalización en casa.","E06801.03","(E06801.03)","Acciones para la internacionalización en casa. (E06801.03)"," ",null,{"$f":"CELL(\"contenido\",'PP y Comp'!X1)","v":"M001 - Gestión eficiente y orientada a resultados."},{"$f":"CELL(\"contenido\",'PP y Comp'!X3)","v":"C02. Gestión financiera."},null,{"$f":"CELL(\"contenido\",'PP y Comp'!F119)","v":"Atención al Buzón UG. (M00101.03)"},null,{"$f":"CELL(\"contenido\",'PP y Comp'!F127)","v":"Trámites de pago (SP, OR, SF). (M00102.03)"},null,{"$f":"CELL(\"contenido\",'PP y Comp'!F132)","v":"Prestaciones contractuales al personal universitario. (M00103.03)"},null,{"$f":"CELL(\"contenido\",'PP y Comp'!F145)","v":"Control de bienes muebles. (M00104.03)"},null,null,null,{"$f":"CELL(\"contenido\",'PP y Comp'!F152)","v":"Limpieza. (M00106.03)"},null,{"$f":"CELL(\"contenido\",'PP y Comp'!F156)","v":"Servicio de mensajería institucional. (M00107.03)"},null,{"$f":"CELL(\"contenido\",'PP y Comp'!F159)","v":"Acciones y capacitación para la cultura de la prevención en materia de la seguridad. (M00108.03)"},null,null,null,{"$f":"CELL(\"contenido\",'PP y Comp'!F165)","v":"Atención a reuniones internas y externas. (M00110.03)"},null,null,null,null,null,null,null,null,null,null,null,null,null,null,null,null,null,null,null,{"$f":"IFERROR(IF(AND('PLA-FO-01'!D74<>\"\",'PLA-FO-01'!S74<>\"\",'PLA-FO-01'!E74<>\"\"),_xlfn.IFS(OR(AND(LEFT('PLA-FO-01'!D74,4)=\"E040\",LEFT('PLA-FO-01'!E74,3)=\"C01\"),AND(LEFT('PLA-FO-01'!D74,4)=\"E040\",LEFT('PLA-FO-01'!E74,3)=\"C03\"),AND(LEFT('PLA-FO-01'!D74,4)=\"E040\",LEFT('PLA-FO-01'!E74,3)=\"C04\")),\"AF1R1\",AND(LEFT('PLA-FO-01'!D74,4)=\"E040\",LEFT('PLA-FO-01'!E74,3)=\"C02\",LEFT('PLA-FO-01'!S74,2)<>\"60\"),\"AF1R2\",AND(LEFT('PLA-FO-01'!D74,4)=\"E035\",LEFT('PLA-FO-01'!S74,5)=\"20040\"),\"AF1R3\",AND(LEFT('PLA-FO-01'!D74,4)=\"E035\",LEFT('PLA-FO-01'!S74,5)<>\"20040\"),\"AF1R4\",OR(AND(LEFT('PLA-FO-01'!D74,4)=\"E066\",LEFT('PLA-FO-01'!S74,2)=\"60\"),AND(LEFT('PLA-FO-01'!D74,4)=\"E067\",LEFT('PLA-FO-01'!S74,2)=\"60\"),AND(LEFT('PLA-FO-01'!D74,4)=\"E068\",LEFT('PLA-FO-01'!S74,2)=\"60\")),\"AF1R5\",OR(AND(LEFT('PLA-FO-01'!D74,4)=\"E066\",LEFT('PLA-FO-01'!S74,2)<>\"60\"),AND(LEFT('PLA-FO-01'!D74,4)=\"E067\",LEFT('PLA-FO-01'!S74,2)<>\"60\"),AND(LEFT('PLA-FO-01'!D74,4)=\"E068\",LEFT('PLA-FO-01'!S74,2)<>\"60\")),\"AF1R6\",OR(LEFT('PLA-FO-01'!D74,4)=\"R001\",LEFT('PLA-FO-01'!D74,4)=\"O001\",LEFT('PLA-FO-01'!D74,4)=\"M001\"),\"AF1R7\"),\"Falta Valor\"), \"NO APLICA, revisar!\")","v":"Falta Valor"}]
["E068",null,"Administración de apoyos Especiales de Corta Duración.","E06801.04","(E06801.04)","Administración de apoyos Especiales de Corta Duración. (E06801.04)"," ",null,{"$f":"CELL(\"contenido\",'PP y Comp'!X1)","v":"M001 - Gestión eficiente y orientada a resultados."},{"$f":"CELL(\"contenido\",'PP y Comp'!X4)","v":"C03. Administración de Recursos Humanos."},null,{"$f":"CELL(\"contenido\",'PP y Comp'!F120)","v":"Encuesta institucional. (M00101.04)"},null,{"$f":"CELL(\"contenido\",'PP y Comp'!F128)","v":"Ingreso y consolidación contable. (M00102.04)"},null,{"$f":"CELL(\"contenido\",'PP y Comp'!F133)","v":"Procesamiento de datos y para pago de nómina de sueldos y salarios. (M00103.04)"},null,{"$f":"CELL(\"contenido\",'PP y Comp'!F146)","v":"Requisición y surtimiento de insumos y servicios. (M00104.04)"},null,null,null,{"$f":"CELL(\"contenido\",'PP y Comp'!F153)","v":"Gestión y Seguimiento a la Obra Pública. (M00106.05)"},null,null,null,{"$f":"CELL(\"contenido\",'PP y Comp'!F160)","v":"Atención a riesgos en materia de seguridad. (M00108.04)"},null,null,null,{"$f":"CELL(\"contenido\",'PP y Comp'!F166)","v":"Atención y seguimiento a los asuntos institucionales. (M00110.04)"},null,null,null,null,null,null,null,null,null,null,null,null,null,null,null,null,null,null,null,{"$f":"IFERROR(IF(AND('PLA-FO-01'!D75<>\"\",'PLA-FO-01'!S75<>\"\",'PLA-FO-01'!E75<>\"\"),_xlfn.IFS(OR(AND(LEFT('PLA-FO-01'!D75,4)=\"E040\",LEFT('PLA-FO-01'!E75,3)=\"C01\"),AND(LEFT('PLA-FO-01'!D75,4)=\"E040\",LEFT('PLA-FO-01'!E75,3)=\"C03\"),AND(LEFT('PLA-FO-01'!D75,4)=\"E040\",LEFT('PLA-FO-01'!E75,3)=\"C04\")),\"AF1R1\",AND(LEFT('PLA-FO-01'!D75,4)=\"E040\",LEFT('PLA-FO-01'!E75,3)=\"C02\",LEFT('PLA-FO-01'!S75,2)<>\"60\"),\"AF1R2\",AND(LEFT('PLA-FO-01'!D75,4)=\"E035\",LEFT('PLA-FO-01'!S75,5)=\"20040\"),\"AF1R3\",AND(LEFT('PLA-FO-01'!D75,4)=\"E035\",LEFT('PLA-FO-01'!S75,5)<>\"20040\"),\"AF1R4\",OR(AND(LEFT('PLA-FO-01'!D75,4)=\"E066\",LEFT('PLA-FO-01'!S75,2)=\"60\"),AND(LEFT('PLA-FO-01'!D75,4)=\"E067\",LEFT('PLA-FO-01'!S75,2)=\"60\"),AND(LEFT('PLA-FO-01'!D75,4)=\"E068\",LEFT('PLA-FO-01'!S75,2)=\"60\")),\"AF1R5\",OR(AND(LEFT('PLA-FO-01'!D75,4)=\"E066\",LEFT('PLA-FO-01'!S75,2)<>\"60\"),AND(LEFT('PLA-FO-01'!D75,4)=\"E067\",LEFT('PLA-FO-01'!S75,2)<>\"60\"),AND(LEFT('PLA-FO-01'!D75,4)=\"E068\",LEFT('PLA-FO-01'!S75,2)<>\"60\")),\"AF1R6\",OR(LEFT('PLA-FO-01'!D75,4)=\"R001\",LEFT('PLA-FO-01'!D75,4)=\"O001\",LEFT('PLA-FO-01'!D75,4)=\"M001\"),\"AF1R7\"),\"Falta Valor\"), \"NO APLICA, revisar!\")","v":"Falta Valor"}]
["E068",null,"Cursos para el mejoramiento de idiomas.","E06801.05","(E06801.05)","Cursos para el mejoramiento de idiomas. (E06801.05)"," ",null,{"$f":"CELL(\"contenido\",'PP y Comp'!X1)","v":"M001 - Gestión eficiente y orientada a resultados."},{"$f":"CELL(\"contenido\",'PP y Comp'!X5)","v":"C04. Adquisiciones y control de bienes muebles e inmuebles."},null,{"$f":"CELL(\"contenido\",'PP y Comp'!F121)","v":"Seguimiento al PLADI. (M00101.05)"},null,{"$f":"CELL(\"contenido\",'PP y Comp'!F129)","v":"Gestión de recursos para el desarrollo del Campus. (M00102.05)"},null,{"$f":"CELL(\"contenido\",'PP y Comp'!F134)","v":"Organizar la estructura administrativa.. (M00103.05)"},null,{"$f":"CELL(\"contenido\",'PP y Comp'!F147)","v":"Administración de recursos materiales (Almacén). (M00104.05)"},null,null,null,null,null,null,null,null,null,null,null,{"$f":"CELL(\"contenido\",'PP y Comp'!F167)","v":"Autorizaciones en el ámbito de su competencia. (M00110.05)"},null,null,null,null,null,null,null,null,null,null,null,null,null,null,null,null,null,null,null,{"$f":"IFERROR(IF(AND('PLA-FO-01'!D76<>\"\",'PLA-FO-01'!S76<>\"\",'PLA-FO-01'!E76<>\"\"),_xlfn.IFS(OR(AND(LEFT('PLA-FO-01'!D76,4)=\"E040\",LEFT('PLA-FO-01'!E76,3)=\"C01\"),AND(LEFT('PLA-FO-01'!D76,4)=\"E040\",LEFT('PLA-FO-01'!E76,3)=\"C03\"),AND(LEFT('PLA-FO-01'!D76,4)=\"E040\",LEFT('PLA-FO-01'!E76,3)=\"C04\")),\"AF1R1\",AND(LEFT('PLA-FO-01'!D76,4)=\"E040\",LEFT('PLA-FO-01'!E76,3)=\"C02\",LEFT('PLA-FO-01'!S76,2)<>\"60\"),\"AF1R2\",AND(LEFT('PLA-FO-01'!D76,4)=\"E035\",LEFT('PLA-FO-01'!S76,5)=\"20040\"),\"AF1R3\",AND(LEFT('PLA-FO-01'!D76,4)=\"E035\",LEFT('PLA-FO-01'!S76,5)<>\"20040\"),\"AF1R4\",OR(AND(LEFT('PLA-FO-01'!D76,4)=\"E066\",LEFT('PLA-FO-01'!S76,2)=\"60\"),AND(LEFT('PLA-FO-01'!D76,4)=\"E067\",LEFT('PLA-FO-01'!S76,2)=\"60\"),AND(LEFT('PLA-FO-01'!D76,4)=\"E068\",LEFT('PLA-FO-01'!S76,2)=\"60\")),\"AF1R5\",OR(AND(LEFT('PLA-FO-01'!D76,4)=\"E066\",LEFT('PLA-FO-01'!S76,2)<>\"60\"),AND(LEFT('PLA-FO-01'!D76,4)=\"E067\",LEFT('PLA-FO-01'!S76,2)<>\"60\"),AND(LEFT('PLA-FO-01'!D76,4)=\"E068\",LEFT('PLA-FO-01'!S76,2)<>\"60\")),\"AF1R6\",OR(LEFT('PLA-FO-01'!D76,4)=\"R001\",LEFT('PLA-FO-01'!D76,4)=\"O001\",LEFT('PLA-FO-01'!D76,4)=\"M001\"),\"AF1R7\"),\"Falta Valor\"), \"NO APLICA, revisar!\")","v":"Falta Valor"}]
["E068","C2","Eventos de formación emprendedora.","E06802.01","(E06802.01)","Eventos de formación emprendedora. (E06802.01)"," ",null,{"$f":"CELL(\"contenido\",'PP y Comp'!X1)","v":"M001 - Gestión eficiente y orientada a resultados."},{"$f":"CELL(\"contenido\",'PP y Comp'!X6)","v":"C05. Servicios y Tecnologías de la Información."},null,{"$f":"CELL(\"contenido\",'PP y Comp'!F122)","v":"Estadística e Información institucional. (M00101.06)"},null,null,null,{"$f":"CELL(\"contenido\",'PP y Comp'!F135)","v":"Atención y seguimiento a casos de Relaciones Laborales. (M00103.06)"},null,null,null,null,null,null,null,null,null,null,null,null,null,{"$f":"CELL(\"contenido\",'PP y Comp'!F168)","v":"Gestión de convenios, recursos y proyectos con diversos organismos internos y externos. (M00110.06)"},null,null,null,null,null,null,null,null,null,null,null,null,null,null,null,null,null,null,null,{"$f":"IFERROR(IF(AND('PLA-FO-01'!D77<>\"\",'PLA-FO-01'!S77<>\"\",'PLA-FO-01'!E77<>\"\"),_xlfn.IFS(OR(AND(LEFT('PLA-FO-01'!D77,4)=\"E040\",LEFT('PLA-FO-01'!E77,3)=\"C01\"),AND(LEFT('PLA-FO-01'!D77,4)=\"E040\",LEFT('PLA-FO-01'!E77,3)=\"C03\"),AND(LEFT('PLA-FO-01'!D77,4)=\"E040\",LEFT('PLA-FO-01'!E77,3)=\"C04\")),\"AF1R1\",AND(LEFT('PLA-FO-01'!D77,4)=\"E040\",LEFT('PLA-FO-01'!E77,3)=\"C02\",LEFT('PLA-FO-01'!S77,2)<>\"60\"),\"AF1R2\",AND(LEFT('PLA-FO-01'!D77,4)=\"E035\",LEFT('PLA-FO-01'!S77,5)=\"20040\"),\"AF1R3\",AND(LEFT('PLA-FO-01'!D77,4)=\"E035\",LEFT('PLA-FO-01'!S77,5)<>\"20040\"),\"AF1R4\",OR(AND(LEFT('PLA-FO-01'!D77,4)=\"E066\",LEFT('PLA-FO-01'!S77,2)=\"60\"),AND(LEFT('PLA-FO-01'!D77,4)=\"E067\",LEFT('PLA-FO-01'!S77,2)=\"60\"),AND(LEFT('PLA-FO-01'!D77,4)=\"E068\",LEFT('PLA-FO-01'!S77,2)=\"60\")),\"AF1R5\",OR(AND(LEFT('PLA-FO-01'!D77,4)=\"E066\",LEFT('PLA-FO-01'!S77,2)<>\"60\"),AND(LEFT('PLA-FO-01'!D77,4)=\"E067\",LEFT('PLA-FO-01'!S77,2)<>\"60\"),AND(LEFT('PLA-FO-01'!D77,4)=\"E068\",LEFT('PLA-FO-01'!S77,2)<>\"60\")),\"AF1R6\",OR(LEFT('PLA-FO-01'!D77,4)=\"R001\",LEFT('PLA-FO-01'!D77,4)=\"O001\",LEFT('PLA-FO-01'!D77,4)=\"M001\"),\"AF1R7\"),\"Falta Valor\"), \"NO APLICA, revisar!\")","v":"Falta Valor"}]
["E068",null,"Eventos de fomento al liderazgo estudiantil.","E06802.02","(E06802.02)","Eventos de fomento al liderazgo estudiantil. (E06802.02)"," ",null,{"$f":"CELL(\"contenido\",'PP y Comp'!X1)","v":"M001 - Gestión eficiente y orientada a resultados."},{"$f":"CELL(\"contenido\",'PP y Comp'!X7)","v":"C06. Gestión y mantenimiento de la infraestructura."},null,{"$f":"CELL(\"contenido\",'PP y Comp'!F123)","v":"Gestión y seguimiento a fondos concursables federales. (M00101.07)"},null,null,null,{"$f":"CELL(\"contenido\",'PP y Comp'!F136)","v":"Acciones de prevención y atención a riesgos laborales. (M00103.07)"},null,null,null,null,null,null,null,null,null,null,null,null,null,{"$f":"CELL(\"contenido\",'PP y Comp'!F169)","v":"Coordinación y supervisión de actividades. (M00110.07)"},null,null,null,null,null,null,null,null,null,null,null,null,null,null,null,null,null,null,null,{"$f":"IFERROR(IF(AND('PLA-FO-01'!D78<>\"\",'PLA-FO-01'!S78<>\"\",'PLA-FO-01'!E78<>\"\"),_xlfn.IFS(OR(AND(LEFT('PLA-FO-01'!D78,4)=\"E040\",LEFT('PLA-FO-01'!E78,3)=\"C01\"),AND(LEFT('PLA-FO-01'!D78,4)=\"E040\",LEFT('PLA-FO-01'!E78,3)=\"C03\"),AND(LEFT('PLA-FO-01'!D78,4)=\"E040\",LEFT('PLA-FO-01'!E78,3)=\"C04\")),\"AF1R1\",AND(LEFT('PLA-FO-01'!D78,4)=\"E040\",LEFT('PLA-FO-01'!E78,3)=\"C02\",LEFT('PLA-FO-01'!S78,2)<>\"60\"),\"AF1R2\",AND(LEFT('PLA-FO-01'!D78,4)=\"E035\",LEFT('PLA-FO-01'!S78,5)=\"20040\"),\"AF1R3\",AND(LEFT('PLA-FO-01'!D78,4)=\"E035\",LEFT('PLA-FO-01'!S78,5)<>\"20040\"),\"AF1R4\",OR(AND(LEFT('PLA-FO-01'!D78,4)=\"E066\",LEFT('PLA-FO-01'!S78,2)=\"60\"),AND(LEFT('PLA-FO-01'!D78,4)=\"E067\",LEFT('PLA-FO-01'!S78,2)=\"60\"),AND(LEFT('PLA-FO-01'!D78,4)=\"E068\",LEFT('PLA-FO-01'!S78,2)=\"60\")),\"AF1R5\",OR(AND(LEFT('PLA-FO-01'!D78,4)=\"E066\",LEFT('PLA-FO-01'!S78,2)<>\"60\"),AND(LEFT('PLA-FO-01'!D78,4)=\"E067\",LEFT('PLA-FO-01'!S78,2)<>\"60\"),AND(LEFT('PLA-FO-01'!D78,4)=\"E068\",LEFT('PLA-FO-01'!S78,2)<>\"60\")),\"AF1R6\",OR(LEFT('PLA-FO-01'!D78,4)=\"R001\",LEFT('PLA-FO-01'!D78,4)=\"O001\",LEFT('PLA-FO-01'!D78,4)=\"M001\"),\"AF1R7\"),\"Falta Valor\"), \"NO APLICA, revisar!\")","v":"Falta Valor"}]
["E068","C3","Vinculación con entes externos.","E06803.01","(E06803.01)","Vinculación con entes externos. (E06803.01)"," ",null,{"$f":"CELL(\"contenido\",'PP y Comp'!X1)","v":"M001 - Gestión eficiente y orientada a resultados."},{"$f":"CELL(\"contenido\",'PP y Comp'!X8)","v":"C07. Servicio de transporte y mensajería."},null,{"$f":"CELL(\"contenido\",'PP y Comp'!F124)","v":"Consolidación de la GpR. (M00101.08)"},null,null,null,{"$f":"CELL(\"contenido\",'PP y Comp'!F137)","v":"Regulación y Control de Recursos Humanos. (M00103.08)"},null,null,null,null,null,null,null,null,null,null,null,null,null,{"$f":"CELL(\"contenido\",'PP y Comp'!F170)","v":"Programación y ejecución de sesiones con diversos órganos de gobierno de la UG. (M00110.08)"},null,null,null,null,null,null,null,null,null,null,null,null,null,null,null,null,null,null,null,{"$f":"IFERROR(IF(AND('PLA-FO-01'!D79<>\"\",'PLA-FO-01'!S79<>\"\",'PLA-FO-01'!E79<>\"\"),_xlfn.IFS(OR(AND(LEFT('PLA-FO-01'!D79,4)=\"E040\",LEFT('PLA-FO-01'!E79,3)=\"C01\"),AND(LEFT('PLA-FO-01'!D79,4)=\"E040\",LEFT('PLA-FO-01'!E79,3)=\"C03\"),AND(LEFT('PLA-FO-01'!D79,4)=\"E040\",LEFT('PLA-FO-01'!E79,3)=\"C04\")),\"AF1R1\",AND(LEFT('PLA-FO-01'!D79,4)=\"E040\",LEFT('PLA-FO-01'!E79,3)=\"C02\",LEFT('PLA-FO-01'!S79,2)<>\"60\"),\"AF1R2\",AND(LEFT('PLA-FO-01'!D79,4)=\"E035\",LEFT('PLA-FO-01'!S79,5)=\"20040\"),\"AF1R3\",AND(LEFT('PLA-FO-01'!D79,4)=\"E035\",LEFT('PLA-FO-01'!S79,5)<>\"20040\"),\"AF1R4\",OR(AND(LEFT('PLA-FO-01'!D79,4)=\"E066\",LEFT('PLA-FO-01'!S79,2)=\"60\"),AND(LEFT('PLA-FO-01'!D79,4)=\"E067\",LEFT('PLA-FO-01'!S79,2)=\"60\"),AND(LEFT('PLA-FO-01'!D79,4)=\"E068\",LEFT('PLA-FO-01'!S79,2)=\"60\")),\"AF1R5\",OR(AND(LEFT('PLA-FO-01'!D79,4)=\"E066\",LEFT('PLA-FO-01'!S79,2)<>\"60\"),AND(LEFT('PLA-FO-01'!D79,4)=\"E067\",LEFT('PLA-FO-01'!S79,2)<>\"60\"),AND(LEFT('PLA-FO-01'!D79,4)=\"E068\",LEFT('PLA-FO-01'!S79,2)<>\"60\")),\"AF1R6\",OR(LEFT('PLA-FO-01'!D79,4)=\"R001\",LEFT('PLA-FO-01'!D79,4)=\"O001\",LEFT('PLA-FO-01'!D79,4)=\"M001\"),\"AF1R7\"),\"Falta Valor\"), \"NO APLICA, revisar!\")","v":"Falta Valor"}]
["E068",null,"Seguimiento a Servicio Social Profesional.","E06803.02","(E06803.02)","Seguimiento a Servicio Social Profesional. (E06803.02)"," ",null,{"$f":"CELL(\"contenido\",'PP y Comp'!X1)","v":"M001 - Gestión eficiente y orientada a resultados."},{"$f":"CELL(\"contenido\",'PP y Comp'!X9)","v":"C08. Seguridad de las instalaciones."},null,null,null,null,null,{"$f":"CELL(\"contenido\",'PP y Comp'!F138)","v":"Acciones de evaluación y mejora al Clima laboral. (M00103.09)"},null,null,null,null,null,null,null,null,null,null,null,null,null,null,null,null,null,null,null,null,null,null,null,null,null,null,null,null,null,null,null,null,null,{"$f":"IFERROR(IF(AND('PLA-FO-01'!D80<>\"\",'PLA-FO-01'!S80<>\"\",'PLA-FO-01'!E80<>\"\"),_xlfn.IFS(OR(AND(LEFT('PLA-FO-01'!D80,4)=\"E040\",LEFT('PLA-FO-01'!E80,3)=\"C01\"),AND(LEFT('PLA-FO-01'!D80,4)=\"E040\",LEFT('PLA-FO-01'!E80,3)=\"C03\"),AND(LEFT('PLA-FO-01'!D80,4)=\"E040\",LEFT('PLA-FO-01'!E80,3)=\"C04\")),\"AF1R1\",AND(LEFT('PLA-FO-01'!D80,4)=\"E040\",LEFT('PLA-FO-01'!E80,3)=\"C02\",LEFT('PLA-FO-01'!S80,2)<>\"60\"),\"AF1R2\",AND(LEFT('PLA-FO-01'!D80,4)=\"E035\",LEFT('PLA-FO-01'!S80,5)=\"20040\"),\"AF1R3\",AND(LEFT('PLA-FO-01'!D80,4)=\"E035\",LEFT('PLA-FO-01'!S80,5)<>\"20040\"),\"AF1R4\",OR(AND(LEFT('PLA-FO-01'!D80,4)=\"E066\",LEFT('PLA-FO-01'!S80,2)=\"60\"),AND(LEFT('PLA-FO-01'!D80,4)=\"E067\",LEFT('PLA-FO-01'!S80,2)=\"60\"),AND(LEFT('PLA-FO-01'!D80,4)=\"E068\",LEFT('PLA-FO-01'!S80,2)=\"60\")),\"AF1R5\",OR(AND(LEFT('PLA-FO-01'!D80,4)=\"E066\",LEFT('PLA-FO-01'!S80,2)<>\"60\"),AND(LEFT('PLA-FO-01'!D80,4)=\"E067\",LEFT('PLA-FO-01'!S80,2)<>\"60\"),AND(LEFT('PLA-FO-01'!D80,4)=\"E068\",LEFT('PLA-FO-01'!S80,2)<>\"60\")),\"AF1R6\",OR(LEFT('PLA-FO-01'!D80,4)=\"R001\",LEFT('PLA-FO-01'!D80,4)=\"O001\",LEFT('PLA-FO-01'!D80,4)=\"M001\"),\"AF1R7\"),\"Falta Valor\"), \"NO APLICA, revisar!\")","v":"Falta Valor"}]
["E068",null,"Seguimiento a Servicio Social Universitario.","E06803.03","(E06803.03)","Seguimiento a Servicio Social Universitario. (E06803.03)"," ",null,{"$f":"CELL(\"contenido\",'PP y Comp'!X1)","v":"M001 - Gestión eficiente y orientada a resultados."},{"$f":"CELL(\"contenido\",'PP y Comp'!X10)","v":"C09. Comunicación Institucional."},null,null,null,null,null,{"$f":"CELL(\"contenido\",'PP y Comp'!F139)","v":"Actividades para la promoción de la salud y prevención de enfermedades. (M00103.10)"},null,null,null,null,null,null,null,null,null,null,null,null,null,null,null,null,null,null,null,null,null,null,null,null,null,null,null,null,null,null,null,null,null,{"$f":"IFERROR(IF(AND('PLA-FO-01'!D81<>\"\",'PLA-FO-01'!S81<>\"\",'PLA-FO-01'!E81<>\"\"),_xlfn.IFS(OR(AND(LEFT('PLA-FO-01'!D81,4)=\"E040\",LEFT('PLA-FO-01'!E81,3)=\"C01\"),AND(LEFT('PLA-FO-01'!D81,4)=\"E040\",LEFT('PLA-FO-01'!E81,3)=\"C03\"),AND(LEFT('PLA-FO-01'!D81,4)=\"E040\",LEFT('PLA-FO-01'!E81,3)=\"C04\")),\"AF1R1\",AND(LEFT('PLA-FO-01'!D81,4)=\"E040\",LEFT('PLA-FO-01'!E81,3)=\"C02\",LEFT('PLA-FO-01'!S81,2)<>\"60\"),\"AF1R2\",AND(LEFT('PLA-FO-01'!D81,4)=\"E035\",LEFT('PLA-FO-01'!S81,5)=\"20040\"),\"AF1R3\",AND(LEFT('PLA-FO-01'!D81,4)=\"E035\",LEFT('PLA-FO-01'!S81,5)<>\"20040\"),\"AF1R4\",OR(AND(LEFT('PLA-FO-01'!D81,4)=\"E066\",LEFT('PLA-FO-01'!S81,2)=\"60\"),AND(LEFT('PLA-FO-01'!D81,4)=\"E067\",LEFT('PLA-FO-01'!S81,2)=\"60\"),AND(LEFT('PLA-FO-01'!D81,4)=\"E068\",LEFT('PLA-FO-01'!S81,2)=\"60\")),\"AF1R5\",OR(AND(LEFT('PLA-FO-01'!D81,4)=\"E066\",LEFT('PLA-FO-01'!S81,2)<>\"60\"),AND(LEFT('PLA-FO-01'!D81,4)=\"E067\",LEFT('PLA-FO-01'!S81,2)<>\"60\"),AND(LEFT('PLA-FO-01'!D81,4)=\"E068\",LEFT('PLA-FO-01'!S81,2)<>\"60\")),\"AF1R6\",OR(LEFT('PLA-FO-01'!D81,4)=\"R001\",LEFT('PLA-FO-01'!D81,4)=\"O001\",LEFT('PLA-FO-01'!D81,4)=\"M001\"),\"AF1R7\"),\"Falta Valor\"), \"NO APLICA, revisar!\")","v":"Falta Valor"}]
["E068",null,"Prácticas profesionales.","E06803.04","(E06803.04)","Prácticas profesionales. (E06803.04)"," ",null,{"$f":"CELL(\"contenido\",'PP y Comp'!X1)","v":"M001 - Gestión eficiente y orientada a resultados."},{"$f":"CELL(\"contenido\",'PP y Comp'!X11)","v":"C10. Servicio gerencial."},null,null,null,null,null,{"$f":"CELL(\"contenido\",'PP y Comp'!F140)","v":"Afiliación y actualización de vigencia de derechos. (M00103.11)"},null,null,null,null,null,null,null,null,null,null,null,null,null,null,null,null,null,null,null,null,null,null,null,null,null,null,null,null,null,null,null,null,null,{"$f":"IFERROR(IF(AND('PLA-FO-01'!D82<>\"\",'PLA-FO-01'!S82<>\"\",'PLA-FO-01'!E82<>\"\"),_xlfn.IFS(OR(AND(LEFT('PLA-FO-01'!D82,4)=\"E040\",LEFT('PLA-FO-01'!E82,3)=\"C01\"),AND(LEFT('PLA-FO-01'!D82,4)=\"E040\",LEFT('PLA-FO-01'!E82,3)=\"C03\"),AND(LEFT('PLA-FO-01'!D82,4)=\"E040\",LEFT('PLA-FO-01'!E82,3)=\"C04\")),\"AF1R1\",AND(LEFT('PLA-FO-01'!D82,4)=\"E040\",LEFT('PLA-FO-01'!E82,3)=\"C02\",LEFT('PLA-FO-01'!S82,2)<>\"60\"),\"AF1R2\",AND(LEFT('PLA-FO-01'!D82,4)=\"E035\",LEFT('PLA-FO-01'!S82,5)=\"20040\"),\"AF1R3\",AND(LEFT('PLA-FO-01'!D82,4)=\"E035\",LEFT('PLA-FO-01'!S82,5)<>\"20040\"),\"AF1R4\",OR(AND(LEFT('PLA-FO-01'!D82,4)=\"E066\",LEFT('PLA-FO-01'!S82,2)=\"60\"),AND(LEFT('PLA-FO-01'!D82,4)=\"E067\",LEFT('PLA-FO-01'!S82,2)=\"60\"),AND(LEFT('PLA-FO-01'!D82,4)=\"E068\",LEFT('PLA-FO-01'!S82,2)=\"60\")),\"AF1R5\",OR(AND(LEFT('PLA-FO-01'!D82,4)=\"E066\",LEFT('PLA-FO-01'!S82,2)<>\"60\"),AND(LEFT('PLA-FO-01'!D82,4)=\"E067\",LEFT('PLA-FO-01'!S82,2)<>\"60\"),AND(LEFT('PLA-FO-01'!D82,4)=\"E068\",LEFT('PLA-FO-01'!S82,2)<>\"60\")),\"AF1R6\",OR(LEFT('PLA-FO-01'!D82,4)=\"R001\",LEFT('PLA-FO-01'!D82,4)=\"O001\",LEFT('PLA-FO-01'!D82,4)=\"M001\"),\"AF1R7\"),\"Falta Valor\"), \"NO APLICA, revisar!\")","v":"Falta Valor"}]
["E068",null,"Gestión de contratos  de prestación de servicios y vinculación que otorgue la Universidad de Guanajuato a favor de terceros.","E06803.05","(E06803.05)","Gestión de contratos  de prestación de servicios y vinculación que otorgue la Universidad de Guanajuato a favor de terceros. (E06803.05)"," ",null,null,null,null,null,null,null,null,{"$f":"CELL(\"contenido\",'PP y Comp'!F141)","v":"Servicios médicos (Unidades de primer contacto, Red Médica). (M00103.12)"},null,null,null,null,null,null,null,null,null,null,null,null,null,null,null,null,null,null,null,null,null,null,null,null,null,null,null,null,null,null,null,null,null,{"$f":"IFERROR(IF(AND('PLA-FO-01'!D83<>\"\",'PLA-FO-01'!S83<>\"\",'PLA-FO-01'!E83<>\"\"),_xlfn.IFS(OR(AND(LEFT('PLA-FO-01'!D83,4)=\"E040\",LEFT('PLA-FO-01'!E83,3)=\"C01\"),AND(LEFT('PLA-FO-01'!D83,4)=\"E040\",LEFT('PLA-FO-01'!E83,3)=\"C03\"),AND(LEFT('PLA-FO-01'!D83,4)=\"E040\",LEFT('PLA-FO-01'!E83,3)=\"C04\")),\"AF1R1\",AND(LEFT('PLA-FO-01'!D83,4)=\"E040\",LEFT('PLA-FO-01'!E83,3)=\"C02\",LEFT('PLA-FO-01'!S83,2)<>\"60\"),\"AF1R2\",AND(LEFT('PLA-FO-01'!D83,4)=\"E035\",LEFT('PLA-FO-01'!S83,5)=\"20040\"),\"AF1R3\",AND(LEFT('PLA-FO-01'!D83,4)=\"E035\",LEFT('PLA-FO-01'!S83,5)<>\"20040\"),\"AF1R4\",OR(AND(LEFT('PLA-FO-01'!D83,4)=\"E066\",LEFT('PLA-FO-01'!S83,2)=\"60\"),AND(LEFT('PLA-FO-01'!D83,4)=\"E067\",LEFT('PLA-FO-01'!S83,2)=\"60\"),AND(LEFT('PLA-FO-01'!D83,4)=\"E068\",LEFT('PLA-FO-01'!S83,2)=\"60\")),\"AF1R5\",OR(AND(LEFT('PLA-FO-01'!D83,4)=\"E066\",LEFT('PLA-FO-01'!S83,2)<>\"60\"),AND(LEFT('PLA-FO-01'!D83,4)=\"E067\",LEFT('PLA-FO-01'!S83,2)<>\"60\"),AND(LEFT('PLA-FO-01'!D83,4)=\"E068\",LEFT('PLA-FO-01'!S83,2)<>\"60\")),\"AF1R6\",OR(LEFT('PLA-FO-01'!D83,4)=\"R001\",LEFT('PLA-FO-01'!D83,4)=\"O001\",LEFT('PLA-FO-01'!D83,4)=\"M001\"),\"AF1R7\"),\"Falta Valor\"), \"NO APLICA, revisar!\")","v":"Falta Valor"}]
["E040","C1","Acciones y publicaciones para promover, comunicar y divulgar la Ciencia y los Desarrollos Tecnológicos e Innovación universitarios.","E04001.01","(E04001.01)","Acciones y publicaciones para promover, comunicar y divulgar la Ciencia y los Desarrollos Tecnológicos e Innovación universitarios. (E04001.01)"," ",null,null,null,null,null,null,null,null,{"$f":"CELL(\"contenido\",'PP y Comp'!F142)","v":"Pensiones y Jubilaciones. (M00103.13)"},null,null,null,null,null,null,null,null,null,null,null,null,null,null,null,null,null,null,null,null,null,null,null,null,null,null,null,null,null,null,null,null,null,{"$f":"IFERROR(IF(AND('PLA-FO-01'!D84<>\"\",'PLA-FO-01'!S84<>\"\",'PLA-FO-01'!E84<>\"\"),_xlfn.IFS(OR(AND(LEFT('PLA-FO-01'!D84,4)=\"E040\",LEFT('PLA-FO-01'!E84,3)=\"C01\"),AND(LEFT('PLA-FO-01'!D84,4)=\"E040\",LEFT('PLA-FO-01'!E84,3)=\"C03\"),AND(LEFT('PLA-FO-01'!D84,4)=\"E040\",LEFT('PLA-FO-01'!E84,3)=\"C04\")),\"AF1R1\",AND(LEFT('PLA-FO-01'!D84,4)=\"E040\",LEFT('PLA-FO-01'!E84,3)=\"C02\",LEFT('PLA-FO-01'!S84,2)<>\"60\"),\"AF1R2\",AND(LEFT('PLA-FO-01'!D84,4)=\"E035\",LEFT('PLA-FO-01'!S84,5)=\"20040\"),\"AF1R3\",AND(LEFT('PLA-FO-01'!D84,4)=\"E035\",LEFT('PLA-FO-01'!S84,5)<>\"20040\"),\"AF1R4\",OR(AND(LEFT('PLA-FO-01'!D84,4)=\"E066\",LEFT('PLA-FO-01'!S84,2)=\"60\"),AND(LEFT('PLA-FO-01'!D84,4)=\"E067\",LEFT('PLA-FO-01'!S84,2)=\"60\"),AND(LEFT('PLA-FO-01'!D84,4)=\"E068\",LEFT('PLA-FO-01'!S84,2)=\"60\")),\"AF1R5\",OR(AND(LEFT('PLA-FO-01'!D84,4)=\"E066\",LEFT('PLA-FO-01'!S84,2)<>\"60\"),AND(LEFT('PLA-FO-01'!D84,4)=\"E067\",LEFT('PLA-FO-01'!S84,2)<>\"60\"),AND(LEFT('PLA-FO-01'!D84,4)=\"E068\",LEFT('PLA-FO-01'!S84,2)<>\"60\")),\"AF1R6\",OR(LEFT('PLA-FO-01'!D84,4)=\"R001\",LEFT('PLA-FO-01'!D84,4)=\"O001\",LEFT('PLA-FO-01'!D84,4)=\"M001\"),\"AF1R7\"),\"Falta Valor\"), \"NO APLICA, revisar!\")","v":"Falta Valor"}]
["E040",null,"Apoyos para la participación en eventos de divulgación científica para alumnos y profesores.","E04001.02","(E04001.02)","Apoyos para la participación en eventos de divulgación científica para alumnos y profesores. (E04001.02)"," ",null,null,null,null,null,null,null,null,null,null,null,null,null,null,null,null,null,null,null,null,null,null,null,null,null,null,null,null,null,null,null,null,null,null,null,null,null,null,null,null,null,null,{"$f":"IFERROR(IF(AND('PLA-FO-01'!D85<>\"\",'PLA-FO-01'!S85<>\"\",'PLA-FO-01'!E85<>\"\"),_xlfn.IFS(OR(AND(LEFT('PLA-FO-01'!D85,4)=\"E040\",LEFT('PLA-FO-01'!E85,3)=\"C01\"),AND(LEFT('PLA-FO-01'!D85,4)=\"E040\",LEFT('PLA-FO-01'!E85,3)=\"C03\"),AND(LEFT('PLA-FO-01'!D85,4)=\"E040\",LEFT('PLA-FO-01'!E85,3)=\"C04\")),\"AF1R1\",AND(LEFT('PLA-FO-01'!D85,4)=\"E040\",LEFT('PLA-FO-01'!E85,3)=\"C02\",LEFT('PLA-FO-01'!S85,2)<>\"60\"),\"AF1R2\",AND(LEFT('PLA-FO-01'!D85,4)=\"E035\",LEFT('PLA-FO-01'!S85,5)=\"20040\"),\"AF1R3\",AND(LEFT('PLA-FO-01'!D85,4)=\"E035\",LEFT('PLA-FO-01'!S85,5)<>\"20040\"),\"AF1R4\",OR(AND(LEFT('PLA-FO-01'!D85,4)=\"E066\",LEFT('PLA-FO-01'!S85,2)=\"60\"),AND(LEFT('PLA-FO-01'!D85,4)=\"E067\",LEFT('PLA-FO-01'!S85,2)=\"60\"),AND(LEFT('PLA-FO-01'!D85,4)=\"E068\",LEFT('PLA-FO-01'!S85,2)=\"60\")),\"AF1R5\",OR(AND(LEFT('PLA-FO-01'!D85,4)=\"E066\",LEFT('PLA-FO-01'!S85,2)<>\"60\"),AND(LEFT('PLA-FO-01'!D85,4)=\"E067\",LEFT('PLA-FO-01'!S85,2)<>\"60\"),AND(LEFT('PLA-FO-01'!D85,4)=\"E068\",LEFT('PLA-FO-01'!S85,2)<>\"60\")),\"AF1R6\",OR(LEFT('PLA-FO-01'!D85,4)=\"R001\",LEFT('PLA-FO-01'!D85,4)=\"O001\",LEFT('PLA-FO-01'!D85,4)=\"M001\"),\"AF1R7\"),\"Falta Valor\"), \"NO APLICA, revisar!\")","v":"Falta Valor"}]
["E040","C3","Convocatoria Institucional de Investigación Científica.","E04003.01","(E04003.01)",{"$f":"_xlfn.TEXTJOIN(\" \",FALSE,C86,E86)","v":"Convocatoria Institucional de Investigación Científica. (E04003.01)"}," ",null,null,null,null,null,null,null,null,null,null,null,null,null,null,null,null,null,null,null,null,null,null,null,null,null,null,null,null,null,null,null,null,null,null,null,null,null,null,null,null,null,null,{"$f":"IFERROR(IF(AND('PLA-FO-01'!D86<>\"\",'PLA-FO-01'!S86<>\"\",'PLA-FO-01'!E86<>\"\"),_xlfn.IFS(OR(AND(LEFT('PLA-FO-01'!D86,4)=\"E040\",LEFT('PLA-FO-01'!E86,3)=\"C01\"),AND(LEFT('PLA-FO-01'!D86,4)=\"E040\",LEFT('PLA-FO-01'!E86,3)=\"C03\"),AND(LEFT('PLA-FO-01'!D86,4)=\"E040\",LEFT('PLA-FO-01'!E86,3)=\"C04\")),\"AF1R1\",AND(LEFT('PLA-FO-01'!D86,4)=\"E040\",LEFT('PLA-FO-01'!E86,3)=\"C02\",LEFT('PLA-FO-01'!S86,2)<>\"60\"),\"AF1R2\",AND(LEFT('PLA-FO-01'!D86,4)=\"E035\",LEFT('PLA-FO-01'!S86,5)=\"20040\"),\"AF1R3\",AND(LEFT('PLA-FO-01'!D86,4)=\"E035\",LEFT('PLA-FO-01'!S86,5)<>\"20040\"),\"AF1R4\",OR(AND(LEFT('PLA-FO-01'!D86,4)=\"E066\",LEFT('PLA-FO-01'!S86,2)=\"60\"),AND(LEFT('PLA-FO-01'!D86,4)=\"E067\",LEFT('PLA-FO-01'!S86,2)=\"60\"),AND(LEFT('PLA-FO-01'!D86,4)=\"E068\",LEFT('PLA-FO-01'!S86,2)=\"60\")),\"AF1R5\",OR(AND(LEFT('PLA-FO-01'!D86,4)=\"E066\",LEFT('PLA-FO-01'!S86,2)<>\"60\"),AND(LEFT('PLA-FO-01'!D86,4)=\"E067\",LEFT('PLA-FO-01'!S86,2)<>\"60\"),AND(LEFT('PLA-FO-01'!D86,4)=\"E068\",LEFT('PLA-FO-01'!S86,2)<>\"60\")),\"AF1R6\",OR(LEFT('PLA-FO-01'!D86,4)=\"R001\",LEFT('PLA-FO-01'!D86,4)=\"O001\",LEFT('PLA-FO-01'!D86,4)=\"M001\"),\"AF1R7\"),\"Falta Valor\"), \"NO APLICA, revisar!\")","v":"Falta Valor"}]
["E040",null,"Gestión de Veranos Científicos.","E04003.02","(E04003.02)","Gestión de Veranos Científicos. (E04003.02)"," ",null,null,null,null,null,null,null,null,null,null,null,null,null,null,null,null,null,null,null,null,null,null,null,null,null,null,null,null,null,null,null,null,null,null,null,null,null,null,null,null,null,null,{"$f":"IFERROR(IF(AND('PLA-FO-01'!D87<>\"\",'PLA-FO-01'!S87<>\"\",'PLA-FO-01'!E87<>\"\"),_xlfn.IFS(OR(AND(LEFT('PLA-FO-01'!D87,4)=\"E040\",LEFT('PLA-FO-01'!E87,3)=\"C01\"),AND(LEFT('PLA-FO-01'!D87,4)=\"E040\",LEFT('PLA-FO-01'!E87,3)=\"C03\"),AND(LEFT('PLA-FO-01'!D87,4)=\"E040\",LEFT('PLA-FO-01'!E87,3)=\"C04\")),\"AF1R1\",AND(LEFT('PLA-FO-01'!D87,4)=\"E040\",LEFT('PLA-FO-01'!E87,3)=\"C02\",LEFT('PLA-FO-01'!S87,2)<>\"60\"),\"AF1R2\",AND(LEFT('PLA-FO-01'!D87,4)=\"E035\",LEFT('PLA-FO-01'!S87,5)=\"20040\"),\"AF1R3\",AND(LEFT('PLA-FO-01'!D87,4)=\"E035\",LEFT('PLA-FO-01'!S87,5)<>\"20040\"),\"AF1R4\",OR(AND(LEFT('PLA-FO-01'!D87,4)=\"E066\",LEFT('PLA-FO-01'!S87,2)=\"60\"),AND(LEFT('PLA-FO-01'!D87,4)=\"E067\",LEFT('PLA-FO-01'!S87,2)=\"60\"),AND(LEFT('PLA-FO-01'!D87,4)=\"E068\",LEFT('PLA-FO-01'!S87,2)=\"60\")),\"AF1R5\",OR(AND(LEFT('PLA-FO-01'!D87,4)=\"E066\",LEFT('PLA-FO-01'!S87,2)<>\"60\"),AND(LEFT('PLA-FO-01'!D87,4)=\"E067\",LEFT('PLA-FO-01'!S87,2)<>\"60\"),AND(LEFT('PLA-FO-01'!D87,4)=\"E068\",LEFT('PLA-FO-01'!S87,2)<>\"60\")),\"AF1R6\",OR(LEFT('PLA-FO-01'!D87,4)=\"R001\",LEFT('PLA-FO-01'!D87,4)=\"O001\",LEFT('PLA-FO-01'!D87,4)=\"M001\"),\"AF1R7\"),\"Falta Valor\"), \"NO APLICA, revisar!\")","v":"Falta Valor"}]
["E040",null,"Registro y ajustes de cuerpos académicos.","E04003.03","(E04003.03)","Registro y ajustes de cuerpos académicos. (E04003.03)"," ",null,null,null,null,null,null,null,null,null,null,null,null,null,null,null,null,null,null,null,null,null,null,null,null,null,null,null,null,null,null,null,null,null,null,null,null,null,null,null,null,null,null,{"$f":"IFERROR(IF(AND('PLA-FO-01'!D88<>\"\",'PLA-FO-01'!S88<>\"\",'PLA-FO-01'!E88<>\"\"),_xlfn.IFS(OR(AND(LEFT('PLA-FO-01'!D88,4)=\"E040\",LEFT('PLA-FO-01'!E88,3)=\"C01\"),AND(LEFT('PLA-FO-01'!D88,4)=\"E040\",LEFT('PLA-FO-01'!E88,3)=\"C03\"),AND(LEFT('PLA-FO-01'!D88,4)=\"E040\",LEFT('PLA-FO-01'!E88,3)=\"C04\")),\"AF1R1\",AND(LEFT('PLA-FO-01'!D88,4)=\"E040\",LEFT('PLA-FO-01'!E88,3)=\"C02\",LEFT('PLA-FO-01'!S88,2)<>\"60\"),\"AF1R2\",AND(LEFT('PLA-FO-01'!D88,4)=\"E035\",LEFT('PLA-FO-01'!S88,5)=\"20040\"),\"AF1R3\",AND(LEFT('PLA-FO-01'!D88,4)=\"E035\",LEFT('PLA-FO-01'!S88,5)<>\"20040\"),\"AF1R4\",OR(AND(LEFT('PLA-FO-01'!D88,4)=\"E066\",LEFT('PLA-FO-01'!S88,2)=\"60\"),AND(LEFT('PLA-FO-01'!D88,4)=\"E067\",LEFT('PLA-FO-01'!S88,2)=\"60\"),AND(LEFT('PLA-FO-01'!D88,4)=\"E068\",LEFT('PLA-FO-01'!S88,2)=\"60\")),\"AF1R5\",OR(AND(LEFT('PLA-FO-01'!D88,4)=\"E066\",LEFT('PLA-FO-01'!S88,2)<>\"60\"),AND(LEFT('PLA-FO-01'!D88,4)=\"E067\",LEFT('PLA-FO-01'!S88,2)<>\"60\"),AND(LEFT('PLA-FO-01'!D88,4)=\"E068\",LEFT('PLA-FO-01'!S88,2)<>\"60\")),\"AF1R6\",OR(LEFT('PLA-FO-01'!D88,4)=\"R001\",LEFT('PLA-FO-01'!D88,4)=\"O001\",LEFT('PLA-FO-01'!D88,4)=\"M001\"),\"AF1R7\"),\"Falta Valor\"), \"NO APLICA, revisar!\")","v":"Falta Valor"}]
["E040",null,"Trámite de Convenios y Gestión de Apoyos Económicos para la Investigación.","E04003.04","(E04003.04)","Trámite de Convenios y Gestión de Apoyos Económicos para la Investigación. (E04003.04)"," ",null,null,null,null,null,null,null,null,null,null,null,null,null,null,null,null,null,null,null,null,null,null,null,null,null,null,null,null,null,null,null,null,null,null,null,null,null,null,null,null,null,null,{"$f":"IFERROR(IF(AND('PLA-FO-01'!D89<>\"\",'PLA-FO-01'!S89<>\"\",'PLA-FO-01'!E89<>\"\"),_xlfn.IFS(OR(AND(LEFT('PLA-FO-01'!D89,4)=\"E040\",LEFT('PLA-FO-01'!E89,3)=\"C01\"),AND(LEFT('PLA-FO-01'!D89,4)=\"E040\",LEFT('PLA-FO-01'!E89,3)=\"C03\"),AND(LEFT('PLA-FO-01'!D89,4)=\"E040\",LEFT('PLA-FO-01'!E89,3)=\"C04\")),\"AF1R1\",AND(LEFT('PLA-FO-01'!D89,4)=\"E040\",LEFT('PLA-FO-01'!E89,3)=\"C02\",LEFT('PLA-FO-01'!S89,2)<>\"60\"),\"AF1R2\",AND(LEFT('PLA-FO-01'!D89,4)=\"E035\",LEFT('PLA-FO-01'!S89,5)=\"20040\"),\"AF1R3\",AND(LEFT('PLA-FO-01'!D89,4)=\"E035\",LEFT('PLA-FO-01'!S89,5)<>\"20040\"),\"AF1R4\",OR(AND(LEFT('PLA-FO-01'!D89,4)=\"E066\",LEFT('PLA-FO-01'!S89,2)=\"60\"),AND(LEFT('PLA-FO-01'!D89,4)=\"E067\",LEFT('PLA-FO-01'!S89,2)=\"60\"),AND(LEFT('PLA-FO-01'!D89,4)=\"E068\",LEFT('PLA-FO-01'!S89,2)=\"60\")),\"AF1R5\",OR(AND(LEFT('PLA-FO-01'!D89,4)=\"E066\",LEFT('PLA-FO-01'!S89,2)<>\"60\"),AND(LEFT('PLA-FO-01'!D89,4)=\"E067\",LEFT('PLA-FO-01'!S89,2)<>\"60\"),AND(LEFT('PLA-FO-01'!D89,4)=\"E068\",LEFT('PLA-FO-01'!S89,2)<>\"60\")),\"AF1R6\",OR(LEFT('PLA-FO-01'!D89,4)=\"R001\",LEFT('PLA-FO-01'!D89,4)=\"O001\",LEFT('PLA-FO-01'!D89,4)=\"M001\"),\"AF1R7\"),\"Falta Valor\"), \"NO APLICA, revisar!\")","v":"Falta Valor"}]
["E040",null,"Gestión y seguimiento al PRODEP.","E04003.05","(E04003.05)","Gestión y seguimiento al PRODEP. (E04003.05)"," ",null,null,"validación de datos de la calendarización para los capitulos 5 y 6 mil de los meses abril a noviembre",null,null,null,null,null,null,null,null,null,null,null,null,null,null,null,null,null,null,null,null,null,null,null,null,null,null,null,null,null,null,null,null,null,null,null,null,null,null,null,{"$f":"IFERROR(IF(AND('PLA-FO-01'!D90<>\"\",'PLA-FO-01'!S90<>\"\",'PLA-FO-01'!E90<>\"\"),_xlfn.IFS(OR(AND(LEFT('PLA-FO-01'!D90,4)=\"E040\",LEFT('PLA-FO-01'!E90,3)=\"C01\"),AND(LEFT('PLA-FO-01'!D90,4)=\"E040\",LEFT('PLA-FO-01'!E90,3)=\"C03\"),AND(LEFT('PLA-FO-01'!D90,4)=\"E040\",LEFT('PLA-FO-01'!E90,3)=\"C04\")),\"AF1R1\",AND(LEFT('PLA-FO-01'!D90,4)=\"E040\",LEFT('PLA-FO-01'!E90,3)=\"C02\",LEFT('PLA-FO-01'!S90,2)<>\"60\"),\"AF1R2\",AND(LEFT('PLA-FO-01'!D90,4)=\"E035\",LEFT('PLA-FO-01'!S90,5)=\"20040\"),\"AF1R3\",AND(LEFT('PLA-FO-01'!D90,4)=\"E035\",LEFT('PLA-FO-01'!S90,5)<>\"20040\"),\"AF1R4\",OR(AND(LEFT('PLA-FO-01'!D90,4)=\"E066\",LEFT('PLA-FO-01'!S90,2)=\"60\"),AND(LEFT('PLA-FO-01'!D90,4)=\"E067\",LEFT('PLA-FO-01'!S90,2)=\"60\"),AND(LEFT('PLA-FO-01'!D90,4)=\"E068\",LEFT('PLA-FO-01'!S90,2)=\"60\")),\"AF1R5\",OR(AND(LEFT('PLA-FO-01'!D90,4)=\"E066\",LEFT('PLA-FO-01'!S90,2)<>\"60\"),AND(LEFT('PLA-FO-01'!D90,4)=\"E067\",LEFT('PLA-FO-01'!S90,2)<>\"60\"),AND(LEFT('PLA-FO-01'!D90,4)=\"E068\",LEFT('PLA-FO-01'!S90,2)<>\"60\")),\"AF1R6\",OR(LEFT('PLA-FO-01'!D90,4)=\"R001\",LEFT('PLA-FO-01'!D90,4)=\"O001\",LEFT('PLA-FO-01'!D90,4)=\"M001\"),\"AF1R7\"),\"Falta Valor\"), \"NO APLICA, revisar!\")","v":"Falta Valor"}]
["E040",null,"Apoyo para participación en convocatorias con organismos financiadores externos.","E04003.06","(E04003.06)","Apoyo para participación en convocatorias con organismos financiadores externos. (E04003.06)"," ",null,null," =SI(O(VALOR.NUMERO(IZQUIERDA(CELDA(\"contenido\",'FO-DPL-05_FORMA_A'!T25),1))=5,VALOR.NUMERO(IZQUIERDA(CELDA(\"contenido\",'FO-DPL-05_FORMA_A'!T25),1))=6),J21=0,VALOR.NUMERO(J21)>=0)",null,null,null,null,null,null,null,null,null,null,null,null,null,null,null,null,null,null,null,null,null,null,null,null,null,null,null,null,null,null,null,null,null,null,null,null,null,null,null,{"$f":"IFERROR(IF(AND('PLA-FO-01'!D91<>\"\",'PLA-FO-01'!S91<>\"\",'PLA-FO-01'!E91<>\"\"),_xlfn.IFS(OR(AND(LEFT('PLA-FO-01'!D91,4)=\"E040\",LEFT('PLA-FO-01'!E91,3)=\"C01\"),AND(LEFT('PLA-FO-01'!D91,4)=\"E040\",LEFT('PLA-FO-01'!E91,3)=\"C03\"),AND(LEFT('PLA-FO-01'!D91,4)=\"E040\",LEFT('PLA-FO-01'!E91,3)=\"C04\")),\"AF1R1\",AND(LEFT('PLA-FO-01'!D91,4)=\"E040\",LEFT('PLA-FO-01'!E91,3)=\"C02\",LEFT('PLA-FO-01'!S91,2)<>\"60\"),\"AF1R2\",AND(LEFT('PLA-FO-01'!D91,4)=\"E035\",LEFT('PLA-FO-01'!S91,5)=\"20040\"),\"AF1R3\",AND(LEFT('PLA-FO-01'!D91,4)=\"E035\",LEFT('PLA-FO-01'!S91,5)<>\"20040\"),\"AF1R4\",OR(AND(LEFT('PLA-FO-01'!D91,4)=\"E066\",LEFT('PLA-FO-01'!S91,2)=\"60\"),AND(LEFT('PLA-FO-01'!D91,4)=\"E067\",LEFT('PLA-FO-01'!S91,2)=\"60\"),AND(LEFT('PLA-FO-01'!D91,4)=\"E068\",LEFT('PLA-FO-01'!S91,2)=\"60\")),\"AF1R5\",OR(AND(LEFT('PLA-FO-01'!D91,4)=\"E066\",LEFT('PLA-FO-01'!S91,2)<>\"60\"),AND(LEFT('PLA-FO-01'!D91,4)=\"E067\",LEFT('PLA-FO-01'!S91,2)<>\"60\"),AND(LEFT('PLA-FO-01'!D91,4)=\"E068\",LEFT('PLA-FO-01'!S91,2)<>\"60\")),\"AF1R6\",OR(LEFT('PLA-FO-01'!D91,4)=\"R001\",LEFT('PLA-FO-01'!D91,4)=\"O001\",LEFT('PLA-FO-01'!D91,4)=\"M001\"),\"AF1R7\"),\"Falta Valor\"), \"NO APLICA, revisar!\")","v":"Falta Valor"}]
["E040",null,"Apoyos para la afiliación en asociaciones de colaboración científica.","E04003.07","(E04003.07)","Apoyos para la afiliación en asociaciones de colaboración científica. (E04003.07)"," ",null,null,null,null,null,null,null,null,null,null,null,null,null,null,null,null,null,null,null,null,null,null,null,null,null,null,null,null,null,null,null,null,null,null,null,null,null,null,null,null,null,null,{"$f":"IFERROR(IF(AND('PLA-FO-01'!D92<>\"\",'PLA-FO-01'!S92<>\"\",'PLA-FO-01'!E92<>\"\"),_xlfn.IFS(OR(AND(LEFT('PLA-FO-01'!D92,4)=\"E040\",LEFT('PLA-FO-01'!E92,3)=\"C01\"),AND(LEFT('PLA-FO-01'!D92,4)=\"E040\",LEFT('PLA-FO-01'!E92,3)=\"C03\"),AND(LEFT('PLA-FO-01'!D92,4)=\"E040\",LEFT('PLA-FO-01'!E92,3)=\"C04\")),\"AF1R1\",AND(LEFT('PLA-FO-01'!D92,4)=\"E040\",LEFT('PLA-FO-01'!E92,3)=\"C02\",LEFT('PLA-FO-01'!S92,2)<>\"60\"),\"AF1R2\",AND(LEFT('PLA-FO-01'!D92,4)=\"E035\",LEFT('PLA-FO-01'!S92,5)=\"20040\"),\"AF1R3\",AND(LEFT('PLA-FO-01'!D92,4)=\"E035\",LEFT('PLA-FO-01'!S92,5)<>\"20040\"),\"AF1R4\",OR(AND(LEFT('PLA-FO-01'!D92,4)=\"E066\",LEFT('PLA-FO-01'!S92,2)=\"60\"),AND(LEFT('PLA-FO-01'!D92,4)=\"E067\",LEFT('PLA-FO-01'!S92,2)=\"60\"),AND(LEFT('PLA-FO-01'!D92,4)=\"E068\",LEFT('PLA-FO-01'!S92,2)=\"60\")),\"AF1R5\",OR(AND(LEFT('PLA-FO-01'!D92,4)=\"E066\",LEFT('PLA-FO-01'!S92,2)<>\"60\"),AND(LEFT('PLA-FO-01'!D92,4)=\"E067\",LEFT('PLA-FO-01'!S92,2)<>\"60\"),AND(LEFT('PLA-FO-01'!D92,4)=\"E068\",LEFT('PLA-FO-01'!S92,2)<>\"60\")),\"AF1R6\",OR(LEFT('PLA-FO-01'!D92,4)=\"R001\",LEFT('PLA-FO-01'!D92,4)=\"O001\",LEFT('PLA-FO-01'!D92,4)=\"M001\"),\"AF1R7\"),\"Falta Valor\"), \"NO APLICA, revisar!\")","v":"Falta Valor"}]
["E040",null,"Trámite de adscripción al S. N. I.","E04003.08","(E04003.08)","Trámite de adscripción al S. N. I. (E04003.08)"," ",null,null,null,null,null,null,null,null,null,null,null,null,null,null,null,null,null,null,null,null,null,null,null,null,null,null,null,null,null,null,null,null,null,null,null,null,null,null,null,null,null,null,{"$f":"IFERROR(IF(AND('PLA-FO-01'!D93<>\"\",'PLA-FO-01'!S93<>\"\",'PLA-FO-01'!E93<>\"\"),_xlfn.IFS(OR(AND(LEFT('PLA-FO-01'!D93,4)=\"E040\",LEFT('PLA-FO-01'!E93,3)=\"C01\"),AND(LEFT('PLA-FO-01'!D93,4)=\"E040\",LEFT('PLA-FO-01'!E93,3)=\"C03\"),AND(LEFT('PLA-FO-01'!D93,4)=\"E040\",LEFT('PLA-FO-01'!E93,3)=\"C04\")),\"AF1R1\",AND(LEFT('PLA-FO-01'!D93,4)=\"E040\",LEFT('PLA-FO-01'!E93,3)=\"C02\",LEFT('PLA-FO-01'!S93,2)<>\"60\"),\"AF1R2\",AND(LEFT('PLA-FO-01'!D93,4)=\"E035\",LEFT('PLA-FO-01'!S93,5)=\"20040\"),\"AF1R3\",AND(LEFT('PLA-FO-01'!D93,4)=\"E035\",LEFT('PLA-FO-01'!S93,5)<>\"20040\"),\"AF1R4\",OR(AND(LEFT('PLA-FO-01'!D93,4)=\"E066\",LEFT('PLA-FO-01'!S93,2)=\"60\"),AND(LEFT('PLA-FO-01'!D93,4)=\"E067\",LEFT('PLA-FO-01'!S93,2)=\"60\"),AND(LEFT('PLA-FO-01'!D93,4)=\"E068\",LEFT('PLA-FO-01'!S93,2)=\"60\")),\"AF1R5\",OR(AND(LEFT('PLA-FO-01'!D93,4)=\"E066\",LEFT('PLA-FO-01'!S93,2)<>\"60\"),AND(LEFT('PLA-FO-01'!D93,4)=\"E067\",LEFT('PLA-FO-01'!S93,2)<>\"60\"),AND(LEFT('PLA-FO-01'!D93,4)=\"E068\",LEFT('PLA-FO-01'!S93,2)<>\"60\")),\"AF1R6\",OR(LEFT('PLA-FO-01'!D93,4)=\"R001\",LEFT('PLA-FO-01'!D93,4)=\"O001\",LEFT('PLA-FO-01'!D93,4)=\"M001\"),\"AF1R7\"),\"Falta Valor\"), \"NO APLICA, revisar!\")","v":"Falta Valor"}]
["E040",null,"Trámite para la publicación (en libros y/o en revistas indexadas nacionales e internacionales).","E04003.09","(E04003.09)","Trámite para la publicación (en libros y/o en revistas indexadas nacionales e internacionales). (E04003.09)"," ",null,null,null,null,null,null,null,null,null,null,null,null,null,null,null,null,null,null,null,null,null,null,null,null,null,null,null,null,null,null,null,null,null,null,null,null,null,null,null,null,null,null,{"$f":"IFERROR(IF(AND('PLA-FO-01'!D94<>\"\",'PLA-FO-01'!S94<>\"\",'PLA-FO-01'!E94<>\"\"),_xlfn.IFS(OR(AND(LEFT('PLA-FO-01'!D94,4)=\"E040\",LEFT('PLA-FO-01'!E94,3)=\"C01\"),AND(LEFT('PLA-FO-01'!D94,4)=\"E040\",LEFT('PLA-FO-01'!E94,3)=\"C03\"),AND(LEFT('PLA-FO-01'!D94,4)=\"E040\",LEFT('PLA-FO-01'!E94,3)=\"C04\")),\"AF1R1\",AND(LEFT('PLA-FO-01'!D94,4)=\"E040\",LEFT('PLA-FO-01'!E94,3)=\"C02\",LEFT('PLA-FO-01'!S94,2)<>\"60\"),\"AF1R2\",AND(LEFT('PLA-FO-01'!D94,4)=\"E035\",LEFT('PLA-FO-01'!S94,5)=\"20040\"),\"AF1R3\",AND(LEFT('PLA-FO-01'!D94,4)=\"E035\",LEFT('PLA-FO-01'!S94,5)<>\"20040\"),\"AF1R4\",OR(AND(LEFT('PLA-FO-01'!D94,4)=\"E066\",LEFT('PLA-FO-01'!S94,2)=\"60\"),AND(LEFT('PLA-FO-01'!D94,4)=\"E067\",LEFT('PLA-FO-01'!S94,2)=\"60\"),AND(LEFT('PLA-FO-01'!D94,4)=\"E068\",LEFT('PLA-FO-01'!S94,2)=\"60\")),\"AF1R5\",OR(AND(LEFT('PLA-FO-01'!D94,4)=\"E066\",LEFT('PLA-FO-01'!S94,2)<>\"60\"),AND(LEFT('PLA-FO-01'!D94,4)=\"E067\",LEFT('PLA-FO-01'!S94,2)<>\"60\"),AND(LEFT('PLA-FO-01'!D94,4)=\"E068\",LEFT('PLA-FO-01'!S94,2)<>\"60\")),\"AF1R6\",OR(LEFT('PLA-FO-01'!D94,4)=\"R001\",LEFT('PLA-FO-01'!D94,4)=\"O001\",LEFT('PLA-FO-01'!D94,4)=\"M001\"),\"AF1R7\"),\"Falta Valor\"), \"NO APLICA, revisar!\")","v":"Falta Valor"}]
["E040",null,"Materiales y/o servicios para la investigación, desarrollo tecnológico e innovación.","E04003.10","(E04003.10)","Materiales y/o servicios para la investigación, desarrollo tecnológico e innovación. (E04003.10)"," ",null,null,null,null,null,null,null,null,null,null,null,null,null,null,null,null,null,null,null,null,null,null,null,null,null,null,null,null,null,null,null,null,null,null,null,null,null,null,null,null,null,null,{"$f":"IFERROR(IF(AND('PLA-FO-01'!D95<>\"\",'PLA-FO-01'!S95<>\"\",'PLA-FO-01'!E95<>\"\"),_xlfn.IFS(OR(AND(LEFT('PLA-FO-01'!D95,4)=\"E040\",LEFT('PLA-FO-01'!E95,3)=\"C01\"),AND(LEFT('PLA-FO-01'!D95,4)=\"E040\",LEFT('PLA-FO-01'!E95,3)=\"C03\"),AND(LEFT('PLA-FO-01'!D95,4)=\"E040\",LEFT('PLA-FO-01'!E95,3)=\"C04\")),\"AF1R1\",AND(LEFT('PLA-FO-01'!D95,4)=\"E040\",LEFT('PLA-FO-01'!E95,3)=\"C02\",LEFT('PLA-FO-01'!S95,2)<>\"60\"),\"AF1R2\",AND(LEFT('PLA-FO-01'!D95,4)=\"E035\",LEFT('PLA-FO-01'!S95,5)=\"20040\"),\"AF1R3\",AND(LEFT('PLA-FO-01'!D95,4)=\"E035\",LEFT('PLA-FO-01'!S95,5)<>\"20040\"),\"AF1R4\",OR(AND(LEFT('PLA-FO-01'!D95,4)=\"E066\",LEFT('PLA-FO-01'!S95,2)=\"60\"),AND(LEFT('PLA-FO-01'!D95,4)=\"E067\",LEFT('PLA-FO-01'!S95,2)=\"60\"),AND(LEFT('PLA-FO-01'!D95,4)=\"E068\",LEFT('PLA-FO-01'!S95,2)=\"60\")),\"AF1R5\",OR(AND(LEFT('PLA-FO-01'!D95,4)=\"E066\",LEFT('PLA-FO-01'!S95,2)<>\"60\"),AND(LEFT('PLA-FO-01'!D95,4)=\"E067\",LEFT('PLA-FO-01'!S95,2)<>\"60\"),AND(LEFT('PLA-FO-01'!D95,4)=\"E068\",LEFT('PLA-FO-01'!S95,2)<>\"60\")),\"AF1R6\",OR(LEFT('PLA-FO-01'!D95,4)=\"R001\",LEFT('PLA-FO-01'!D95,4)=\"O001\",LEFT('PLA-FO-01'!D95,4)=\"M001\"),\"AF1R7\"),\"Falta Valor\"), \"NO APLICA, revisar!\")","v":"Falta Valor"}]
["E040",null,"Becas para alumnos (Exclusivo para FF de Convenios de Investigación).","E04003.11","(E04003.11)",{"$f":"_xlfn.TEXTJOIN(\" \",FALSE,C96,E96)","v":"Becas para alumnos (Exclusivo para FF de Convenios de Investigación). (E04003.11)"}," ",null,null,null,null,null,null,null,null,null,null,null,null,null,null,null,null,null,null,null,null,null,null,null,null,null,null,null,null,null,null,null,null,null,null,null,null,null,null,null,null,null,null,{"$f":"IFERROR(IF(AND('PLA-FO-01'!D96<>\"\",'PLA-FO-01'!S96<>\"\",'PLA-FO-01'!E96<>\"\"),_xlfn.IFS(OR(AND(LEFT('PLA-FO-01'!D96,4)=\"E040\",LEFT('PLA-FO-01'!E96,3)=\"C01\"),AND(LEFT('PLA-FO-01'!D96,4)=\"E040\",LEFT('PLA-FO-01'!E96,3)=\"C03\"),AND(LEFT('PLA-FO-01'!D96,4)=\"E040\",LEFT('PLA-FO-01'!E96,3)=\"C04\")),\"AF1R1\",AND(LEFT('PLA-FO-01'!D96,4)=\"E040\",LEFT('PLA-FO-01'!E96,3)=\"C02\",LEFT('PLA-FO-01'!S96,2)<>\"60\"),\"AF1R2\",AND(LEFT('PLA-FO-01'!D96,4)=\"E035\",LEFT('PLA-FO-01'!S96,5)=\"20040\"),\"AF1R3\",AND(LEFT('PLA-FO-01'!D96,4)=\"E035\",LEFT('PLA-FO-01'!S96,5)<>\"20040\"),\"AF1R4\",OR(AND(LEFT('PLA-FO-01'!D96,4)=\"E066\",LEFT('PLA-FO-01'!S96,2)=\"60\"),AND(LEFT('PLA-FO-01'!D96,4)=\"E067\",LEFT('PLA-FO-01'!S96,2)=\"60\"),AND(LEFT('PLA-FO-01'!D96,4)=\"E068\",LEFT('PLA-FO-01'!S96,2)=\"60\")),\"AF1R5\",OR(AND(LEFT('PLA-FO-01'!D96,4)=\"E066\",LEFT('PLA-FO-01'!S96,2)<>\"60\"),AND(LEFT('PLA-FO-01'!D96,4)=\"E067\",LEFT('PLA-FO-01'!S96,2)<>\"60\"),AND(LEFT('PLA-FO-01'!D96,4)=\"E068\",LEFT('PLA-FO-01'!S96,2)<>\"60\")),\"AF1R6\",OR(LEFT('PLA-FO-01'!D96,4)=\"R001\",LEFT('PLA-FO-01'!D96,4)=\"O001\",LEFT('PLA-FO-01'!D96,4)=\"M001\"),\"AF1R7\"),\"Falta Valor\"), \"NO APLICA, revisar!\")","v":"Falta Valor"}]
["E040",null,"Estancias de Investigación de profesores.","E04003.12","(E04003.12)","Estancias de Investigación de profesores. (E04003.12)"," ",null,null,null,null,null,null,null,null,null,null,null,null,null,null,null,null,null,null,null,null,null,null,null,null,null,null,null,null,null,null,null,null,null,null,null,null,null,null,null,null,null,null,{"$f":"IFERROR(IF(AND('PLA-FO-01'!D97<>\"\",'PLA-FO-01'!S97<>\"\",'PLA-FO-01'!E97<>\"\"),_xlfn.IFS(OR(AND(LEFT('PLA-FO-01'!D97,4)=\"E040\",LEFT('PLA-FO-01'!E97,3)=\"C01\"),AND(LEFT('PLA-FO-01'!D97,4)=\"E040\",LEFT('PLA-FO-01'!E97,3)=\"C03\"),AND(LEFT('PLA-FO-01'!D97,4)=\"E040\",LEFT('PLA-FO-01'!E97,3)=\"C04\")),\"AF1R1\",AND(LEFT('PLA-FO-01'!D97,4)=\"E040\",LEFT('PLA-FO-01'!E97,3)=\"C02\",LEFT('PLA-FO-01'!S97,2)<>\"60\"),\"AF1R2\",AND(LEFT('PLA-FO-01'!D97,4)=\"E035\",LEFT('PLA-FO-01'!S97,5)=\"20040\"),\"AF1R3\",AND(LEFT('PLA-FO-01'!D97,4)=\"E035\",LEFT('PLA-FO-01'!S97,5)<>\"20040\"),\"AF1R4\",OR(AND(LEFT('PLA-FO-01'!D97,4)=\"E066\",LEFT('PLA-FO-01'!S97,2)=\"60\"),AND(LEFT('PLA-FO-01'!D97,4)=\"E067\",LEFT('PLA-FO-01'!S97,2)=\"60\"),AND(LEFT('PLA-FO-01'!D97,4)=\"E068\",LEFT('PLA-FO-01'!S97,2)=\"60\")),\"AF1R5\",OR(AND(LEFT('PLA-FO-01'!D97,4)=\"E066\",LEFT('PLA-FO-01'!S97,2)<>\"60\"),AND(LEFT('PLA-FO-01'!D97,4)=\"E067\",LEFT('PLA-FO-01'!S97,2)<>\"60\"),AND(LEFT('PLA-FO-01'!D97,4)=\"E068\",LEFT('PLA-FO-01'!S97,2)<>\"60\")),\"AF1R6\",OR(LEFT('PLA-FO-01'!D97,4)=\"R001\",LEFT('PLA-FO-01'!D97,4)=\"O001\",LEFT('PLA-FO-01'!D97,4)=\"M001\"),\"AF1R7\"),\"Falta Valor\"), \"NO APLICA, revisar!\")","v":"Falta Valor"}]
["E040",null,"Registro de propiedad Industrial.","E04003.13","(E04003.13)","Registro de propiedad Industrial. (E04003.13)"," ",null,null,null,null,null,null,null,null,null,null,null,null,null,null,null,null,null,null,null,null,null,null,null,null,null,null,null,null,null,null,null,null,null,null,null,null,null,null,null,null,null,null,{"$f":"IFERROR(IF(AND('PLA-FO-01'!D98<>\"\",'PLA-FO-01'!S98<>\"\",'PLA-FO-01'!E98<>\"\"),_xlfn.IFS(OR(AND(LEFT('PLA-FO-01'!D98,4)=\"E040\",LEFT('PLA-FO-01'!E98,3)=\"C01\"),AND(LEFT('PLA-FO-01'!D98,4)=\"E040\",LEFT('PLA-FO-01'!E98,3)=\"C03\"),AND(LEFT('PLA-FO-01'!D98,4)=\"E040\",LEFT('PLA-FO-01'!E98,3)=\"C04\")),\"AF1R1\",AND(LEFT('PLA-FO-01'!D98,4)=\"E040\",LEFT('PLA-FO-01'!E98,3)=\"C02\",LEFT('PLA-FO-01'!S98,2)<>\"60\"),\"AF1R2\",AND(LEFT('PLA-FO-01'!D98,4)=\"E035\",LEFT('PLA-FO-01'!S98,5)=\"20040\"),\"AF1R3\",AND(LEFT('PLA-FO-01'!D98,4)=\"E035\",LEFT('PLA-FO-01'!S98,5)<>\"20040\"),\"AF1R4\",OR(AND(LEFT('PLA-FO-01'!D98,4)=\"E066\",LEFT('PLA-FO-01'!S98,2)=\"60\"),AND(LEFT('PLA-FO-01'!D98,4)=\"E067\",LEFT('PLA-FO-01'!S98,2)=\"60\"),AND(LEFT('PLA-FO-01'!D98,4)=\"E068\",LEFT('PLA-FO-01'!S98,2)=\"60\")),\"AF1R5\",OR(AND(LEFT('PLA-FO-01'!D98,4)=\"E066\",LEFT('PLA-FO-01'!S98,2)<>\"60\"),AND(LEFT('PLA-FO-01'!D98,4)=\"E067\",LEFT('PLA-FO-01'!S98,2)<>\"60\"),AND(LEFT('PLA-FO-01'!D98,4)=\"E068\",LEFT('PLA-FO-01'!S98,2)<>\"60\")),\"AF1R6\",OR(LEFT('PLA-FO-01'!D98,4)=\"R001\",LEFT('PLA-FO-01'!D98,4)=\"O001\",LEFT('PLA-FO-01'!D98,4)=\"M001\"),\"AF1R7\"),\"Falta Valor\"), \"NO APLICA, revisar!\")","v":"Falta Valor"}]
["E040","C4","Equipamiento  para la investigación, desarrollo tecnológico e innovación.","E04004.01","(E04004.01)","Equipamiento  para la investigación, desarrollo tecnológico e innovación. (E04004.01)"," ",null,null,null,null,null,null,null,null,null,null,null,null,null,null,null,null,null,null,null,null,null,null,null,null,null,null,null,null,null,null,null,null,null,null,null,null,null,null,null,null,null,null,{"$f":"IFERROR(IF(AND('PLA-FO-01'!D99<>\"\",'PLA-FO-01'!S99<>\"\",'PLA-FO-01'!E99<>\"\"),_xlfn.IFS(OR(AND(LEFT('PLA-FO-01'!D99,4)=\"E040\",LEFT('PLA-FO-01'!E99,3)=\"C01\"),AND(LEFT('PLA-FO-01'!D99,4)=\"E040\",LEFT('PLA-FO-01'!E99,3)=\"C03\"),AND(LEFT('PLA-FO-01'!D99,4)=\"E040\",LEFT('PLA-FO-01'!E99,3)=\"C04\")),\"AF1R1\",AND(LEFT('PLA-FO-01'!D99,4)=\"E040\",LEFT('PLA-FO-01'!E99,3)=\"C02\",LEFT('PLA-FO-01'!S99,2)<>\"60\"),\"AF1R2\",AND(LEFT('PLA-FO-01'!D99,4)=\"E035\",LEFT('PLA-FO-01'!S99,5)=\"20040\"),\"AF1R3\",AND(LEFT('PLA-FO-01'!D99,4)=\"E035\",LEFT('PLA-FO-01'!S99,5)<>\"20040\"),\"AF1R4\",OR(AND(LEFT('PLA-FO-01'!D99,4)=\"E066\",LEFT('PLA-FO-01'!S99,2)=\"60\"),AND(LEFT('PLA-FO-01'!D99,4)=\"E067\",LEFT('PLA-FO-01'!S99,2)=\"60\"),AND(LEFT('PLA-FO-01'!D99,4)=\"E068\",LEFT('PLA-FO-01'!S99,2)=\"60\")),\"AF1R5\",OR(AND(LEFT('PLA-FO-01'!D99,4)=\"E066\",LEFT('PLA-FO-01'!S99,2)<>\"60\"),AND(LEFT('PLA-FO-01'!D99,4)=\"E067\",LEFT('PLA-FO-01'!S99,2)<>\"60\"),AND(LEFT('PLA-FO-01'!D99,4)=\"E068\",LEFT('PLA-FO-01'!S99,2)<>\"60\")),\"AF1R6\",OR(LEFT('PLA-FO-01'!D99,4)=\"R001\",LEFT('PLA-FO-01'!D99,4)=\"O001\",LEFT('PLA-FO-01'!D99,4)=\"M001\"),\"AF1R7\"),\"Falta Valor\"), \"NO APLICA, revisar!\")","v":"Falta Valor"}]
["E040",null,"Habilitación, mantenimiento y conservación de bienes muebles e inmuebles para la investigación, desarrollo tecnológico e innovación.","E04004.02",{"$f":"CONCATENATE(\"(\",D100,\")\")","v":"(E04004.02)"},"Habilitación, mantenimiento y conservación de bienes muebles e inmuebles para la investigación, desarrollo tecnológico e innovación. (E04004.02)"," ",null,null,null,null,null,null,null,null,null,null,null,null,null,null,null,null,null,null,null,null,null,null,null,null,null,null,null,null,null,null,null,null,null,null,null,null,null,null,null,null,null,null,{"$f":"IFERROR(IF(AND('PLA-FO-01'!D100<>\"\",'PLA-FO-01'!S100<>\"\",'PLA-FO-01'!E100<>\"\"),_xlfn.IFS(OR(AND(LEFT('PLA-FO-01'!D100,4)=\"E040\",LEFT('PLA-FO-01'!E100,3)=\"C01\"),AND(LEFT('PLA-FO-01'!D100,4)=\"E040\",LEFT('PLA-FO-01'!E100,3)=\"C03\"),AND(LEFT('PLA-FO-01'!D100,4)=\"E040\",LEFT('PLA-FO-01'!E100,3)=\"C04\")),\"AF1R1\",AND(LEFT('PLA-FO-01'!D100,4)=\"E040\",LEFT('PLA-FO-01'!E100,3)=\"C02\",LEFT('PLA-FO-01'!S100,2)<>\"60\"),\"AF1R2\",AND(LEFT('PLA-FO-01'!D100,4)=\"E035\",LEFT('PLA-FO-01'!S100,5)=\"20040\"),\"AF1R3\",AND(LEFT('PLA-FO-01'!D100,4)=\"E035\",LEFT('PLA-FO-01'!S100,5)<>\"20040\"),\"AF1R4\",OR(AND(LEFT('PLA-FO-01'!D100,4)=\"E066\",LEFT('PLA-FO-01'!S100,2)=\"60\"),AND(LEFT('PLA-FO-01'!D100,4)=\"E067\",LEFT('PLA-FO-01'!S100,2)=\"60\"),AND(LEFT('PLA-FO-01'!D100,4)=\"E068\",LEFT('PLA-FO-01'!S100,2)=\"60\")),\"AF1R5\",OR(AND(LEFT('PLA-FO-01'!D100,4)=\"E066\",LEFT('PLA-FO-01'!S100,2)<>\"60\"),AND(LEFT('PLA-FO-01'!D100,4)=\"E067\",LEFT('PLA-FO-01'!S100,2)<>\"60\"),AND(LEFT('PLA-FO-01'!D100,4)=\"E068\",LEFT('PLA-FO-01'!S100,2)<>\"60\")),\"AF1R6\",OR(LEFT('PLA-FO-01'!D100,4)=\"R001\",LEFT('PLA-FO-01'!D100,4)=\"O001\",LEFT('PLA-FO-01'!D100,4)=\"M001\"),\"AF1R7\"),\"Falta Valor\"), \"NO APLICA, revisar!\")","v":"Falta Valor"}]
["E035","C1","Formación y desarrollo de grupos artísticos y culturales.","E03501.01","(E03501.01)",{"$f":"_xlfn.TEXTJOIN(\" \",FALSE,C101,E101)","v":"Formación y desarrollo de grupos artísticos y culturales. (E03501.01)"}," ",null,null,null,null,null,null,null,null,null,null,null,null,null,null,null,null,null,null,null,null,null,null,null,null,null,null,null,null,null,null,null,null,null,null,null,null,null,null,null,null,null,null,{"$f":"IFERROR(IF(AND('PLA-FO-01'!D101<>\"\",'PLA-FO-01'!S101<>\"\",'PLA-FO-01'!E101<>\"\"),_xlfn.IFS(OR(AND(LEFT('PLA-FO-01'!D101,4)=\"E040\",LEFT('PLA-FO-01'!E101,3)=\"C01\"),AND(LEFT('PLA-FO-01'!D101,4)=\"E040\",LEFT('PLA-FO-01'!E101,3)=\"C03\"),AND(LEFT('PLA-FO-01'!D101,4)=\"E040\",LEFT('PLA-FO-01'!E101,3)=\"C04\")),\"AF1R1\",AND(LEFT('PLA-FO-01'!D101,4)=\"E040\",LEFT('PLA-FO-01'!E101,3)=\"C02\",LEFT('PLA-FO-01'!S101,2)<>\"60\"),\"AF1R2\",AND(LEFT('PLA-FO-01'!D101,4)=\"E035\",LEFT('PLA-FO-01'!S101,5)=\"20040\"),\"AF1R3\",AND(LEFT('PLA-FO-01'!D101,4)=\"E035\",LEFT('PLA-FO-01'!S101,5)<>\"20040\"),\"AF1R4\",OR(AND(LEFT('PLA-FO-01'!D101,4)=\"E066\",LEFT('PLA-FO-01'!S101,2)=\"60\"),AND(LEFT('PLA-FO-01'!D101,4)=\"E067\",LEFT('PLA-FO-01'!S101,2)=\"60\"),AND(LEFT('PLA-FO-01'!D101,4)=\"E068\",LEFT('PLA-FO-01'!S101,2)=\"60\")),\"AF1R5\",OR(AND(LEFT('PLA-FO-01'!D101,4)=\"E066\",LEFT('PLA-FO-01'!S101,2)<>\"60\"),AND(LEFT('PLA-FO-01'!D101,4)=\"E067\",LEFT('PLA-FO-01'!S101,2)<>\"60\"),AND(LEFT('PLA-FO-01'!D101,4)=\"E068\",LEFT('PLA-FO-01'!S101,2)<>\"60\")),\"AF1R6\",OR(LEFT('PLA-FO-01'!D101,4)=\"R001\",LEFT('PLA-FO-01'!D101,4)=\"O001\",LEFT('PLA-FO-01'!D101,4)=\"M001\"),\"AF1R7\"),\"Falta Valor\"), \"NO APLICA, revisar!\")","v":"Falta Valor"}]
["E035","C2","Organización, difusión y ejecución de eventos culturales.","E03502.01","(E03502.01)","Organización, difusión y ejecución de eventos culturales. (E03502.01)"," ",null,null,null,null,null,null,null,null,null,null,null,null,null,null,null,null,null,null,null,null,null,null,null,null,null,null,null,null,null,null,null,null,null,null,null,null,null,null,null,null,null,null,{"$f":"IFERROR(IF(AND('PLA-FO-01'!D102<>\"\",'PLA-FO-01'!S102<>\"\",'PLA-FO-01'!E102<>\"\"),_xlfn.IFS(OR(AND(LEFT('PLA-FO-01'!D102,4)=\"E040\",LEFT('PLA-FO-01'!E102,3)=\"C01\"),AND(LEFT('PLA-FO-01'!D102,4)=\"E040\",LEFT('PLA-FO-01'!E102,3)=\"C03\"),AND(LEFT('PLA-FO-01'!D102,4)=\"E040\",LEFT('PLA-FO-01'!E102,3)=\"C04\")),\"AF1R1\",AND(LEFT('PLA-FO-01'!D102,4)=\"E040\",LEFT('PLA-FO-01'!E102,3)=\"C02\",LEFT('PLA-FO-01'!S102,2)<>\"60\"),\"AF1R2\",AND(LEFT('PLA-FO-01'!D102,4)=\"E035\",LEFT('PLA-FO-01'!S102,5)=\"20040\"),\"AF1R3\",AND(LEFT('PLA-FO-01'!D102,4)=\"E035\",LEFT('PLA-FO-01'!S102,5)<>\"20040\"),\"AF1R4\",OR(AND(LEFT('PLA-FO-01'!D102,4)=\"E066\",LEFT('PLA-FO-01'!S102,2)=\"60\"),AND(LEFT('PLA-FO-01'!D102,4)=\"E067\",LEFT('PLA-FO-01'!S102,2)=\"60\"),AND(LEFT('PLA-FO-01'!D102,4)=\"E068\",LEFT('PLA-FO-01'!S102,2)=\"60\")),\"AF1R5\",OR(AND(LEFT('PLA-FO-01'!D102,4)=\"E066\",LEFT('PLA-FO-01'!S102,2)<>\"60\"),AND(LEFT('PLA-FO-01'!D102,4)=\"E067\",LEFT('PLA-FO-01'!S102,2)<>\"60\"),AND(LEFT('PLA-FO-01'!D102,4)=\"E068\",LEFT('PLA-FO-01'!S102,2)<>\"60\")),\"AF1R6\",OR(LEFT('PLA-FO-01'!D102,4)=\"R001\",LEFT('PLA-FO-01'!D102,4)=\"O001\",LEFT('PLA-FO-01'!D102,4)=\"M001\"),\"AF1R7\"),\"Falta Valor\"), \"NO APLICA, revisar!\")","v":"Falta Valor"}]
["E035","C3","Equipamiento de espacios culturales y desarrollo de eventos.","E03503.01","(E03503.01)","Equipamiento de espacios culturales y desarrollo de eventos. (E03503.01)"," ",null,null,null,null,null,null,null,null,null,null,null,null,null,null,null,null,null,null,null,null,null,null,null,null,null,null,null,null,null,null,null,null,null,null,null,null,null,null,null,null,null,null,{"$f":"IFERROR(IF(AND('PLA-FO-01'!D103<>\"\",'PLA-FO-01'!S103<>\"\",'PLA-FO-01'!E103<>\"\"),_xlfn.IFS(OR(AND(LEFT('PLA-FO-01'!D103,4)=\"E040\",LEFT('PLA-FO-01'!E103,3)=\"C01\"),AND(LEFT('PLA-FO-01'!D103,4)=\"E040\",LEFT('PLA-FO-01'!E103,3)=\"C03\"),AND(LEFT('PLA-FO-01'!D103,4)=\"E040\",LEFT('PLA-FO-01'!E103,3)=\"C04\")),\"AF1R1\",AND(LEFT('PLA-FO-01'!D103,4)=\"E040\",LEFT('PLA-FO-01'!E103,3)=\"C02\",LEFT('PLA-FO-01'!S103,2)<>\"60\"),\"AF1R2\",AND(LEFT('PLA-FO-01'!D103,4)=\"E035\",LEFT('PLA-FO-01'!S103,5)=\"20040\"),\"AF1R3\",AND(LEFT('PLA-FO-01'!D103,4)=\"E035\",LEFT('PLA-FO-01'!S103,5)<>\"20040\"),\"AF1R4\",OR(AND(LEFT('PLA-FO-01'!D103,4)=\"E066\",LEFT('PLA-FO-01'!S103,2)=\"60\"),AND(LEFT('PLA-FO-01'!D103,4)=\"E067\",LEFT('PLA-FO-01'!S103,2)=\"60\"),AND(LEFT('PLA-FO-01'!D103,4)=\"E068\",LEFT('PLA-FO-01'!S103,2)=\"60\")),\"AF1R5\",OR(AND(LEFT('PLA-FO-01'!D103,4)=\"E066\",LEFT('PLA-FO-01'!S103,2)<>\"60\"),AND(LEFT('PLA-FO-01'!D103,4)=\"E067\",LEFT('PLA-FO-01'!S103,2)<>\"60\"),AND(LEFT('PLA-FO-01'!D103,4)=\"E068\",LEFT('PLA-FO-01'!S103,2)<>\"60\")),\"AF1R6\",OR(LEFT('PLA-FO-01'!D103,4)=\"R001\",LEFT('PLA-FO-01'!D103,4)=\"O001\",LEFT('PLA-FO-01'!D103,4)=\"M001\"),\"AF1R7\"),\"Falta Valor\"), \"NO APLICA, revisar!\")","v":"Falta Valor"}]
["E035",null,"Habilitación, mantenimiento y conservación de espacios culturales y desarrollo de eventos.","E03503.02","(E03503.02)","Habilitación, mantenimiento y conservación de espacios culturales y desarrollo de eventos. (E03503.02)"," ",null,null,null,null,null,null,null,null,null,null,null,null,null,null,null,null,null,null,null,null,null,null,null,null,null,null,null,null,null,null,null,null,null,null,null,null,null,null,null,null,null,null,{"$f":"IFERROR(IF(AND('PLA-FO-01'!D104<>\"\",'PLA-FO-01'!S104<>\"\",'PLA-FO-01'!E104<>\"\"),_xlfn.IFS(OR(AND(LEFT('PLA-FO-01'!D104,4)=\"E040\",LEFT('PLA-FO-01'!E104,3)=\"C01\"),AND(LEFT('PLA-FO-01'!D104,4)=\"E040\",LEFT('PLA-FO-01'!E104,3)=\"C03\"),AND(LEFT('PLA-FO-01'!D104,4)=\"E040\",LEFT('PLA-FO-01'!E104,3)=\"C04\")),\"AF1R1\",AND(LEFT('PLA-FO-01'!D104,4)=\"E040\",LEFT('PLA-FO-01'!E104,3)=\"C02\",LEFT('PLA-FO-01'!S104,2)<>\"60\"),\"AF1R2\",AND(LEFT('PLA-FO-01'!D104,4)=\"E035\",LEFT('PLA-FO-01'!S104,5)=\"20040\"),\"AF1R3\",AND(LEFT('PLA-FO-01'!D104,4)=\"E035\",LEFT('PLA-FO-01'!S104,5)<>\"20040\"),\"AF1R4\",OR(AND(LEFT('PLA-FO-01'!D104,4)=\"E066\",LEFT('PLA-FO-01'!S104,2)=\"60\"),AND(LEFT('PLA-FO-01'!D104,4)=\"E067\",LEFT('PLA-FO-01'!S104,2)=\"60\"),AND(LEFT('PLA-FO-01'!D104,4)=\"E068\",LEFT('PLA-FO-01'!S104,2)=\"60\")),\"AF1R5\",OR(AND(LEFT('PLA-FO-01'!D104,4)=\"E066\",LEFT('PLA-FO-01'!S104,2)<>\"60\"),AND(LEFT('PLA-FO-01'!D104,4)=\"E067\",LEFT('PLA-FO-01'!S104,2)<>\"60\"),AND(LEFT('PLA-FO-01'!D104,4)=\"E068\",LEFT('PLA-FO-01'!S104,2)<>\"60\")),\"AF1R6\",OR(LEFT('PLA-FO-01'!D104,4)=\"R001\",LEFT('PLA-FO-01'!D104,4)=\"O001\",LEFT('PLA-FO-01'!D104,4)=\"M001\"),\"AF1R7\"),\"Falta Valor\"), \"NO APLICA, revisar!\")","v":"Falta Valor"}]
["E035","C4","Eventos para la divulgación literaria.","E03504.01","(E03504.01)","Eventos para la divulgación literaria. (E03504.01)"," ",null,null,null,null,null,null,null,null,null,null,null,null,null,null,null,null,null,null,null,null,null,null,null,null,null,null,null,null,null,null,null,null,null,null,null,null,null,null,null,null,null,null,{"$f":"IFERROR(IF(AND('PLA-FO-01'!D105<>\"\",'PLA-FO-01'!S105<>\"\",'PLA-FO-01'!E105<>\"\"),_xlfn.IFS(OR(AND(LEFT('PLA-FO-01'!D105,4)=\"E040\",LEFT('PLA-FO-01'!E105,3)=\"C01\"),AND(LEFT('PLA-FO-01'!D105,4)=\"E040\",LEFT('PLA-FO-01'!E105,3)=\"C03\"),AND(LEFT('PLA-FO-01'!D105,4)=\"E040\",LEFT('PLA-FO-01'!E105,3)=\"C04\")),\"AF1R1\",AND(LEFT('PLA-FO-01'!D105,4)=\"E040\",LEFT('PLA-FO-01'!E105,3)=\"C02\",LEFT('PLA-FO-01'!S105,2)<>\"60\"),\"AF1R2\",AND(LEFT('PLA-FO-01'!D105,4)=\"E035\",LEFT('PLA-FO-01'!S105,5)=\"20040\"),\"AF1R3\",AND(LEFT('PLA-FO-01'!D105,4)=\"E035\",LEFT('PLA-FO-01'!S105,5)<>\"20040\"),\"AF1R4\",OR(AND(LEFT('PLA-FO-01'!D105,4)=\"E066\",LEFT('PLA-FO-01'!S105,2)=\"60\"),AND(LEFT('PLA-FO-01'!D105,4)=\"E067\",LEFT('PLA-FO-01'!S105,2)=\"60\"),AND(LEFT('PLA-FO-01'!D105,4)=\"E068\",LEFT('PLA-FO-01'!S105,2)=\"60\")),\"AF1R5\",OR(AND(LEFT('PLA-FO-01'!D105,4)=\"E066\",LEFT('PLA-FO-01'!S105,2)<>\"60\"),AND(LEFT('PLA-FO-01'!D105,4)=\"E067\",LEFT('PLA-FO-01'!S105,2)<>\"60\"),AND(LEFT('PLA-FO-01'!D105,4)=\"E068\",LEFT('PLA-FO-01'!S105,2)<>\"60\")),\"AF1R6\",OR(LEFT('PLA-FO-01'!D105,4)=\"R001\",LEFT('PLA-FO-01'!D105,4)=\"O001\",LEFT('PLA-FO-01'!D105,4)=\"M001\"),\"AF1R7\"),\"Falta Valor\"), \"NO APLICA, revisar!\")","v":"Falta Valor"}]
["E035",null,"Edición y publicación de obras literarias.","E03504.02","(E03504.02)","Edición y publicación de obras literarias. (E03504.02)"," ",null,null,null,null,null,null,null,null,null,null,null,null,null,null,null,null,null,null,null,null,null,null,null,null,null,null,null,null,null,null,null,null,null,null,null,null,null,null,null,null,null,null,{"$f":"IFERROR(IF(AND('PLA-FO-01'!D106<>\"\",'PLA-FO-01'!S106<>\"\",'PLA-FO-01'!E106<>\"\"),_xlfn.IFS(OR(AND(LEFT('PLA-FO-01'!D106,4)=\"E040\",LEFT('PLA-FO-01'!E106,3)=\"C01\"),AND(LEFT('PLA-FO-01'!D106,4)=\"E040\",LEFT('PLA-FO-01'!E106,3)=\"C03\"),AND(LEFT('PLA-FO-01'!D106,4)=\"E040\",LEFT('PLA-FO-01'!E106,3)=\"C04\")),\"AF1R1\",AND(LEFT('PLA-FO-01'!D106,4)=\"E040\",LEFT('PLA-FO-01'!E106,3)=\"C02\",LEFT('PLA-FO-01'!S106,2)<>\"60\"),\"AF1R2\",AND(LEFT('PLA-FO-01'!D106,4)=\"E035\",LEFT('PLA-FO-01'!S106,5)=\"20040\"),\"AF1R3\",AND(LEFT('PLA-FO-01'!D106,4)=\"E035\",LEFT('PLA-FO-01'!S106,5)<>\"20040\"),\"AF1R4\",OR(AND(LEFT('PLA-FO-01'!D106,4)=\"E066\",LEFT('PLA-FO-01'!S106,2)=\"60\"),AND(LEFT('PLA-FO-01'!D106,4)=\"E067\",LEFT('PLA-FO-01'!S106,2)=\"60\"),AND(LEFT('PLA-FO-01'!D106,4)=\"E068\",LEFT('PLA-FO-01'!S106,2)=\"60\")),\"AF1R5\",OR(AND(LEFT('PLA-FO-01'!D106,4)=\"E066\",LEFT('PLA-FO-01'!S106,2)<>\"60\"),AND(LEFT('PLA-FO-01'!D106,4)=\"E067\",LEFT('PLA-FO-01'!S106,2)<>\"60\"),AND(LEFT('PLA-FO-01'!D106,4)=\"E068\",LEFT('PLA-FO-01'!S106,2)<>\"60\")),\"AF1R6\",OR(LEFT('PLA-FO-01'!D106,4)=\"R001\",LEFT('PLA-FO-01'!D106,4)=\"O001\",LEFT('PLA-FO-01'!D106,4)=\"M001\"),\"AF1R7\"),\"Falta Valor\"), \"NO APLICA, revisar!\")","v":"Falta Valor"}]
["E035",null,"Equipamiento para la producción y publicación literaria.","E03504.03","(E03504.03)","Equipamiento para la producción y publicación literaria. (E03504.03)"," ",null,null,null,null,null,null,null,null,null,null,null,null,null,null,null,null,null,null,null,null,null,null,null,null,null,null,null,null,null,null,null,null,null,null,null,null,null,null,null,null,null,null,{"$f":"IFERROR(IF(AND('PLA-FO-01'!D107<>\"\",'PLA-FO-01'!S107<>\"\",'PLA-FO-01'!E107<>\"\"),_xlfn.IFS(OR(AND(LEFT('PLA-FO-01'!D107,4)=\"E040\",LEFT('PLA-FO-01'!E107,3)=\"C01\"),AND(LEFT('PLA-FO-01'!D107,4)=\"E040\",LEFT('PLA-FO-01'!E107,3)=\"C03\"),AND(LEFT('PLA-FO-01'!D107,4)=\"E040\",LEFT('PLA-FO-01'!E107,3)=\"C04\")),\"AF1R1\",AND(LEFT('PLA-FO-01'!D107,4)=\"E040\",LEFT('PLA-FO-01'!E107,3)=\"C02\",LEFT('PLA-FO-01'!S107,2)<>\"60\"),\"AF1R2\",AND(LEFT('PLA-FO-01'!D107,4)=\"E035\",LEFT('PLA-FO-01'!S107,5)=\"20040\"),\"AF1R3\",AND(LEFT('PLA-FO-01'!D107,4)=\"E035\",LEFT('PLA-FO-01'!S107,5)<>\"20040\"),\"AF1R4\",OR(AND(LEFT('PLA-FO-01'!D107,4)=\"E066\",LEFT('PLA-FO-01'!S107,2)=\"60\"),AND(LEFT('PLA-FO-01'!D107,4)=\"E067\",LEFT('PLA-FO-01'!S107,2)=\"60\"),AND(LEFT('PLA-FO-01'!D107,4)=\"E068\",LEFT('PLA-FO-01'!S107,2)=\"60\")),\"AF1R5\",OR(AND(LEFT('PLA-FO-01'!D107,4)=\"E066\",LEFT('PLA-FO-01'!S107,2)<>\"60\"),AND(LEFT('PLA-FO-01'!D107,4)=\"E067\",LEFT('PLA-FO-01'!S107,2)<>\"60\"),AND(LEFT('PLA-FO-01'!D107,4)=\"E068\",LEFT('PLA-FO-01'!S107,2)<>\"60\")),\"AF1R6\",OR(LEFT('PLA-FO-01'!D107,4)=\"R001\",LEFT('PLA-FO-01'!D107,4)=\"O001\",LEFT('PLA-FO-01'!D107,4)=\"M001\"),\"AF1R7\"),\"Falta Valor\"), \"NO APLICA, revisar!\")","v":"Falta Valor"}]
["R001","C1","Tutela de Derechos Académicos.","R00101.01","(R00101.01)",{"$f":"_xlfn.TEXTJOIN(\" \",FALSE,C108,E108)","v":"Tutela de Derechos Académicos. (R00101.01)"}," ",null,null,null,null,null,null,null,null,null,null,null,null,null,null,null,null,null,null,null,null,null,null,null,null,null,null,null,null,null,null,null,null,null,null,null,null,null,null,null,null,null,null,{"$f":"IFERROR(IF(AND('PLA-FO-01'!D108<>\"\",'PLA-FO-01'!S108<>\"\",'PLA-FO-01'!E108<>\"\"),_xlfn.IFS(OR(AND(LEFT('PLA-FO-01'!D108,4)=\"E040\",LEFT('PLA-FO-01'!E108,3)=\"C01\"),AND(LEFT('PLA-FO-01'!D108,4)=\"E040\",LEFT('PLA-FO-01'!E108,3)=\"C03\"),AND(LEFT('PLA-FO-01'!D108,4)=\"E040\",LEFT('PLA-FO-01'!E108,3)=\"C04\")),\"AF1R1\",AND(LEFT('PLA-FO-01'!D108,4)=\"E040\",LEFT('PLA-FO-01'!E108,3)=\"C02\",LEFT('PLA-FO-01'!S108,2)<>\"60\"),\"AF1R2\",AND(LEFT('PLA-FO-01'!D108,4)=\"E035\",LEFT('PLA-FO-01'!S108,5)=\"20040\"),\"AF1R3\",AND(LEFT('PLA-FO-01'!D108,4)=\"E035\",LEFT('PLA-FO-01'!S108,5)<>\"20040\"),\"AF1R4\",OR(AND(LEFT('PLA-FO-01'!D108,4)=\"E066\",LEFT('PLA-FO-01'!S108,2)=\"60\"),AND(LEFT('PLA-FO-01'!D108,4)=\"E067\",LEFT('PLA-FO-01'!S108,2)=\"60\"),AND(LEFT('PLA-FO-01'!D108,4)=\"E068\",LEFT('PLA-FO-01'!S108,2)=\"60\")),\"AF1R5\",OR(AND(LEFT('PLA-FO-01'!D108,4)=\"E066\",LEFT('PLA-FO-01'!S108,2)<>\"60\"),AND(LEFT('PLA-FO-01'!D108,4)=\"E067\",LEFT('PLA-FO-01'!S108,2)<>\"60\"),AND(LEFT('PLA-FO-01'!D108,4)=\"E068\",LEFT('PLA-FO-01'!S108,2)<>\"60\")),\"AF1R6\",OR(LEFT('PLA-FO-01'!D108,4)=\"R001\",LEFT('PLA-FO-01'!D108,4)=\"O001\",LEFT('PLA-FO-01'!D108,4)=\"M001\"),\"AF1R7\"),\"Falta Valor\"), \"NO APLICA, revisar!\")","v":"Falta Valor"}]
["R001",null,"Promoción y vinculación de los derechos humanos.","R00101.02","(R00101.02)","Promoción y vinculación de los derechos humanos. (R00101.02)"," ",null,null,null,null,null,null,null,null,null,null,null,null,null,null,null,null,null,null,null,null,null,null,null,null,null,null,null,null,null,null,null,null,null,null,null,null,null,null,null,null,null,null,{"$f":"IFERROR(IF(AND('PLA-FO-01'!D109<>\"\",'PLA-FO-01'!S109<>\"\",'PLA-FO-01'!E109<>\"\"),_xlfn.IFS(OR(AND(LEFT('PLA-FO-01'!D109,4)=\"E040\",LEFT('PLA-FO-01'!E109,3)=\"C01\"),AND(LEFT('PLA-FO-01'!D109,4)=\"E040\",LEFT('PLA-FO-01'!E109,3)=\"C03\"),AND(LEFT('PLA-FO-01'!D109,4)=\"E040\",LEFT('PLA-FO-01'!E109,3)=\"C04\")),\"AF1R1\",AND(LEFT('PLA-FO-01'!D109,4)=\"E040\",LEFT('PLA-FO-01'!E109,3)=\"C02\",LEFT('PLA-FO-01'!S109,2)<>\"60\"),\"AF1R2\",AND(LEFT('PLA-FO-01'!D109,4)=\"E035\",LEFT('PLA-FO-01'!S109,5)=\"20040\"),\"AF1R3\",AND(LEFT('PLA-FO-01'!D109,4)=\"E035\",LEFT('PLA-FO-01'!S109,5)<>\"20040\"),\"AF1R4\",OR(AND(LEFT('PLA-FO-01'!D109,4)=\"E066\",LEFT('PLA-FO-01'!S109,2)=\"60\"),AND(LEFT('PLA-FO-01'!D109,4)=\"E067\",LEFT('PLA-FO-01'!S109,2)=\"60\"),AND(LEFT('PLA-FO-01'!D109,4)=\"E068\",LEFT('PLA-FO-01'!S109,2)=\"60\")),\"AF1R5\",OR(AND(LEFT('PLA-FO-01'!D109,4)=\"E066\",LEFT('PLA-FO-01'!S109,2)<>\"60\"),AND(LEFT('PLA-FO-01'!D109,4)=\"E067\",LEFT('PLA-FO-01'!S109,2)<>\"60\"),AND(LEFT('PLA-FO-01'!D109,4)=\"E068\",LEFT('PLA-FO-01'!S109,2)<>\"60\")),\"AF1R6\",OR(LEFT('PLA-FO-01'!D109,4)=\"R001\",LEFT('PLA-FO-01'!D109,4)=\"O001\",LEFT('PLA-FO-01'!D109,4)=\"M001\"),\"AF1R7\"),\"Falta Valor\"), \"NO APLICA, revisar!\")","v":"Falta Valor"}]
["R001",null,"Atención a casos de violencia.","R00101.03","(R00101.03)","Atención a casos de violencia. (R00101.03)"," ",null,null,null,null,null,null,null,null,null,null,null,null,null,null,null,null,null,null,null,null,null,null,null,null,null,null,null,null,null,null,null,null,null,null,null,null,null,null,null,null,null,null,{"$f":"IFERROR(IF(AND('PLA-FO-01'!D110<>\"\",'PLA-FO-01'!S110<>\"\",'PLA-FO-01'!E110<>\"\"),_xlfn.IFS(OR(AND(LEFT('PLA-FO-01'!D110,4)=\"E040\",LEFT('PLA-FO-01'!E110,3)=\"C01\"),AND(LEFT('PLA-FO-01'!D110,4)=\"E040\",LEFT('PLA-FO-01'!E110,3)=\"C03\"),AND(LEFT('PLA-FO-01'!D110,4)=\"E040\",LEFT('PLA-FO-01'!E110,3)=\"C04\")),\"AF1R1\",AND(LEFT('PLA-FO-01'!D110,4)=\"E040\",LEFT('PLA-FO-01'!E110,3)=\"C02\",LEFT('PLA-FO-01'!S110,2)<>\"60\"),\"AF1R2\",AND(LEFT('PLA-FO-01'!D110,4)=\"E035\",LEFT('PLA-FO-01'!S110,5)=\"20040\"),\"AF1R3\",AND(LEFT('PLA-FO-01'!D110,4)=\"E035\",LEFT('PLA-FO-01'!S110,5)<>\"20040\"),\"AF1R4\",OR(AND(LEFT('PLA-FO-01'!D110,4)=\"E066\",LEFT('PLA-FO-01'!S110,2)=\"60\"),AND(LEFT('PLA-FO-01'!D110,4)=\"E067\",LEFT('PLA-FO-01'!S110,2)=\"60\"),AND(LEFT('PLA-FO-01'!D110,4)=\"E068\",LEFT('PLA-FO-01'!S110,2)=\"60\")),\"AF1R5\",OR(AND(LEFT('PLA-FO-01'!D110,4)=\"E066\",LEFT('PLA-FO-01'!S110,2)<>\"60\"),AND(LEFT('PLA-FO-01'!D110,4)=\"E067\",LEFT('PLA-FO-01'!S110,2)<>\"60\"),AND(LEFT('PLA-FO-01'!D110,4)=\"E068\",LEFT('PLA-FO-01'!S110,2)<>\"60\")),\"AF1R6\",OR(LEFT('PLA-FO-01'!D110,4)=\"R001\",LEFT('PLA-FO-01'!D110,4)=\"O001\",LEFT('PLA-FO-01'!D110,4)=\"M001\"),\"AF1R7\"),\"Falta Valor\"), \"NO APLICA, revisar!\")","v":"Falta Valor"}]
["R001",null,"Promoción de la igualdad de género.","R00101.04","(R00101.04)","Promoción de la igualdad de género. (R00101.04)"," ",null,null,null,null,null,null,null,null,null,null,null,null,null,null,null,null,null,null,null,null,null,null,null,null,null,null,null,null,null,null,null,null,null,null,null,null,null,null,null,null,null,null,{"$f":"IFERROR(IF(AND('PLA-FO-01'!D111<>\"\",'PLA-FO-01'!S111<>\"\",'PLA-FO-01'!E111<>\"\"),_xlfn.IFS(OR(AND(LEFT('PLA-FO-01'!D111,4)=\"E040\",LEFT('PLA-FO-01'!E111,3)=\"C01\"),AND(LEFT('PLA-FO-01'!D111,4)=\"E040\",LEFT('PLA-FO-01'!E111,3)=\"C03\"),AND(LEFT('PLA-FO-01'!D111,4)=\"E040\",LEFT('PLA-FO-01'!E111,3)=\"C04\")),\"AF1R1\",AND(LEFT('PLA-FO-01'!D111,4)=\"E040\",LEFT('PLA-FO-01'!E111,3)=\"C02\",LEFT('PLA-FO-01'!S111,2)<>\"60\"),\"AF1R2\",AND(LEFT('PLA-FO-01'!D111,4)=\"E035\",LEFT('PLA-FO-01'!S111,5)=\"20040\"),\"AF1R3\",AND(LEFT('PLA-FO-01'!D111,4)=\"E035\",LEFT('PLA-FO-01'!S111,5)<>\"20040\"),\"AF1R4\",OR(AND(LEFT('PLA-FO-01'!D111,4)=\"E066\",LEFT('PLA-FO-01'!S111,2)=\"60\"),AND(LEFT('PLA-FO-01'!D111,4)=\"E067\",LEFT('PLA-FO-01'!S111,2)=\"60\"),AND(LEFT('PLA-FO-01'!D111,4)=\"E068\",LEFT('PLA-FO-01'!S111,2)=\"60\")),\"AF1R5\",OR(AND(LEFT('PLA-FO-01'!D111,4)=\"E066\",LEFT('PLA-FO-01'!S111,2)<>\"60\"),AND(LEFT('PLA-FO-01'!D111,4)=\"E067\",LEFT('PLA-FO-01'!S111,2)<>\"60\"),AND(LEFT('PLA-FO-01'!D111,4)=\"E068\",LEFT('PLA-FO-01'!S111,2)<>\"60\")),\"AF1R6\",OR(LEFT('PLA-FO-01'!D111,4)=\"R001\",LEFT('PLA-FO-01'!D111,4)=\"O001\",LEFT('PLA-FO-01'!D111,4)=\"M001\"),\"AF1R7\"),\"Falta Valor\"), \"NO APLICA, revisar!\")","v":"Falta Valor"}]
["R001",null,"Responsabilidad Social Universitaria.","R00101.05","(R00101.05)","Responsabilidad Social Universitaria. (R00101.05)"," ",null,null,null,null,null,null,null,null,null,null,null,null,null,null,null,null,null,null,null,null,null,null,null,null,null,null,null,null,null,null,null,null,null,null,null,null,null,null,null,null,null,null,{"$f":"IFERROR(IF(AND('PLA-FO-01'!D112<>\"\",'PLA-FO-01'!S112<>\"\",'PLA-FO-01'!E112<>\"\"),_xlfn.IFS(OR(AND(LEFT('PLA-FO-01'!D112,4)=\"E040\",LEFT('PLA-FO-01'!E112,3)=\"C01\"),AND(LEFT('PLA-FO-01'!D112,4)=\"E040\",LEFT('PLA-FO-01'!E112,3)=\"C03\"),AND(LEFT('PLA-FO-01'!D112,4)=\"E040\",LEFT('PLA-FO-01'!E112,3)=\"C04\")),\"AF1R1\",AND(LEFT('PLA-FO-01'!D112,4)=\"E040\",LEFT('PLA-FO-01'!E112,3)=\"C02\",LEFT('PLA-FO-01'!S112,2)<>\"60\"),\"AF1R2\",AND(LEFT('PLA-FO-01'!D112,4)=\"E035\",LEFT('PLA-FO-01'!S112,5)=\"20040\"),\"AF1R3\",AND(LEFT('PLA-FO-01'!D112,4)=\"E035\",LEFT('PLA-FO-01'!S112,5)<>\"20040\"),\"AF1R4\",OR(AND(LEFT('PLA-FO-01'!D112,4)=\"E066\",LEFT('PLA-FO-01'!S112,2)=\"60\"),AND(LEFT('PLA-FO-01'!D112,4)=\"E067\",LEFT('PLA-FO-01'!S112,2)=\"60\"),AND(LEFT('PLA-FO-01'!D112,4)=\"E068\",LEFT('PLA-FO-01'!S112,2)=\"60\")),\"AF1R5\",OR(AND(LEFT('PLA-FO-01'!D112,4)=\"E066\",LEFT('PLA-FO-01'!S112,2)<>\"60\"),AND(LEFT('PLA-FO-01'!D112,4)=\"E067\",LEFT('PLA-FO-01'!S112,2)<>\"60\"),AND(LEFT('PLA-FO-01'!D112,4)=\"E068\",LEFT('PLA-FO-01'!S112,2)<>\"60\")),\"AF1R6\",OR(LEFT('PLA-FO-01'!D112,4)=\"R001\",LEFT('PLA-FO-01'!D112,4)=\"O001\",LEFT('PLA-FO-01'!D112,4)=\"M001\"),\"AF1R7\"),\"Falta Valor\"), \"NO APLICA, revisar!\")","v":"Falta Valor"}]
["R001","C2","Promoción a la cultura del medio ambiente y sustentabilidad.","R00102.01","(R00102.01)","Promoción a la cultura del medio ambiente y sustentabilidad. (R00102.01)"," ",null,null,null,null,null,null,null,null,null,null,null,null,null,null,null,null,null,null,null,null,null,null,null,null,null,null,null,null,null,null,null,null,null,null,null,null,null,null,null,null,null,null,{"$f":"IFERROR(IF(AND('PLA-FO-01'!D113<>\"\",'PLA-FO-01'!S113<>\"\",'PLA-FO-01'!E113<>\"\"),_xlfn.IFS(OR(AND(LEFT('PLA-FO-01'!D113,4)=\"E040\",LEFT('PLA-FO-01'!E113,3)=\"C01\"),AND(LEFT('PLA-FO-01'!D113,4)=\"E040\",LEFT('PLA-FO-01'!E113,3)=\"C03\"),AND(LEFT('PLA-FO-01'!D113,4)=\"E040\",LEFT('PLA-FO-01'!E113,3)=\"C04\")),\"AF1R1\",AND(LEFT('PLA-FO-01'!D113,4)=\"E040\",LEFT('PLA-FO-01'!E113,3)=\"C02\",LEFT('PLA-FO-01'!S113,2)<>\"60\"),\"AF1R2\",AND(LEFT('PLA-FO-01'!D113,4)=\"E035\",LEFT('PLA-FO-01'!S113,5)=\"20040\"),\"AF1R3\",AND(LEFT('PLA-FO-01'!D113,4)=\"E035\",LEFT('PLA-FO-01'!S113,5)<>\"20040\"),\"AF1R4\",OR(AND(LEFT('PLA-FO-01'!D113,4)=\"E066\",LEFT('PLA-FO-01'!S113,2)=\"60\"),AND(LEFT('PLA-FO-01'!D113,4)=\"E067\",LEFT('PLA-FO-01'!S113,2)=\"60\"),AND(LEFT('PLA-FO-01'!D113,4)=\"E068\",LEFT('PLA-FO-01'!S113,2)=\"60\")),\"AF1R5\",OR(AND(LEFT('PLA-FO-01'!D113,4)=\"E066\",LEFT('PLA-FO-01'!S113,2)<>\"60\"),AND(LEFT('PLA-FO-01'!D113,4)=\"E067\",LEFT('PLA-FO-01'!S113,2)<>\"60\"),AND(LEFT('PLA-FO-01'!D113,4)=\"E068\",LEFT('PLA-FO-01'!S113,2)<>\"60\")),\"AF1R6\",OR(LEFT('PLA-FO-01'!D113,4)=\"R001\",LEFT('PLA-FO-01'!D113,4)=\"O001\",LEFT('PLA-FO-01'!D113,4)=\"M001\"),\"AF1R7\"),\"Falta Valor\"), \"NO APLICA, revisar!\")","v":"Falta Valor"}]
["R001",null,"Educación Ambiental  (formación y actualización).","R00102.02","(R00102.02)","Educación Ambiental  (formación y actualización). (R00102.02)"," ",null,null,null,null,null,null,null,null,null,null,null,null,null,null,null,null,null,null,null,null,null,null,null,null,null,null,null,null,null,null,null,null,null,null,null,null,null,null,null,null,null,null,{"$f":"IFERROR(IF(AND('PLA-FO-01'!D114<>\"\",'PLA-FO-01'!S114<>\"\",'PLA-FO-01'!E114<>\"\"),_xlfn.IFS(OR(AND(LEFT('PLA-FO-01'!D114,4)=\"E040\",LEFT('PLA-FO-01'!E114,3)=\"C01\"),AND(LEFT('PLA-FO-01'!D114,4)=\"E040\",LEFT('PLA-FO-01'!E114,3)=\"C03\"),AND(LEFT('PLA-FO-01'!D114,4)=\"E040\",LEFT('PLA-FO-01'!E114,3)=\"C04\")),\"AF1R1\",AND(LEFT('PLA-FO-01'!D114,4)=\"E040\",LEFT('PLA-FO-01'!E114,3)=\"C02\",LEFT('PLA-FO-01'!S114,2)<>\"60\"),\"AF1R2\",AND(LEFT('PLA-FO-01'!D114,4)=\"E035\",LEFT('PLA-FO-01'!S114,5)=\"20040\"),\"AF1R3\",AND(LEFT('PLA-FO-01'!D114,4)=\"E035\",LEFT('PLA-FO-01'!S114,5)<>\"20040\"),\"AF1R4\",OR(AND(LEFT('PLA-FO-01'!D114,4)=\"E066\",LEFT('PLA-FO-01'!S114,2)=\"60\"),AND(LEFT('PLA-FO-01'!D114,4)=\"E067\",LEFT('PLA-FO-01'!S114,2)=\"60\"),AND(LEFT('PLA-FO-01'!D114,4)=\"E068\",LEFT('PLA-FO-01'!S114,2)=\"60\")),\"AF1R5\",OR(AND(LEFT('PLA-FO-01'!D114,4)=\"E066\",LEFT('PLA-FO-01'!S114,2)<>\"60\"),AND(LEFT('PLA-FO-01'!D114,4)=\"E067\",LEFT('PLA-FO-01'!S114,2)<>\"60\"),AND(LEFT('PLA-FO-01'!D114,4)=\"E068\",LEFT('PLA-FO-01'!S114,2)<>\"60\")),\"AF1R6\",OR(LEFT('PLA-FO-01'!D114,4)=\"R001\",LEFT('PLA-FO-01'!D114,4)=\"O001\",LEFT('PLA-FO-01'!D114,4)=\"M001\"),\"AF1R7\"),\"Falta Valor\"), \"NO APLICA, revisar!\")","v":"Falta Valor"}]
["R001",null,"Eventos para la implementación de Buenas Prácticas Ambientales.","R00102.03","(R00102.03)","Eventos para la implementación de Buenas Prácticas Ambientales. (R00102.03)"," ",null,null,null,null,null,null,null,null,null,null,null,null,null,null,null,null,null,null,null,null,null,null,null,null,null,null,null,null,null,null,null,null,null,null,null,null,null,null,null,null,null,null,{"$f":"IFERROR(IF(AND('PLA-FO-01'!D115<>\"\",'PLA-FO-01'!S115<>\"\",'PLA-FO-01'!E115<>\"\"),_xlfn.IFS(OR(AND(LEFT('PLA-FO-01'!D115,4)=\"E040\",LEFT('PLA-FO-01'!E115,3)=\"C01\"),AND(LEFT('PLA-FO-01'!D115,4)=\"E040\",LEFT('PLA-FO-01'!E115,3)=\"C03\"),AND(LEFT('PLA-FO-01'!D115,4)=\"E040\",LEFT('PLA-FO-01'!E115,3)=\"C04\")),\"AF1R1\",AND(LEFT('PLA-FO-01'!D115,4)=\"E040\",LEFT('PLA-FO-01'!E115,3)=\"C02\",LEFT('PLA-FO-01'!S115,2)<>\"60\"),\"AF1R2\",AND(LEFT('PLA-FO-01'!D115,4)=\"E035\",LEFT('PLA-FO-01'!S115,5)=\"20040\"),\"AF1R3\",AND(LEFT('PLA-FO-01'!D115,4)=\"E035\",LEFT('PLA-FO-01'!S115,5)<>\"20040\"),\"AF1R4\",OR(AND(LEFT('PLA-FO-01'!D115,4)=\"E066\",LEFT('PLA-FO-01'!S115,2)=\"60\"),AND(LEFT('PLA-FO-01'!D115,4)=\"E067\",LEFT('PLA-FO-01'!S115,2)=\"60\"),AND(LEFT('PLA-FO-01'!D115,4)=\"E068\",LEFT('PLA-FO-01'!S115,2)=\"60\")),\"AF1R5\",OR(AND(LEFT('PLA-FO-01'!D115,4)=\"E066\",LEFT('PLA-FO-01'!S115,2)<>\"60\"),AND(LEFT('PLA-FO-01'!D115,4)=\"E067\",LEFT('PLA-FO-01'!S115,2)<>\"60\"),AND(LEFT('PLA-FO-01'!D115,4)=\"E068\",LEFT('PLA-FO-01'!S115,2)<>\"60\")),\"AF1R6\",OR(LEFT('PLA-FO-01'!D115,4)=\"R001\",LEFT('PLA-FO-01'!D115,4)=\"O001\",LEFT('PLA-FO-01'!D115,4)=\"M001\"),\"AF1R7\"),\"Falta Valor\"), \"NO APLICA, revisar!\")","v":"Falta Valor"}]
["R001",null,"Ejecución de Planes de acción para el Manejo ambiental (control de residuos).","R00102.04","(R00102.04)","Ejecución de Planes de acción para el Manejo ambiental (control de residuos). (R00102.04)"," ",null,null,null,null,null,null,null,null,null,null,null,null,null,null,null,null,null,null,null,null,null,null,null,null,null,null,null,null,null,null,null,null,null,null,null,null,null,null,null,null,null,null,{"$f":"IFERROR(IF(AND('PLA-FO-01'!D116<>\"\",'PLA-FO-01'!S116<>\"\",'PLA-FO-01'!E116<>\"\"),_xlfn.IFS(OR(AND(LEFT('PLA-FO-01'!D116,4)=\"E040\",LEFT('PLA-FO-01'!E116,3)=\"C01\"),AND(LEFT('PLA-FO-01'!D116,4)=\"E040\",LEFT('PLA-FO-01'!E116,3)=\"C03\"),AND(LEFT('PLA-FO-01'!D116,4)=\"E040\",LEFT('PLA-FO-01'!E116,3)=\"C04\")),\"AF1R1\",AND(LEFT('PLA-FO-01'!D116,4)=\"E040\",LEFT('PLA-FO-01'!E116,3)=\"C02\",LEFT('PLA-FO-01'!S116,2)<>\"60\"),\"AF1R2\",AND(LEFT('PLA-FO-01'!D116,4)=\"E035\",LEFT('PLA-FO-01'!S116,5)=\"20040\"),\"AF1R3\",AND(LEFT('PLA-FO-01'!D116,4)=\"E035\",LEFT('PLA-FO-01'!S116,5)<>\"20040\"),\"AF1R4\",OR(AND(LEFT('PLA-FO-01'!D116,4)=\"E066\",LEFT('PLA-FO-01'!S116,2)=\"60\"),AND(LEFT('PLA-FO-01'!D116,4)=\"E067\",LEFT('PLA-FO-01'!S116,2)=\"60\"),AND(LEFT('PLA-FO-01'!D116,4)=\"E068\",LEFT('PLA-FO-01'!S116,2)=\"60\")),\"AF1R5\",OR(AND(LEFT('PLA-FO-01'!D116,4)=\"E066\",LEFT('PLA-FO-01'!S116,2)<>\"60\"),AND(LEFT('PLA-FO-01'!D116,4)=\"E067\",LEFT('PLA-FO-01'!S116,2)<>\"60\"),AND(LEFT('PLA-FO-01'!D116,4)=\"E068\",LEFT('PLA-FO-01'!S116,2)<>\"60\")),\"AF1R6\",OR(LEFT('PLA-FO-01'!D116,4)=\"R001\",LEFT('PLA-FO-01'!D116,4)=\"O001\",LEFT('PLA-FO-01'!D116,4)=\"M001\"),\"AF1R7\"),\"Falta Valor\"), \"NO APLICA, revisar!\")","v":"Falta Valor"}]
["M001","C1","Seguimiento a la Gestión de Calidad.","M00101.01","(M00101.01)",{"$f":"_xlfn.TEXTJOIN(\" \",FALSE,C117,E117)","v":"Seguimiento a la Gestión de Calidad. (M00101.01)"}," ",null,null,null,null,null,null,null,null,null,null,null,null,null,null,null,null,null,null,null,null,null,null,null,null,null,null,null,null,null,null,null,null,null,null,null,null,null,null,null,null,null,null,{"$f":"IFERROR(IF(AND('PLA-FO-01'!D117<>\"\",'PLA-FO-01'!S117<>\"\",'PLA-FO-01'!E117<>\"\"),_xlfn.IFS(OR(AND(LEFT('PLA-FO-01'!D117,4)=\"E040\",LEFT('PLA-FO-01'!E117,3)=\"C01\"),AND(LEFT('PLA-FO-01'!D117,4)=\"E040\",LEFT('PLA-FO-01'!E117,3)=\"C03\"),AND(LEFT('PLA-FO-01'!D117,4)=\"E040\",LEFT('PLA-FO-01'!E117,3)=\"C04\")),\"AF1R1\",AND(LEFT('PLA-FO-01'!D117,4)=\"E040\",LEFT('PLA-FO-01'!E117,3)=\"C02\",LEFT('PLA-FO-01'!S117,2)<>\"60\"),\"AF1R2\",AND(LEFT('PLA-FO-01'!D117,4)=\"E035\",LEFT('PLA-FO-01'!S117,5)=\"20040\"),\"AF1R3\",AND(LEFT('PLA-FO-01'!D117,4)=\"E035\",LEFT('PLA-FO-01'!S117,5)<>\"20040\"),\"AF1R4\",OR(AND(LEFT('PLA-FO-01'!D117,4)=\"E066\",LEFT('PLA-FO-01'!S117,2)=\"60\"),AND(LEFT('PLA-FO-01'!D117,4)=\"E067\",LEFT('PLA-FO-01'!S117,2)=\"60\"),AND(LEFT('PLA-FO-01'!D117,4)=\"E068\",LEFT('PLA-FO-01'!S117,2)=\"60\")),\"AF1R5\",OR(AND(LEFT('PLA-FO-01'!D117,4)=\"E066\",LEFT('PLA-FO-01'!S117,2)<>\"60\"),AND(LEFT('PLA-FO-01'!D117,4)=\"E067\",LEFT('PLA-FO-01'!S117,2)<>\"60\"),AND(LEFT('PLA-FO-01'!D117,4)=\"E068\",LEFT('PLA-FO-01'!S117,2)<>\"60\")),\"AF1R6\",OR(LEFT('PLA-FO-01'!D117,4)=\"R001\",LEFT('PLA-FO-01'!D117,4)=\"O001\",LEFT('PLA-FO-01'!D117,4)=\"M001\"),\"AF1R7\"),\"Falta Valor\"), \"NO APLICA, revisar!\")","v":"Falta Valor"}]
["M001",null,"Acuerdo y seguimiento de metas institucionales en cumplimiento al PLADI.","M00101.02","(M00101.02)",{"$f":"_xlfn.TEXTJOIN(\" \",FALSE,C118,E118)","v":"Acuerdo y seguimiento de metas institucionales en cumplimiento al PLADI. (M00101.02)"}," ",null,null,null,null,null,null,null,null,null,null,null,null,null,null,null,null,null,null,null,null,null,null,null,null,null,null,null,null,null,null,null,null,null,null,null,null,null,null,null,null,null,null,{"$f":"IFERROR(IF(AND('PLA-FO-01'!D118<>\"\",'PLA-FO-01'!S118<>\"\",'PLA-FO-01'!E118<>\"\"),_xlfn.IFS(OR(AND(LEFT('PLA-FO-01'!D118,4)=\"E040\",LEFT('PLA-FO-01'!E118,3)=\"C01\"),AND(LEFT('PLA-FO-01'!D118,4)=\"E040\",LEFT('PLA-FO-01'!E118,3)=\"C03\"),AND(LEFT('PLA-FO-01'!D118,4)=\"E040\",LEFT('PLA-FO-01'!E118,3)=\"C04\")),\"AF1R1\",AND(LEFT('PLA-FO-01'!D118,4)=\"E040\",LEFT('PLA-FO-01'!E118,3)=\"C02\",LEFT('PLA-FO-01'!S118,2)<>\"60\"),\"AF1R2\",AND(LEFT('PLA-FO-01'!D118,4)=\"E035\",LEFT('PLA-FO-01'!S118,5)=\"20040\"),\"AF1R3\",AND(LEFT('PLA-FO-01'!D118,4)=\"E035\",LEFT('PLA-FO-01'!S118,5)<>\"20040\"),\"AF1R4\",OR(AND(LEFT('PLA-FO-01'!D118,4)=\"E066\",LEFT('PLA-FO-01'!S118,2)=\"60\"),AND(LEFT('PLA-FO-01'!D118,4)=\"E067\",LEFT('PLA-FO-01'!S118,2)=\"60\"),AND(LEFT('PLA-FO-01'!D118,4)=\"E068\",LEFT('PLA-FO-01'!S118,2)=\"60\")),\"AF1R5\",OR(AND(LEFT('PLA-FO-01'!D118,4)=\"E066\",LEFT('PLA-FO-01'!S118,2)<>\"60\"),AND(LEFT('PLA-FO-01'!D118,4)=\"E067\",LEFT('PLA-FO-01'!S118,2)<>\"60\"),AND(LEFT('PLA-FO-01'!D118,4)=\"E068\",LEFT('PLA-FO-01'!S118,2)<>\"60\")),\"AF1R6\",OR(LEFT('PLA-FO-01'!D118,4)=\"R001\",LEFT('PLA-FO-01'!D118,4)=\"O001\",LEFT('PLA-FO-01'!D118,4)=\"M001\"),\"AF1R7\"),\"Falta Valor\"), \"NO APLICA, revisar!\")","v":"Falta Valor"}]
["M001",null,"Atención al Buzón UG.","M00101.03","(M00101.03)","Atención al Buzón UG. (M00101.03)"," ",null,null,null,null,null,null,null,null,null,null,null,null,null,null,null,null,null,null,null,null,null,null,null,null,null,null,null,null,null,null,null,null,null,null,null,null,null,null,null,null,null,null,{"$f":"IFERROR(IF(AND('PLA-FO-01'!D119<>\"\",'PLA-FO-01'!S119<>\"\",'PLA-FO-01'!E119<>\"\"),_xlfn.IFS(OR(AND(LEFT('PLA-FO-01'!D119,4)=\"E040\",LEFT('PLA-FO-01'!E119,3)=\"C01\"),AND(LEFT('PLA-FO-01'!D119,4)=\"E040\",LEFT('PLA-FO-01'!E119,3)=\"C03\"),AND(LEFT('PLA-FO-01'!D119,4)=\"E040\",LEFT('PLA-FO-01'!E119,3)=\"C04\")),\"AF1R1\",AND(LEFT('PLA-FO-01'!D119,4)=\"E040\",LEFT('PLA-FO-01'!E119,3)=\"C02\",LEFT('PLA-FO-01'!S119,2)<>\"60\"),\"AF1R2\",AND(LEFT('PLA-FO-01'!D119,4)=\"E035\",LEFT('PLA-FO-01'!S119,5)=\"20040\"),\"AF1R3\",AND(LEFT('PLA-FO-01'!D119,4)=\"E035\",LEFT('PLA-FO-01'!S119,5)<>\"20040\"),\"AF1R4\",OR(AND(LEFT('PLA-FO-01'!D119,4)=\"E066\",LEFT('PLA-FO-01'!S119,2)=\"60\"),AND(LEFT('PLA-FO-01'!D119,4)=\"E067\",LEFT('PLA-FO-01'!S119,2)=\"60\"),AND(LEFT('PLA-FO-01'!D119,4)=\"E068\",LEFT('PLA-FO-01'!S119,2)=\"60\")),\"AF1R5\",OR(AND(LEFT('PLA-FO-01'!D119,4)=\"E066\",LEFT('PLA-FO-01'!S119,2)<>\"60\"),AND(LEFT('PLA-FO-01'!D119,4)=\"E067\",LEFT('PLA-FO-01'!S119,2)<>\"60\"),AND(LEFT('PLA-FO-01'!D119,4)=\"E068\",LEFT('PLA-FO-01'!S119,2)<>\"60\")),\"AF1R6\",OR(LEFT('PLA-FO-01'!D119,4)=\"R001\",LEFT('PLA-FO-01'!D119,4)=\"O001\",LEFT('PLA-FO-01'!D119,4)=\"M001\"),\"AF1R7\"),\"Falta Valor\"), \"NO APLICA, revisar!\")","v":"Falta Valor"}]
["M001",null,"Encuesta institucional.","M00101.04","(M00101.04)","Encuesta institucional. (M00101.04)"," ",null,null,null,null,null,null,null,null,null,null,null,null,null,null,null,null,null,null,null,null,null,null,null,null,null,null,null,null,null,null,null,null,null,null,null,null,null,null,null,null,null,null,{"$f":"IFERROR(IF(AND('PLA-FO-01'!D120<>\"\",'PLA-FO-01'!S120<>\"\",'PLA-FO-01'!E120<>\"\"),_xlfn.IFS(OR(AND(LEFT('PLA-FO-01'!D120,4)=\"E040\",LEFT('PLA-FO-01'!E120,3)=\"C01\"),AND(LEFT('PLA-FO-01'!D120,4)=\"E040\",LEFT('PLA-FO-01'!E120,3)=\"C03\"),AND(LEFT('PLA-FO-01'!D120,4)=\"E040\",LEFT('PLA-FO-01'!E120,3)=\"C04\")),\"AF1R1\",AND(LEFT('PLA-FO-01'!D120,4)=\"E040\",LEFT('PLA-FO-01'!E120,3)=\"C02\",LEFT('PLA-FO-01'!S120,2)<>\"60\"),\"AF1R2\",AND(LEFT('PLA-FO-01'!D120,4)=\"E035\",LEFT('PLA-FO-01'!S120,5)=\"20040\"),\"AF1R3\",AND(LEFT('PLA-FO-01'!D120,4)=\"E035\",LEFT('PLA-FO-01'!S120,5)<>\"20040\"),\"AF1R4\",OR(AND(LEFT('PLA-FO-01'!D120,4)=\"E066\",LEFT('PLA-FO-01'!S120,2)=\"60\"),AND(LEFT('PLA-FO-01'!D120,4)=\"E067\",LEFT('PLA-FO-01'!S120,2)=\"60\"),AND(LEFT('PLA-FO-01'!D120,4)=\"E068\",LEFT('PLA-FO-01'!S120,2)=\"60\")),\"AF1R5\",OR(AND(LEFT('PLA-FO-01'!D120,4)=\"E066\",LEFT('PLA-FO-01'!S120,2)<>\"60\"),AND(LEFT('PLA-FO-01'!D120,4)=\"E067\",LEFT('PLA-FO-01'!S120,2)<>\"60\"),AND(LEFT('PLA-FO-01'!D120,4)=\"E068\",LEFT('PLA-FO-01'!S120,2)<>\"60\")),\"AF1R6\",OR(LEFT('PLA-FO-01'!D120,4)=\"R001\",LEFT('PLA-FO-01'!D120,4)=\"O001\",LEFT('PLA-FO-01'!D120,4)=\"M001\"),\"AF1R7\"),\"Falta Valor\"), \"NO APLICA, revisar!\")","v":"Falta Valor"}]
["M001",null,"Seguimiento al PLADI.","M00101.05","(M00101.05)","Seguimiento al PLADI. (M00101.05)"," ",null,null,null,null,null,null,null,null,null,null,null,null,null,null,null,null,null,null,null,null,null,null,null,null,null,null,null,null,null,null,null,null,null,null,null,null,null,null,null,null,null,null,{"$f":"IFERROR(IF(AND('PLA-FO-01'!D121<>\"\",'PLA-FO-01'!S121<>\"\",'PLA-FO-01'!E121<>\"\"),_xlfn.IFS(OR(AND(LEFT('PLA-FO-01'!D121,4)=\"E040\",LEFT('PLA-FO-01'!E121,3)=\"C01\"),AND(LEFT('PLA-FO-01'!D121,4)=\"E040\",LEFT('PLA-FO-01'!E121,3)=\"C03\"),AND(LEFT('PLA-FO-01'!D121,4)=\"E040\",LEFT('PLA-FO-01'!E121,3)=\"C04\")),\"AF1R1\",AND(LEFT('PLA-FO-01'!D121,4)=\"E040\",LEFT('PLA-FO-01'!E121,3)=\"C02\",LEFT('PLA-FO-01'!S121,2)<>\"60\"),\"AF1R2\",AND(LEFT('PLA-FO-01'!D121,4)=\"E035\",LEFT('PLA-FO-01'!S121,5)=\"20040\"),\"AF1R3\",AND(LEFT('PLA-FO-01'!D121,4)=\"E035\",LEFT('PLA-FO-01'!S121,5)<>\"20040\"),\"AF1R4\",OR(AND(LEFT('PLA-FO-01'!D121,4)=\"E066\",LEFT('PLA-FO-01'!S121,2)=\"60\"),AND(LEFT('PLA-FO-01'!D121,4)=\"E067\",LEFT('PLA-FO-01'!S121,2)=\"60\"),AND(LEFT('PLA-FO-01'!D121,4)=\"E068\",LEFT('PLA-FO-01'!S121,2)=\"60\")),\"AF1R5\",OR(AND(LEFT('PLA-FO-01'!D121,4)=\"E066\",LEFT('PLA-FO-01'!S121,2)<>\"60\"),AND(LEFT('PLA-FO-01'!D121,4)=\"E067\",LEFT('PLA-FO-01'!S121,2)<>\"60\"),AND(LEFT('PLA-FO-01'!D121,4)=\"E068\",LEFT('PLA-FO-01'!S121,2)<>\"60\")),\"AF1R6\",OR(LEFT('PLA-FO-01'!D121,4)=\"R001\",LEFT('PLA-FO-01'!D121,4)=\"O001\",LEFT('PLA-FO-01'!D121,4)=\"M001\"),\"AF1R7\"),\"Falta Valor\"), \"NO APLICA, revisar!\")","v":"Falta Valor"}]
["M001",null,"Estadística e Información institucional.","M00101.06","(M00101.06)","Estadística e Información institucional. (M00101.06)"," ",null,null,null,null,null,null,null,null,null,null,null,null,null,null,null,null,null,null,null,null,null,null,null,null,null,null,null,null,null,null,null,null,null,null,null,null,null,null,null,null,null,null,{"$f":"IFERROR(IF(AND('PLA-FO-01'!D122<>\"\",'PLA-FO-01'!S122<>\"\",'PLA-FO-01'!E122<>\"\"),_xlfn.IFS(OR(AND(LEFT('PLA-FO-01'!D122,4)=\"E040\",LEFT('PLA-FO-01'!E122,3)=\"C01\"),AND(LEFT('PLA-FO-01'!D122,4)=\"E040\",LEFT('PLA-FO-01'!E122,3)=\"C03\"),AND(LEFT('PLA-FO-01'!D122,4)=\"E040\",LEFT('PLA-FO-01'!E122,3)=\"C04\")),\"AF1R1\",AND(LEFT('PLA-FO-01'!D122,4)=\"E040\",LEFT('PLA-FO-01'!E122,3)=\"C02\",LEFT('PLA-FO-01'!S122,2)<>\"60\"),\"AF1R2\",AND(LEFT('PLA-FO-01'!D122,4)=\"E035\",LEFT('PLA-FO-01'!S122,5)=\"20040\"),\"AF1R3\",AND(LEFT('PLA-FO-01'!D122,4)=\"E035\",LEFT('PLA-FO-01'!S122,5)<>\"20040\"),\"AF1R4\",OR(AND(LEFT('PLA-FO-01'!D122,4)=\"E066\",LEFT('PLA-FO-01'!S122,2)=\"60\"),AND(LEFT('PLA-FO-01'!D122,4)=\"E067\",LEFT('PLA-FO-01'!S122,2)=\"60\"),AND(LEFT('PLA-FO-01'!D122,4)=\"E068\",LEFT('PLA-FO-01'!S122,2)=\"60\")),\"AF1R5\",OR(AND(LEFT('PLA-FO-01'!D122,4)=\"E066\",LEFT('PLA-FO-01'!S122,2)<>\"60\"),AND(LEFT('PLA-FO-01'!D122,4)=\"E067\",LEFT('PLA-FO-01'!S122,2)<>\"60\"),AND(LEFT('PLA-FO-01'!D122,4)=\"E068\",LEFT('PLA-FO-01'!S122,2)<>\"60\")),\"AF1R6\",OR(LEFT('PLA-FO-01'!D122,4)=\"R001\",LEFT('PLA-FO-01'!D122,4)=\"O001\",LEFT('PLA-FO-01'!D122,4)=\"M001\"),\"AF1R7\"),\"Falta Valor\"), \"NO APLICA, revisar!\")","v":"Falta Valor"}]
["M001",null,"Gestión y seguimiento a fondos concursables federales.","M00101.07","(M00101.07)","Gestión y seguimiento a fondos concursables federales. (M00101.07)"," ",null,null,null,null,null,null,null,null,null,null,null,null,null,null,null,null,null,null,null,null,null,null,null,null,null,null,null,null,null,null,null,null,null,null,null,null,null,null,null,null,null,null,{"$f":"IFERROR(IF(AND('PLA-FO-01'!D123<>\"\",'PLA-FO-01'!S123<>\"\",'PLA-FO-01'!E123<>\"\"),_xlfn.IFS(OR(AND(LEFT('PLA-FO-01'!D123,4)=\"E040\",LEFT('PLA-FO-01'!E123,3)=\"C01\"),AND(LEFT('PLA-FO-01'!D123,4)=\"E040\",LEFT('PLA-FO-01'!E123,3)=\"C03\"),AND(LEFT('PLA-FO-01'!D123,4)=\"E040\",LEFT('PLA-FO-01'!E123,3)=\"C04\")),\"AF1R1\",AND(LEFT('PLA-FO-01'!D123,4)=\"E040\",LEFT('PLA-FO-01'!E123,3)=\"C02\",LEFT('PLA-FO-01'!S123,2)<>\"60\"),\"AF1R2\",AND(LEFT('PLA-FO-01'!D123,4)=\"E035\",LEFT('PLA-FO-01'!S123,5)=\"20040\"),\"AF1R3\",AND(LEFT('PLA-FO-01'!D123,4)=\"E035\",LEFT('PLA-FO-01'!S123,5)<>\"20040\"),\"AF1R4\",OR(AND(LEFT('PLA-FO-01'!D123,4)=\"E066\",LEFT('PLA-FO-01'!S123,2)=\"60\"),AND(LEFT('PLA-FO-01'!D123,4)=\"E067\",LEFT('PLA-FO-01'!S123,2)=\"60\"),AND(LEFT('PLA-FO-01'!D123,4)=\"E068\",LEFT('PLA-FO-01'!S123,2)=\"60\")),\"AF1R5\",OR(AND(LEFT('PLA-FO-01'!D123,4)=\"E066\",LEFT('PLA-FO-01'!S123,2)<>\"60\"),AND(LEFT('PLA-FO-01'!D123,4)=\"E067\",LEFT('PLA-FO-01'!S123,2)<>\"60\"),AND(LEFT('PLA-FO-01'!D123,4)=\"E068\",LEFT('PLA-FO-01'!S123,2)<>\"60\")),\"AF1R6\",OR(LEFT('PLA-FO-01'!D123,4)=\"R001\",LEFT('PLA-FO-01'!D123,4)=\"O001\",LEFT('PLA-FO-01'!D123,4)=\"M001\"),\"AF1R7\"),\"Falta Valor\"), \"NO APLICA, revisar!\")","v":"Falta Valor"}]
["M001",null,"Consolidación de la GpR.","M00101.08","(M00101.08)","Consolidación de la GpR. (M00101.08)"," ",null,null,null,null,null,null,null,null,null,null,null,null,null,null,null,null,null,null,null,null,null,null,null,null,null,null,null,null,null,null,null,null,null,null,null,null,null,null,null,null,null,null,{"$f":"IFERROR(IF(AND('PLA-FO-01'!D124<>\"\",'PLA-FO-01'!S124<>\"\",'PLA-FO-01'!E124<>\"\"),_xlfn.IFS(OR(AND(LEFT('PLA-FO-01'!D124,4)=\"E040\",LEFT('PLA-FO-01'!E124,3)=\"C01\"),AND(LEFT('PLA-FO-01'!D124,4)=\"E040\",LEFT('PLA-FO-01'!E124,3)=\"C03\"),AND(LEFT('PLA-FO-01'!D124,4)=\"E040\",LEFT('PLA-FO-01'!E124,3)=\"C04\")),\"AF1R1\",AND(LEFT('PLA-FO-01'!D124,4)=\"E040\",LEFT('PLA-FO-01'!E124,3)=\"C02\",LEFT('PLA-FO-01'!S124,2)<>\"60\"),\"AF1R2\",AND(LEFT('PLA-FO-01'!D124,4)=\"E035\",LEFT('PLA-FO-01'!S124,5)=\"20040\"),\"AF1R3\",AND(LEFT('PLA-FO-01'!D124,4)=\"E035\",LEFT('PLA-FO-01'!S124,5)<>\"20040\"),\"AF1R4\",OR(AND(LEFT('PLA-FO-01'!D124,4)=\"E066\",LEFT('PLA-FO-01'!S124,2)=\"60\"),AND(LEFT('PLA-FO-01'!D124,4)=\"E067\",LEFT('PLA-FO-01'!S124,2)=\"60\"),AND(LEFT('PLA-FO-01'!D124,4)=\"E068\",LEFT('PLA-FO-01'!S124,2)=\"60\")),\"AF1R5\",OR(AND(LEFT('PLA-FO-01'!D124,4)=\"E066\",LEFT('PLA-FO-01'!S124,2)<>\"60\"),AND(LEFT('PLA-FO-01'!D124,4)=\"E067\",LEFT('PLA-FO-01'!S124,2)<>\"60\"),AND(LEFT('PLA-FO-01'!D124,4)=\"E068\",LEFT('PLA-FO-01'!S124,2)<>\"60\")),\"AF1R6\",OR(LEFT('PLA-FO-01'!D124,4)=\"R001\",LEFT('PLA-FO-01'!D124,4)=\"O001\",LEFT('PLA-FO-01'!D124,4)=\"M001\"),\"AF1R7\"),\"Falta Valor\"), \"NO APLICA, revisar!\")","v":"Falta Valor"}]
["M001","C2","Control y seguimiento presupuestal.","M00102.01","(M00102.01)","Control y seguimiento presupuestal. (M00102.01)"," ",null,null,null,null,null,null,null,null,null,null,null,null,null,null,null,null,null,null,null,null,null,null,null,null,null,null,null,null,null,null,null,null,null,null,null,null,null,null,null,null,null,null,{"$f":"IFERROR(IF(AND('PLA-FO-01'!D125<>\"\",'PLA-FO-01'!S125<>\"\",'PLA-FO-01'!E125<>\"\"),_xlfn.IFS(OR(AND(LEFT('PLA-FO-01'!D125,4)=\"E040\",LEFT('PLA-FO-01'!E125,3)=\"C01\"),AND(LEFT('PLA-FO-01'!D125,4)=\"E040\",LEFT('PLA-FO-01'!E125,3)=\"C03\"),AND(LEFT('PLA-FO-01'!D125,4)=\"E040\",LEFT('PLA-FO-01'!E125,3)=\"C04\")),\"AF1R1\",AND(LEFT('PLA-FO-01'!D125,4)=\"E040\",LEFT('PLA-FO-01'!E125,3)=\"C02\",LEFT('PLA-FO-01'!S125,2)<>\"60\"),\"AF1R2\",AND(LEFT('PLA-FO-01'!D125,4)=\"E035\",LEFT('PLA-FO-01'!S125,5)=\"20040\"),\"AF1R3\",AND(LEFT('PLA-FO-01'!D125,4)=\"E035\",LEFT('PLA-FO-01'!S125,5)<>\"20040\"),\"AF1R4\",OR(AND(LEFT('PLA-FO-01'!D125,4)=\"E066\",LEFT('PLA-FO-01'!S125,2)=\"60\"),AND(LEFT('PLA-FO-01'!D125,4)=\"E067\",LEFT('PLA-FO-01'!S125,2)=\"60\"),AND(LEFT('PLA-FO-01'!D125,4)=\"E068\",LEFT('PLA-FO-01'!S125,2)=\"60\")),\"AF1R5\",OR(AND(LEFT('PLA-FO-01'!D125,4)=\"E066\",LEFT('PLA-FO-01'!S125,2)<>\"60\"),AND(LEFT('PLA-FO-01'!D125,4)=\"E067\",LEFT('PLA-FO-01'!S125,2)<>\"60\"),AND(LEFT('PLA-FO-01'!D125,4)=\"E068\",LEFT('PLA-FO-01'!S125,2)<>\"60\")),\"AF1R6\",OR(LEFT('PLA-FO-01'!D125,4)=\"R001\",LEFT('PLA-FO-01'!D125,4)=\"O001\",LEFT('PLA-FO-01'!D125,4)=\"M001\"),\"AF1R7\"),\"Falta Valor\"), \"NO APLICA, revisar!\")","v":"Falta Valor"}]
["M001",null,"Programación y presupuestación financiera.","M00102.02","(M00102.02)","Programación y presupuestación financiera. (M00102.02)"," ",null,null,null,null,null,null,null,null,null,null,null,null,null,null,null,null,null,null,null,null,null,null,null,null,null,null,null,null,null,null,null,null,null,null,null,null,null,null,null,null,null,null,{"$f":"IFERROR(IF(AND('PLA-FO-01'!D126<>\"\",'PLA-FO-01'!S126<>\"\",'PLA-FO-01'!E126<>\"\"),_xlfn.IFS(OR(AND(LEFT('PLA-FO-01'!D126,4)=\"E040\",LEFT('PLA-FO-01'!E126,3)=\"C01\"),AND(LEFT('PLA-FO-01'!D126,4)=\"E040\",LEFT('PLA-FO-01'!E126,3)=\"C03\"),AND(LEFT('PLA-FO-01'!D126,4)=\"E040\",LEFT('PLA-FO-01'!E126,3)=\"C04\")),\"AF1R1\",AND(LEFT('PLA-FO-01'!D126,4)=\"E040\",LEFT('PLA-FO-01'!E126,3)=\"C02\",LEFT('PLA-FO-01'!S126,2)<>\"60\"),\"AF1R2\",AND(LEFT('PLA-FO-01'!D126,4)=\"E035\",LEFT('PLA-FO-01'!S126,5)=\"20040\"),\"AF1R3\",AND(LEFT('PLA-FO-01'!D126,4)=\"E035\",LEFT('PLA-FO-01'!S126,5)<>\"20040\"),\"AF1R4\",OR(AND(LEFT('PLA-FO-01'!D126,4)=\"E066\",LEFT('PLA-FO-01'!S126,2)=\"60\"),AND(LEFT('PLA-FO-01'!D126,4)=\"E067\",LEFT('PLA-FO-01'!S126,2)=\"60\"),AND(LEFT('PLA-FO-01'!D126,4)=\"E068\",LEFT('PLA-FO-01'!S126,2)=\"60\")),\"AF1R5\",OR(AND(LEFT('PLA-FO-01'!D126,4)=\"E066\",LEFT('PLA-FO-01'!S126,2)<>\"60\"),AND(LEFT('PLA-FO-01'!D126,4)=\"E067\",LEFT('PLA-FO-01'!S126,2)<>\"60\"),AND(LEFT('PLA-FO-01'!D126,4)=\"E068\",LEFT('PLA-FO-01'!S126,2)<>\"60\")),\"AF1R6\",OR(LEFT('PLA-FO-01'!D126,4)=\"R001\",LEFT('PLA-FO-01'!D126,4)=\"O001\",LEFT('PLA-FO-01'!D126,4)=\"M001\"),\"AF1R7\"),\"Falta Valor\"), \"NO APLICA, revisar!\")","v":"Falta Valor"}]
["M001",null,"Trámites de pago (SP, OR, SF).","M00102.03","(M00102.03)","Trámites de pago (SP, OR, SF). (M00102.03)"," ",null,null,null,null,null,null,null,null,null,null,null,null,null,null,null,null,null,null,null,null,null,null,null,null,null,null,null,null,null,null,null,null,null,null,null,null,null,null,null,null,null,null,{"$f":"IFERROR(IF(AND('PLA-FO-01'!D127<>\"\",'PLA-FO-01'!S127<>\"\",'PLA-FO-01'!E127<>\"\"),_xlfn.IFS(OR(AND(LEFT('PLA-FO-01'!D127,4)=\"E040\",LEFT('PLA-FO-01'!E127,3)=\"C01\"),AND(LEFT('PLA-FO-01'!D127,4)=\"E040\",LEFT('PLA-FO-01'!E127,3)=\"C03\"),AND(LEFT('PLA-FO-01'!D127,4)=\"E040\",LEFT('PLA-FO-01'!E127,3)=\"C04\")),\"AF1R1\",AND(LEFT('PLA-FO-01'!D127,4)=\"E040\",LEFT('PLA-FO-01'!E127,3)=\"C02\",LEFT('PLA-FO-01'!S127,2)<>\"60\"),\"AF1R2\",AND(LEFT('PLA-FO-01'!D127,4)=\"E035\",LEFT('PLA-FO-01'!S127,5)=\"20040\"),\"AF1R3\",AND(LEFT('PLA-FO-01'!D127,4)=\"E035\",LEFT('PLA-FO-01'!S127,5)<>\"20040\"),\"AF1R4\",OR(AND(LEFT('PLA-FO-01'!D127,4)=\"E066\",LEFT('PLA-FO-01'!S127,2)=\"60\"),AND(LEFT('PLA-FO-01'!D127,4)=\"E067\",LEFT('PLA-FO-01'!S127,2)=\"60\"),AND(LEFT('PLA-FO-01'!D127,4)=\"E068\",LEFT('PLA-FO-01'!S127,2)=\"60\")),\"AF1R5\",OR(AND(LEFT('PLA-FO-01'!D127,4)=\"E066\",LEFT('PLA-FO-01'!S127,2)<>\"60\"),AND(LEFT('PLA-FO-01'!D127,4)=\"E067\",LEFT('PLA-FO-01'!S127,2)<>\"60\"),AND(LEFT('PLA-FO-01'!D127,4)=\"E068\",LEFT('PLA-FO-01'!S127,2)<>\"60\")),\"AF1R6\",OR(LEFT('PLA-FO-01'!D127,4)=\"R001\",LEFT('PLA-FO-01'!D127,4)=\"O001\",LEFT('PLA-FO-01'!D127,4)=\"M001\"),\"AF1R7\"),\"Falta Valor\"), \"NO APLICA, revisar!\")","v":"Falta Valor"}]
["M001",null,"Ingreso y consolidación contable.","M00102.04","(M00102.04)","Ingreso y consolidación contable. (M00102.04)"," ",null,null,null,null,null,null,null,null,null,null,null,null,null,null,null,null,null,null,null,null,null,null,null,null,null,null,null,null,null,null,null,null,null,null,null,null,null,null,null,null,null,null,{"$f":"IFERROR(IF(AND('PLA-FO-01'!D128<>\"\",'PLA-FO-01'!S128<>\"\",'PLA-FO-01'!E128<>\"\"),_xlfn.IFS(OR(AND(LEFT('PLA-FO-01'!D128,4)=\"E040\",LEFT('PLA-FO-01'!E128,3)=\"C01\"),AND(LEFT('PLA-FO-01'!D128,4)=\"E040\",LEFT('PLA-FO-01'!E128,3)=\"C03\"),AND(LEFT('PLA-FO-01'!D128,4)=\"E040\",LEFT('PLA-FO-01'!E128,3)=\"C04\")),\"AF1R1\",AND(LEFT('PLA-FO-01'!D128,4)=\"E040\",LEFT('PLA-FO-01'!E128,3)=\"C02\",LEFT('PLA-FO-01'!S128,2)<>\"60\"),\"AF1R2\",AND(LEFT('PLA-FO-01'!D128,4)=\"E035\",LEFT('PLA-FO-01'!S128,5)=\"20040\"),\"AF1R3\",AND(LEFT('PLA-FO-01'!D128,4)=\"E035\",LEFT('PLA-FO-01'!S128,5)<>\"20040\"),\"AF1R4\",OR(AND(LEFT('PLA-FO-01'!D128,4)=\"E066\",LEFT('PLA-FO-01'!S128,2)=\"60\"),AND(LEFT('PLA-FO-01'!D128,4)=\"E067\",LEFT('PLA-FO-01'!S128,2)=\"60\"),AND(LEFT('PLA-FO-01'!D128,4)=\"E068\",LEFT('PLA-FO-01'!S128,2)=\"60\")),\"AF1R5\",OR(AND(LEFT('PLA-FO-01'!D128,4)=\"E066\",LEFT('PLA-FO-01'!S128,2)<>\"60\"),AND(LEFT('PLA-FO-01'!D128,4)=\"E067\",LEFT('PLA-FO-01'!S128,2)<>\"60\"),AND(LEFT('PLA-FO-01'!D128,4)=\"E068\",LEFT('PLA-FO-01'!S128,2)<>\"60\")),\"AF1R6\",OR(LEFT('PLA-FO-01'!D128,4)=\"R001\",LEFT('PLA-FO-01'!D128,4)=\"O001\",LEFT('PLA-FO-01'!D128,4)=\"M001\"),\"AF1R7\"),\"Falta Valor\"), \"NO APLICA, revisar!\")","v":"Falta Valor"}]
["M001",null,"Gestión de recursos para el desarrollo del Campus.","M00102.05","(M00102.05)","Gestión de recursos para el desarrollo del Campus. (M00102.05)"," ",null,null,null,null,null,null,null,null,null,null,null,null,null,null,null,null,null,null,null,null,null,null,null,null,null,null,null,null,null,null,null,null,null,null,null,null,null,null,null,null,null,null,{"$f":"IFERROR(IF(AND('PLA-FO-01'!D129<>\"\",'PLA-FO-01'!S129<>\"\",'PLA-FO-01'!E129<>\"\"),_xlfn.IFS(OR(AND(LEFT('PLA-FO-01'!D129,4)=\"E040\",LEFT('PLA-FO-01'!E129,3)=\"C01\"),AND(LEFT('PLA-FO-01'!D129,4)=\"E040\",LEFT('PLA-FO-01'!E129,3)=\"C03\"),AND(LEFT('PLA-FO-01'!D129,4)=\"E040\",LEFT('PLA-FO-01'!E129,3)=\"C04\")),\"AF1R1\",AND(LEFT('PLA-FO-01'!D129,4)=\"E040\",LEFT('PLA-FO-01'!E129,3)=\"C02\",LEFT('PLA-FO-01'!S129,2)<>\"60\"),\"AF1R2\",AND(LEFT('PLA-FO-01'!D129,4)=\"E035\",LEFT('PLA-FO-01'!S129,5)=\"20040\"),\"AF1R3\",AND(LEFT('PLA-FO-01'!D129,4)=\"E035\",LEFT('PLA-FO-01'!S129,5)<>\"20040\"),\"AF1R4\",OR(AND(LEFT('PLA-FO-01'!D129,4)=\"E066\",LEFT('PLA-FO-01'!S129,2)=\"60\"),AND(LEFT('PLA-FO-01'!D129,4)=\"E067\",LEFT('PLA-FO-01'!S129,2)=\"60\"),AND(LEFT('PLA-FO-01'!D129,4)=\"E068\",LEFT('PLA-FO-01'!S129,2)=\"60\")),\"AF1R5\",OR(AND(LEFT('PLA-FO-01'!D129,4)=\"E066\",LEFT('PLA-FO-01'!S129,2)<>\"60\"),AND(LEFT('PLA-FO-01'!D129,4)=\"E067\",LEFT('PLA-FO-01'!S129,2)<>\"60\"),AND(LEFT('PLA-FO-01'!D129,4)=\"E068\",LEFT('PLA-FO-01'!S129,2)<>\"60\")),\"AF1R6\",OR(LEFT('PLA-FO-01'!D129,4)=\"R001\",LEFT('PLA-FO-01'!D129,4)=\"O001\",LEFT('PLA-FO-01'!D129,4)=\"M001\"),\"AF1R7\"),\"Falta Valor\"), \"NO APLICA, revisar!\")","v":"Falta Valor"}]
["M001","C3","Inducción, capacitación y desarrollo de competencias laborales.","M00103.01","(M00103.01)","Inducción, capacitación y desarrollo de competencias laborales. (M00103.01)"," ",null,null,null,null,null,null,null,null,null,null,null,null,null,null,null,null,null,null,null,null,null,null,null,null,null,null,null,null,null,null,null,null,null,null,null,null,null,null,null,null,null,null,{"$f":"IFERROR(IF(AND('PLA-FO-01'!D130<>\"\",'PLA-FO-01'!S130<>\"\",'PLA-FO-01'!E130<>\"\"),_xlfn.IFS(OR(AND(LEFT('PLA-FO-01'!D130,4)=\"E040\",LEFT('PLA-FO-01'!E130,3)=\"C01\"),AND(LEFT('PLA-FO-01'!D130,4)=\"E040\",LEFT('PLA-FO-01'!E130,3)=\"C03\"),AND(LEFT('PLA-FO-01'!D130,4)=\"E040\",LEFT('PLA-FO-01'!E130,3)=\"C04\")),\"AF1R1\",AND(LEFT('PLA-FO-01'!D130,4)=\"E040\",LEFT('PLA-FO-01'!E130,3)=\"C02\",LEFT('PLA-FO-01'!S130,2)<>\"60\"),\"AF1R2\",AND(LEFT('PLA-FO-01'!D130,4)=\"E035\",LEFT('PLA-FO-01'!S130,5)=\"20040\"),\"AF1R3\",AND(LEFT('PLA-FO-01'!D130,4)=\"E035\",LEFT('PLA-FO-01'!S130,5)<>\"20040\"),\"AF1R4\",OR(AND(LEFT('PLA-FO-01'!D130,4)=\"E066\",LEFT('PLA-FO-01'!S130,2)=\"60\"),AND(LEFT('PLA-FO-01'!D130,4)=\"E067\",LEFT('PLA-FO-01'!S130,2)=\"60\"),AND(LEFT('PLA-FO-01'!D130,4)=\"E068\",LEFT('PLA-FO-01'!S130,2)=\"60\")),\"AF1R5\",OR(AND(LEFT('PLA-FO-01'!D130,4)=\"E066\",LEFT('PLA-FO-01'!S130,2)<>\"60\"),AND(LEFT('PLA-FO-01'!D130,4)=\"E067\",LEFT('PLA-FO-01'!S130,2)<>\"60\"),AND(LEFT('PLA-FO-01'!D130,4)=\"E068\",LEFT('PLA-FO-01'!S130,2)<>\"60\")),\"AF1R6\",OR(LEFT('PLA-FO-01'!D130,4)=\"R001\",LEFT('PLA-FO-01'!D130,4)=\"O001\",LEFT('PLA-FO-01'!D130,4)=\"M001\"),\"AF1R7\"),\"Falta Valor\"), \"NO APLICA, revisar!\")","v":"Falta Valor"}]
["M001",null,"Selección, contratación y movimientos de personal.","M00103.02","(M00103.02)","Selección, contratación y movimientos de personal. (M00103.02)"," ",null,null,null,null,null,null,null,null,null,null,null,null,null,null,null,null,null,null,null,null,null,null,null,null,null,null,null,null,null,null,null,null,null,null,null,null,null,null,null,null,null,null,{"$f":"IFERROR(IF(AND('PLA-FO-01'!D131<>\"\",'PLA-FO-01'!S131<>\"\",'PLA-FO-01'!E131<>\"\"),_xlfn.IFS(OR(AND(LEFT('PLA-FO-01'!D131,4)=\"E040\",LEFT('PLA-FO-01'!E131,3)=\"C01\"),AND(LEFT('PLA-FO-01'!D131,4)=\"E040\",LEFT('PLA-FO-01'!E131,3)=\"C03\"),AND(LEFT('PLA-FO-01'!D131,4)=\"E040\",LEFT('PLA-FO-01'!E131,3)=\"C04\")),\"AF1R1\",AND(LEFT('PLA-FO-01'!D131,4)=\"E040\",LEFT('PLA-FO-01'!E131,3)=\"C02\",LEFT('PLA-FO-01'!S131,2)<>\"60\"),\"AF1R2\",AND(LEFT('PLA-FO-01'!D131,4)=\"E035\",LEFT('PLA-FO-01'!S131,5)=\"20040\"),\"AF1R3\",AND(LEFT('PLA-FO-01'!D131,4)=\"E035\",LEFT('PLA-FO-01'!S131,5)<>\"20040\"),\"AF1R4\",OR(AND(LEFT('PLA-FO-01'!D131,4)=\"E066\",LEFT('PLA-FO-01'!S131,2)=\"60\"),AND(LEFT('PLA-FO-01'!D131,4)=\"E067\",LEFT('PLA-FO-01'!S131,2)=\"60\"),AND(LEFT('PLA-FO-01'!D131,4)=\"E068\",LEFT('PLA-FO-01'!S131,2)=\"60\")),\"AF1R5\",OR(AND(LEFT('PLA-FO-01'!D131,4)=\"E066\",LEFT('PLA-FO-01'!S131,2)<>\"60\"),AND(LEFT('PLA-FO-01'!D131,4)=\"E067\",LEFT('PLA-FO-01'!S131,2)<>\"60\"),AND(LEFT('PLA-FO-01'!D131,4)=\"E068\",LEFT('PLA-FO-01'!S131,2)<>\"60\")),\"AF1R6\",OR(LEFT('PLA-FO-01'!D131,4)=\"R001\",LEFT('PLA-FO-01'!D131,4)=\"O001\",LEFT('PLA-FO-01'!D131,4)=\"M001\"),\"AF1R7\"),\"Falta Valor\"), \"NO APLICA, revisar!\")","v":"Falta Valor"}]
["M001",null,"Prestaciones contractuales al personal universitario.","M00103.03","(M00103.03)","Prestaciones contractuales al personal universitario. (M00103.03)"," ",null,null,null,null,null,null,null,null,null,null,null,null,null,null,null,null,null,null,null,null,null,null,null,null,null,null,null,null,null,null,null,null,null,null,null,null,null,null,null,null,null,null,{"$f":"IFERROR(IF(AND('PLA-FO-01'!D132<>\"\",'PLA-FO-01'!S132<>\"\",'PLA-FO-01'!E132<>\"\"),_xlfn.IFS(OR(AND(LEFT('PLA-FO-01'!D132,4)=\"E040\",LEFT('PLA-FO-01'!E132,3)=\"C01\"),AND(LEFT('PLA-FO-01'!D132,4)=\"E040\",LEFT('PLA-FO-01'!E132,3)=\"C03\"),AND(LEFT('PLA-FO-01'!D132,4)=\"E040\",LEFT('PLA-FO-01'!E132,3)=\"C04\")),\"AF1R1\",AND(LEFT('PLA-FO-01'!D132,4)=\"E040\",LEFT('PLA-FO-01'!E132,3)=\"C02\",LEFT('PLA-FO-01'!S132,2)<>\"60\"),\"AF1R2\",AND(LEFT('PLA-FO-01'!D132,4)=\"E035\",LEFT('PLA-FO-01'!S132,5)=\"20040\"),\"AF1R3\",AND(LEFT('PLA-FO-01'!D132,4)=\"E035\",LEFT('PLA-FO-01'!S132,5)<>\"20040\"),\"AF1R4\",OR(AND(LEFT('PLA-FO-01'!D132,4)=\"E066\",LEFT('PLA-FO-01'!S132,2)=\"60\"),AND(LEFT('PLA-FO-01'!D132,4)=\"E067\",LEFT('PLA-FO-01'!S132,2)=\"60\"),AND(LEFT('PLA-FO-01'!D132,4)=\"E068\",LEFT('PLA-FO-01'!S132,2)=\"60\")),\"AF1R5\",OR(AND(LEFT('PLA-FO-01'!D132,4)=\"E066\",LEFT('PLA-FO-01'!S132,2)<>\"60\"),AND(LEFT('PLA-FO-01'!D132,4)=\"E067\",LEFT('PLA-FO-01'!S132,2)<>\"60\"),AND(LEFT('PLA-FO-01'!D132,4)=\"E068\",LEFT('PLA-FO-01'!S132,2)<>\"60\")),\"AF1R6\",OR(LEFT('PLA-FO-01'!D132,4)=\"R001\",LEFT('PLA-FO-01'!D132,4)=\"O001\",LEFT('PLA-FO-01'!D132,4)=\"M001\"),\"AF1R7\"),\"Falta Valor\"), \"NO APLICA, revisar!\")","v":"Falta Valor"}]
["M001",null,"Procesamiento de datos y para pago de nómina de sueldos y salarios.","M00103.04","(M00103.04)","Procesamiento de datos y para pago de nómina de sueldos y salarios. (M00103.04)"," ",null,null,null,null,null,null,null,null,null,null,null,null,null,null,null,null,null,null,null,null,null,null,null,null,null,null,null,null,null,null,null,null,null,null,null,null,null,null,null,null,null,null,{"$f":"IFERROR(IF(AND('PLA-FO-01'!D133<>\"\",'PLA-FO-01'!S133<>\"\",'PLA-FO-01'!E133<>\"\"),_xlfn.IFS(OR(AND(LEFT('PLA-FO-01'!D133,4)=\"E040\",LEFT('PLA-FO-01'!E133,3)=\"C01\"),AND(LEFT('PLA-FO-01'!D133,4)=\"E040\",LEFT('PLA-FO-01'!E133,3)=\"C03\"),AND(LEFT('PLA-FO-01'!D133,4)=\"E040\",LEFT('PLA-FO-01'!E133,3)=\"C04\")),\"AF1R1\",AND(LEFT('PLA-FO-01'!D133,4)=\"E040\",LEFT('PLA-FO-01'!E133,3)=\"C02\",LEFT('PLA-FO-01'!S133,2)<>\"60\"),\"AF1R2\",AND(LEFT('PLA-FO-01'!D133,4)=\"E035\",LEFT('PLA-FO-01'!S133,5)=\"20040\"),\"AF1R3\",AND(LEFT('PLA-FO-01'!D133,4)=\"E035\",LEFT('PLA-FO-01'!S133,5)<>\"20040\"),\"AF1R4\",OR(AND(LEFT('PLA-FO-01'!D133,4)=\"E066\",LEFT('PLA-FO-01'!S133,2)=\"60\"),AND(LEFT('PLA-FO-01'!D133,4)=\"E067\",LEFT('PLA-FO-01'!S133,2)=\"60\"),AND(LEFT('PLA-FO-01'!D133,4)=\"E068\",LEFT('PLA-FO-01'!S133,2)=\"60\")),\"AF1R5\",OR(AND(LEFT('PLA-FO-01'!D133,4)=\"E066\",LEFT('PLA-FO-01'!S133,2)<>\"60\"),AND(LEFT('PLA-FO-01'!D133,4)=\"E067\",LEFT('PLA-FO-01'!S133,2)<>\"60\"),AND(LEFT('PLA-FO-01'!D133,4)=\"E068\",LEFT('PLA-FO-01'!S133,2)<>\"60\")),\"AF1R6\",OR(LEFT('PLA-FO-01'!D133,4)=\"R001\",LEFT('PLA-FO-01'!D133,4)=\"O001\",LEFT('PLA-FO-01'!D133,4)=\"M001\"),\"AF1R7\"),\"Falta Valor\"), \"NO APLICA, revisar!\")","v":"Falta Valor"}]
["M001",null,"Organizar la estructura administrativa..","M00103.05","(M00103.05)","Organizar la estructura administrativa.. (M00103.05)"," ",null,null,null,null,null,null,null,null,null,null,null,null,null,null,null,null,null,null,null,null,null,null,null,null,null,null,null,null,null,null,null,null,null,null,null,null,null,null,null,null,null,null,{"$f":"IFERROR(IF(AND('PLA-FO-01'!D134<>\"\",'PLA-FO-01'!S134<>\"\",'PLA-FO-01'!E134<>\"\"),_xlfn.IFS(OR(AND(LEFT('PLA-FO-01'!D134,4)=\"E040\",LEFT('PLA-FO-01'!E134,3)=\"C01\"),AND(LEFT('PLA-FO-01'!D134,4)=\"E040\",LEFT('PLA-FO-01'!E134,3)=\"C03\"),AND(LEFT('PLA-FO-01'!D134,4)=\"E040\",LEFT('PLA-FO-01'!E134,3)=\"C04\")),\"AF1R1\",AND(LEFT('PLA-FO-01'!D134,4)=\"E040\",LEFT('PLA-FO-01'!E134,3)=\"C02\",LEFT('PLA-FO-01'!S134,2)<>\"60\"),\"AF1R2\",AND(LEFT('PLA-FO-01'!D134,4)=\"E035\",LEFT('PLA-FO-01'!S134,5)=\"20040\"),\"AF1R3\",AND(LEFT('PLA-FO-01'!D134,4)=\"E035\",LEFT('PLA-FO-01'!S134,5)<>\"20040\"),\"AF1R4\",OR(AND(LEFT('PLA-FO-01'!D134,4)=\"E066\",LEFT('PLA-FO-01'!S134,2)=\"60\"),AND(LEFT('PLA-FO-01'!D134,4)=\"E067\",LEFT('PLA-FO-01'!S134,2)=\"60\"),AND(LEFT('PLA-FO-01'!D134,4)=\"E068\",LEFT('PLA-FO-01'!S134,2)=\"60\")),\"AF1R5\",OR(AND(LEFT('PLA-FO-01'!D134,4)=\"E066\",LEFT('PLA-FO-01'!S134,2)<>\"60\"),AND(LEFT('PLA-FO-01'!D134,4)=\"E067\",LEFT('PLA-FO-01'!S134,2)<>\"60\"),AND(LEFT('PLA-FO-01'!D134,4)=\"E068\",LEFT('PLA-FO-01'!S134,2)<>\"60\")),\"AF1R6\",OR(LEFT('PLA-FO-01'!D134,4)=\"R001\",LEFT('PLA-FO-01'!D134,4)=\"O001\",LEFT('PLA-FO-01'!D134,4)=\"M001\"),\"AF1R7\"),\"Falta Valor\"), \"NO APLICA, revisar!\")","v":"Falta Valor"}]
["M001",null,"Atención y seguimiento a casos de Relaciones Laborales.","M00103.06","(M00103.06)","Atención y seguimiento a casos de Relaciones Laborales. (M00103.06)"," ",null,null,null,null,null,null,null,null,null,null,null,null,null,null,null,null,null,null,null,null,null,null,null,null,null,null,null,null,null,null,null,null,null,null,null,null,null,null,null,null,null,null,{"$f":"IFERROR(IF(AND('PLA-FO-01'!D135<>\"\",'PLA-FO-01'!S135<>\"\",'PLA-FO-01'!E135<>\"\"),_xlfn.IFS(OR(AND(LEFT('PLA-FO-01'!D135,4)=\"E040\",LEFT('PLA-FO-01'!E135,3)=\"C01\"),AND(LEFT('PLA-FO-01'!D135,4)=\"E040\",LEFT('PLA-FO-01'!E135,3)=\"C03\"),AND(LEFT('PLA-FO-01'!D135,4)=\"E040\",LEFT('PLA-FO-01'!E135,3)=\"C04\")),\"AF1R1\",AND(LEFT('PLA-FO-01'!D135,4)=\"E040\",LEFT('PLA-FO-01'!E135,3)=\"C02\",LEFT('PLA-FO-01'!S135,2)<>\"60\"),\"AF1R2\",AND(LEFT('PLA-FO-01'!D135,4)=\"E035\",LEFT('PLA-FO-01'!S135,5)=\"20040\"),\"AF1R3\",AND(LEFT('PLA-FO-01'!D135,4)=\"E035\",LEFT('PLA-FO-01'!S135,5)<>\"20040\"),\"AF1R4\",OR(AND(LEFT('PLA-FO-01'!D135,4)=\"E066\",LEFT('PLA-FO-01'!S135,2)=\"60\"),AND(LEFT('PLA-FO-01'!D135,4)=\"E067\",LEFT('PLA-FO-01'!S135,2)=\"60\"),AND(LEFT('PLA-FO-01'!D135,4)=\"E068\",LEFT('PLA-FO-01'!S135,2)=\"60\")),\"AF1R5\",OR(AND(LEFT('PLA-FO-01'!D135,4)=\"E066\",LEFT('PLA-FO-01'!S135,2)<>\"60\"),AND(LEFT('PLA-FO-01'!D135,4)=\"E067\",LEFT('PLA-FO-01'!S135,2)<>\"60\"),AND(LEFT('PLA-FO-01'!D135,4)=\"E068\",LEFT('PLA-FO-01'!S135,2)<>\"60\")),\"AF1R6\",OR(LEFT('PLA-FO-01'!D135,4)=\"R001\",LEFT('PLA-FO-01'!D135,4)=\"O001\",LEFT('PLA-FO-01'!D135,4)=\"M001\"),\"AF1R7\"),\"Falta Valor\"), \"NO APLICA, revisar!\")","v":"Falta Valor"}]
["M001",null,"Acciones de prevención y atención a riesgos laborales.","M00103.07","(M00103.07)","Acciones de prevención y atención a riesgos laborales. (M00103.07)"," ",null,null,null,null,null,null,null,null,null,null,null,null,null,null,null,null,null,null,null,null,null,null,null,null,null,null,null,null,null,null,null,null,null,null,null,null,null,null,null,null,null,null,{"$f":"IFERROR(IF(AND('PLA-FO-01'!D136<>\"\",'PLA-FO-01'!S136<>\"\",'PLA-FO-01'!E136<>\"\"),_xlfn.IFS(OR(AND(LEFT('PLA-FO-01'!D136,4)=\"E040\",LEFT('PLA-FO-01'!E136,3)=\"C01\"),AND(LEFT('PLA-FO-01'!D136,4)=\"E040\",LEFT('PLA-FO-01'!E136,3)=\"C03\"),AND(LEFT('PLA-FO-01'!D136,4)=\"E040\",LEFT('PLA-FO-01'!E136,3)=\"C04\")),\"AF1R1\",AND(LEFT('PLA-FO-01'!D136,4)=\"E040\",LEFT('PLA-FO-01'!E136,3)=\"C02\",LEFT('PLA-FO-01'!S136,2)<>\"60\"),\"AF1R2\",AND(LEFT('PLA-FO-01'!D136,4)=\"E035\",LEFT('PLA-FO-01'!S136,5)=\"20040\"),\"AF1R3\",AND(LEFT('PLA-FO-01'!D136,4)=\"E035\",LEFT('PLA-FO-01'!S136,5)<>\"20040\"),\"AF1R4\",OR(AND(LEFT('PLA-FO-01'!D136,4)=\"E066\",LEFT('PLA-FO-01'!S136,2)=\"60\"),AND(LEFT('PLA-FO-01'!D136,4)=\"E067\",LEFT('PLA-FO-01'!S136,2)=\"60\"),AND(LEFT('PLA-FO-01'!D136,4)=\"E068\",LEFT('PLA-FO-01'!S136,2)=\"60\")),\"AF1R5\",OR(AND(LEFT('PLA-FO-01'!D136,4)=\"E066\",LEFT('PLA-FO-01'!S136,2)<>\"60\"),AND(LEFT('PLA-FO-01'!D136,4)=\"E067\",LEFT('PLA-FO-01'!S136,2)<>\"60\"),AND(LEFT('PLA-FO-01'!D136,4)=\"E068\",LEFT('PLA-FO-01'!S136,2)<>\"60\")),\"AF1R6\",OR(LEFT('PLA-FO-01'!D136,4)=\"R001\",LEFT('PLA-FO-01'!D136,4)=\"O001\",LEFT('PLA-FO-01'!D136,4)=\"M001\"),\"AF1R7\"),\"Falta Valor\"), \"NO APLICA, revisar!\")","v":"Falta Valor"}]
["M001",null,"Regulación y Control de Recursos Humanos.","M00103.08","(M00103.08)","Regulación y Control de Recursos Humanos. (M00103.08)"," ",null,null,null,null,null,null,null,null,null,null,null,null,null,null,null,null,null,null,null,null,null,null,null,null,null,null,null,null,null,null,null,null,null,null,null,null,null,null,null,null,null,null,{"$f":"IFERROR(IF(AND('PLA-FO-01'!D137<>\"\",'PLA-FO-01'!S137<>\"\",'PLA-FO-01'!E137<>\"\"),_xlfn.IFS(OR(AND(LEFT('PLA-FO-01'!D137,4)=\"E040\",LEFT('PLA-FO-01'!E137,3)=\"C01\"),AND(LEFT('PLA-FO-01'!D137,4)=\"E040\",LEFT('PLA-FO-01'!E137,3)=\"C03\"),AND(LEFT('PLA-FO-01'!D137,4)=\"E040\",LEFT('PLA-FO-01'!E137,3)=\"C04\")),\"AF1R1\",AND(LEFT('PLA-FO-01'!D137,4)=\"E040\",LEFT('PLA-FO-01'!E137,3)=\"C02\",LEFT('PLA-FO-01'!S137,2)<>\"60\"),\"AF1R2\",AND(LEFT('PLA-FO-01'!D137,4)=\"E035\",LEFT('PLA-FO-01'!S137,5)=\"20040\"),\"AF1R3\",AND(LEFT('PLA-FO-01'!D137,4)=\"E035\",LEFT('PLA-FO-01'!S137,5)<>\"20040\"),\"AF1R4\",OR(AND(LEFT('PLA-FO-01'!D137,4)=\"E066\",LEFT('PLA-FO-01'!S137,2)=\"60\"),AND(LEFT('PLA-FO-01'!D137,4)=\"E067\",LEFT('PLA-FO-01'!S137,2)=\"60\"),AND(LEFT('PLA-FO-01'!D137,4)=\"E068\",LEFT('PLA-FO-01'!S137,2)=\"60\")),\"AF1R5\",OR(AND(LEFT('PLA-FO-01'!D137,4)=\"E066\",LEFT('PLA-FO-01'!S137,2)<>\"60\"),AND(LEFT('PLA-FO-01'!D137,4)=\"E067\",LEFT('PLA-FO-01'!S137,2)<>\"60\"),AND(LEFT('PLA-FO-01'!D137,4)=\"E068\",LEFT('PLA-FO-01'!S137,2)<>\"60\")),\"AF1R6\",OR(LEFT('PLA-FO-01'!D137,4)=\"R001\",LEFT('PLA-FO-01'!D137,4)=\"O001\",LEFT('PLA-FO-01'!D137,4)=\"M001\"),\"AF1R7\"),\"Falta Valor\"), \"NO APLICA, revisar!\")","v":"Falta Valor"}]
["M001",null,"Acciones de evaluación y mejora al Clima laboral.","M00103.09","(M00103.09)","Acciones de evaluación y mejora al Clima laboral. (M00103.09)"," ",null,null,null,null,null,null,null,null,null,null,null,null,null,null,null,null,null,null,null,null,null,null,null,null,null,null,null,null,null,null,null,null,null,null,null,null,null,null,null,null,null,null,{"$f":"IFERROR(IF(AND('PLA-FO-01'!D138<>\"\",'PLA-FO-01'!S138<>\"\",'PLA-FO-01'!E138<>\"\"),_xlfn.IFS(OR(AND(LEFT('PLA-FO-01'!D138,4)=\"E040\",LEFT('PLA-FO-01'!E138,3)=\"C01\"),AND(LEFT('PLA-FO-01'!D138,4)=\"E040\",LEFT('PLA-FO-01'!E138,3)=\"C03\"),AND(LEFT('PLA-FO-01'!D138,4)=\"E040\",LEFT('PLA-FO-01'!E138,3)=\"C04\")),\"AF1R1\",AND(LEFT('PLA-FO-01'!D138,4)=\"E040\",LEFT('PLA-FO-01'!E138,3)=\"C02\",LEFT('PLA-FO-01'!S138,2)<>\"60\"),\"AF1R2\",AND(LEFT('PLA-FO-01'!D138,4)=\"E035\",LEFT('PLA-FO-01'!S138,5)=\"20040\"),\"AF1R3\",AND(LEFT('PLA-FO-01'!D138,4)=\"E035\",LEFT('PLA-FO-01'!S138,5)<>\"20040\"),\"AF1R4\",OR(AND(LEFT('PLA-FO-01'!D138,4)=\"E066\",LEFT('PLA-FO-01'!S138,2)=\"60\"),AND(LEFT('PLA-FO-01'!D138,4)=\"E067\",LEFT('PLA-FO-01'!S138,2)=\"60\"),AND(LEFT('PLA-FO-01'!D138,4)=\"E068\",LEFT('PLA-FO-01'!S138,2)=\"60\")),\"AF1R5\",OR(AND(LEFT('PLA-FO-01'!D138,4)=\"E066\",LEFT('PLA-FO-01'!S138,2)<>\"60\"),AND(LEFT('PLA-FO-01'!D138,4)=\"E067\",LEFT('PLA-FO-01'!S138,2)<>\"60\"),AND(LEFT('PLA-FO-01'!D138,4)=\"E068\",LEFT('PLA-FO-01'!S138,2)<>\"60\")),\"AF1R6\",OR(LEFT('PLA-FO-01'!D138,4)=\"R001\",LEFT('PLA-FO-01'!D138,4)=\"O001\",LEFT('PLA-FO-01'!D138,4)=\"M001\"),\"AF1R7\"),\"Falta Valor\"), \"NO APLICA, revisar!\")","v":"Falta Valor"}]
["M001",null,"Actividades para la promoción de la salud y prevención de enfermedades.","M00103.10","(M00103.10)","Actividades para la promoción de la salud y prevención de enfermedades. (M00103.10)"," ",null,null,null,null,null,null,null,null,null,null,null,null,null,null,null,null,null,null,null,null,null,null,null,null,null,null,null,null,null,null,null,null,null,null,null,null,null,null,null,null,null,null,{"$f":"IFERROR(IF(AND('PLA-FO-01'!D139<>\"\",'PLA-FO-01'!S139<>\"\",'PLA-FO-01'!E139<>\"\"),_xlfn.IFS(OR(AND(LEFT('PLA-FO-01'!D139,4)=\"E040\",LEFT('PLA-FO-01'!E139,3)=\"C01\"),AND(LEFT('PLA-FO-01'!D139,4)=\"E040\",LEFT('PLA-FO-01'!E139,3)=\"C03\"),AND(LEFT('PLA-FO-01'!D139,4)=\"E040\",LEFT('PLA-FO-01'!E139,3)=\"C04\")),\"AF1R1\",AND(LEFT('PLA-FO-01'!D139,4)=\"E040\",LEFT('PLA-FO-01'!E139,3)=\"C02\",LEFT('PLA-FO-01'!S139,2)<>\"60\"),\"AF1R2\",AND(LEFT('PLA-FO-01'!D139,4)=\"E035\",LEFT('PLA-FO-01'!S139,5)=\"20040\"),\"AF1R3\",AND(LEFT('PLA-FO-01'!D139,4)=\"E035\",LEFT('PLA-FO-01'!S139,5)<>\"20040\"),\"AF1R4\",OR(AND(LEFT('PLA-FO-01'!D139,4)=\"E066\",LEFT('PLA-FO-01'!S139,2)=\"60\"),AND(LEFT('PLA-FO-01'!D139,4)=\"E067\",LEFT('PLA-FO-01'!S139,2)=\"60\"),AND(LEFT('PLA-FO-01'!D139,4)=\"E068\",LEFT('PLA-FO-01'!S139,2)=\"60\")),\"AF1R5\",OR(AND(LEFT('PLA-FO-01'!D139,4)=\"E066\",LEFT('PLA-FO-01'!S139,2)<>\"60\"),AND(LEFT('PLA-FO-01'!D139,4)=\"E067\",LEFT('PLA-FO-01'!S139,2)<>\"60\"),AND(LEFT('PLA-FO-01'!D139,4)=\"E068\",LEFT('PLA-FO-01'!S139,2)<>\"60\")),\"AF1R6\",OR(LEFT('PLA-FO-01'!D139,4)=\"R001\",LEFT('PLA-FO-01'!D139,4)=\"O001\",LEFT('PLA-FO-01'!D139,4)=\"M001\"),\"AF1R7\"),\"Falta Valor\"), \"NO APLICA, revisar!\")","v":"Falta Valor"}]
["M001",null,"Afiliación y actualización de vigencia de derechos.","M00103.11","(M00103.11)","Afiliación y actualización de vigencia de derechos. (M00103.11)"," ",null,null,null,null,null,null,null,null,null,null,null,null,null,null,null,null,null,null,null,null,null,null,null,null,null,null,null,null,null,null,null,null,null,null,null,null,null,null,null,null,null,null,{"$f":"IFERROR(IF(AND('PLA-FO-01'!D140<>\"\",'PLA-FO-01'!S140<>\"\",'PLA-FO-01'!E140<>\"\"),_xlfn.IFS(OR(AND(LEFT('PLA-FO-01'!D140,4)=\"E040\",LEFT('PLA-FO-01'!E140,3)=\"C01\"),AND(LEFT('PLA-FO-01'!D140,4)=\"E040\",LEFT('PLA-FO-01'!E140,3)=\"C03\"),AND(LEFT('PLA-FO-01'!D140,4)=\"E040\",LEFT('PLA-FO-01'!E140,3)=\"C04\")),\"AF1R1\",AND(LEFT('PLA-FO-01'!D140,4)=\"E040\",LEFT('PLA-FO-01'!E140,3)=\"C02\",LEFT('PLA-FO-01'!S140,2)<>\"60\"),\"AF1R2\",AND(LEFT('PLA-FO-01'!D140,4)=\"E035\",LEFT('PLA-FO-01'!S140,5)=\"20040\"),\"AF1R3\",AND(LEFT('PLA-FO-01'!D140,4)=\"E035\",LEFT('PLA-FO-01'!S140,5)<>\"20040\"),\"AF1R4\",OR(AND(LEFT('PLA-FO-01'!D140,4)=\"E066\",LEFT('PLA-FO-01'!S140,2)=\"60\"),AND(LEFT('PLA-FO-01'!D140,4)=\"E067\",LEFT('PLA-FO-01'!S140,2)=\"60\"),AND(LEFT('PLA-FO-01'!D140,4)=\"E068\",LEFT('PLA-FO-01'!S140,2)=\"60\")),\"AF1R5\",OR(AND(LEFT('PLA-FO-01'!D140,4)=\"E066\",LEFT('PLA-FO-01'!S140,2)<>\"60\"),AND(LEFT('PLA-FO-01'!D140,4)=\"E067\",LEFT('PLA-FO-01'!S140,2)<>\"60\"),AND(LEFT('PLA-FO-01'!D140,4)=\"E068\",LEFT('PLA-FO-01'!S140,2)<>\"60\")),\"AF1R6\",OR(LEFT('PLA-FO-01'!D140,4)=\"R001\",LEFT('PLA-FO-01'!D140,4)=\"O001\",LEFT('PLA-FO-01'!D140,4)=\"M001\"),\"AF1R7\"),\"Falta Valor\"), \"NO APLICA, revisar!\")","v":"Falta Valor"}]
["M001",null,"Servicios médicos (Unidades de primer contacto, Red Médica).","M00103.12","(M00103.12)","Servicios médicos (Unidades de primer contacto, Red Médica). (M00103.12)"," ",null,null,null,null,null,null,null,null,null,null,null,null,null,null,null,null,null,null,null,null,null,null,null,null,null,null,null,null,null,null,null,null,null,null,null,null,null,null,null,null,null,null,{"$f":"IFERROR(IF(AND('PLA-FO-01'!D141<>\"\",'PLA-FO-01'!S141<>\"\",'PLA-FO-01'!E141<>\"\"),_xlfn.IFS(OR(AND(LEFT('PLA-FO-01'!D141,4)=\"E040\",LEFT('PLA-FO-01'!E141,3)=\"C01\"),AND(LEFT('PLA-FO-01'!D141,4)=\"E040\",LEFT('PLA-FO-01'!E141,3)=\"C03\"),AND(LEFT('PLA-FO-01'!D141,4)=\"E040\",LEFT('PLA-FO-01'!E141,3)=\"C04\")),\"AF1R1\",AND(LEFT('PLA-FO-01'!D141,4)=\"E040\",LEFT('PLA-FO-01'!E141,3)=\"C02\",LEFT('PLA-FO-01'!S141,2)<>\"60\"),\"AF1R2\",AND(LEFT('PLA-FO-01'!D141,4)=\"E035\",LEFT('PLA-FO-01'!S141,5)=\"20040\"),\"AF1R3\",AND(LEFT('PLA-FO-01'!D141,4)=\"E035\",LEFT('PLA-FO-01'!S141,5)<>\"20040\"),\"AF1R4\",OR(AND(LEFT('PLA-FO-01'!D141,4)=\"E066\",LEFT('PLA-FO-01'!S141,2)=\"60\"),AND(LEFT('PLA-FO-01'!D141,4)=\"E067\",LEFT('PLA-FO-01'!S141,2)=\"60\"),AND(LEFT('PLA-FO-01'!D141,4)=\"E068\",LEFT('PLA-FO-01'!S141,2)=\"60\")),\"AF1R5\",OR(AND(LEFT('PLA-FO-01'!D141,4)=\"E066\",LEFT('PLA-FO-01'!S141,2)<>\"60\"),AND(LEFT('PLA-FO-01'!D141,4)=\"E067\",LEFT('PLA-FO-01'!S141,2)<>\"60\"),AND(LEFT('PLA-FO-01'!D141,4)=\"E068\",LEFT('PLA-FO-01'!S141,2)<>\"60\")),\"AF1R6\",OR(LEFT('PLA-FO-01'!D141,4)=\"R001\",LEFT('PLA-FO-01'!D141,4)=\"O001\",LEFT('PLA-FO-01'!D141,4)=\"M001\"),\"AF1R7\"),\"Falta Valor\"), \"NO APLICA, revisar!\")","v":"Falta Valor"}]
["M001",null,"Pensiones y Jubilaciones.","M00103.13","(M00103.13)","Pensiones y Jubilaciones. (M00103.13)"," ",null,null,null,null,null,null,null,null,null,null,null,null,null,null,null,null,null,null,null,null,null,null,null,null,null,null,null,null,null,null,null,null,null,null,null,null,null,null,null,null,null,null,{"$f":"IFERROR(IF(AND('PLA-FO-01'!D142<>\"\",'PLA-FO-01'!S142<>\"\",'PLA-FO-01'!E142<>\"\"),_xlfn.IFS(OR(AND(LEFT('PLA-FO-01'!D142,4)=\"E040\",LEFT('PLA-FO-01'!E142,3)=\"C01\"),AND(LEFT('PLA-FO-01'!D142,4)=\"E040\",LEFT('PLA-FO-01'!E142,3)=\"C03\"),AND(LEFT('PLA-FO-01'!D142,4)=\"E040\",LEFT('PLA-FO-01'!E142,3)=\"C04\")),\"AF1R1\",AND(LEFT('PLA-FO-01'!D142,4)=\"E040\",LEFT('PLA-FO-01'!E142,3)=\"C02\",LEFT('PLA-FO-01'!S142,2)<>\"60\"),\"AF1R2\",AND(LEFT('PLA-FO-01'!D142,4)=\"E035\",LEFT('PLA-FO-01'!S142,5)=\"20040\"),\"AF1R3\",AND(LEFT('PLA-FO-01'!D142,4)=\"E035\",LEFT('PLA-FO-01'!S142,5)<>\"20040\"),\"AF1R4\",OR(AND(LEFT('PLA-FO-01'!D142,4)=\"E066\",LEFT('PLA-FO-01'!S142,2)=\"60\"),AND(LEFT('PLA-FO-01'!D142,4)=\"E067\",LEFT('PLA-FO-01'!S142,2)=\"60\"),AND(LEFT('PLA-FO-01'!D142,4)=\"E068\",LEFT('PLA-FO-01'!S142,2)=\"60\")),\"AF1R5\",OR(AND(LEFT('PLA-FO-01'!D142,4)=\"E066\",LEFT('PLA-FO-01'!S142,2)<>\"60\"),AND(LEFT('PLA-FO-01'!D142,4)=\"E067\",LEFT('PLA-FO-01'!S142,2)<>\"60\"),AND(LEFT('PLA-FO-01'!D142,4)=\"E068\",LEFT('PLA-FO-01'!S142,2)<>\"60\")),\"AF1R6\",OR(LEFT('PLA-FO-01'!D142,4)=\"R001\",LEFT('PLA-FO-01'!D142,4)=\"O001\",LEFT('PLA-FO-01'!D142,4)=\"M001\"),\"AF1R7\"),\"Falta Valor\"), \"NO APLICA, revisar!\")","v":"Falta Valor"}]
["M001","C4","Gestión, ejecución y seguimiento a las Adquisiciones de bienes muebles e inmuebles.","M00104.01","(M00104.01)","Gestión, ejecución y seguimiento a las Adquisiciones de bienes muebles e inmuebles. (M00104.01)"," ",null,null,null,null,null,null,null,null,null,null,null,null,null,null,null,null,null,null,null,null,null,null,null,null,null,null,null,null,null,null,null,null,null,null,null,null,null,null,null,null,null,null,{"$f":"IFERROR(IF(AND('PLA-FO-01'!D143<>\"\",'PLA-FO-01'!S143<>\"\",'PLA-FO-01'!E143<>\"\"),_xlfn.IFS(OR(AND(LEFT('PLA-FO-01'!D143,4)=\"E040\",LEFT('PLA-FO-01'!E143,3)=\"C01\"),AND(LEFT('PLA-FO-01'!D143,4)=\"E040\",LEFT('PLA-FO-01'!E143,3)=\"C03\"),AND(LEFT('PLA-FO-01'!D143,4)=\"E040\",LEFT('PLA-FO-01'!E143,3)=\"C04\")),\"AF1R1\",AND(LEFT('PLA-FO-01'!D143,4)=\"E040\",LEFT('PLA-FO-01'!E143,3)=\"C02\",LEFT('PLA-FO-01'!S143,2)<>\"60\"),\"AF1R2\",AND(LEFT('PLA-FO-01'!D143,4)=\"E035\",LEFT('PLA-FO-01'!S143,5)=\"20040\"),\"AF1R3\",AND(LEFT('PLA-FO-01'!D143,4)=\"E035\",LEFT('PLA-FO-01'!S143,5)<>\"20040\"),\"AF1R4\",OR(AND(LEFT('PLA-FO-01'!D143,4)=\"E066\",LEFT('PLA-FO-01'!S143,2)=\"60\"),AND(LEFT('PLA-FO-01'!D143,4)=\"E067\",LEFT('PLA-FO-01'!S143,2)=\"60\"),AND(LEFT('PLA-FO-01'!D143,4)=\"E068\",LEFT('PLA-FO-01'!S143,2)=\"60\")),\"AF1R5\",OR(AND(LEFT('PLA-FO-01'!D143,4)=\"E066\",LEFT('PLA-FO-01'!S143,2)<>\"60\"),AND(LEFT('PLA-FO-01'!D143,4)=\"E067\",LEFT('PLA-FO-01'!S143,2)<>\"60\"),AND(LEFT('PLA-FO-01'!D143,4)=\"E068\",LEFT('PLA-FO-01'!S143,2)<>\"60\")),\"AF1R6\",OR(LEFT('PLA-FO-01'!D143,4)=\"R001\",LEFT('PLA-FO-01'!D143,4)=\"O001\",LEFT('PLA-FO-01'!D143,4)=\"M001\"),\"AF1R7\"),\"Falta Valor\"), \"NO APLICA, revisar!\")","v":"Falta Valor"}]
["M001",null,"Contratación de prestación de servicios.","M00104.02","(M00104.02)","Contratación de prestación de servicios. (M00104.02)"," ",null,null,null,null,null,null,null,null,null,null,null,null,null,null,null,null,null,null,null,null,null,null,null,null,null,null,null,null,null,null,null,null,null,null,null,null,null,null,null,null,null,null,{"$f":"IFERROR(IF(AND('PLA-FO-01'!D144<>\"\",'PLA-FO-01'!S144<>\"\",'PLA-FO-01'!E144<>\"\"),_xlfn.IFS(OR(AND(LEFT('PLA-FO-01'!D144,4)=\"E040\",LEFT('PLA-FO-01'!E144,3)=\"C01\"),AND(LEFT('PLA-FO-01'!D144,4)=\"E040\",LEFT('PLA-FO-01'!E144,3)=\"C03\"),AND(LEFT('PLA-FO-01'!D144,4)=\"E040\",LEFT('PLA-FO-01'!E144,3)=\"C04\")),\"AF1R1\",AND(LEFT('PLA-FO-01'!D144,4)=\"E040\",LEFT('PLA-FO-01'!E144,3)=\"C02\",LEFT('PLA-FO-01'!S144,2)<>\"60\"),\"AF1R2\",AND(LEFT('PLA-FO-01'!D144,4)=\"E035\",LEFT('PLA-FO-01'!S144,5)=\"20040\"),\"AF1R3\",AND(LEFT('PLA-FO-01'!D144,4)=\"E035\",LEFT('PLA-FO-01'!S144,5)<>\"20040\"),\"AF1R4\",OR(AND(LEFT('PLA-FO-01'!D144,4)=\"E066\",LEFT('PLA-FO-01'!S144,2)=\"60\"),AND(LEFT('PLA-FO-01'!D144,4)=\"E067\",LEFT('PLA-FO-01'!S144,2)=\"60\"),AND(LEFT('PLA-FO-01'!D144,4)=\"E068\",LEFT('PLA-FO-01'!S144,2)=\"60\")),\"AF1R5\",OR(AND(LEFT('PLA-FO-01'!D144,4)=\"E066\",LEFT('PLA-FO-01'!S144,2)<>\"60\"),AND(LEFT('PLA-FO-01'!D144,4)=\"E067\",LEFT('PLA-FO-01'!S144,2)<>\"60\"),AND(LEFT('PLA-FO-01'!D144,4)=\"E068\",LEFT('PLA-FO-01'!S144,2)<>\"60\")),\"AF1R6\",OR(LEFT('PLA-FO-01'!D144,4)=\"R001\",LEFT('PLA-FO-01'!D144,4)=\"O001\",LEFT('PLA-FO-01'!D144,4)=\"M001\"),\"AF1R7\"),\"Falta Valor\"), \"NO APLICA, revisar!\")","v":"Falta Valor"}]
["M001",null,"Control de bienes muebles.","M00104.03","(M00104.03)","Control de bienes muebles. (M00104.03)"," ",null,null,null,null,null,null,null,null,null,null,null,null,null,null,null,null,null,null,null,null,null,null,null,null,null,null,null,null,null,null,null,null,null,null,null,null,null,null,null,null,null,null,{"$f":"IFERROR(IF(AND('PLA-FO-01'!D145<>\"\",'PLA-FO-01'!S145<>\"\",'PLA-FO-01'!E145<>\"\"),_xlfn.IFS(OR(AND(LEFT('PLA-FO-01'!D145,4)=\"E040\",LEFT('PLA-FO-01'!E145,3)=\"C01\"),AND(LEFT('PLA-FO-01'!D145,4)=\"E040\",LEFT('PLA-FO-01'!E145,3)=\"C03\"),AND(LEFT('PLA-FO-01'!D145,4)=\"E040\",LEFT('PLA-FO-01'!E145,3)=\"C04\")),\"AF1R1\",AND(LEFT('PLA-FO-01'!D145,4)=\"E040\",LEFT('PLA-FO-01'!E145,3)=\"C02\",LEFT('PLA-FO-01'!S145,2)<>\"60\"),\"AF1R2\",AND(LEFT('PLA-FO-01'!D145,4)=\"E035\",LEFT('PLA-FO-01'!S145,5)=\"20040\"),\"AF1R3\",AND(LEFT('PLA-FO-01'!D145,4)=\"E035\",LEFT('PLA-FO-01'!S145,5)<>\"20040\"),\"AF1R4\",OR(AND(LEFT('PLA-FO-01'!D145,4)=\"E066\",LEFT('PLA-FO-01'!S145,2)=\"60\"),AND(LEFT('PLA-FO-01'!D145,4)=\"E067\",LEFT('PLA-FO-01'!S145,2)=\"60\"),AND(LEFT('PLA-FO-01'!D145,4)=\"E068\",LEFT('PLA-FO-01'!S145,2)=\"60\")),\"AF1R5\",OR(AND(LEFT('PLA-FO-01'!D145,4)=\"E066\",LEFT('PLA-FO-01'!S145,2)<>\"60\"),AND(LEFT('PLA-FO-01'!D145,4)=\"E067\",LEFT('PLA-FO-01'!S145,2)<>\"60\"),AND(LEFT('PLA-FO-01'!D145,4)=\"E068\",LEFT('PLA-FO-01'!S145,2)<>\"60\")),\"AF1R6\",OR(LEFT('PLA-FO-01'!D145,4)=\"R001\",LEFT('PLA-FO-01'!D145,4)=\"O001\",LEFT('PLA-FO-01'!D145,4)=\"M001\"),\"AF1R7\"),\"Falta Valor\"), \"NO APLICA, revisar!\")","v":"Falta Valor"}]
["M001",null,"Requisición y surtimiento de insumos y servicios.","M00104.04","(M00104.04)","Requisición y surtimiento de insumos y servicios. (M00104.04)"," ",null,null,null,null,null,null,null,null,null,null,null,null,null,null,null,null,null,null,null,null,null,null,null,null,null,null,null,null,null,null,null,null,null,null,null,null,null,null,null,null,null,null,{"$f":"IFERROR(IF(AND('PLA-FO-01'!D146<>\"\",'PLA-FO-01'!S146<>\"\",'PLA-FO-01'!E146<>\"\"),_xlfn.IFS(OR(AND(LEFT('PLA-FO-01'!D146,4)=\"E040\",LEFT('PLA-FO-01'!E146,3)=\"C01\"),AND(LEFT('PLA-FO-01'!D146,4)=\"E040\",LEFT('PLA-FO-01'!E146,3)=\"C03\"),AND(LEFT('PLA-FO-01'!D146,4)=\"E040\",LEFT('PLA-FO-01'!E146,3)=\"C04\")),\"AF1R1\",AND(LEFT('PLA-FO-01'!D146,4)=\"E040\",LEFT('PLA-FO-01'!E146,3)=\"C02\",LEFT('PLA-FO-01'!S146,2)<>\"60\"),\"AF1R2\",AND(LEFT('PLA-FO-01'!D146,4)=\"E035\",LEFT('PLA-FO-01'!S146,5)=\"20040\"),\"AF1R3\",AND(LEFT('PLA-FO-01'!D146,4)=\"E035\",LEFT('PLA-FO-01'!S146,5)<>\"20040\"),\"AF1R4\",OR(AND(LEFT('PLA-FO-01'!D146,4)=\"E066\",LEFT('PLA-FO-01'!S146,2)=\"60\"),AND(LEFT('PLA-FO-01'!D146,4)=\"E067\",LEFT('PLA-FO-01'!S146,2)=\"60\"),AND(LEFT('PLA-FO-01'!D146,4)=\"E068\",LEFT('PLA-FO-01'!S146,2)=\"60\")),\"AF1R5\",OR(AND(LEFT('PLA-FO-01'!D146,4)=\"E066\",LEFT('PLA-FO-01'!S146,2)<>\"60\"),AND(LEFT('PLA-FO-01'!D146,4)=\"E067\",LEFT('PLA-FO-01'!S146,2)<>\"60\"),AND(LEFT('PLA-FO-01'!D146,4)=\"E068\",LEFT('PLA-FO-01'!S146,2)<>\"60\")),\"AF1R6\",OR(LEFT('PLA-FO-01'!D146,4)=\"R001\",LEFT('PLA-FO-01'!D146,4)=\"O001\",LEFT('PLA-FO-01'!D146,4)=\"M001\"),\"AF1R7\"),\"Falta Valor\"), \"NO APLICA, revisar!\")","v":"Falta Valor"}]
["M001",null,"Administración de recursos materiales (Almacén).","M00104.05","(M00104.05)","Administración de recursos materiales (Almacén). (M00104.05)"," ",null,null,null,null,null,null,null,null,null,null,null,null,null,null,null,null,null,null,null,null,null,null,null,null,null,null,null,null,null,null,null,null,null,null,null,null,null,null,null,null,null,null,{"$f":"IFERROR(IF(AND('PLA-FO-01'!D147<>\"\",'PLA-FO-01'!S147<>\"\",'PLA-FO-01'!E147<>\"\"),_xlfn.IFS(OR(AND(LEFT('PLA-FO-01'!D147,4)=\"E040\",LEFT('PLA-FO-01'!E147,3)=\"C01\"),AND(LEFT('PLA-FO-01'!D147,4)=\"E040\",LEFT('PLA-FO-01'!E147,3)=\"C03\"),AND(LEFT('PLA-FO-01'!D147,4)=\"E040\",LEFT('PLA-FO-01'!E147,3)=\"C04\")),\"AF1R1\",AND(LEFT('PLA-FO-01'!D147,4)=\"E040\",LEFT('PLA-FO-01'!E147,3)=\"C02\",LEFT('PLA-FO-01'!S147,2)<>\"60\"),\"AF1R2\",AND(LEFT('PLA-FO-01'!D147,4)=\"E035\",LEFT('PLA-FO-01'!S147,5)=\"20040\"),\"AF1R3\",AND(LEFT('PLA-FO-01'!D147,4)=\"E035\",LEFT('PLA-FO-01'!S147,5)<>\"20040\"),\"AF1R4\",OR(AND(LEFT('PLA-FO-01'!D147,4)=\"E066\",LEFT('PLA-FO-01'!S147,2)=\"60\"),AND(LEFT('PLA-FO-01'!D147,4)=\"E067\",LEFT('PLA-FO-01'!S147,2)=\"60\"),AND(LEFT('PLA-FO-01'!D147,4)=\"E068\",LEFT('PLA-FO-01'!S147,2)=\"60\")),\"AF1R5\",OR(AND(LEFT('PLA-FO-01'!D147,4)=\"E066\",LEFT('PLA-FO-01'!S147,2)<>\"60\"),AND(LEFT('PLA-FO-01'!D147,4)=\"E067\",LEFT('PLA-FO-01'!S147,2)<>\"60\"),AND(LEFT('PLA-FO-01'!D147,4)=\"E068\",LEFT('PLA-FO-01'!S147,2)<>\"60\")),\"AF1R6\",OR(LEFT('PLA-FO-01'!D147,4)=\"R001\",LEFT('PLA-FO-01'!D147,4)=\"O001\",LEFT('PLA-FO-01'!D147,4)=\"M001\"),\"AF1R7\"),\"Falta Valor\"), \"NO APLICA, revisar!\")","v":"Falta Valor"}]
["M001","C5","Soporte interno en tecnologías de la información.","M00105.01","(M00105.01)","Soporte interno en tecnologías de la información. (M00105.01)"," ",null,null,null,null,null,null,null,null,null,null,null,null,null,null,null,null,null,null,null,null,null,null,null,null,null,null,null,null,null,null,null,null,null,null,null,null,null,null,null,null,null,null,{"$f":"IFERROR(IF(AND('PLA-FO-01'!D148<>\"\",'PLA-FO-01'!S148<>\"\",'PLA-FO-01'!E148<>\"\"),_xlfn.IFS(OR(AND(LEFT('PLA-FO-01'!D148,4)=\"E040\",LEFT('PLA-FO-01'!E148,3)=\"C01\"),AND(LEFT('PLA-FO-01'!D148,4)=\"E040\",LEFT('PLA-FO-01'!E148,3)=\"C03\"),AND(LEFT('PLA-FO-01'!D148,4)=\"E040\",LEFT('PLA-FO-01'!E148,3)=\"C04\")),\"AF1R1\",AND(LEFT('PLA-FO-01'!D148,4)=\"E040\",LEFT('PLA-FO-01'!E148,3)=\"C02\",LEFT('PLA-FO-01'!S148,2)<>\"60\"),\"AF1R2\",AND(LEFT('PLA-FO-01'!D148,4)=\"E035\",LEFT('PLA-FO-01'!S148,5)=\"20040\"),\"AF1R3\",AND(LEFT('PLA-FO-01'!D148,4)=\"E035\",LEFT('PLA-FO-01'!S148,5)<>\"20040\"),\"AF1R4\",OR(AND(LEFT('PLA-FO-01'!D148,4)=\"E066\",LEFT('PLA-FO-01'!S148,2)=\"60\"),AND(LEFT('PLA-FO-01'!D148,4)=\"E067\",LEFT('PLA-FO-01'!S148,2)=\"60\"),AND(LEFT('PLA-FO-01'!D148,4)=\"E068\",LEFT('PLA-FO-01'!S148,2)=\"60\")),\"AF1R5\",OR(AND(LEFT('PLA-FO-01'!D148,4)=\"E066\",LEFT('PLA-FO-01'!S148,2)<>\"60\"),AND(LEFT('PLA-FO-01'!D148,4)=\"E067\",LEFT('PLA-FO-01'!S148,2)<>\"60\"),AND(LEFT('PLA-FO-01'!D148,4)=\"E068\",LEFT('PLA-FO-01'!S148,2)<>\"60\")),\"AF1R6\",OR(LEFT('PLA-FO-01'!D148,4)=\"R001\",LEFT('PLA-FO-01'!D148,4)=\"O001\",LEFT('PLA-FO-01'!D148,4)=\"M001\"),\"AF1R7\"),\"Falta Valor\"), \"NO APLICA, revisar!\")","v":"Falta Valor"}]
["M001",null,"Gestión y ejecución de proyectos institucionales de TIC´s.","M00105.02","(M00105.02)","Gestión y ejecución de proyectos institucionales de TIC´s. (M00105.02)"," ",null,null,null,null,null,null,null,null,null,null,null,null,null,null,null,null,null,null,null,null,null,null,null,null,null,null,null,null,null,null,null,null,null,null,null,null,null,null,null,null,null,null,{"$f":"IFERROR(IF(AND('PLA-FO-01'!D149<>\"\",'PLA-FO-01'!S149<>\"\",'PLA-FO-01'!E149<>\"\"),_xlfn.IFS(OR(AND(LEFT('PLA-FO-01'!D149,4)=\"E040\",LEFT('PLA-FO-01'!E149,3)=\"C01\"),AND(LEFT('PLA-FO-01'!D149,4)=\"E040\",LEFT('PLA-FO-01'!E149,3)=\"C03\"),AND(LEFT('PLA-FO-01'!D149,4)=\"E040\",LEFT('PLA-FO-01'!E149,3)=\"C04\")),\"AF1R1\",AND(LEFT('PLA-FO-01'!D149,4)=\"E040\",LEFT('PLA-FO-01'!E149,3)=\"C02\",LEFT('PLA-FO-01'!S149,2)<>\"60\"),\"AF1R2\",AND(LEFT('PLA-FO-01'!D149,4)=\"E035\",LEFT('PLA-FO-01'!S149,5)=\"20040\"),\"AF1R3\",AND(LEFT('PLA-FO-01'!D149,4)=\"E035\",LEFT('PLA-FO-01'!S149,5)<>\"20040\"),\"AF1R4\",OR(AND(LEFT('PLA-FO-01'!D149,4)=\"E066\",LEFT('PLA-FO-01'!S149,2)=\"60\"),AND(LEFT('PLA-FO-01'!D149,4)=\"E067\",LEFT('PLA-FO-01'!S149,2)=\"60\"),AND(LEFT('PLA-FO-01'!D149,4)=\"E068\",LEFT('PLA-FO-01'!S149,2)=\"60\")),\"AF1R5\",OR(AND(LEFT('PLA-FO-01'!D149,4)=\"E066\",LEFT('PLA-FO-01'!S149,2)<>\"60\"),AND(LEFT('PLA-FO-01'!D149,4)=\"E067\",LEFT('PLA-FO-01'!S149,2)<>\"60\"),AND(LEFT('PLA-FO-01'!D149,4)=\"E068\",LEFT('PLA-FO-01'!S149,2)<>\"60\")),\"AF1R6\",OR(LEFT('PLA-FO-01'!D149,4)=\"R001\",LEFT('PLA-FO-01'!D149,4)=\"O001\",LEFT('PLA-FO-01'!D149,4)=\"M001\"),\"AF1R7\"),\"Falta Valor\"), \"NO APLICA, revisar!\")","v":"Falta Valor"}]
["M001","C6","Conservación y mantenimiento de bienes inmuebles.","M00106.01","(M00106.01)","Conservación y mantenimiento de bienes inmuebles. (M00106.01)"," ",null,null,null,null,null,null,null,null,null,null,null,null,null,null,null,null,null,null,null,null,null,null,null,null,null,null,null,null,null,null,null,null,null,null,null,null,null,null,null,null,null,null,{"$f":"IFERROR(IF(AND('PLA-FO-01'!D150<>\"\",'PLA-FO-01'!S150<>\"\",'PLA-FO-01'!E150<>\"\"),_xlfn.IFS(OR(AND(LEFT('PLA-FO-01'!D150,4)=\"E040\",LEFT('PLA-FO-01'!E150,3)=\"C01\"),AND(LEFT('PLA-FO-01'!D150,4)=\"E040\",LEFT('PLA-FO-01'!E150,3)=\"C03\"),AND(LEFT('PLA-FO-01'!D150,4)=\"E040\",LEFT('PLA-FO-01'!E150,3)=\"C04\")),\"AF1R1\",AND(LEFT('PLA-FO-01'!D150,4)=\"E040\",LEFT('PLA-FO-01'!E150,3)=\"C02\",LEFT('PLA-FO-01'!S150,2)<>\"60\"),\"AF1R2\",AND(LEFT('PLA-FO-01'!D150,4)=\"E035\",LEFT('PLA-FO-01'!S150,5)=\"20040\"),\"AF1R3\",AND(LEFT('PLA-FO-01'!D150,4)=\"E035\",LEFT('PLA-FO-01'!S150,5)<>\"20040\"),\"AF1R4\",OR(AND(LEFT('PLA-FO-01'!D150,4)=\"E066\",LEFT('PLA-FO-01'!S150,2)=\"60\"),AND(LEFT('PLA-FO-01'!D150,4)=\"E067\",LEFT('PLA-FO-01'!S150,2)=\"60\"),AND(LEFT('PLA-FO-01'!D150,4)=\"E068\",LEFT('PLA-FO-01'!S150,2)=\"60\")),\"AF1R5\",OR(AND(LEFT('PLA-FO-01'!D150,4)=\"E066\",LEFT('PLA-FO-01'!S150,2)<>\"60\"),AND(LEFT('PLA-FO-01'!D150,4)=\"E067\",LEFT('PLA-FO-01'!S150,2)<>\"60\"),AND(LEFT('PLA-FO-01'!D150,4)=\"E068\",LEFT('PLA-FO-01'!S150,2)<>\"60\")),\"AF1R6\",OR(LEFT('PLA-FO-01'!D150,4)=\"R001\",LEFT('PLA-FO-01'!D150,4)=\"O001\",LEFT('PLA-FO-01'!D150,4)=\"M001\"),\"AF1R7\"),\"Falta Valor\"), \"NO APLICA, revisar!\")","v":"Falta Valor"}]
["M001",null,"Conservación y mantenimiento de bienes muebles.","M00106.02","(M00106.02)","Conservación y mantenimiento de bienes muebles. (M00106.02)"," ",null,null,null,null,null,null,null,null,null,null,null,null,null,null,null,null,null,null,null,null,null,null,null,null,null,null,null,null,null,null,null,null,null,null,null,null,null,null,null,null,null,null,{"$f":"IFERROR(IF(AND('PLA-FO-01'!D151<>\"\",'PLA-FO-01'!S151<>\"\",'PLA-FO-01'!E151<>\"\"),_xlfn.IFS(OR(AND(LEFT('PLA-FO-01'!D151,4)=\"E040\",LEFT('PLA-FO-01'!E151,3)=\"C01\"),AND(LEFT('PLA-FO-01'!D151,4)=\"E040\",LEFT('PLA-FO-01'!E151,3)=\"C03\"),AND(LEFT('PLA-FO-01'!D151,4)=\"E040\",LEFT('PLA-FO-01'!E151,3)=\"C04\")),\"AF1R1\",AND(LEFT('PLA-FO-01'!D151,4)=\"E040\",LEFT('PLA-FO-01'!E151,3)=\"C02\",LEFT('PLA-FO-01'!S151,2)<>\"60\"),\"AF1R2\",AND(LEFT('PLA-FO-01'!D151,4)=\"E035\",LEFT('PLA-FO-01'!S151,5)=\"20040\"),\"AF1R3\",AND(LEFT('PLA-FO-01'!D151,4)=\"E035\",LEFT('PLA-FO-01'!S151,5)<>\"20040\"),\"AF1R4\",OR(AND(LEFT('PLA-FO-01'!D151,4)=\"E066\",LEFT('PLA-FO-01'!S151,2)=\"60\"),AND(LEFT('PLA-FO-01'!D151,4)=\"E067\",LEFT('PLA-FO-01'!S151,2)=\"60\"),AND(LEFT('PLA-FO-01'!D151,4)=\"E068\",LEFT('PLA-FO-01'!S151,2)=\"60\")),\"AF1R5\",OR(AND(LEFT('PLA-FO-01'!D151,4)=\"E066\",LEFT('PLA-FO-01'!S151,2)<>\"60\"),AND(LEFT('PLA-FO-01'!D151,4)=\"E067\",LEFT('PLA-FO-01'!S151,2)<>\"60\"),AND(LEFT('PLA-FO-01'!D151,4)=\"E068\",LEFT('PLA-FO-01'!S151,2)<>\"60\")),\"AF1R6\",OR(LEFT('PLA-FO-01'!D151,4)=\"R001\",LEFT('PLA-FO-01'!D151,4)=\"O001\",LEFT('PLA-FO-01'!D151,4)=\"M001\"),\"AF1R7\"),\"Falta Valor\"), \"NO APLICA, revisar!\")","v":"Falta Valor"}]
["M001",null,"Limpieza.","M00106.03","(M00106.03)","Limpieza. (M00106.03)"," ",null,null,null,null,null,null,null,null,null,null,null,null,null,null,null,null,null,null,null,null,null,null,null,null,null,null,null,null,null,null,null,null,null,null,null,null,null,null,null,null,null,null,{"$f":"IFERROR(IF(AND('PLA-FO-01'!D152<>\"\",'PLA-FO-01'!S152<>\"\",'PLA-FO-01'!E152<>\"\"),_xlfn.IFS(OR(AND(LEFT('PLA-FO-01'!D152,4)=\"E040\",LEFT('PLA-FO-01'!E152,3)=\"C01\"),AND(LEFT('PLA-FO-01'!D152,4)=\"E040\",LEFT('PLA-FO-01'!E152,3)=\"C03\"),AND(LEFT('PLA-FO-01'!D152,4)=\"E040\",LEFT('PLA-FO-01'!E152,3)=\"C04\")),\"AF1R1\",AND(LEFT('PLA-FO-01'!D152,4)=\"E040\",LEFT('PLA-FO-01'!E152,3)=\"C02\",LEFT('PLA-FO-01'!S152,2)<>\"60\"),\"AF1R2\",AND(LEFT('PLA-FO-01'!D152,4)=\"E035\",LEFT('PLA-FO-01'!S152,5)=\"20040\"),\"AF1R3\",AND(LEFT('PLA-FO-01'!D152,4)=\"E035\",LEFT('PLA-FO-01'!S152,5)<>\"20040\"),\"AF1R4\",OR(AND(LEFT('PLA-FO-01'!D152,4)=\"E066\",LEFT('PLA-FO-01'!S152,2)=\"60\"),AND(LEFT('PLA-FO-01'!D152,4)=\"E067\",LEFT('PLA-FO-01'!S152,2)=\"60\"),AND(LEFT('PLA-FO-01'!D152,4)=\"E068\",LEFT('PLA-FO-01'!S152,2)=\"60\")),\"AF1R5\",OR(AND(LEFT('PLA-FO-01'!D152,4)=\"E066\",LEFT('PLA-FO-01'!S152,2)<>\"60\"),AND(LEFT('PLA-FO-01'!D152,4)=\"E067\",LEFT('PLA-FO-01'!S152,2)<>\"60\"),AND(LEFT('PLA-FO-01'!D152,4)=\"E068\",LEFT('PLA-FO-01'!S152,2)<>\"60\")),\"AF1R6\",OR(LEFT('PLA-FO-01'!D152,4)=\"R001\",LEFT('PLA-FO-01'!D152,4)=\"O001\",LEFT('PLA-FO-01'!D152,4)=\"M001\"),\"AF1R7\"),\"Falta Valor\"), \"NO APLICA, revisar!\")","v":"Falta Valor"}]
["M001",null,"Gestión y Seguimiento a la Obra Pública.","M00106.05","(M00106.05)","Gestión y Seguimiento a la Obra Pública. (M00106.05)"," ",null,null,null,null,null,null,null,null,null,null,null,null,null,null,null,null,null,null,null,null,null,null,null,null,null,null,null,null,null,null,null,null,null,null,null,null,null,null,null,null,null,null,{"$f":"IFERROR(IF(AND('PLA-FO-01'!D153<>\"\",'PLA-FO-01'!S153<>\"\",'PLA-FO-01'!E153<>\"\"),_xlfn.IFS(OR(AND(LEFT('PLA-FO-01'!D153,4)=\"E040\",LEFT('PLA-FO-01'!E153,3)=\"C01\"),AND(LEFT('PLA-FO-01'!D153,4)=\"E040\",LEFT('PLA-FO-01'!E153,3)=\"C03\"),AND(LEFT('PLA-FO-01'!D153,4)=\"E040\",LEFT('PLA-FO-01'!E153,3)=\"C04\")),\"AF1R1\",AND(LEFT('PLA-FO-01'!D153,4)=\"E040\",LEFT('PLA-FO-01'!E153,3)=\"C02\",LEFT('PLA-FO-01'!S153,2)<>\"60\"),\"AF1R2\",AND(LEFT('PLA-FO-01'!D153,4)=\"E035\",LEFT('PLA-FO-01'!S153,5)=\"20040\"),\"AF1R3\",AND(LEFT('PLA-FO-01'!D153,4)=\"E035\",LEFT('PLA-FO-01'!S153,5)<>\"20040\"),\"AF1R4\",OR(AND(LEFT('PLA-FO-01'!D153,4)=\"E066\",LEFT('PLA-FO-01'!S153,2)=\"60\"),AND(LEFT('PLA-FO-01'!D153,4)=\"E067\",LEFT('PLA-FO-01'!S153,2)=\"60\"),AND(LEFT('PLA-FO-01'!D153,4)=\"E068\",LEFT('PLA-FO-01'!S153,2)=\"60\")),\"AF1R5\",OR(AND(LEFT('PLA-FO-01'!D153,4)=\"E066\",LEFT('PLA-FO-01'!S153,2)<>\"60\"),AND(LEFT('PLA-FO-01'!D153,4)=\"E067\",LEFT('PLA-FO-01'!S153,2)<>\"60\"),AND(LEFT('PLA-FO-01'!D153,4)=\"E068\",LEFT('PLA-FO-01'!S153,2)<>\"60\")),\"AF1R6\",OR(LEFT('PLA-FO-01'!D153,4)=\"R001\",LEFT('PLA-FO-01'!D153,4)=\"O001\",LEFT('PLA-FO-01'!D153,4)=\"M001\"),\"AF1R7\"),\"Falta Valor\"), \"NO APLICA, revisar!\")","v":"Falta Valor"}]
["M001","C7","Prestación de servicio de transporte.","M00107.01","(M00107.01)","Prestación de servicio de transporte. (M00107.01)"," ",null,null,null,null,null,null,null,null,null,null,null,null,null,null,null,null,null,null,null,null,null,null,null,null,null,null,null,null,null,null,null,null,null,null,null,null,null,null,null,null,null,null,{"$f":"IFERROR(IF(AND('PLA-FO-01'!D154<>\"\",'PLA-FO-01'!S154<>\"\",'PLA-FO-01'!E154<>\"\"),_xlfn.IFS(OR(AND(LEFT('PLA-FO-01'!D154,4)=\"E040\",LEFT('PLA-FO-01'!E154,3)=\"C01\"),AND(LEFT('PLA-FO-01'!D154,4)=\"E040\",LEFT('PLA-FO-01'!E154,3)=\"C03\"),AND(LEFT('PLA-FO-01'!D154,4)=\"E040\",LEFT('PLA-FO-01'!E154,3)=\"C04\")),\"AF1R1\",AND(LEFT('PLA-FO-01'!D154,4)=\"E040\",LEFT('PLA-FO-01'!E154,3)=\"C02\",LEFT('PLA-FO-01'!S154,2)<>\"60\"),\"AF1R2\",AND(LEFT('PLA-FO-01'!D154,4)=\"E035\",LEFT('PLA-FO-01'!S154,5)=\"20040\"),\"AF1R3\",AND(LEFT('PLA-FO-01'!D154,4)=\"E035\",LEFT('PLA-FO-01'!S154,5)<>\"20040\"),\"AF1R4\",OR(AND(LEFT('PLA-FO-01'!D154,4)=\"E066\",LEFT('PLA-FO-01'!S154,2)=\"60\"),AND(LEFT('PLA-FO-01'!D154,4)=\"E067\",LEFT('PLA-FO-01'!S154,2)=\"60\"),AND(LEFT('PLA-FO-01'!D154,4)=\"E068\",LEFT('PLA-FO-01'!S154,2)=\"60\")),\"AF1R5\",OR(AND(LEFT('PLA-FO-01'!D154,4)=\"E066\",LEFT('PLA-FO-01'!S154,2)<>\"60\"),AND(LEFT('PLA-FO-01'!D154,4)=\"E067\",LEFT('PLA-FO-01'!S154,2)<>\"60\"),AND(LEFT('PLA-FO-01'!D154,4)=\"E068\",LEFT('PLA-FO-01'!S154,2)<>\"60\")),\"AF1R6\",OR(LEFT('PLA-FO-01'!D154,4)=\"R001\",LEFT('PLA-FO-01'!D154,4)=\"O001\",LEFT('PLA-FO-01'!D154,4)=\"M001\"),\"AF1R7\"),\"Falta Valor\"), \"NO APLICA, revisar!\")","v":"Falta Valor"}]
["M001",null,"Adquisición y/o Mantenimiento de equipo de transporte.","M00107.02","(M00107.02)","Adquisición y/o Mantenimiento de equipo de transporte. (M00107.02)"," ",null,null,null,null,null,null,null,null,null,null,null,null,null,null,null,null,null,null,null,null,null,null,null,null,null,null,null,null,null,null,null,null,null,null,null,null,null,null,null,null,null,null,{"$f":"IFERROR(IF(AND('PLA-FO-01'!D155<>\"\",'PLA-FO-01'!S155<>\"\",'PLA-FO-01'!E155<>\"\"),_xlfn.IFS(OR(AND(LEFT('PLA-FO-01'!D155,4)=\"E040\",LEFT('PLA-FO-01'!E155,3)=\"C01\"),AND(LEFT('PLA-FO-01'!D155,4)=\"E040\",LEFT('PLA-FO-01'!E155,3)=\"C03\"),AND(LEFT('PLA-FO-01'!D155,4)=\"E040\",LEFT('PLA-FO-01'!E155,3)=\"C04\")),\"AF1R1\",AND(LEFT('PLA-FO-01'!D155,4)=\"E040\",LEFT('PLA-FO-01'!E155,3)=\"C02\",LEFT('PLA-FO-01'!S155,2)<>\"60\"),\"AF1R2\",AND(LEFT('PLA-FO-01'!D155,4)=\"E035\",LEFT('PLA-FO-01'!S155,5)=\"20040\"),\"AF1R3\",AND(LEFT('PLA-FO-01'!D155,4)=\"E035\",LEFT('PLA-FO-01'!S155,5)<>\"20040\"),\"AF1R4\",OR(AND(LEFT('PLA-FO-01'!D155,4)=\"E066\",LEFT('PLA-FO-01'!S155,2)=\"60\"),AND(LEFT('PLA-FO-01'!D155,4)=\"E067\",LEFT('PLA-FO-01'!S155,2)=\"60\"),AND(LEFT('PLA-FO-01'!D155,4)=\"E068\",LEFT('PLA-FO-01'!S155,2)=\"60\")),\"AF1R5\",OR(AND(LEFT('PLA-FO-01'!D155,4)=\"E066\",LEFT('PLA-FO-01'!S155,2)<>\"60\"),AND(LEFT('PLA-FO-01'!D155,4)=\"E067\",LEFT('PLA-FO-01'!S155,2)<>\"60\"),AND(LEFT('PLA-FO-01'!D155,4)=\"E068\",LEFT('PLA-FO-01'!S155,2)<>\"60\")),\"AF1R6\",OR(LEFT('PLA-FO-01'!D155,4)=\"R001\",LEFT('PLA-FO-01'!D155,4)=\"O001\",LEFT('PLA-FO-01'!D155,4)=\"M001\"),\"AF1R7\"),\"Falta Valor\"), \"NO APLICA, revisar!\")","v":"Falta Valor"}]
["M001",null,"Servicio de mensajería institucional.","M00107.03","(M00107.03)","Servicio de mensajería institucional. (M00107.03)"," ",null,null,null,null,null,null,null,null,null,null,null,null,null,null,null,null,null,null,null,null,null,null,null,null,null,null,null,null,null,null,null,null,null,null,null,null,null,null,null,null,null,null,{"$f":"IFERROR(IF(AND('PLA-FO-01'!D156<>\"\",'PLA-FO-01'!S156<>\"\",'PLA-FO-01'!E156<>\"\"),_xlfn.IFS(OR(AND(LEFT('PLA-FO-01'!D156,4)=\"E040\",LEFT('PLA-FO-01'!E156,3)=\"C01\"),AND(LEFT('PLA-FO-01'!D156,4)=\"E040\",LEFT('PLA-FO-01'!E156,3)=\"C03\"),AND(LEFT('PLA-FO-01'!D156,4)=\"E040\",LEFT('PLA-FO-01'!E156,3)=\"C04\")),\"AF1R1\",AND(LEFT('PLA-FO-01'!D156,4)=\"E040\",LEFT('PLA-FO-01'!E156,3)=\"C02\",LEFT('PLA-FO-01'!S156,2)<>\"60\"),\"AF1R2\",AND(LEFT('PLA-FO-01'!D156,4)=\"E035\",LEFT('PLA-FO-01'!S156,5)=\"20040\"),\"AF1R3\",AND(LEFT('PLA-FO-01'!D156,4)=\"E035\",LEFT('PLA-FO-01'!S156,5)<>\"20040\"),\"AF1R4\",OR(AND(LEFT('PLA-FO-01'!D156,4)=\"E066\",LEFT('PLA-FO-01'!S156,2)=\"60\"),AND(LEFT('PLA-FO-01'!D156,4)=\"E067\",LEFT('PLA-FO-01'!S156,2)=\"60\"),AND(LEFT('PLA-FO-01'!D156,4)=\"E068\",LEFT('PLA-FO-01'!S156,2)=\"60\")),\"AF1R5\",OR(AND(LEFT('PLA-FO-01'!D156,4)=\"E066\",LEFT('PLA-FO-01'!S156,2)<>\"60\"),AND(LEFT('PLA-FO-01'!D156,4)=\"E067\",LEFT('PLA-FO-01'!S156,2)<>\"60\"),AND(LEFT('PLA-FO-01'!D156,4)=\"E068\",LEFT('PLA-FO-01'!S156,2)<>\"60\")),\"AF1R6\",OR(LEFT('PLA-FO-01'!D156,4)=\"R001\",LEFT('PLA-FO-01'!D156,4)=\"O001\",LEFT('PLA-FO-01'!D156,4)=\"M001\"),\"AF1R7\"),\"Falta Valor\"), \"NO APLICA, revisar!\")","v":"Falta Valor"}]
["M001","C8","Adecuación y equipamiento de las sedes para la seguridad institucional.","M00108.01","(M00108.01)","Adecuación y equipamiento de las sedes para la seguridad institucional. (M00108.01)"," ",null,null,null,null,null,null,null,null,null,null,null,null,null,null,null,null,null,null,null,null,null,null,null,null,null,null,null,null,null,null,null,null,null,null,null,null,null,null,null,null,null,null,{"$f":"IFERROR(IF(AND('PLA-FO-01'!D157<>\"\",'PLA-FO-01'!S157<>\"\",'PLA-FO-01'!E157<>\"\"),_xlfn.IFS(OR(AND(LEFT('PLA-FO-01'!D157,4)=\"E040\",LEFT('PLA-FO-01'!E157,3)=\"C01\"),AND(LEFT('PLA-FO-01'!D157,4)=\"E040\",LEFT('PLA-FO-01'!E157,3)=\"C03\"),AND(LEFT('PLA-FO-01'!D157,4)=\"E040\",LEFT('PLA-FO-01'!E157,3)=\"C04\")),\"AF1R1\",AND(LEFT('PLA-FO-01'!D157,4)=\"E040\",LEFT('PLA-FO-01'!E157,3)=\"C02\",LEFT('PLA-FO-01'!S157,2)<>\"60\"),\"AF1R2\",AND(LEFT('PLA-FO-01'!D157,4)=\"E035\",LEFT('PLA-FO-01'!S157,5)=\"20040\"),\"AF1R3\",AND(LEFT('PLA-FO-01'!D157,4)=\"E035\",LEFT('PLA-FO-01'!S157,5)<>\"20040\"),\"AF1R4\",OR(AND(LEFT('PLA-FO-01'!D157,4)=\"E066\",LEFT('PLA-FO-01'!S157,2)=\"60\"),AND(LEFT('PLA-FO-01'!D157,4)=\"E067\",LEFT('PLA-FO-01'!S157,2)=\"60\"),AND(LEFT('PLA-FO-01'!D157,4)=\"E068\",LEFT('PLA-FO-01'!S157,2)=\"60\")),\"AF1R5\",OR(AND(LEFT('PLA-FO-01'!D157,4)=\"E066\",LEFT('PLA-FO-01'!S157,2)<>\"60\"),AND(LEFT('PLA-FO-01'!D157,4)=\"E067\",LEFT('PLA-FO-01'!S157,2)<>\"60\"),AND(LEFT('PLA-FO-01'!D157,4)=\"E068\",LEFT('PLA-FO-01'!S157,2)<>\"60\")),\"AF1R6\",OR(LEFT('PLA-FO-01'!D157,4)=\"R001\",LEFT('PLA-FO-01'!D157,4)=\"O001\",LEFT('PLA-FO-01'!D157,4)=\"M001\"),\"AF1R7\"),\"Falta Valor\"), \"NO APLICA, revisar!\")","v":"Falta Valor"}]
["M001",null,"Seguridad patrimonial.","M00108.02","(M00108.02)","Seguridad patrimonial. (M00108.02)"," ",null,null,null,null,null,null,null,null,null,null,null,null,null,null,null,null,null,null,null,null,null,null,null,null,null,null,null,null,null,null,null,null,null,null,null,null,null,null,null,null,null,null,{"$f":"IFERROR(IF(AND('PLA-FO-01'!D158<>\"\",'PLA-FO-01'!S158<>\"\",'PLA-FO-01'!E158<>\"\"),_xlfn.IFS(OR(AND(LEFT('PLA-FO-01'!D158,4)=\"E040\",LEFT('PLA-FO-01'!E158,3)=\"C01\"),AND(LEFT('PLA-FO-01'!D158,4)=\"E040\",LEFT('PLA-FO-01'!E158,3)=\"C03\"),AND(LEFT('PLA-FO-01'!D158,4)=\"E040\",LEFT('PLA-FO-01'!E158,3)=\"C04\")),\"AF1R1\",AND(LEFT('PLA-FO-01'!D158,4)=\"E040\",LEFT('PLA-FO-01'!E158,3)=\"C02\",LEFT('PLA-FO-01'!S158,2)<>\"60\"),\"AF1R2\",AND(LEFT('PLA-FO-01'!D158,4)=\"E035\",LEFT('PLA-FO-01'!S158,5)=\"20040\"),\"AF1R3\",AND(LEFT('PLA-FO-01'!D158,4)=\"E035\",LEFT('PLA-FO-01'!S158,5)<>\"20040\"),\"AF1R4\",OR(AND(LEFT('PLA-FO-01'!D158,4)=\"E066\",LEFT('PLA-FO-01'!S158,2)=\"60\"),AND(LEFT('PLA-FO-01'!D158,4)=\"E067\",LEFT('PLA-FO-01'!S158,2)=\"60\"),AND(LEFT('PLA-FO-01'!D158,4)=\"E068\",LEFT('PLA-FO-01'!S158,2)=\"60\")),\"AF1R5\",OR(AND(LEFT('PLA-FO-01'!D158,4)=\"E066\",LEFT('PLA-FO-01'!S158,2)<>\"60\"),AND(LEFT('PLA-FO-01'!D158,4)=\"E067\",LEFT('PLA-FO-01'!S158,2)<>\"60\"),AND(LEFT('PLA-FO-01'!D158,4)=\"E068\",LEFT('PLA-FO-01'!S158,2)<>\"60\")),\"AF1R6\",OR(LEFT('PLA-FO-01'!D158,4)=\"R001\",LEFT('PLA-FO-01'!D158,4)=\"O001\",LEFT('PLA-FO-01'!D158,4)=\"M001\"),\"AF1R7\"),\"Falta Valor\"), \"NO APLICA, revisar!\")","v":"Falta Valor"}]
["M001",null,"Acciones y capacitación para la cultura de la prevención en materia de la seguridad.","M00108.03","(M00108.03)","Acciones y capacitación para la cultura de la prevención en materia de la seguridad. (M00108.03)"," ",null,null,null,null,null,null,null,null,null,null,null,null,null,null,null,null,null,null,null,null,null,null,null,null,null,null,null,null,null,null,null,null,null,null,null,null,null,null,null,null,null,null,{"$f":"IFERROR(IF(AND('PLA-FO-01'!D159<>\"\",'PLA-FO-01'!S159<>\"\",'PLA-FO-01'!E159<>\"\"),_xlfn.IFS(OR(AND(LEFT('PLA-FO-01'!D159,4)=\"E040\",LEFT('PLA-FO-01'!E159,3)=\"C01\"),AND(LEFT('PLA-FO-01'!D159,4)=\"E040\",LEFT('PLA-FO-01'!E159,3)=\"C03\"),AND(LEFT('PLA-FO-01'!D159,4)=\"E040\",LEFT('PLA-FO-01'!E159,3)=\"C04\")),\"AF1R1\",AND(LEFT('PLA-FO-01'!D159,4)=\"E040\",LEFT('PLA-FO-01'!E159,3)=\"C02\",LEFT('PLA-FO-01'!S159,2)<>\"60\"),\"AF1R2\",AND(LEFT('PLA-FO-01'!D159,4)=\"E035\",LEFT('PLA-FO-01'!S159,5)=\"20040\"),\"AF1R3\",AND(LEFT('PLA-FO-01'!D159,4)=\"E035\",LEFT('PLA-FO-01'!S159,5)<>\"20040\"),\"AF1R4\",OR(AND(LEFT('PLA-FO-01'!D159,4)=\"E066\",LEFT('PLA-FO-01'!S159,2)=\"60\"),AND(LEFT('PLA-FO-01'!D159,4)=\"E067\",LEFT('PLA-FO-01'!S159,2)=\"60\"),AND(LEFT('PLA-FO-01'!D159,4)=\"E068\",LEFT('PLA-FO-01'!S159,2)=\"60\")),\"AF1R5\",OR(AND(LEFT('PLA-FO-01'!D159,4)=\"E066\",LEFT('PLA-FO-01'!S159,2)<>\"60\"),AND(LEFT('PLA-FO-01'!D159,4)=\"E067\",LEFT('PLA-FO-01'!S159,2)<>\"60\"),AND(LEFT('PLA-FO-01'!D159,4)=\"E068\",LEFT('PLA-FO-01'!S159,2)<>\"60\")),\"AF1R6\",OR(LEFT('PLA-FO-01'!D159,4)=\"R001\",LEFT('PLA-FO-01'!D159,4)=\"O001\",LEFT('PLA-FO-01'!D159,4)=\"M001\"),\"AF1R7\"),\"Falta Valor\"), \"NO APLICA, revisar!\")","v":"Falta Valor"}]
["M001",null,"Atención a riesgos en materia de seguridad.","M00108.04",{"$f":"CONCATENATE(\"(\",D160,\")\")","v":"(M00108.04)"},"Atención a riesgos en materia de seguridad. (M00108.04)"," ",null,null,null,null,null,null,null,null,null,null,null,null,null,null,null,null,null,null,null,null,null,null,null,null,null,null,null,null,null,null,null,null,null,null,null,null,null,null,null,null,null,null,{"$f":"IFERROR(IF(AND('PLA-FO-01'!D160<>\"\",'PLA-FO-01'!S160<>\"\",'PLA-FO-01'!E160<>\"\"),_xlfn.IFS(OR(AND(LEFT('PLA-FO-01'!D160,4)=\"E040\",LEFT('PLA-FO-01'!E160,3)=\"C01\"),AND(LEFT('PLA-FO-01'!D160,4)=\"E040\",LEFT('PLA-FO-01'!E160,3)=\"C03\"),AND(LEFT('PLA-FO-01'!D160,4)=\"E040\",LEFT('PLA-FO-01'!E160,3)=\"C04\")),\"AF1R1\",AND(LEFT('PLA-FO-01'!D160,4)=\"E040\",LEFT('PLA-FO-01'!E160,3)=\"C02\",LEFT('PLA-FO-01'!S160,2)<>\"60\"),\"AF1R2\",AND(LEFT('PLA-FO-01'!D160,4)=\"E035\",LEFT('PLA-FO-01'!S160,5)=\"20040\"),\"AF1R3\",AND(LEFT('PLA-FO-01'!D160,4)=\"E035\",LEFT('PLA-FO-01'!S160,5)<>\"20040\"),\"AF1R4\",OR(AND(LEFT('PLA-FO-01'!D160,4)=\"E066\",LEFT('PLA-FO-01'!S160,2)=\"60\"),AND(LEFT('PLA-FO-01'!D160,4)=\"E067\",LEFT('PLA-FO-01'!S160,2)=\"60\"),AND(LEFT('PLA-FO-01'!D160,4)=\"E068\",LEFT('PLA-FO-01'!S160,2)=\"60\")),\"AF1R5\",OR(AND(LEFT('PLA-FO-01'!D160,4)=\"E066\",LEFT('PLA-FO-01'!S160,2)<>\"60\"),AND(LEFT('PLA-FO-01'!D160,4)=\"E067\",LEFT('PLA-FO-01'!S160,2)<>\"60\"),AND(LEFT('PLA-FO-01'!D160,4)=\"E068\",LEFT('PLA-FO-01'!S160,2)<>\"60\")),\"AF1R6\",OR(LEFT('PLA-FO-01'!D160,4)=\"R001\",LEFT('PLA-FO-01'!D160,4)=\"O001\",LEFT('PLA-FO-01'!D160,4)=\"M001\"),\"AF1R7\"),\"Falta Valor\"), \"NO APLICA, revisar!\")","v":"Falta Valor"}]
["M001","C9","Generación de productos de comunicación y difusión.","M00109.01","(M00109.01)","Generación de productos de comunicación y difusión. (M00109.01)"," ",null,null,null,null,null,null,null,null,null,null,null,null,null,null,null,null,null,null,null,null,null,null,null,null,null,null,null,null,null,null,null,null,null,null,null,null,null,null,null,null,null,null,{"$f":"IFERROR(IF(AND('PLA-FO-01'!D161<>\"\",'PLA-FO-01'!S161<>\"\",'PLA-FO-01'!E161<>\"\"),_xlfn.IFS(OR(AND(LEFT('PLA-FO-01'!D161,4)=\"E040\",LEFT('PLA-FO-01'!E161,3)=\"C01\"),AND(LEFT('PLA-FO-01'!D161,4)=\"E040\",LEFT('PLA-FO-01'!E161,3)=\"C03\"),AND(LEFT('PLA-FO-01'!D161,4)=\"E040\",LEFT('PLA-FO-01'!E161,3)=\"C04\")),\"AF1R1\",AND(LEFT('PLA-FO-01'!D161,4)=\"E040\",LEFT('PLA-FO-01'!E161,3)=\"C02\",LEFT('PLA-FO-01'!S161,2)<>\"60\"),\"AF1R2\",AND(LEFT('PLA-FO-01'!D161,4)=\"E035\",LEFT('PLA-FO-01'!S161,5)=\"20040\"),\"AF1R3\",AND(LEFT('PLA-FO-01'!D161,4)=\"E035\",LEFT('PLA-FO-01'!S161,5)<>\"20040\"),\"AF1R4\",OR(AND(LEFT('PLA-FO-01'!D161,4)=\"E066\",LEFT('PLA-FO-01'!S161,2)=\"60\"),AND(LEFT('PLA-FO-01'!D161,4)=\"E067\",LEFT('PLA-FO-01'!S161,2)=\"60\"),AND(LEFT('PLA-FO-01'!D161,4)=\"E068\",LEFT('PLA-FO-01'!S161,2)=\"60\")),\"AF1R5\",OR(AND(LEFT('PLA-FO-01'!D161,4)=\"E066\",LEFT('PLA-FO-01'!S161,2)<>\"60\"),AND(LEFT('PLA-FO-01'!D161,4)=\"E067\",LEFT('PLA-FO-01'!S161,2)<>\"60\"),AND(LEFT('PLA-FO-01'!D161,4)=\"E068\",LEFT('PLA-FO-01'!S161,2)<>\"60\")),\"AF1R6\",OR(LEFT('PLA-FO-01'!D161,4)=\"R001\",LEFT('PLA-FO-01'!D161,4)=\"O001\",LEFT('PLA-FO-01'!D161,4)=\"M001\"),\"AF1R7\"),\"Falta Valor\"), \"NO APLICA, revisar!\")","v":"Falta Valor"}]
["M001",null,"Difusión de estrategias de comunicación .","M00109.02","(M00109.02)","Difusión de estrategias de comunicación . (M00109.02)"," ",null,null,null,null,null,null,null,null,null,null,null,null,null,null,null,null,null,null,null,null,null,null,null,null,null,null,null,null,null,null,null,null,null,null,null,null,null,null,null,null,null,null,{"$f":"IFERROR(IF(AND('PLA-FO-01'!D162<>\"\",'PLA-FO-01'!S162<>\"\",'PLA-FO-01'!E162<>\"\"),_xlfn.IFS(OR(AND(LEFT('PLA-FO-01'!D162,4)=\"E040\",LEFT('PLA-FO-01'!E162,3)=\"C01\"),AND(LEFT('PLA-FO-01'!D162,4)=\"E040\",LEFT('PLA-FO-01'!E162,3)=\"C03\"),AND(LEFT('PLA-FO-01'!D162,4)=\"E040\",LEFT('PLA-FO-01'!E162,3)=\"C04\")),\"AF1R1\",AND(LEFT('PLA-FO-01'!D162,4)=\"E040\",LEFT('PLA-FO-01'!E162,3)=\"C02\",LEFT('PLA-FO-01'!S162,2)<>\"60\"),\"AF1R2\",AND(LEFT('PLA-FO-01'!D162,4)=\"E035\",LEFT('PLA-FO-01'!S162,5)=\"20040\"),\"AF1R3\",AND(LEFT('PLA-FO-01'!D162,4)=\"E035\",LEFT('PLA-FO-01'!S162,5)<>\"20040\"),\"AF1R4\",OR(AND(LEFT('PLA-FO-01'!D162,4)=\"E066\",LEFT('PLA-FO-01'!S162,2)=\"60\"),AND(LEFT('PLA-FO-01'!D162,4)=\"E067\",LEFT('PLA-FO-01'!S162,2)=\"60\"),AND(LEFT('PLA-FO-01'!D162,4)=\"E068\",LEFT('PLA-FO-01'!S162,2)=\"60\")),\"AF1R5\",OR(AND(LEFT('PLA-FO-01'!D162,4)=\"E066\",LEFT('PLA-FO-01'!S162,2)<>\"60\"),AND(LEFT('PLA-FO-01'!D162,4)=\"E067\",LEFT('PLA-FO-01'!S162,2)<>\"60\"),AND(LEFT('PLA-FO-01'!D162,4)=\"E068\",LEFT('PLA-FO-01'!S162,2)<>\"60\")),\"AF1R6\",OR(LEFT('PLA-FO-01'!D162,4)=\"R001\",LEFT('PLA-FO-01'!D162,4)=\"O001\",LEFT('PLA-FO-01'!D162,4)=\"M001\"),\"AF1R7\"),\"Falta Valor\"), \"NO APLICA, revisar!\")","v":"Falta Valor"}]
["M001","C10","Asistencia a comisiones y representaciones institucionales.","M00110.01","(M00110.01)","Asistencia a comisiones y representaciones institucionales. (M00110.01)"," ",null,null,null,null,null,null,null,null,null,null,null,null,null,null,null,null,null,null,null,null,null,null,null,null,null,null,null,null,null,null,null,null,null,null,null,null,null,null,null,null,null,null,{"$f":"IFERROR(IF(AND('PLA-FO-01'!D163<>\"\",'PLA-FO-01'!S163<>\"\",'PLA-FO-01'!E163<>\"\"),_xlfn.IFS(OR(AND(LEFT('PLA-FO-01'!D163,4)=\"E040\",LEFT('PLA-FO-01'!E163,3)=\"C01\"),AND(LEFT('PLA-FO-01'!D163,4)=\"E040\",LEFT('PLA-FO-01'!E163,3)=\"C03\"),AND(LEFT('PLA-FO-01'!D163,4)=\"E040\",LEFT('PLA-FO-01'!E163,3)=\"C04\")),\"AF1R1\",AND(LEFT('PLA-FO-01'!D163,4)=\"E040\",LEFT('PLA-FO-01'!E163,3)=\"C02\",LEFT('PLA-FO-01'!S163,2)<>\"60\"),\"AF1R2\",AND(LEFT('PLA-FO-01'!D163,4)=\"E035\",LEFT('PLA-FO-01'!S163,5)=\"20040\"),\"AF1R3\",AND(LEFT('PLA-FO-01'!D163,4)=\"E035\",LEFT('PLA-FO-01'!S163,5)<>\"20040\"),\"AF1R4\",OR(AND(LEFT('PLA-FO-01'!D163,4)=\"E066\",LEFT('PLA-FO-01'!S163,2)=\"60\"),AND(LEFT('PLA-FO-01'!D163,4)=\"E067\",LEFT('PLA-FO-01'!S163,2)=\"60\"),AND(LEFT('PLA-FO-01'!D163,4)=\"E068\",LEFT('PLA-FO-01'!S163,2)=\"60\")),\"AF1R5\",OR(AND(LEFT('PLA-FO-01'!D163,4)=\"E066\",LEFT('PLA-FO-01'!S163,2)<>\"60\"),AND(LEFT('PLA-FO-01'!D163,4)=\"E067\",LEFT('PLA-FO-01'!S163,2)<>\"60\"),AND(LEFT('PLA-FO-01'!D163,4)=\"E068\",LEFT('PLA-FO-01'!S163,2)<>\"60\")),\"AF1R6\",OR(LEFT('PLA-FO-01'!D163,4)=\"R001\",LEFT('PLA-FO-01'!D163,4)=\"O001\",LEFT('PLA-FO-01'!D163,4)=\"M001\"),\"AF1R7\"),\"Falta Valor\"), \"NO APLICA, revisar!\")","v":"Falta Valor"}]
["M001",null,"Sesiones de acuerdos.","M00110.02","(M00110.02)","Sesiones de acuerdos. (M00110.02)"," ",null,null,null,null,null,null,null,null,null,null,null,null,null,null,null,null,null,null,null,null,null,null,null,null,null,null,null,null,null,null,null,null,null,null,null,null,null,null,null,null,null,null,{"$f":"IFERROR(IF(AND('PLA-FO-01'!D164<>\"\",'PLA-FO-01'!S164<>\"\",'PLA-FO-01'!E164<>\"\"),_xlfn.IFS(OR(AND(LEFT('PLA-FO-01'!D164,4)=\"E040\",LEFT('PLA-FO-01'!E164,3)=\"C01\"),AND(LEFT('PLA-FO-01'!D164,4)=\"E040\",LEFT('PLA-FO-01'!E164,3)=\"C03\"),AND(LEFT('PLA-FO-01'!D164,4)=\"E040\",LEFT('PLA-FO-01'!E164,3)=\"C04\")),\"AF1R1\",AND(LEFT('PLA-FO-01'!D164,4)=\"E040\",LEFT('PLA-FO-01'!E164,3)=\"C02\",LEFT('PLA-FO-01'!S164,2)<>\"60\"),\"AF1R2\",AND(LEFT('PLA-FO-01'!D164,4)=\"E035\",LEFT('PLA-FO-01'!S164,5)=\"20040\"),\"AF1R3\",AND(LEFT('PLA-FO-01'!D164,4)=\"E035\",LEFT('PLA-FO-01'!S164,5)<>\"20040\"),\"AF1R4\",OR(AND(LEFT('PLA-FO-01'!D164,4)=\"E066\",LEFT('PLA-FO-01'!S164,2)=\"60\"),AND(LEFT('PLA-FO-01'!D164,4)=\"E067\",LEFT('PLA-FO-01'!S164,2)=\"60\"),AND(LEFT('PLA-FO-01'!D164,4)=\"E068\",LEFT('PLA-FO-01'!S164,2)=\"60\")),\"AF1R5\",OR(AND(LEFT('PLA-FO-01'!D164,4)=\"E066\",LEFT('PLA-FO-01'!S164,2)<>\"60\"),AND(LEFT('PLA-FO-01'!D164,4)=\"E067\",LEFT('PLA-FO-01'!S164,2)<>\"60\"),AND(LEFT('PLA-FO-01'!D164,4)=\"E068\",LEFT('PLA-FO-01'!S164,2)<>\"60\")),\"AF1R6\",OR(LEFT('PLA-FO-01'!D164,4)=\"R001\",LEFT('PLA-FO-01'!D164,4)=\"O001\",LEFT('PLA-FO-01'!D164,4)=\"M001\"),\"AF1R7\"),\"Falta Valor\"), \"NO APLICA, revisar!\")","v":"Falta Valor"}]
["M001",null,"Atención a reuniones internas y externas.","M00110.03","(M00110.03)","Atención a reuniones internas y externas. (M00110.03)"," ",null,null,null,null,null,null,null,null,null,null,null,null,null,null,null,null,null,null,null,null,null,null,null,null,null,null,null,null,null,null,null,null,null,null,null,null,null,null,null,null,null,null,{"$f":"IFERROR(IF(AND('PLA-FO-01'!D165<>\"\",'PLA-FO-01'!S165<>\"\",'PLA-FO-01'!E165<>\"\"),_xlfn.IFS(OR(AND(LEFT('PLA-FO-01'!D165,4)=\"E040\",LEFT('PLA-FO-01'!E165,3)=\"C01\"),AND(LEFT('PLA-FO-01'!D165,4)=\"E040\",LEFT('PLA-FO-01'!E165,3)=\"C03\"),AND(LEFT('PLA-FO-01'!D165,4)=\"E040\",LEFT('PLA-FO-01'!E165,3)=\"C04\")),\"AF1R1\",AND(LEFT('PLA-FO-01'!D165,4)=\"E040\",LEFT('PLA-FO-01'!E165,3)=\"C02\",LEFT('PLA-FO-01'!S165,2)<>\"60\"),\"AF1R2\",AND(LEFT('PLA-FO-01'!D165,4)=\"E035\",LEFT('PLA-FO-01'!S165,5)=\"20040\"),\"AF1R3\",AND(LEFT('PLA-FO-01'!D165,4)=\"E035\",LEFT('PLA-FO-01'!S165,5)<>\"20040\"),\"AF1R4\",OR(AND(LEFT('PLA-FO-01'!D165,4)=\"E066\",LEFT('PLA-FO-01'!S165,2)=\"60\"),AND(LEFT('PLA-FO-01'!D165,4)=\"E067\",LEFT('PLA-FO-01'!S165,2)=\"60\"),AND(LEFT('PLA-FO-01'!D165,4)=\"E068\",LEFT('PLA-FO-01'!S165,2)=\"60\")),\"AF1R5\",OR(AND(LEFT('PLA-FO-01'!D165,4)=\"E066\",LEFT('PLA-FO-01'!S165,2)<>\"60\"),AND(LEFT('PLA-FO-01'!D165,4)=\"E067\",LEFT('PLA-FO-01'!S165,2)<>\"60\"),AND(LEFT('PLA-FO-01'!D165,4)=\"E068\",LEFT('PLA-FO-01'!S165,2)<>\"60\")),\"AF1R6\",OR(LEFT('PLA-FO-01'!D165,4)=\"R001\",LEFT('PLA-FO-01'!D165,4)=\"O001\",LEFT('PLA-FO-01'!D165,4)=\"M001\"),\"AF1R7\"),\"Falta Valor\"), \"NO APLICA, revisar!\")","v":"Falta Valor"}]
["M001",null,"Atención y seguimiento a los asuntos institucionales.","M00110.04","(M00110.04)","Atención y seguimiento a los asuntos institucionales. (M00110.04)"," ",null,null,null,null,null,null,null,null,null,null,null,null,null,null,null,null,null,null,null,null,null,null,null,null,null,null,null,null,null,null,null,null,null,null,null,null,null,null,null,null,null,null,{"$f":"IFERROR(IF(AND('PLA-FO-01'!D166<>\"\",'PLA-FO-01'!S166<>\"\",'PLA-FO-01'!E166<>\"\"),_xlfn.IFS(OR(AND(LEFT('PLA-FO-01'!D166,4)=\"E040\",LEFT('PLA-FO-01'!E166,3)=\"C01\"),AND(LEFT('PLA-FO-01'!D166,4)=\"E040\",LEFT('PLA-FO-01'!E166,3)=\"C03\"),AND(LEFT('PLA-FO-01'!D166,4)=\"E040\",LEFT('PLA-FO-01'!E166,3)=\"C04\")),\"AF1R1\",AND(LEFT('PLA-FO-01'!D166,4)=\"E040\",LEFT('PLA-FO-01'!E166,3)=\"C02\",LEFT('PLA-FO-01'!S166,2)<>\"60\"),\"AF1R2\",AND(LEFT('PLA-FO-01'!D166,4)=\"E035\",LEFT('PLA-FO-01'!S166,5)=\"20040\"),\"AF1R3\",AND(LEFT('PLA-FO-01'!D166,4)=\"E035\",LEFT('PLA-FO-01'!S166,5)<>\"20040\"),\"AF1R4\",OR(AND(LEFT('PLA-FO-01'!D166,4)=\"E066\",LEFT('PLA-FO-01'!S166,2)=\"60\"),AND(LEFT('PLA-FO-01'!D166,4)=\"E067\",LEFT('PLA-FO-01'!S166,2)=\"60\"),AND(LEFT('PLA-FO-01'!D166,4)=\"E068\",LEFT('PLA-FO-01'!S166,2)=\"60\")),\"AF1R5\",OR(AND(LEFT('PLA-FO-01'!D166,4)=\"E066\",LEFT('PLA-FO-01'!S166,2)<>\"60\"),AND(LEFT('PLA-FO-01'!D166,4)=\"E067\",LEFT('PLA-FO-01'!S166,2)<>\"60\"),AND(LEFT('PLA-FO-01'!D166,4)=\"E068\",LEFT('PLA-FO-01'!S166,2)<>\"60\")),\"AF1R6\",OR(LEFT('PLA-FO-01'!D166,4)=\"R001\",LEFT('PLA-FO-01'!D166,4)=\"O001\",LEFT('PLA-FO-01'!D166,4)=\"M001\"),\"AF1R7\"),\"Falta Valor\"), \"NO APLICA, revisar!\")","v":"Falta Valor"}]
["M001",null,"Autorizaciones en el ámbito de su competencia.","M00110.05","(M00110.05)","Autorizaciones en el ámbito de su competencia. (M00110.05)"," ",null,null,null,null,null,null,null,null,null,null,null,null,null,null,null,null,null,null,null,null,null,null,null,null,null,null,null,null,null,null,null,null,null,null,null,null,null,null,null,null,null,null,{"$f":"IFERROR(IF(AND('PLA-FO-01'!D167<>\"\",'PLA-FO-01'!S167<>\"\",'PLA-FO-01'!E167<>\"\"),_xlfn.IFS(OR(AND(LEFT('PLA-FO-01'!D167,4)=\"E040\",LEFT('PLA-FO-01'!E167,3)=\"C01\"),AND(LEFT('PLA-FO-01'!D167,4)=\"E040\",LEFT('PLA-FO-01'!E167,3)=\"C03\"),AND(LEFT('PLA-FO-01'!D167,4)=\"E040\",LEFT('PLA-FO-01'!E167,3)=\"C04\")),\"AF1R1\",AND(LEFT('PLA-FO-01'!D167,4)=\"E040\",LEFT('PLA-FO-01'!E167,3)=\"C02\",LEFT('PLA-FO-01'!S167,2)<>\"60\"),\"AF1R2\",AND(LEFT('PLA-FO-01'!D167,4)=\"E035\",LEFT('PLA-FO-01'!S167,5)=\"20040\"),\"AF1R3\",AND(LEFT('PLA-FO-01'!D167,4)=\"E035\",LEFT('PLA-FO-01'!S167,5)<>\"20040\"),\"AF1R4\",OR(AND(LEFT('PLA-FO-01'!D167,4)=\"E066\",LEFT('PLA-FO-01'!S167,2)=\"60\"),AND(LEFT('PLA-FO-01'!D167,4)=\"E067\",LEFT('PLA-FO-01'!S167,2)=\"60\"),AND(LEFT('PLA-FO-01'!D167,4)=\"E068\",LEFT('PLA-FO-01'!S167,2)=\"60\")),\"AF1R5\",OR(AND(LEFT('PLA-FO-01'!D167,4)=\"E066\",LEFT('PLA-FO-01'!S167,2)<>\"60\"),AND(LEFT('PLA-FO-01'!D167,4)=\"E067\",LEFT('PLA-FO-01'!S167,2)<>\"60\"),AND(LEFT('PLA-FO-01'!D167,4)=\"E068\",LEFT('PLA-FO-01'!S167,2)<>\"60\")),\"AF1R6\",OR(LEFT('PLA-FO-01'!D167,4)=\"R001\",LEFT('PLA-FO-01'!D167,4)=\"O001\",LEFT('PLA-FO-01'!D167,4)=\"M001\"),\"AF1R7\"),\"Falta Valor\"), \"NO APLICA, revisar!\")","v":"Falta Valor"}]
["M001",null,"Gestión de convenios, recursos y proyectos con diversos organismos internos y externos.","M00110.06","(M00110.06)","Gestión de convenios, recursos y proyectos con diversos organismos internos y externos. (M00110.06)"," ",null,null,null,null,null,null,null,null,null,null,null,null,null,null,null,null,null,null,null,null,null,null,null,null,null,null,null,null,null,null,null,null,null,null,null,null,null,null,null,null,null,null,{"$f":"IFERROR(IF(AND('PLA-FO-01'!D168<>\"\",'PLA-FO-01'!S168<>\"\",'PLA-FO-01'!E168<>\"\"),_xlfn.IFS(OR(AND(LEFT('PLA-FO-01'!D168,4)=\"E040\",LEFT('PLA-FO-01'!E168,3)=\"C01\"),AND(LEFT('PLA-FO-01'!D168,4)=\"E040\",LEFT('PLA-FO-01'!E168,3)=\"C03\"),AND(LEFT('PLA-FO-01'!D168,4)=\"E040\",LEFT('PLA-FO-01'!E168,3)=\"C04\")),\"AF1R1\",AND(LEFT('PLA-FO-01'!D168,4)=\"E040\",LEFT('PLA-FO-01'!E168,3)=\"C02\",LEFT('PLA-FO-01'!S168,2)<>\"60\"),\"AF1R2\",AND(LEFT('PLA-FO-01'!D168,4)=\"E035\",LEFT('PLA-FO-01'!S168,5)=\"20040\"),\"AF1R3\",AND(LEFT('PLA-FO-01'!D168,4)=\"E035\",LEFT('PLA-FO-01'!S168,5)<>\"20040\"),\"AF1R4\",OR(AND(LEFT('PLA-FO-01'!D168,4)=\"E066\",LEFT('PLA-FO-01'!S168,2)=\"60\"),AND(LEFT('PLA-FO-01'!D168,4)=\"E067\",LEFT('PLA-FO-01'!S168,2)=\"60\"),AND(LEFT('PLA-FO-01'!D168,4)=\"E068\",LEFT('PLA-FO-01'!S168,2)=\"60\")),\"AF1R5\",OR(AND(LEFT('PLA-FO-01'!D168,4)=\"E066\",LEFT('PLA-FO-01'!S168,2)<>\"60\"),AND(LEFT('PLA-FO-01'!D168,4)=\"E067\",LEFT('PLA-FO-01'!S168,2)<>\"60\"),AND(LEFT('PLA-FO-01'!D168,4)=\"E068\",LEFT('PLA-FO-01'!S168,2)<>\"60\")),\"AF1R6\",OR(LEFT('PLA-FO-01'!D168,4)=\"R001\",LEFT('PLA-FO-01'!D168,4)=\"O001\",LEFT('PLA-FO-01'!D168,4)=\"M001\"),\"AF1R7\"),\"Falta Valor\"), \"NO APLICA, revisar!\")","v":"Falta Valor"}]
["M001",null,"Coordinación y supervisión de actividades.","M00110.07","(M00110.07)","Coordinación y supervisión de actividades. (M00110.07)"," ",null,null,null,null,null,null,null,null,null,null,null,null,null,null,null,null,null,null,null,null,null,null,null,null,null,null,null,null,null,null,null,null,null,null,null,null,null,null,null,null,null,null,{"$f":"IFERROR(IF(AND('PLA-FO-01'!D169<>\"\",'PLA-FO-01'!S169<>\"\",'PLA-FO-01'!E169<>\"\"),_xlfn.IFS(OR(AND(LEFT('PLA-FO-01'!D169,4)=\"E040\",LEFT('PLA-FO-01'!E169,3)=\"C01\"),AND(LEFT('PLA-FO-01'!D169,4)=\"E040\",LEFT('PLA-FO-01'!E169,3)=\"C03\"),AND(LEFT('PLA-FO-01'!D169,4)=\"E040\",LEFT('PLA-FO-01'!E169,3)=\"C04\")),\"AF1R1\",AND(LEFT('PLA-FO-01'!D169,4)=\"E040\",LEFT('PLA-FO-01'!E169,3)=\"C02\",LEFT('PLA-FO-01'!S169,2)<>\"60\"),\"AF1R2\",AND(LEFT('PLA-FO-01'!D169,4)=\"E035\",LEFT('PLA-FO-01'!S169,5)=\"20040\"),\"AF1R3\",AND(LEFT('PLA-FO-01'!D169,4)=\"E035\",LEFT('PLA-FO-01'!S169,5)<>\"20040\"),\"AF1R4\",OR(AND(LEFT('PLA-FO-01'!D169,4)=\"E066\",LEFT('PLA-FO-01'!S169,2)=\"60\"),AND(LEFT('PLA-FO-01'!D169,4)=\"E067\",LEFT('PLA-FO-01'!S169,2)=\"60\"),AND(LEFT('PLA-FO-01'!D169,4)=\"E068\",LEFT('PLA-FO-01'!S169,2)=\"60\")),\"AF1R5\",OR(AND(LEFT('PLA-FO-01'!D169,4)=\"E066\",LEFT('PLA-FO-01'!S169,2)<>\"60\"),AND(LEFT('PLA-FO-01'!D169,4)=\"E067\",LEFT('PLA-FO-01'!S169,2)<>\"60\"),AND(LEFT('PLA-FO-01'!D169,4)=\"E068\",LEFT('PLA-FO-01'!S169,2)<>\"60\")),\"AF1R6\",OR(LEFT('PLA-FO-01'!D169,4)=\"R001\",LEFT('PLA-FO-01'!D169,4)=\"O001\",LEFT('PLA-FO-01'!D169,4)=\"M001\"),\"AF1R7\"),\"Falta Valor\"), \"NO APLICA, revisar!\")","v":"Falta Valor"}]
["M001",null,"Programación y ejecución de sesiones con diversos órganos de gobierno de la UG.","M00110.08","(M00110.08)","Programación y ejecución de sesiones con diversos órganos de gobierno de la UG. (M00110.08)"," ",null,null,null,null,null,null,null,null,null,null,null,null,null,null,null,null,null,null,null,null,null,null,null,null,null,null,null,null,null,null,null,null,null,null,null,null,null,null,null,null,null,null,{"$f":"IFERROR(IF(AND('PLA-FO-01'!D170<>\"\",'PLA-FO-01'!S170<>\"\",'PLA-FO-01'!E170<>\"\"),_xlfn.IFS(OR(AND(LEFT('PLA-FO-01'!D170,4)=\"E040\",LEFT('PLA-FO-01'!E170,3)=\"C01\"),AND(LEFT('PLA-FO-01'!D170,4)=\"E040\",LEFT('PLA-FO-01'!E170,3)=\"C03\"),AND(LEFT('PLA-FO-01'!D170,4)=\"E040\",LEFT('PLA-FO-01'!E170,3)=\"C04\")),\"AF1R1\",AND(LEFT('PLA-FO-01'!D170,4)=\"E040\",LEFT('PLA-FO-01'!E170,3)=\"C02\",LEFT('PLA-FO-01'!S170,2)<>\"60\"),\"AF1R2\",AND(LEFT('PLA-FO-01'!D170,4)=\"E035\",LEFT('PLA-FO-01'!S170,5)=\"20040\"),\"AF1R3\",AND(LEFT('PLA-FO-01'!D170,4)=\"E035\",LEFT('PLA-FO-01'!S170,5)<>\"20040\"),\"AF1R4\",OR(AND(LEFT('PLA-FO-01'!D170,4)=\"E066\",LEFT('PLA-FO-01'!S170,2)=\"60\"),AND(LEFT('PLA-FO-01'!D170,4)=\"E067\",LEFT('PLA-FO-01'!S170,2)=\"60\"),AND(LEFT('PLA-FO-01'!D170,4)=\"E068\",LEFT('PLA-FO-01'!S170,2)=\"60\")),\"AF1R5\",OR(AND(LEFT('PLA-FO-01'!D170,4)=\"E066\",LEFT('PLA-FO-01'!S170,2)<>\"60\"),AND(LEFT('PLA-FO-01'!D170,4)=\"E067\",LEFT('PLA-FO-01'!S170,2)<>\"60\"),AND(LEFT('PLA-FO-01'!D170,4)=\"E068\",LEFT('PLA-FO-01'!S170,2)<>\"60\")),\"AF1R6\",OR(LEFT('PLA-FO-01'!D170,4)=\"R001\",LEFT('PLA-FO-01'!D170,4)=\"O001\",LEFT('PLA-FO-01'!D170,4)=\"M001\"),\"AF1R7\"),\"Falta Valor\"), \"NO APLICA, revisar!\")","v":"Falta Valor"}]
[null,null,null,null,null,null," ",null,null,null,null,null,null,null,null,null,null,null,null,null,null,null,null,null,null,null,null,null,null,null,null,null,null,null,null,null,null,null,null,null,null,null,null,null,null,null,null,null,null,{"$f":"IFERROR(IF(AND('PLA-FO-01'!D171<>\"\",'PLA-FO-01'!S171<>\"\",'PLA-FO-01'!E171<>\"\"),_xlfn.IFS(OR(AND(LEFT('PLA-FO-01'!D171,4)=\"E040\",LEFT('PLA-FO-01'!E171,3)=\"C01\"),AND(LEFT('PLA-FO-01'!D171,4)=\"E040\",LEFT('PLA-FO-01'!E171,3)=\"C03\"),AND(LEFT('PLA-FO-01'!D171,4)=\"E040\",LEFT('PLA-FO-01'!E171,3)=\"C04\")),\"AF1R1\",AND(LEFT('PLA-FO-01'!D171,4)=\"E040\",LEFT('PLA-FO-01'!E171,3)=\"C02\",LEFT('PLA-FO-01'!S171,2)<>\"60\"),\"AF1R2\",AND(LEFT('PLA-FO-01'!D171,4)=\"E035\",LEFT('PLA-FO-01'!S171,5)=\"20040\"),\"AF1R3\",AND(LEFT('PLA-FO-01'!D171,4)=\"E035\",LEFT('PLA-FO-01'!S171,5)<>\"20040\"),\"AF1R4\",OR(AND(LEFT('PLA-FO-01'!D171,4)=\"E066\",LEFT('PLA-FO-01'!S171,2)=\"60\"),AND(LEFT('PLA-FO-01'!D171,4)=\"E067\",LEFT('PLA-FO-01'!S171,2)=\"60\"),AND(LEFT('PLA-FO-01'!D171,4)=\"E068\",LEFT('PLA-FO-01'!S171,2)=\"60\")),\"AF1R5\",OR(AND(LEFT('PLA-FO-01'!D171,4)=\"E066\",LEFT('PLA-FO-01'!S171,2)<>\"60\"),AND(LEFT('PLA-FO-01'!D171,4)=\"E067\",LEFT('PLA-FO-01'!S171,2)<>\"60\"),AND(LEFT('PLA-FO-01'!D171,4)=\"E068\",LEFT('PLA-FO-01'!S171,2)<>\"60\")),\"AF1R6\",OR(LEFT('PLA-FO-01'!D171,4)=\"R001\",LEFT('PLA-FO-01'!D171,4)=\"O001\",LEFT('PLA-FO-01'!D171,4)=\"M001\"),\"AF1R7\"),\"Falta Valor\"), \"NO APLICA, revisar!\")","v":"Falta Valor"}]
[null,null,null,null,null,null," ",null,null,null,null,null,null,null,null,null,null,null,null,null,null,null,null,null,null,null,null,null,null,null,null,null,null,null,null,null,null,null,null,null,null,null,null,null,null,null,null,null,null,{"$f":"IFERROR(IF(AND('PLA-FO-01'!D172<>\"\",'PLA-FO-01'!S172<>\"\",'PLA-FO-01'!E172<>\"\"),_xlfn.IFS(OR(AND(LEFT('PLA-FO-01'!D172,4)=\"E040\",LEFT('PLA-FO-01'!E172,3)=\"C01\"),AND(LEFT('PLA-FO-01'!D172,4)=\"E040\",LEFT('PLA-FO-01'!E172,3)=\"C03\"),AND(LEFT('PLA-FO-01'!D172,4)=\"E040\",LEFT('PLA-FO-01'!E172,3)=\"C04\")),\"AF1R1\",AND(LEFT('PLA-FO-01'!D172,4)=\"E040\",LEFT('PLA-FO-01'!E172,3)=\"C02\",LEFT('PLA-FO-01'!S172,2)<>\"60\"),\"AF1R2\",AND(LEFT('PLA-FO-01'!D172,4)=\"E035\",LEFT('PLA-FO-01'!S172,5)=\"20040\"),\"AF1R3\",AND(LEFT('PLA-FO-01'!D172,4)=\"E035\",LEFT('PLA-FO-01'!S172,5)<>\"20040\"),\"AF1R4\",OR(AND(LEFT('PLA-FO-01'!D172,4)=\"E066\",LEFT('PLA-FO-01'!S172,2)=\"60\"),AND(LEFT('PLA-FO-01'!D172,4)=\"E067\",LEFT('PLA-FO-01'!S172,2)=\"60\"),AND(LEFT('PLA-FO-01'!D172,4)=\"E068\",LEFT('PLA-FO-01'!S172,2)=\"60\")),\"AF1R5\",OR(AND(LEFT('PLA-FO-01'!D172,4)=\"E066\",LEFT('PLA-FO-01'!S172,2)<>\"60\"),AND(LEFT('PLA-FO-01'!D172,4)=\"E067\",LEFT('PLA-FO-01'!S172,2)<>\"60\"),AND(LEFT('PLA-FO-01'!D172,4)=\"E068\",LEFT('PLA-FO-01'!S172,2)<>\"60\")),\"AF1R6\",OR(LEFT('PLA-FO-01'!D172,4)=\"R001\",LEFT('PLA-FO-01'!D172,4)=\"O001\",LEFT('PLA-FO-01'!D172,4)=\"M001\"),\"AF1R7\"),\"Falta Valor\"), \"NO APLICA, revisar!\")","v":"Falta Valor"}]
[null,null,null,null,null,null," ",null,null,null,null,null,null,null,null,null,null,null,null,null,null,null,null,null,null,null,null,null,null,null,null,null,null,null,null,null,null,null,null,null,null,null,null,null,null,null,null,null,null,{"$f":"IFERROR(IF(AND('PLA-FO-01'!D173<>\"\",'PLA-FO-01'!S173<>\"\",'PLA-FO-01'!E173<>\"\"),_xlfn.IFS(OR(AND(LEFT('PLA-FO-01'!D173,4)=\"E040\",LEFT('PLA-FO-01'!E173,3)=\"C01\"),AND(LEFT('PLA-FO-01'!D173,4)=\"E040\",LEFT('PLA-FO-01'!E173,3)=\"C03\"),AND(LEFT('PLA-FO-01'!D173,4)=\"E040\",LEFT('PLA-FO-01'!E173,3)=\"C04\")),\"AF1R1\",AND(LEFT('PLA-FO-01'!D173,4)=\"E040\",LEFT('PLA-FO-01'!E173,3)=\"C02\",LEFT('PLA-FO-01'!S173,2)<>\"60\"),\"AF1R2\",AND(LEFT('PLA-FO-01'!D173,4)=\"E035\",LEFT('PLA-FO-01'!S173,5)=\"20040\"),\"AF1R3\",AND(LEFT('PLA-FO-01'!D173,4)=\"E035\",LEFT('PLA-FO-01'!S173,5)<>\"20040\"),\"AF1R4\",OR(AND(LEFT('PLA-FO-01'!D173,4)=\"E066\",LEFT('PLA-FO-01'!S173,2)=\"60\"),AND(LEFT('PLA-FO-01'!D173,4)=\"E067\",LEFT('PLA-FO-01'!S173,2)=\"60\"),AND(LEFT('PLA-FO-01'!D173,4)=\"E068\",LEFT('PLA-FO-01'!S173,2)=\"60\")),\"AF1R5\",OR(AND(LEFT('PLA-FO-01'!D173,4)=\"E066\",LEFT('PLA-FO-01'!S173,2)<>\"60\"),AND(LEFT('PLA-FO-01'!D173,4)=\"E067\",LEFT('PLA-FO-01'!S173,2)<>\"60\"),AND(LEFT('PLA-FO-01'!D173,4)=\"E068\",LEFT('PLA-FO-01'!S173,2)<>\"60\")),\"AF1R6\",OR(LEFT('PLA-FO-01'!D173,4)=\"R001\",LEFT('PLA-FO-01'!D173,4)=\"O001\",LEFT('PLA-FO-01'!D173,4)=\"M001\"),\"AF1R7\"),\"Falta Valor\"), \"NO APLICA, revisar!\")","v":"Falta Valor"}]
[null,null,null,null,null,null," ",null,null,null,null,null,null,null,null,null,null,null,null,null,null,null,null,null,null,null,null,null,null,null,null,null,null,null,null,null,null,null,null,null,null,null,null,null,null,null,null,null,null,{"$f":"IFERROR(IF(AND('PLA-FO-01'!D174<>\"\",'PLA-FO-01'!S174<>\"\",'PLA-FO-01'!E174<>\"\"),_xlfn.IFS(OR(AND(LEFT('PLA-FO-01'!D174,4)=\"E040\",LEFT('PLA-FO-01'!E174,3)=\"C01\"),AND(LEFT('PLA-FO-01'!D174,4)=\"E040\",LEFT('PLA-FO-01'!E174,3)=\"C03\"),AND(LEFT('PLA-FO-01'!D174,4)=\"E040\",LEFT('PLA-FO-01'!E174,3)=\"C04\")),\"AF1R1\",AND(LEFT('PLA-FO-01'!D174,4)=\"E040\",LEFT('PLA-FO-01'!E174,3)=\"C02\",LEFT('PLA-FO-01'!S174,2)<>\"60\"),\"AF1R2\",AND(LEFT('PLA-FO-01'!D174,4)=\"E035\",LEFT('PLA-FO-01'!S174,5)=\"20040\"),\"AF1R3\",AND(LEFT('PLA-FO-01'!D174,4)=\"E035\",LEFT('PLA-FO-01'!S174,5)<>\"20040\"),\"AF1R4\",OR(AND(LEFT('PLA-FO-01'!D174,4)=\"E066\",LEFT('PLA-FO-01'!S174,2)=\"60\"),AND(LEFT('PLA-FO-01'!D174,4)=\"E067\",LEFT('PLA-FO-01'!S174,2)=\"60\"),AND(LEFT('PLA-FO-01'!D174,4)=\"E068\",LEFT('PLA-FO-01'!S174,2)=\"60\")),\"AF1R5\",OR(AND(LEFT('PLA-FO-01'!D174,4)=\"E066\",LEFT('PLA-FO-01'!S174,2)<>\"60\"),AND(LEFT('PLA-FO-01'!D174,4)=\"E067\",LEFT('PLA-FO-01'!S174,2)<>\"60\"),AND(LEFT('PLA-FO-01'!D174,4)=\"E068\",LEFT('PLA-FO-01'!S174,2)<>\"60\")),\"AF1R6\",OR(LEFT('PLA-FO-01'!D174,4)=\"R001\",LEFT('PLA-FO-01'!D174,4)=\"O001\",LEFT('PLA-FO-01'!D174,4)=\"M001\"),\"AF1R7\"),\"Falta Valor\"), \"NO APLICA, revisar!\")","v":"Falta Valor"}]
[null,null,null,null,null,null," ",null,null,null,null,null,null,null,null,null,null,null,null,null,null,null,null,null,null,null,null,null,null,null,null,null,null,null,null,null,null,null,null,null,null,null,null,null,null,null,null,null,null,{"$f":"IFERROR(IF(AND('PLA-FO-01'!D175<>\"\",'PLA-FO-01'!S175<>\"\",'PLA-FO-01'!E175<>\"\"),_xlfn.IFS(OR(AND(LEFT('PLA-FO-01'!D175,4)=\"E040\",LEFT('PLA-FO-01'!E175,3)=\"C01\"),AND(LEFT('PLA-FO-01'!D175,4)=\"E040\",LEFT('PLA-FO-01'!E175,3)=\"C03\"),AND(LEFT('PLA-FO-01'!D175,4)=\"E040\",LEFT('PLA-FO-01'!E175,3)=\"C04\")),\"AF1R1\",AND(LEFT('PLA-FO-01'!D175,4)=\"E040\",LEFT('PLA-FO-01'!E175,3)=\"C02\",LEFT('PLA-FO-01'!S175,2)<>\"60\"),\"AF1R2\",AND(LEFT('PLA-FO-01'!D175,4)=\"E035\",LEFT('PLA-FO-01'!S175,5)=\"20040\"),\"AF1R3\",AND(LEFT('PLA-FO-01'!D175,4)=\"E035\",LEFT('PLA-FO-01'!S175,5)<>\"20040\"),\"AF1R4\",OR(AND(LEFT('PLA-FO-01'!D175,4)=\"E066\",LEFT('PLA-FO-01'!S175,2)=\"60\"),AND(LEFT('PLA-FO-01'!D175,4)=\"E067\",LEFT('PLA-FO-01'!S175,2)=\"60\"),AND(LEFT('PLA-FO-01'!D175,4)=\"E068\",LEFT('PLA-FO-01'!S175,2)=\"60\")),\"AF1R5\",OR(AND(LEFT('PLA-FO-01'!D175,4)=\"E066\",LEFT('PLA-FO-01'!S175,2)<>\"60\"),AND(LEFT('PLA-FO-01'!D175,4)=\"E067\",LEFT('PLA-FO-01'!S175,2)<>\"60\"),AND(LEFT('PLA-FO-01'!D175,4)=\"E068\",LEFT('PLA-FO-01'!S175,2)<>\"60\")),\"AF1R6\",OR(LEFT('PLA-FO-01'!D175,4)=\"R001\",LEFT('PLA-FO-01'!D175,4)=\"O001\",LEFT('PLA-FO-01'!D175,4)=\"M001\"),\"AF1R7\"),\"Falta Valor\"), \"NO APLICA, revisar!\")","v":"Falta Valor"}]
[null,null,null,null,null,null," ",null,null,null,null,null,null,null,null,null,null,null,null,null,null,null,null,null,null,null,null,null,null,null,null,null,null,null,null,null,null,null,null,null,null,null,null,null,null,null,null,null,null,{"$f":"IFERROR(IF(AND('PLA-FO-01'!D176<>\"\",'PLA-FO-01'!S176<>\"\",'PLA-FO-01'!E176<>\"\"),_xlfn.IFS(OR(AND(LEFT('PLA-FO-01'!D176,4)=\"E040\",LEFT('PLA-FO-01'!E176,3)=\"C01\"),AND(LEFT('PLA-FO-01'!D176,4)=\"E040\",LEFT('PLA-FO-01'!E176,3)=\"C03\"),AND(LEFT('PLA-FO-01'!D176,4)=\"E040\",LEFT('PLA-FO-01'!E176,3)=\"C04\")),\"AF1R1\",AND(LEFT('PLA-FO-01'!D176,4)=\"E040\",LEFT('PLA-FO-01'!E176,3)=\"C02\",LEFT('PLA-FO-01'!S176,2)<>\"60\"),\"AF1R2\",AND(LEFT('PLA-FO-01'!D176,4)=\"E035\",LEFT('PLA-FO-01'!S176,5)=\"20040\"),\"AF1R3\",AND(LEFT('PLA-FO-01'!D176,4)=\"E035\",LEFT('PLA-FO-01'!S176,5)<>\"20040\"),\"AF1R4\",OR(AND(LEFT('PLA-FO-01'!D176,4)=\"E066\",LEFT('PLA-FO-01'!S176,2)=\"60\"),AND(LEFT('PLA-FO-01'!D176,4)=\"E067\",LEFT('PLA-FO-01'!S176,2)=\"60\"),AND(LEFT('PLA-FO-01'!D176,4)=\"E068\",LEFT('PLA-FO-01'!S176,2)=\"60\")),\"AF1R5\",OR(AND(LEFT('PLA-FO-01'!D176,4)=\"E066\",LEFT('PLA-FO-01'!S176,2)<>\"60\"),AND(LEFT('PLA-FO-01'!D176,4)=\"E067\",LEFT('PLA-FO-01'!S176,2)<>\"60\"),AND(LEFT('PLA-FO-01'!D176,4)=\"E068\",LEFT('PLA-FO-01'!S176,2)<>\"60\")),\"AF1R6\",OR(LEFT('PLA-FO-01'!D176,4)=\"R001\",LEFT('PLA-FO-01'!D176,4)=\"O001\",LEFT('PLA-FO-01'!D176,4)=\"M001\"),\"AF1R7\"),\"Falta Valor\"), \"NO APLICA, revisar!\")","v":"Falta Valor"}]
[null,null,null,null,null,null,null,null,null,null,null,null,null,null,null,null,null,null,null,null,null,null,null,null,null,null,null,null,null,null,null,null,null,null,null,null,null,null,null,null,null,null,null,null,null,null,null,null,null,{"$f":"IFERROR(IF(AND('PLA-FO-01'!D177<>\"\",'PLA-FO-01'!S177<>\"\",'PLA-FO-01'!E177<>\"\"),_xlfn.IFS(OR(AND(LEFT('PLA-FO-01'!D177,4)=\"E040\",LEFT('PLA-FO-01'!E177,3)=\"C01\"),AND(LEFT('PLA-FO-01'!D177,4)=\"E040\",LEFT('PLA-FO-01'!E177,3)=\"C03\"),AND(LEFT('PLA-FO-01'!D177,4)=\"E040\",LEFT('PLA-FO-01'!E177,3)=\"C04\")),\"AF1R1\",AND(LEFT('PLA-FO-01'!D177,4)=\"E040\",LEFT('PLA-FO-01'!E177,3)=\"C02\",LEFT('PLA-FO-01'!S177,2)<>\"60\"),\"AF1R2\",AND(LEFT('PLA-FO-01'!D177,4)=\"E035\",LEFT('PLA-FO-01'!S177,5)=\"20040\"),\"AF1R3\",AND(LEFT('PLA-FO-01'!D177,4)=\"E035\",LEFT('PLA-FO-01'!S177,5)<>\"20040\"),\"AF1R4\",OR(AND(LEFT('PLA-FO-01'!D177,4)=\"E066\",LEFT('PLA-FO-01'!S177,2)=\"60\"),AND(LEFT('PLA-FO-01'!D177,4)=\"E067\",LEFT('PLA-FO-01'!S177,2)=\"60\"),AND(LEFT('PLA-FO-01'!D177,4)=\"E068\",LEFT('PLA-FO-01'!S177,2)=\"60\")),\"AF1R5\",OR(AND(LEFT('PLA-FO-01'!D177,4)=\"E066\",LEFT('PLA-FO-01'!S177,2)<>\"60\"),AND(LEFT('PLA-FO-01'!D177,4)=\"E067\",LEFT('PLA-FO-01'!S177,2)<>\"60\"),AND(LEFT('PLA-FO-01'!D177,4)=\"E068\",LEFT('PLA-FO-01'!S177,2)<>\"60\")),\"AF1R6\",OR(LEFT('PLA-FO-01'!D177,4)=\"R001\",LEFT('PLA-FO-01'!D177,4)=\"O001\",LEFT('PLA-FO-01'!D177,4)=\"M001\"),\"AF1R7\"),\"Falta Valor\"), \"NO APLICA, revisar!\")","v":"Falta Valor"}]
[null,null,null,null,null,null,null,null,null,null,null,null,null,null,null,null,null,null,null,null,null,null,null,null,null,null,null,null,null,null,null,null,null,null,null,null,null,null,null,null,null,null,null,null,null,null,null,null,null,{"$f":"IFERROR(IF(AND('PLA-FO-01'!D178<>\"\",'PLA-FO-01'!S178<>\"\",'PLA-FO-01'!E178<>\"\"),_xlfn.IFS(OR(AND(LEFT('PLA-FO-01'!D178,4)=\"E040\",LEFT('PLA-FO-01'!E178,3)=\"C01\"),AND(LEFT('PLA-FO-01'!D178,4)=\"E040\",LEFT('PLA-FO-01'!E178,3)=\"C03\"),AND(LEFT('PLA-FO-01'!D178,4)=\"E040\",LEFT('PLA-FO-01'!E178,3)=\"C04\")),\"AF1R1\",AND(LEFT('PLA-FO-01'!D178,4)=\"E040\",LEFT('PLA-FO-01'!E178,3)=\"C02\",LEFT('PLA-FO-01'!S178,2)<>\"60\"),\"AF1R2\",AND(LEFT('PLA-FO-01'!D178,4)=\"E035\",LEFT('PLA-FO-01'!S178,5)=\"20040\"),\"AF1R3\",AND(LEFT('PLA-FO-01'!D178,4)=\"E035\",LEFT('PLA-FO-01'!S178,5)<>\"20040\"),\"AF1R4\",OR(AND(LEFT('PLA-FO-01'!D178,4)=\"E066\",LEFT('PLA-FO-01'!S178,2)=\"60\"),AND(LEFT('PLA-FO-01'!D178,4)=\"E067\",LEFT('PLA-FO-01'!S178,2)=\"60\"),AND(LEFT('PLA-FO-01'!D178,4)=\"E068\",LEFT('PLA-FO-01'!S178,2)=\"60\")),\"AF1R5\",OR(AND(LEFT('PLA-FO-01'!D178,4)=\"E066\",LEFT('PLA-FO-01'!S178,2)<>\"60\"),AND(LEFT('PLA-FO-01'!D178,4)=\"E067\",LEFT('PLA-FO-01'!S178,2)<>\"60\"),AND(LEFT('PLA-FO-01'!D178,4)=\"E068\",LEFT('PLA-FO-01'!S178,2)<>\"60\")),\"AF1R6\",OR(LEFT('PLA-FO-01'!D178,4)=\"R001\",LEFT('PLA-FO-01'!D178,4)=\"O001\",LEFT('PLA-FO-01'!D178,4)=\"M001\"),\"AF1R7\"),\"Falta Valor\"), \"NO APLICA, revisar!\")","v":"Falta Valor"}]
[null,null,null,null,null,null,null,null,null,null,null,null,null,null,null,null,null,null,null,null,null,null,null,null,null,null,null,null,null,null,null,null,null,null,null,null,null,null,null,null,null,null,null,null,null,null,null,null,null,{"$f":"IFERROR(IF(AND('PLA-FO-01'!D179<>\"\",'PLA-FO-01'!S179<>\"\",'PLA-FO-01'!E179<>\"\"),_xlfn.IFS(OR(AND(LEFT('PLA-FO-01'!D179,4)=\"E040\",LEFT('PLA-FO-01'!E179,3)=\"C01\"),AND(LEFT('PLA-FO-01'!D179,4)=\"E040\",LEFT('PLA-FO-01'!E179,3)=\"C03\"),AND(LEFT('PLA-FO-01'!D179,4)=\"E040\",LEFT('PLA-FO-01'!E179,3)=\"C04\")),\"AF1R1\",AND(LEFT('PLA-FO-01'!D179,4)=\"E040\",LEFT('PLA-FO-01'!E179,3)=\"C02\",LEFT('PLA-FO-01'!S179,2)<>\"60\"),\"AF1R2\",AND(LEFT('PLA-FO-01'!D179,4)=\"E035\",LEFT('PLA-FO-01'!S179,5)=\"20040\"),\"AF1R3\",AND(LEFT('PLA-FO-01'!D179,4)=\"E035\",LEFT('PLA-FO-01'!S179,5)<>\"20040\"),\"AF1R4\",OR(AND(LEFT('PLA-FO-01'!D179,4)=\"E066\",LEFT('PLA-FO-01'!S179,2)=\"60\"),AND(LEFT('PLA-FO-01'!D179,4)=\"E067\",LEFT('PLA-FO-01'!S179,2)=\"60\"),AND(LEFT('PLA-FO-01'!D179,4)=\"E068\",LEFT('PLA-FO-01'!S179,2)=\"60\")),\"AF1R5\",OR(AND(LEFT('PLA-FO-01'!D179,4)=\"E066\",LEFT('PLA-FO-01'!S179,2)<>\"60\"),AND(LEFT('PLA-FO-01'!D179,4)=\"E067\",LEFT('PLA-FO-01'!S179,2)<>\"60\"),AND(LEFT('PLA-FO-01'!D179,4)=\"E068\",LEFT('PLA-FO-01'!S179,2)<>\"60\")),\"AF1R6\",OR(LEFT('PLA-FO-01'!D179,4)=\"R001\",LEFT('PLA-FO-01'!D179,4)=\"O001\",LEFT('PLA-FO-01'!D179,4)=\"M001\"),\"AF1R7\"),\"Falta Valor\"), \"NO APLICA, revisar!\")","v":"Falta Valor"}]
[null,null,null,null,null,null,null,null,null,null,null,null,null,null,null,null,null,null,null,null,null,null,null,null,null,null,null,null,null,null,null,null,null,null,null,null,null,null,null,null,null,null,null,null,null,null,null,null,null,{"$f":"IFERROR(IF(AND('PLA-FO-01'!D180<>\"\",'PLA-FO-01'!S180<>\"\",'PLA-FO-01'!E180<>\"\"),_xlfn.IFS(OR(AND(LEFT('PLA-FO-01'!D180,4)=\"E040\",LEFT('PLA-FO-01'!E180,3)=\"C01\"),AND(LEFT('PLA-FO-01'!D180,4)=\"E040\",LEFT('PLA-FO-01'!E180,3)=\"C03\"),AND(LEFT('PLA-FO-01'!D180,4)=\"E040\",LEFT('PLA-FO-01'!E180,3)=\"C04\")),\"AF1R1\",AND(LEFT('PLA-FO-01'!D180,4)=\"E040\",LEFT('PLA-FO-01'!E180,3)=\"C02\",LEFT('PLA-FO-01'!S180,2)<>\"60\"),\"AF1R2\",AND(LEFT('PLA-FO-01'!D180,4)=\"E035\",LEFT('PLA-FO-01'!S180,5)=\"20040\"),\"AF1R3\",AND(LEFT('PLA-FO-01'!D180,4)=\"E035\",LEFT('PLA-FO-01'!S180,5)<>\"20040\"),\"AF1R4\",OR(AND(LEFT('PLA-FO-01'!D180,4)=\"E066\",LEFT('PLA-FO-01'!S180,2)=\"60\"),AND(LEFT('PLA-FO-01'!D180,4)=\"E067\",LEFT('PLA-FO-01'!S180,2)=\"60\"),AND(LEFT('PLA-FO-01'!D180,4)=\"E068\",LEFT('PLA-FO-01'!S180,2)=\"60\")),\"AF1R5\",OR(AND(LEFT('PLA-FO-01'!D180,4)=\"E066\",LEFT('PLA-FO-01'!S180,2)<>\"60\"),AND(LEFT('PLA-FO-01'!D180,4)=\"E067\",LEFT('PLA-FO-01'!S180,2)<>\"60\"),AND(LEFT('PLA-FO-01'!D180,4)=\"E068\",LEFT('PLA-FO-01'!S180,2)<>\"60\")),\"AF1R6\",OR(LEFT('PLA-FO-01'!D180,4)=\"R001\",LEFT('PLA-FO-01'!D180,4)=\"O001\",LEFT('PLA-FO-01'!D180,4)=\"M001\"),\"AF1R7\"),\"Falta Valor\"), \"NO APLICA, revisar!\")","v":"Falta Valor"}]
[null,null,null,null,null,null,null,null,null,null,null,null,null,null,null,null,null,null,null,null,null,null,null,null,null,null,null,null,null,null,null,null,null,null,null,null,null,null,null,null,null,null,null,null,null,null,null,null,null,{"$f":"IFERROR(IF(AND('PLA-FO-01'!D181<>\"\",'PLA-FO-01'!S181<>\"\",'PLA-FO-01'!E181<>\"\"),_xlfn.IFS(OR(AND(LEFT('PLA-FO-01'!D181,4)=\"E040\",LEFT('PLA-FO-01'!E181,3)=\"C01\"),AND(LEFT('PLA-FO-01'!D181,4)=\"E040\",LEFT('PLA-FO-01'!E181,3)=\"C03\"),AND(LEFT('PLA-FO-01'!D181,4)=\"E040\",LEFT('PLA-FO-01'!E181,3)=\"C04\")),\"AF1R1\",AND(LEFT('PLA-FO-01'!D181,4)=\"E040\",LEFT('PLA-FO-01'!E181,3)=\"C02\",LEFT('PLA-FO-01'!S181,2)<>\"60\"),\"AF1R2\",AND(LEFT('PLA-FO-01'!D181,4)=\"E035\",LEFT('PLA-FO-01'!S181,5)=\"20040\"),\"AF1R3\",AND(LEFT('PLA-FO-01'!D181,4)=\"E035\",LEFT('PLA-FO-01'!S181,5)<>\"20040\"),\"AF1R4\",OR(AND(LEFT('PLA-FO-01'!D181,4)=\"E066\",LEFT('PLA-FO-01'!S181,2)=\"60\"),AND(LEFT('PLA-FO-01'!D181,4)=\"E067\",LEFT('PLA-FO-01'!S181,2)=\"60\"),AND(LEFT('PLA-FO-01'!D181,4)=\"E068\",LEFT('PLA-FO-01'!S181,2)=\"60\")),\"AF1R5\",OR(AND(LEFT('PLA-FO-01'!D181,4)=\"E066\",LEFT('PLA-FO-01'!S181,2)<>\"60\"),AND(LEFT('PLA-FO-01'!D181,4)=\"E067\",LEFT('PLA-FO-01'!S181,2)<>\"60\"),AND(LEFT('PLA-FO-01'!D181,4)=\"E068\",LEFT('PLA-FO-01'!S181,2)<>\"60\")),\"AF1R6\",OR(LEFT('PLA-FO-01'!D181,4)=\"R001\",LEFT('PLA-FO-01'!D181,4)=\"O001\",LEFT('PLA-FO-01'!D181,4)=\"M001\"),\"AF1R7\"),\"Falta Valor\"), \"NO APLICA, revisar!\")","v":"Falta Valor"}]
[null,null,null,null,null,null,null,null,null,null,null,null,null,null,null,null,null,null,null,null,null,null,null,null,null,null,null,null,null,null,null,null,null,null,null,null,null,null,null,null,null,null,null,null,null,null,null,null,null,{"$f":"IFERROR(IF(AND('PLA-FO-01'!D182<>\"\",'PLA-FO-01'!S182<>\"\",'PLA-FO-01'!E182<>\"\"),_xlfn.IFS(OR(AND(LEFT('PLA-FO-01'!D182,4)=\"E040\",LEFT('PLA-FO-01'!E182,3)=\"C01\"),AND(LEFT('PLA-FO-01'!D182,4)=\"E040\",LEFT('PLA-FO-01'!E182,3)=\"C03\"),AND(LEFT('PLA-FO-01'!D182,4)=\"E040\",LEFT('PLA-FO-01'!E182,3)=\"C04\")),\"AF1R1\",AND(LEFT('PLA-FO-01'!D182,4)=\"E040\",LEFT('PLA-FO-01'!E182,3)=\"C02\",LEFT('PLA-FO-01'!S182,2)<>\"60\"),\"AF1R2\",AND(LEFT('PLA-FO-01'!D182,4)=\"E035\",LEFT('PLA-FO-01'!S182,5)=\"20040\"),\"AF1R3\",AND(LEFT('PLA-FO-01'!D182,4)=\"E035\",LEFT('PLA-FO-01'!S182,5)<>\"20040\"),\"AF1R4\",OR(AND(LEFT('PLA-FO-01'!D182,4)=\"E066\",LEFT('PLA-FO-01'!S182,2)=\"60\"),AND(LEFT('PLA-FO-01'!D182,4)=\"E067\",LEFT('PLA-FO-01'!S182,2)=\"60\"),AND(LEFT('PLA-FO-01'!D182,4)=\"E068\",LEFT('PLA-FO-01'!S182,2)=\"60\")),\"AF1R5\",OR(AND(LEFT('PLA-FO-01'!D182,4)=\"E066\",LEFT('PLA-FO-01'!S182,2)<>\"60\"),AND(LEFT('PLA-FO-01'!D182,4)=\"E067\",LEFT('PLA-FO-01'!S182,2)<>\"60\"),AND(LEFT('PLA-FO-01'!D182,4)=\"E068\",LEFT('PLA-FO-01'!S182,2)<>\"60\")),\"AF1R6\",OR(LEFT('PLA-FO-01'!D182,4)=\"R001\",LEFT('PLA-FO-01'!D182,4)=\"O001\",LEFT('PLA-FO-01'!D182,4)=\"M001\"),\"AF1R7\"),\"Falta Valor\"), \"NO APLICA, revisar!\")","v":"Falta Valor"}]
[null,null,null,null,null,null,null,null,null,null,null,null,null,null,null,null,null,null,null,null,null,null,null,null,null,null,null,null,null,null,null,null,null,null,null,null,null,null,null,null,null,null,null,null,null,null,null,null,null,{"$f":"IFERROR(IF(AND('PLA-FO-01'!D183<>\"\",'PLA-FO-01'!S183<>\"\",'PLA-FO-01'!E183<>\"\"),_xlfn.IFS(OR(AND(LEFT('PLA-FO-01'!D183,4)=\"E040\",LEFT('PLA-FO-01'!E183,3)=\"C01\"),AND(LEFT('PLA-FO-01'!D183,4)=\"E040\",LEFT('PLA-FO-01'!E183,3)=\"C03\"),AND(LEFT('PLA-FO-01'!D183,4)=\"E040\",LEFT('PLA-FO-01'!E183,3)=\"C04\")),\"AF1R1\",AND(LEFT('PLA-FO-01'!D183,4)=\"E040\",LEFT('PLA-FO-01'!E183,3)=\"C02\",LEFT('PLA-FO-01'!S183,2)<>\"60\"),\"AF1R2\",AND(LEFT('PLA-FO-01'!D183,4)=\"E035\",LEFT('PLA-FO-01'!S183,5)=\"20040\"),\"AF1R3\",AND(LEFT('PLA-FO-01'!D183,4)=\"E035\",LEFT('PLA-FO-01'!S183,5)<>\"20040\"),\"AF1R4\",OR(AND(LEFT('PLA-FO-01'!D183,4)=\"E066\",LEFT('PLA-FO-01'!S183,2)=\"60\"),AND(LEFT('PLA-FO-01'!D183,4)=\"E067\",LEFT('PLA-FO-01'!S183,2)=\"60\"),AND(LEFT('PLA-FO-01'!D183,4)=\"E068\",LEFT('PLA-FO-01'!S183,2)=\"60\")),\"AF1R5\",OR(AND(LEFT('PLA-FO-01'!D183,4)=\"E066\",LEFT('PLA-FO-01'!S183,2)<>\"60\"),AND(LEFT('PLA-FO-01'!D183,4)=\"E067\",LEFT('PLA-FO-01'!S183,2)<>\"60\"),AND(LEFT('PLA-FO-01'!D183,4)=\"E068\",LEFT('PLA-FO-01'!S183,2)<>\"60\")),\"AF1R6\",OR(LEFT('PLA-FO-01'!D183,4)=\"R001\",LEFT('PLA-FO-01'!D183,4)=\"O001\",LEFT('PLA-FO-01'!D183,4)=\"M001\"),\"AF1R7\"),\"Falta Valor\"), \"NO APLICA, revisar!\")","v":"Falta Valor"}]
[null,null,null,null,null,null,null,null,null,null,null,null,null,null,null,null,null,null,null,null,null,null,null,null,null,null,null,null,null,null,null,null,null,null,null,null,null,null,null,null,null,null,null,null,null,null,null,null,null,{"$f":"IFERROR(IF(AND('PLA-FO-01'!D184<>\"\",'PLA-FO-01'!S184<>\"\",'PLA-FO-01'!E184<>\"\"),_xlfn.IFS(OR(AND(LEFT('PLA-FO-01'!D184,4)=\"E040\",LEFT('PLA-FO-01'!E184,3)=\"C01\"),AND(LEFT('PLA-FO-01'!D184,4)=\"E040\",LEFT('PLA-FO-01'!E184,3)=\"C03\"),AND(LEFT('PLA-FO-01'!D184,4)=\"E040\",LEFT('PLA-FO-01'!E184,3)=\"C04\")),\"AF1R1\",AND(LEFT('PLA-FO-01'!D184,4)=\"E040\",LEFT('PLA-FO-01'!E184,3)=\"C02\",LEFT('PLA-FO-01'!S184,2)<>\"60\"),\"AF1R2\",AND(LEFT('PLA-FO-01'!D184,4)=\"E035\",LEFT('PLA-FO-01'!S184,5)=\"20040\"),\"AF1R3\",AND(LEFT('PLA-FO-01'!D184,4)=\"E035\",LEFT('PLA-FO-01'!S184,5)<>\"20040\"),\"AF1R4\",OR(AND(LEFT('PLA-FO-01'!D184,4)=\"E066\",LEFT('PLA-FO-01'!S184,2)=\"60\"),AND(LEFT('PLA-FO-01'!D184,4)=\"E067\",LEFT('PLA-FO-01'!S184,2)=\"60\"),AND(LEFT('PLA-FO-01'!D184,4)=\"E068\",LEFT('PLA-FO-01'!S184,2)=\"60\")),\"AF1R5\",OR(AND(LEFT('PLA-FO-01'!D184,4)=\"E066\",LEFT('PLA-FO-01'!S184,2)<>\"60\"),AND(LEFT('PLA-FO-01'!D184,4)=\"E067\",LEFT('PLA-FO-01'!S184,2)<>\"60\"),AND(LEFT('PLA-FO-01'!D184,4)=\"E068\",LEFT('PLA-FO-01'!S184,2)<>\"60\")),\"AF1R6\",OR(LEFT('PLA-FO-01'!D184,4)=\"R001\",LEFT('PLA-FO-01'!D184,4)=\"O001\",LEFT('PLA-FO-01'!D184,4)=\"M001\"),\"AF1R7\"),\"Falta Valor\"), \"NO APLICA, revisar!\")","v":"Falta Valor"}]
[null,null,null,null,null,null,null,null,null,null,null,null,null,null,null,null,null,null,null,null,null,null,null,null,null,null,null,null,null,null,null,null,null,null,null,null,null,null,null,null,null,null,null,null,null,null,null,null,null,{"$f":"IFERROR(IF(AND('PLA-FO-01'!D185<>\"\",'PLA-FO-01'!S185<>\"\",'PLA-FO-01'!E185<>\"\"),_xlfn.IFS(OR(AND(LEFT('PLA-FO-01'!D185,4)=\"E040\",LEFT('PLA-FO-01'!E185,3)=\"C01\"),AND(LEFT('PLA-FO-01'!D185,4)=\"E040\",LEFT('PLA-FO-01'!E185,3)=\"C03\"),AND(LEFT('PLA-FO-01'!D185,4)=\"E040\",LEFT('PLA-FO-01'!E185,3)=\"C04\")),\"AF1R1\",AND(LEFT('PLA-FO-01'!D185,4)=\"E040\",LEFT('PLA-FO-01'!E185,3)=\"C02\",LEFT('PLA-FO-01'!S185,2)<>\"60\"),\"AF1R2\",AND(LEFT('PLA-FO-01'!D185,4)=\"E035\",LEFT('PLA-FO-01'!S185,5)=\"20040\"),\"AF1R3\",AND(LEFT('PLA-FO-01'!D185,4)=\"E035\",LEFT('PLA-FO-01'!S185,5)<>\"20040\"),\"AF1R4\",OR(AND(LEFT('PLA-FO-01'!D185,4)=\"E066\",LEFT('PLA-FO-01'!S185,2)=\"60\"),AND(LEFT('PLA-FO-01'!D185,4)=\"E067\",LEFT('PLA-FO-01'!S185,2)=\"60\"),AND(LEFT('PLA-FO-01'!D185,4)=\"E068\",LEFT('PLA-FO-01'!S185,2)=\"60\")),\"AF1R5\",OR(AND(LEFT('PLA-FO-01'!D185,4)=\"E066\",LEFT('PLA-FO-01'!S185,2)<>\"60\"),AND(LEFT('PLA-FO-01'!D185,4)=\"E067\",LEFT('PLA-FO-01'!S185,2)<>\"60\"),AND(LEFT('PLA-FO-01'!D185,4)=\"E068\",LEFT('PLA-FO-01'!S185,2)<>\"60\")),\"AF1R6\",OR(LEFT('PLA-FO-01'!D185,4)=\"R001\",LEFT('PLA-FO-01'!D185,4)=\"O001\",LEFT('PLA-FO-01'!D185,4)=\"M001\"),\"AF1R7\"),\"Falta Valor\"), \"NO APLICA, revisar!\")","v":"Falta Valor"}]
[null,null,null,null,null,null,null,null,null,null,null,null,null,null,null,null,null,null,null,null,null,null,null,null,null,null,null,null,null,null,null,null,null,null,null,null,null,null,null,null,null,null,null,null,null,null,null,null,null,{"$f":"IFERROR(IF(AND('PLA-FO-01'!D186<>\"\",'PLA-FO-01'!S186<>\"\",'PLA-FO-01'!E186<>\"\"),_xlfn.IFS(OR(AND(LEFT('PLA-FO-01'!D186,4)=\"E040\",LEFT('PLA-FO-01'!E186,3)=\"C01\"),AND(LEFT('PLA-FO-01'!D186,4)=\"E040\",LEFT('PLA-FO-01'!E186,3)=\"C03\"),AND(LEFT('PLA-FO-01'!D186,4)=\"E040\",LEFT('PLA-FO-01'!E186,3)=\"C04\")),\"AF1R1\",AND(LEFT('PLA-FO-01'!D186,4)=\"E040\",LEFT('PLA-FO-01'!E186,3)=\"C02\",LEFT('PLA-FO-01'!S186,2)<>\"60\"),\"AF1R2\",AND(LEFT('PLA-FO-01'!D186,4)=\"E035\",LEFT('PLA-FO-01'!S186,5)=\"20040\"),\"AF1R3\",AND(LEFT('PLA-FO-01'!D186,4)=\"E035\",LEFT('PLA-FO-01'!S186,5)<>\"20040\"),\"AF1R4\",OR(AND(LEFT('PLA-FO-01'!D186,4)=\"E066\",LEFT('PLA-FO-01'!S186,2)=\"60\"),AND(LEFT('PLA-FO-01'!D186,4)=\"E067\",LEFT('PLA-FO-01'!S186,2)=\"60\"),AND(LEFT('PLA-FO-01'!D186,4)=\"E068\",LEFT('PLA-FO-01'!S186,2)=\"60\")),\"AF1R5\",OR(AND(LEFT('PLA-FO-01'!D186,4)=\"E066\",LEFT('PLA-FO-01'!S186,2)<>\"60\"),AND(LEFT('PLA-FO-01'!D186,4)=\"E067\",LEFT('PLA-FO-01'!S186,2)<>\"60\"),AND(LEFT('PLA-FO-01'!D186,4)=\"E068\",LEFT('PLA-FO-01'!S186,2)<>\"60\")),\"AF1R6\",OR(LEFT('PLA-FO-01'!D186,4)=\"R001\",LEFT('PLA-FO-01'!D186,4)=\"O001\",LEFT('PLA-FO-01'!D186,4)=\"M001\"),\"AF1R7\"),\"Falta Valor\"), \"NO APLICA, revisar!\")","v":"Falta Valor"}]
[null,null,null,null,null,null,null,null,null,null,null,null,null,null,null,null,null,null,null,null,null,null,null,null,null,null,null,null,null,null,null,null,null,null,null,null,null,null,null,null,null,null,null,null,null,null,null,null,null,{"$f":"IFERROR(IF(AND('PLA-FO-01'!D187<>\"\",'PLA-FO-01'!S187<>\"\",'PLA-FO-01'!E187<>\"\"),_xlfn.IFS(OR(AND(LEFT('PLA-FO-01'!D187,4)=\"E040\",LEFT('PLA-FO-01'!E187,3)=\"C01\"),AND(LEFT('PLA-FO-01'!D187,4)=\"E040\",LEFT('PLA-FO-01'!E187,3)=\"C03\"),AND(LEFT('PLA-FO-01'!D187,4)=\"E040\",LEFT('PLA-FO-01'!E187,3)=\"C04\")),\"AF1R1\",AND(LEFT('PLA-FO-01'!D187,4)=\"E040\",LEFT('PLA-FO-01'!E187,3)=\"C02\",LEFT('PLA-FO-01'!S187,2)<>\"60\"),\"AF1R2\",AND(LEFT('PLA-FO-01'!D187,4)=\"E035\",LEFT('PLA-FO-01'!S187,5)=\"20040\"),\"AF1R3\",AND(LEFT('PLA-FO-01'!D187,4)=\"E035\",LEFT('PLA-FO-01'!S187,5)<>\"20040\"),\"AF1R4\",OR(AND(LEFT('PLA-FO-01'!D187,4)=\"E066\",LEFT('PLA-FO-01'!S187,2)=\"60\"),AND(LEFT('PLA-FO-01'!D187,4)=\"E067\",LEFT('PLA-FO-01'!S187,2)=\"60\"),AND(LEFT('PLA-FO-01'!D187,4)=\"E068\",LEFT('PLA-FO-01'!S187,2)=\"60\")),\"AF1R5\",OR(AND(LEFT('PLA-FO-01'!D187,4)=\"E066\",LEFT('PLA-FO-01'!S187,2)<>\"60\"),AND(LEFT('PLA-FO-01'!D187,4)=\"E067\",LEFT('PLA-FO-01'!S187,2)<>\"60\"),AND(LEFT('PLA-FO-01'!D187,4)=\"E068\",LEFT('PLA-FO-01'!S187,2)<>\"60\")),\"AF1R6\",OR(LEFT('PLA-FO-01'!D187,4)=\"R001\",LEFT('PLA-FO-01'!D187,4)=\"O001\",LEFT('PLA-FO-01'!D187,4)=\"M001\"),\"AF1R7\"),\"Falta Valor\"), \"NO APLICA, revisar!\")","v":"Falta Valor"}]
[null,null,null,null,null,null,null,null,null,null,null,null,null,null,null,null,null,null,null,null,null,null,null,null,null,null,null,null,null,null,null,null,null,null,null,null,null,null,null,null,null,null,null,null,null,null,null,null,null,{"$f":"IFERROR(IF(AND('PLA-FO-01'!D188<>\"\",'PLA-FO-01'!S188<>\"\",'PLA-FO-01'!E188<>\"\"),_xlfn.IFS(OR(AND(LEFT('PLA-FO-01'!D188,4)=\"E040\",LEFT('PLA-FO-01'!E188,3)=\"C01\"),AND(LEFT('PLA-FO-01'!D188,4)=\"E040\",LEFT('PLA-FO-01'!E188,3)=\"C03\"),AND(LEFT('PLA-FO-01'!D188,4)=\"E040\",LEFT('PLA-FO-01'!E188,3)=\"C04\")),\"AF1R1\",AND(LEFT('PLA-FO-01'!D188,4)=\"E040\",LEFT('PLA-FO-01'!E188,3)=\"C02\",LEFT('PLA-FO-01'!S188,2)<>\"60\"),\"AF1R2\",AND(LEFT('PLA-FO-01'!D188,4)=\"E035\",LEFT('PLA-FO-01'!S188,5)=\"20040\"),\"AF1R3\",AND(LEFT('PLA-FO-01'!D188,4)=\"E035\",LEFT('PLA-FO-01'!S188,5)<>\"20040\"),\"AF1R4\",OR(AND(LEFT('PLA-FO-01'!D188,4)=\"E066\",LEFT('PLA-FO-01'!S188,2)=\"60\"),AND(LEFT('PLA-FO-01'!D188,4)=\"E067\",LEFT('PLA-FO-01'!S188,2)=\"60\"),AND(LEFT('PLA-FO-01'!D188,4)=\"E068\",LEFT('PLA-FO-01'!S188,2)=\"60\")),\"AF1R5\",OR(AND(LEFT('PLA-FO-01'!D188,4)=\"E066\",LEFT('PLA-FO-01'!S188,2)<>\"60\"),AND(LEFT('PLA-FO-01'!D188,4)=\"E067\",LEFT('PLA-FO-01'!S188,2)<>\"60\"),AND(LEFT('PLA-FO-01'!D188,4)=\"E068\",LEFT('PLA-FO-01'!S188,2)<>\"60\")),\"AF1R6\",OR(LEFT('PLA-FO-01'!D188,4)=\"R001\",LEFT('PLA-FO-01'!D188,4)=\"O001\",LEFT('PLA-FO-01'!D188,4)=\"M001\"),\"AF1R7\"),\"Falta Valor\"), \"NO APLICA, revisar!\")","v":"Falta Valor"}]
[null,null,null,null,null,null,null,null,null,null,null,null,null,null,null,null,null,null,null,null,null,null,null,null,null,null,null,null,null,null,null,null,null,null,null,null,null,null,null,null,null,null,null,null,null,null,null,null,null,{"$f":"IFERROR(IF(AND('PLA-FO-01'!D189<>\"\",'PLA-FO-01'!S189<>\"\",'PLA-FO-01'!E189<>\"\"),_xlfn.IFS(OR(AND(LEFT('PLA-FO-01'!D189,4)=\"E040\",LEFT('PLA-FO-01'!E189,3)=\"C01\"),AND(LEFT('PLA-FO-01'!D189,4)=\"E040\",LEFT('PLA-FO-01'!E189,3)=\"C03\"),AND(LEFT('PLA-FO-01'!D189,4)=\"E040\",LEFT('PLA-FO-01'!E189,3)=\"C04\")),\"AF1R1\",AND(LEFT('PLA-FO-01'!D189,4)=\"E040\",LEFT('PLA-FO-01'!E189,3)=\"C02\",LEFT('PLA-FO-01'!S189,2)<>\"60\"),\"AF1R2\",AND(LEFT('PLA-FO-01'!D189,4)=\"E035\",LEFT('PLA-FO-01'!S189,5)=\"20040\"),\"AF1R3\",AND(LEFT('PLA-FO-01'!D189,4)=\"E035\",LEFT('PLA-FO-01'!S189,5)<>\"20040\"),\"AF1R4\",OR(AND(LEFT('PLA-FO-01'!D189,4)=\"E066\",LEFT('PLA-FO-01'!S189,2)=\"60\"),AND(LEFT('PLA-FO-01'!D189,4)=\"E067\",LEFT('PLA-FO-01'!S189,2)=\"60\"),AND(LEFT('PLA-FO-01'!D189,4)=\"E068\",LEFT('PLA-FO-01'!S189,2)=\"60\")),\"AF1R5\",OR(AND(LEFT('PLA-FO-01'!D189,4)=\"E066\",LEFT('PLA-FO-01'!S189,2)<>\"60\"),AND(LEFT('PLA-FO-01'!D189,4)=\"E067\",LEFT('PLA-FO-01'!S189,2)<>\"60\"),AND(LEFT('PLA-FO-01'!D189,4)=\"E068\",LEFT('PLA-FO-01'!S189,2)<>\"60\")),\"AF1R6\",OR(LEFT('PLA-FO-01'!D189,4)=\"R001\",LEFT('PLA-FO-01'!D189,4)=\"O001\",LEFT('PLA-FO-01'!D189,4)=\"M001\"),\"AF1R7\"),\"Falta Valor\"), \"NO APLICA, revisar!\")","v":"Falta Valor"}]
[null,null,null,null,null,null,null,null,null,null,null,null,null,null,null,null,null,null,null,null,null,null,null,null,null,null,null,null,null,null,null,null,null,null,null,null,null,null,null,null,null,null,null,null,null,null,null,null,null,{"$f":"IFERROR(IF(AND('PLA-FO-01'!D190<>\"\",'PLA-FO-01'!S190<>\"\",'PLA-FO-01'!E190<>\"\"),_xlfn.IFS(OR(AND(LEFT('PLA-FO-01'!D190,4)=\"E040\",LEFT('PLA-FO-01'!E190,3)=\"C01\"),AND(LEFT('PLA-FO-01'!D190,4)=\"E040\",LEFT('PLA-FO-01'!E190,3)=\"C03\"),AND(LEFT('PLA-FO-01'!D190,4)=\"E040\",LEFT('PLA-FO-01'!E190,3)=\"C04\")),\"AF1R1\",AND(LEFT('PLA-FO-01'!D190,4)=\"E040\",LEFT('PLA-FO-01'!E190,3)=\"C02\",LEFT('PLA-FO-01'!S190,2)<>\"60\"),\"AF1R2\",AND(LEFT('PLA-FO-01'!D190,4)=\"E035\",LEFT('PLA-FO-01'!S190,5)=\"20040\"),\"AF1R3\",AND(LEFT('PLA-FO-01'!D190,4)=\"E035\",LEFT('PLA-FO-01'!S190,5)<>\"20040\"),\"AF1R4\",OR(AND(LEFT('PLA-FO-01'!D190,4)=\"E066\",LEFT('PLA-FO-01'!S190,2)=\"60\"),AND(LEFT('PLA-FO-01'!D190,4)=\"E067\",LEFT('PLA-FO-01'!S190,2)=\"60\"),AND(LEFT('PLA-FO-01'!D190,4)=\"E068\",LEFT('PLA-FO-01'!S190,2)=\"60\")),\"AF1R5\",OR(AND(LEFT('PLA-FO-01'!D190,4)=\"E066\",LEFT('PLA-FO-01'!S190,2)<>\"60\"),AND(LEFT('PLA-FO-01'!D190,4)=\"E067\",LEFT('PLA-FO-01'!S190,2)<>\"60\"),AND(LEFT('PLA-FO-01'!D190,4)=\"E068\",LEFT('PLA-FO-01'!S190,2)<>\"60\")),\"AF1R6\",OR(LEFT('PLA-FO-01'!D190,4)=\"R001\",LEFT('PLA-FO-01'!D190,4)=\"O001\",LEFT('PLA-FO-01'!D190,4)=\"M001\"),\"AF1R7\"),\"Falta Valor\"), \"NO APLICA, revisar!\")","v":"Falta Valor"}]
[null,null,null,null,null,null,null,null,null,null,null,null,null,null,null,null,null,null,null,null,null,null,null,null,null,null,null,null,null,null,null,null,null,null,null,null,null,null,null,null,null,null,null,null,null,null,null,null,null,{"$f":"IFERROR(IF(AND('PLA-FO-01'!D191<>\"\",'PLA-FO-01'!S191<>\"\",'PLA-FO-01'!E191<>\"\"),_xlfn.IFS(OR(AND(LEFT('PLA-FO-01'!D191,4)=\"E040\",LEFT('PLA-FO-01'!E191,3)=\"C01\"),AND(LEFT('PLA-FO-01'!D191,4)=\"E040\",LEFT('PLA-FO-01'!E191,3)=\"C03\"),AND(LEFT('PLA-FO-01'!D191,4)=\"E040\",LEFT('PLA-FO-01'!E191,3)=\"C04\")),\"AF1R1\",AND(LEFT('PLA-FO-01'!D191,4)=\"E040\",LEFT('PLA-FO-01'!E191,3)=\"C02\",LEFT('PLA-FO-01'!S191,2)<>\"60\"),\"AF1R2\",AND(LEFT('PLA-FO-01'!D191,4)=\"E035\",LEFT('PLA-FO-01'!S191,5)=\"20040\"),\"AF1R3\",AND(LEFT('PLA-FO-01'!D191,4)=\"E035\",LEFT('PLA-FO-01'!S191,5)<>\"20040\"),\"AF1R4\",OR(AND(LEFT('PLA-FO-01'!D191,4)=\"E066\",LEFT('PLA-FO-01'!S191,2)=\"60\"),AND(LEFT('PLA-FO-01'!D191,4)=\"E067\",LEFT('PLA-FO-01'!S191,2)=\"60\"),AND(LEFT('PLA-FO-01'!D191,4)=\"E068\",LEFT('PLA-FO-01'!S191,2)=\"60\")),\"AF1R5\",OR(AND(LEFT('PLA-FO-01'!D191,4)=\"E066\",LEFT('PLA-FO-01'!S191,2)<>\"60\"),AND(LEFT('PLA-FO-01'!D191,4)=\"E067\",LEFT('PLA-FO-01'!S191,2)<>\"60\"),AND(LEFT('PLA-FO-01'!D191,4)=\"E068\",LEFT('PLA-FO-01'!S191,2)<>\"60\")),\"AF1R6\",OR(LEFT('PLA-FO-01'!D191,4)=\"R001\",LEFT('PLA-FO-01'!D191,4)=\"O001\",LEFT('PLA-FO-01'!D191,4)=\"M001\"),\"AF1R7\"),\"Falta Valor\"), \"NO APLICA, revisar!\")","v":"Falta Valor"}]
[null,null,null,null,null,null,null,null,null,null,null,null,null,null,null,null,null,null,null,null,null,null,null,null,null,null,null,null,null,null,null,null,null,null,null,null,null,null,null,null,null,null,null,null,null,null,null,null,null,{"$f":"IFERROR(IF(AND('PLA-FO-01'!D192<>\"\",'PLA-FO-01'!S192<>\"\",'PLA-FO-01'!E192<>\"\"),_xlfn.IFS(OR(AND(LEFT('PLA-FO-01'!D192,4)=\"E040\",LEFT('PLA-FO-01'!E192,3)=\"C01\"),AND(LEFT('PLA-FO-01'!D192,4)=\"E040\",LEFT('PLA-FO-01'!E192,3)=\"C03\"),AND(LEFT('PLA-FO-01'!D192,4)=\"E040\",LEFT('PLA-FO-01'!E192,3)=\"C04\")),\"AF1R1\",AND(LEFT('PLA-FO-01'!D192,4)=\"E040\",LEFT('PLA-FO-01'!E192,3)=\"C02\",LEFT('PLA-FO-01'!S192,2)<>\"60\"),\"AF1R2\",AND(LEFT('PLA-FO-01'!D192,4)=\"E035\",LEFT('PLA-FO-01'!S192,5)=\"20040\"),\"AF1R3\",AND(LEFT('PLA-FO-01'!D192,4)=\"E035\",LEFT('PLA-FO-01'!S192,5)<>\"20040\"),\"AF1R4\",OR(AND(LEFT('PLA-FO-01'!D192,4)=\"E066\",LEFT('PLA-FO-01'!S192,2)=\"60\"),AND(LEFT('PLA-FO-01'!D192,4)=\"E067\",LEFT('PLA-FO-01'!S192,2)=\"60\"),AND(LEFT('PLA-FO-01'!D192,4)=\"E068\",LEFT('PLA-FO-01'!S192,2)=\"60\")),\"AF1R5\",OR(AND(LEFT('PLA-FO-01'!D192,4)=\"E066\",LEFT('PLA-FO-01'!S192,2)<>\"60\"),AND(LEFT('PLA-FO-01'!D192,4)=\"E067\",LEFT('PLA-FO-01'!S192,2)<>\"60\"),AND(LEFT('PLA-FO-01'!D192,4)=\"E068\",LEFT('PLA-FO-01'!S192,2)<>\"60\")),\"AF1R6\",OR(LEFT('PLA-FO-01'!D192,4)=\"R001\",LEFT('PLA-FO-01'!D192,4)=\"O001\",LEFT('PLA-FO-01'!D192,4)=\"M001\"),\"AF1R7\"),\"Falta Valor\"), \"NO APLICA, revisar!\")","v":"Falta Valor"}]
[null,null,null,null,null,null,null,null,null,null,null,null,null,null,null,null,null,null,null,null,null,null,null,null,null,null,null,null,null,null,null,null,null,null,null,null,null,null,null,null,null,null,null,null,null,null,null,null,null,{"$f":"IFERROR(IF(AND('PLA-FO-01'!D193<>\"\",'PLA-FO-01'!S193<>\"\",'PLA-FO-01'!E193<>\"\"),_xlfn.IFS(OR(AND(LEFT('PLA-FO-01'!D193,4)=\"E040\",LEFT('PLA-FO-01'!E193,3)=\"C01\"),AND(LEFT('PLA-FO-01'!D193,4)=\"E040\",LEFT('PLA-FO-01'!E193,3)=\"C03\"),AND(LEFT('PLA-FO-01'!D193,4)=\"E040\",LEFT('PLA-FO-01'!E193,3)=\"C04\")),\"AF1R1\",AND(LEFT('PLA-FO-01'!D193,4)=\"E040\",LEFT('PLA-FO-01'!E193,3)=\"C02\",LEFT('PLA-FO-01'!S193,2)<>\"60\"),\"AF1R2\",AND(LEFT('PLA-FO-01'!D193,4)=\"E035\",LEFT('PLA-FO-01'!S193,5)=\"20040\"),\"AF1R3\",AND(LEFT('PLA-FO-01'!D193,4)=\"E035\",LEFT('PLA-FO-01'!S193,5)<>\"20040\"),\"AF1R4\",OR(AND(LEFT('PLA-FO-01'!D193,4)=\"E066\",LEFT('PLA-FO-01'!S193,2)=\"60\"),AND(LEFT('PLA-FO-01'!D193,4)=\"E067\",LEFT('PLA-FO-01'!S193,2)=\"60\"),AND(LEFT('PLA-FO-01'!D193,4)=\"E068\",LEFT('PLA-FO-01'!S193,2)=\"60\")),\"AF1R5\",OR(AND(LEFT('PLA-FO-01'!D193,4)=\"E066\",LEFT('PLA-FO-01'!S193,2)<>\"60\"),AND(LEFT('PLA-FO-01'!D193,4)=\"E067\",LEFT('PLA-FO-01'!S193,2)<>\"60\"),AND(LEFT('PLA-FO-01'!D193,4)=\"E068\",LEFT('PLA-FO-01'!S193,2)<>\"60\")),\"AF1R6\",OR(LEFT('PLA-FO-01'!D193,4)=\"R001\",LEFT('PLA-FO-01'!D193,4)=\"O001\",LEFT('PLA-FO-01'!D193,4)=\"M001\"),\"AF1R7\"),\"Falta Valor\"), \"NO APLICA, revisar!\")","v":"Falta Valor"}]
[null,null,null,null,null,null,null,null,null,null,null,null,null,null,null,null,null,null,null,null,null,null,null,null,null,null,null,null,null,null,null,null,null,null,null,null,null,null,null,null,null,null,null,null,null,null,null,null,null,{"$f":"IFERROR(IF(AND('PLA-FO-01'!D194<>\"\",'PLA-FO-01'!S194<>\"\",'PLA-FO-01'!E194<>\"\"),_xlfn.IFS(OR(AND(LEFT('PLA-FO-01'!D194,4)=\"E040\",LEFT('PLA-FO-01'!E194,3)=\"C01\"),AND(LEFT('PLA-FO-01'!D194,4)=\"E040\",LEFT('PLA-FO-01'!E194,3)=\"C03\"),AND(LEFT('PLA-FO-01'!D194,4)=\"E040\",LEFT('PLA-FO-01'!E194,3)=\"C04\")),\"AF1R1\",AND(LEFT('PLA-FO-01'!D194,4)=\"E040\",LEFT('PLA-FO-01'!E194,3)=\"C02\",LEFT('PLA-FO-01'!S194,2)<>\"60\"),\"AF1R2\",AND(LEFT('PLA-FO-01'!D194,4)=\"E035\",LEFT('PLA-FO-01'!S194,5)=\"20040\"),\"AF1R3\",AND(LEFT('PLA-FO-01'!D194,4)=\"E035\",LEFT('PLA-FO-01'!S194,5)<>\"20040\"),\"AF1R4\",OR(AND(LEFT('PLA-FO-01'!D194,4)=\"E066\",LEFT('PLA-FO-01'!S194,2)=\"60\"),AND(LEFT('PLA-FO-01'!D194,4)=\"E067\",LEFT('PLA-FO-01'!S194,2)=\"60\"),AND(LEFT('PLA-FO-01'!D194,4)=\"E068\",LEFT('PLA-FO-01'!S194,2)=\"60\")),\"AF1R5\",OR(AND(LEFT('PLA-FO-01'!D194,4)=\"E066\",LEFT('PLA-FO-01'!S194,2)<>\"60\"),AND(LEFT('PLA-FO-01'!D194,4)=\"E067\",LEFT('PLA-FO-01'!S194,2)<>\"60\"),AND(LEFT('PLA-FO-01'!D194,4)=\"E068\",LEFT('PLA-FO-01'!S194,2)<>\"60\")),\"AF1R6\",OR(LEFT('PLA-FO-01'!D194,4)=\"R001\",LEFT('PLA-FO-01'!D194,4)=\"O001\",LEFT('PLA-FO-01'!D194,4)=\"M001\"),\"AF1R7\"),\"Falta Valor\"), \"NO APLICA, revisar!\")","v":"Falta Valor"}]
[null,null,null,null,null,null,null,null,null,null,null,null,null,null,null,null,null,null,null,null,null,null,null,null,null,null,null,null,null,null,null,null,null,null,null,null,null,null,null,null,null,null,null,null,null,null,null,null,null,{"$f":"IFERROR(IF(AND('PLA-FO-01'!D195<>\"\",'PLA-FO-01'!S195<>\"\",'PLA-FO-01'!E195<>\"\"),_xlfn.IFS(OR(AND(LEFT('PLA-FO-01'!D195,4)=\"E040\",LEFT('PLA-FO-01'!E195,3)=\"C01\"),AND(LEFT('PLA-FO-01'!D195,4)=\"E040\",LEFT('PLA-FO-01'!E195,3)=\"C03\"),AND(LEFT('PLA-FO-01'!D195,4)=\"E040\",LEFT('PLA-FO-01'!E195,3)=\"C04\")),\"AF1R1\",AND(LEFT('PLA-FO-01'!D195,4)=\"E040\",LEFT('PLA-FO-01'!E195,3)=\"C02\",LEFT('PLA-FO-01'!S195,2)<>\"60\"),\"AF1R2\",AND(LEFT('PLA-FO-01'!D195,4)=\"E035\",LEFT('PLA-FO-01'!S195,5)=\"20040\"),\"AF1R3\",AND(LEFT('PLA-FO-01'!D195,4)=\"E035\",LEFT('PLA-FO-01'!S195,5)<>\"20040\"),\"AF1R4\",OR(AND(LEFT('PLA-FO-01'!D195,4)=\"E066\",LEFT('PLA-FO-01'!S195,2)=\"60\"),AND(LEFT('PLA-FO-01'!D195,4)=\"E067\",LEFT('PLA-FO-01'!S195,2)=\"60\"),AND(LEFT('PLA-FO-01'!D195,4)=\"E068\",LEFT('PLA-FO-01'!S195,2)=\"60\")),\"AF1R5\",OR(AND(LEFT('PLA-FO-01'!D195,4)=\"E066\",LEFT('PLA-FO-01'!S195,2)<>\"60\"),AND(LEFT('PLA-FO-01'!D195,4)=\"E067\",LEFT('PLA-FO-01'!S195,2)<>\"60\"),AND(LEFT('PLA-FO-01'!D195,4)=\"E068\",LEFT('PLA-FO-01'!S195,2)<>\"60\")),\"AF1R6\",OR(LEFT('PLA-FO-01'!D195,4)=\"R001\",LEFT('PLA-FO-01'!D195,4)=\"O001\",LEFT('PLA-FO-01'!D195,4)=\"M001\"),\"AF1R7\"),\"Falta Valor\"), \"NO APLICA, revisar!\")","v":"Falta Valor"}]
[null,null,null,null,null,null,null,null,null,null,null,null,null,null,null,null,null,null,null,null,null,null,null,null,null,null,null,null,null,null,null,null,null,null,null,null,null,null,null,null,null,null,null,null,null,null,null,null,null,{"$f":"IFERROR(IF(AND('PLA-FO-01'!D196<>\"\",'PLA-FO-01'!S196<>\"\",'PLA-FO-01'!E196<>\"\"),_xlfn.IFS(OR(AND(LEFT('PLA-FO-01'!D196,4)=\"E040\",LEFT('PLA-FO-01'!E196,3)=\"C01\"),AND(LEFT('PLA-FO-01'!D196,4)=\"E040\",LEFT('PLA-FO-01'!E196,3)=\"C03\"),AND(LEFT('PLA-FO-01'!D196,4)=\"E040\",LEFT('PLA-FO-01'!E196,3)=\"C04\")),\"AF1R1\",AND(LEFT('PLA-FO-01'!D196,4)=\"E040\",LEFT('PLA-FO-01'!E196,3)=\"C02\",LEFT('PLA-FO-01'!S196,2)<>\"60\"),\"AF1R2\",AND(LEFT('PLA-FO-01'!D196,4)=\"E035\",LEFT('PLA-FO-01'!S196,5)=\"20040\"),\"AF1R3\",AND(LEFT('PLA-FO-01'!D196,4)=\"E035\",LEFT('PLA-FO-01'!S196,5)<>\"20040\"),\"AF1R4\",OR(AND(LEFT('PLA-FO-01'!D196,4)=\"E066\",LEFT('PLA-FO-01'!S196,2)=\"60\"),AND(LEFT('PLA-FO-01'!D196,4)=\"E067\",LEFT('PLA-FO-01'!S196,2)=\"60\"),AND(LEFT('PLA-FO-01'!D196,4)=\"E068\",LEFT('PLA-FO-01'!S196,2)=\"60\")),\"AF1R5\",OR(AND(LEFT('PLA-FO-01'!D196,4)=\"E066\",LEFT('PLA-FO-01'!S196,2)<>\"60\"),AND(LEFT('PLA-FO-01'!D196,4)=\"E067\",LEFT('PLA-FO-01'!S196,2)<>\"60\"),AND(LEFT('PLA-FO-01'!D196,4)=\"E068\",LEFT('PLA-FO-01'!S196,2)<>\"60\")),\"AF1R6\",OR(LEFT('PLA-FO-01'!D196,4)=\"R001\",LEFT('PLA-FO-01'!D196,4)=\"O001\",LEFT('PLA-FO-01'!D196,4)=\"M001\"),\"AF1R7\"),\"Falta Valor\"), \"NO APLICA, revisar!\")","v":"Falta Valor"}]
[null,null,null,null,null,null,null,null,null,null,null,null,null,null,null,null,null,null,null,null,null,null,null,null,null,null,null,null,null,null,null,null,null,null,null,null,null,null,null,null,null,null,null,null,null,null,null,null,null,{"$f":"IFERROR(IF(AND('PLA-FO-01'!D197<>\"\",'PLA-FO-01'!S197<>\"\",'PLA-FO-01'!E197<>\"\"),_xlfn.IFS(OR(AND(LEFT('PLA-FO-01'!D197,4)=\"E040\",LEFT('PLA-FO-01'!E197,3)=\"C01\"),AND(LEFT('PLA-FO-01'!D197,4)=\"E040\",LEFT('PLA-FO-01'!E197,3)=\"C03\"),AND(LEFT('PLA-FO-01'!D197,4)=\"E040\",LEFT('PLA-FO-01'!E197,3)=\"C04\")),\"AF1R1\",AND(LEFT('PLA-FO-01'!D197,4)=\"E040\",LEFT('PLA-FO-01'!E197,3)=\"C02\",LEFT('PLA-FO-01'!S197,2)<>\"60\"),\"AF1R2\",AND(LEFT('PLA-FO-01'!D197,4)=\"E035\",LEFT('PLA-FO-01'!S197,5)=\"20040\"),\"AF1R3\",AND(LEFT('PLA-FO-01'!D197,4)=\"E035\",LEFT('PLA-FO-01'!S197,5)<>\"20040\"),\"AF1R4\",OR(AND(LEFT('PLA-FO-01'!D197,4)=\"E066\",LEFT('PLA-FO-01'!S197,2)=\"60\"),AND(LEFT('PLA-FO-01'!D197,4)=\"E067\",LEFT('PLA-FO-01'!S197,2)=\"60\"),AND(LEFT('PLA-FO-01'!D197,4)=\"E068\",LEFT('PLA-FO-01'!S197,2)=\"60\")),\"AF1R5\",OR(AND(LEFT('PLA-FO-01'!D197,4)=\"E066\",LEFT('PLA-FO-01'!S197,2)<>\"60\"),AND(LEFT('PLA-FO-01'!D197,4)=\"E067\",LEFT('PLA-FO-01'!S197,2)<>\"60\"),AND(LEFT('PLA-FO-01'!D197,4)=\"E068\",LEFT('PLA-FO-01'!S197,2)<>\"60\")),\"AF1R6\",OR(LEFT('PLA-FO-01'!D197,4)=\"R001\",LEFT('PLA-FO-01'!D197,4)=\"O001\",LEFT('PLA-FO-01'!D197,4)=\"M001\"),\"AF1R7\"),\"Falta Valor\"), \"NO APLICA, revisar!\")","v":"Falta Valor"}]
[null,null,null,null,null,null,null,null,null,null,null,null,null,null,null,null,null,null,null,null,null,null,null,null,null,null,null,null,null,null,null,null,null,null,null,null,null,null,null,null,null,null,null,null,null,null,null,null,null,{"$f":"IFERROR(IF(AND('PLA-FO-01'!D198<>\"\",'PLA-FO-01'!S198<>\"\",'PLA-FO-01'!E198<>\"\"),_xlfn.IFS(OR(AND(LEFT('PLA-FO-01'!D198,4)=\"E040\",LEFT('PLA-FO-01'!E198,3)=\"C01\"),AND(LEFT('PLA-FO-01'!D198,4)=\"E040\",LEFT('PLA-FO-01'!E198,3)=\"C03\"),AND(LEFT('PLA-FO-01'!D198,4)=\"E040\",LEFT('PLA-FO-01'!E198,3)=\"C04\")),\"AF1R1\",AND(LEFT('PLA-FO-01'!D198,4)=\"E040\",LEFT('PLA-FO-01'!E198,3)=\"C02\",LEFT('PLA-FO-01'!S198,2)<>\"60\"),\"AF1R2\",AND(LEFT('PLA-FO-01'!D198,4)=\"E035\",LEFT('PLA-FO-01'!S198,5)=\"20040\"),\"AF1R3\",AND(LEFT('PLA-FO-01'!D198,4)=\"E035\",LEFT('PLA-FO-01'!S198,5)<>\"20040\"),\"AF1R4\",OR(AND(LEFT('PLA-FO-01'!D198,4)=\"E066\",LEFT('PLA-FO-01'!S198,2)=\"60\"),AND(LEFT('PLA-FO-01'!D198,4)=\"E067\",LEFT('PLA-FO-01'!S198,2)=\"60\"),AND(LEFT('PLA-FO-01'!D198,4)=\"E068\",LEFT('PLA-FO-01'!S198,2)=\"60\")),\"AF1R5\",OR(AND(LEFT('PLA-FO-01'!D198,4)=\"E066\",LEFT('PLA-FO-01'!S198,2)<>\"60\"),AND(LEFT('PLA-FO-01'!D198,4)=\"E067\",LEFT('PLA-FO-01'!S198,2)<>\"60\"),AND(LEFT('PLA-FO-01'!D198,4)=\"E068\",LEFT('PLA-FO-01'!S198,2)<>\"60\")),\"AF1R6\",OR(LEFT('PLA-FO-01'!D198,4)=\"R001\",LEFT('PLA-FO-01'!D198,4)=\"O001\",LEFT('PLA-FO-01'!D198,4)=\"M001\"),\"AF1R7\"),\"Falta Valor\"), \"NO APLICA, revisar!\")","v":"Falta Valor"}]
[null,null,null,null,null,null,null,null,null,null,null,null,null,null,null,null,null,null,null,null,null,null,null,null,null,null,null,null,null,null,null,null,null,null,null,null,null,null,null,null,null,null,null,null,null,null,null,null,null,{"$f":"IFERROR(IF(AND('PLA-FO-01'!D199<>\"\",'PLA-FO-01'!S199<>\"\",'PLA-FO-01'!E199<>\"\"),_xlfn.IFS(OR(AND(LEFT('PLA-FO-01'!D199,4)=\"E040\",LEFT('PLA-FO-01'!E199,3)=\"C01\"),AND(LEFT('PLA-FO-01'!D199,4)=\"E040\",LEFT('PLA-FO-01'!E199,3)=\"C03\"),AND(LEFT('PLA-FO-01'!D199,4)=\"E040\",LEFT('PLA-FO-01'!E199,3)=\"C04\")),\"AF1R1\",AND(LEFT('PLA-FO-01'!D199,4)=\"E040\",LEFT('PLA-FO-01'!E199,3)=\"C02\",LEFT('PLA-FO-01'!S199,2)<>\"60\"),\"AF1R2\",AND(LEFT('PLA-FO-01'!D199,4)=\"E035\",LEFT('PLA-FO-01'!S199,5)=\"20040\"),\"AF1R3\",AND(LEFT('PLA-FO-01'!D199,4)=\"E035\",LEFT('PLA-FO-01'!S199,5)<>\"20040\"),\"AF1R4\",OR(AND(LEFT('PLA-FO-01'!D199,4)=\"E066\",LEFT('PLA-FO-01'!S199,2)=\"60\"),AND(LEFT('PLA-FO-01'!D199,4)=\"E067\",LEFT('PLA-FO-01'!S199,2)=\"60\"),AND(LEFT('PLA-FO-01'!D199,4)=\"E068\",LEFT('PLA-FO-01'!S199,2)=\"60\")),\"AF1R5\",OR(AND(LEFT('PLA-FO-01'!D199,4)=\"E066\",LEFT('PLA-FO-01'!S199,2)<>\"60\"),AND(LEFT('PLA-FO-01'!D199,4)=\"E067\",LEFT('PLA-FO-01'!S199,2)<>\"60\"),AND(LEFT('PLA-FO-01'!D199,4)=\"E068\",LEFT('PLA-FO-01'!S199,2)<>\"60\")),\"AF1R6\",OR(LEFT('PLA-FO-01'!D199,4)=\"R001\",LEFT('PLA-FO-01'!D199,4)=\"O001\",LEFT('PLA-FO-01'!D199,4)=\"M001\"),\"AF1R7\"),\"Falta Valor\"), \"NO APLICA, revisar!\")","v":"Falta Valor"}]
[null,null,null,null,null,null,null,null,null,null,null,null,null,null,null,null,null,null,null,null,null,null,null,null,null,null,null,null,null,null,null,null,null,null,null,null,null,null,null,null,null,null,null,null,null,null,null,null,null,{"$f":"IFERROR(IF(AND('PLA-FO-01'!D200<>\"\",'PLA-FO-01'!S200<>\"\",'PLA-FO-01'!E200<>\"\"),_xlfn.IFS(OR(AND(LEFT('PLA-FO-01'!D200,4)=\"E040\",LEFT('PLA-FO-01'!E200,3)=\"C01\"),AND(LEFT('PLA-FO-01'!D200,4)=\"E040\",LEFT('PLA-FO-01'!E200,3)=\"C03\"),AND(LEFT('PLA-FO-01'!D200,4)=\"E040\",LEFT('PLA-FO-01'!E200,3)=\"C04\")),\"AF1R1\",AND(LEFT('PLA-FO-01'!D200,4)=\"E040\",LEFT('PLA-FO-01'!E200,3)=\"C02\",LEFT('PLA-FO-01'!S200,2)<>\"60\"),\"AF1R2\",AND(LEFT('PLA-FO-01'!D200,4)=\"E035\",LEFT('PLA-FO-01'!S200,5)=\"20040\"),\"AF1R3\",AND(LEFT('PLA-FO-01'!D200,4)=\"E035\",LEFT('PLA-FO-01'!S200,5)<>\"20040\"),\"AF1R4\",OR(AND(LEFT('PLA-FO-01'!D200,4)=\"E066\",LEFT('PLA-FO-01'!S200,2)=\"60\"),AND(LEFT('PLA-FO-01'!D200,4)=\"E067\",LEFT('PLA-FO-01'!S200,2)=\"60\"),AND(LEFT('PLA-FO-01'!D200,4)=\"E068\",LEFT('PLA-FO-01'!S200,2)=\"60\")),\"AF1R5\",OR(AND(LEFT('PLA-FO-01'!D200,4)=\"E066\",LEFT('PLA-FO-01'!S200,2)<>\"60\"),AND(LEFT('PLA-FO-01'!D200,4)=\"E067\",LEFT('PLA-FO-01'!S200,2)<>\"60\"),AND(LEFT('PLA-FO-01'!D200,4)=\"E068\",LEFT('PLA-FO-01'!S200,2)<>\"60\")),\"AF1R6\",OR(LEFT('PLA-FO-01'!D200,4)=\"R001\",LEFT('PLA-FO-01'!D200,4)=\"O001\",LEFT('PLA-FO-01'!D200,4)=\"M001\"),\"AF1R7\"),\"Falta Valor\"), \"NO APLICA, revisar!\")","v":"Falta Valor"}]
[null,null,null,null,null,null,null,null,null,null,null,null,null,null,null,null,null,null,null,null,null,null,null,null,null,null,null,null,null,null,null,null,null,null,null,null,null,null,null,null,null,null,null,null,null,null,null,null,null,{"$f":"IFERROR(IF(AND('PLA-FO-01'!D201<>\"\",'PLA-FO-01'!S201<>\"\",'PLA-FO-01'!E201<>\"\"),_xlfn.IFS(OR(AND(LEFT('PLA-FO-01'!D201,4)=\"E040\",LEFT('PLA-FO-01'!E201,3)=\"C01\"),AND(LEFT('PLA-FO-01'!D201,4)=\"E040\",LEFT('PLA-FO-01'!E201,3)=\"C03\"),AND(LEFT('PLA-FO-01'!D201,4)=\"E040\",LEFT('PLA-FO-01'!E201,3)=\"C04\")),\"AF1R1\",AND(LEFT('PLA-FO-01'!D201,4)=\"E040\",LEFT('PLA-FO-01'!E201,3)=\"C02\",LEFT('PLA-FO-01'!S201,2)<>\"60\"),\"AF1R2\",AND(LEFT('PLA-FO-01'!D201,4)=\"E035\",LEFT('PLA-FO-01'!S201,5)=\"20040\"),\"AF1R3\",AND(LEFT('PLA-FO-01'!D201,4)=\"E035\",LEFT('PLA-FO-01'!S201,5)<>\"20040\"),\"AF1R4\",OR(AND(LEFT('PLA-FO-01'!D201,4)=\"E066\",LEFT('PLA-FO-01'!S201,2)=\"60\"),AND(LEFT('PLA-FO-01'!D201,4)=\"E067\",LEFT('PLA-FO-01'!S201,2)=\"60\"),AND(LEFT('PLA-FO-01'!D201,4)=\"E068\",LEFT('PLA-FO-01'!S201,2)=\"60\")),\"AF1R5\",OR(AND(LEFT('PLA-FO-01'!D201,4)=\"E066\",LEFT('PLA-FO-01'!S201,2)<>\"60\"),AND(LEFT('PLA-FO-01'!D201,4)=\"E067\",LEFT('PLA-FO-01'!S201,2)<>\"60\"),AND(LEFT('PLA-FO-01'!D201,4)=\"E068\",LEFT('PLA-FO-01'!S201,2)<>\"60\")),\"AF1R6\",OR(LEFT('PLA-FO-01'!D201,4)=\"R001\",LEFT('PLA-FO-01'!D201,4)=\"O001\",LEFT('PLA-FO-01'!D201,4)=\"M001\"),\"AF1R7\"),\"Falta Valor\"), \"NO APLICA, revisar!\")","v":"Falta Valor"}]
[null,null,null,null,null,null,null,null,null,null,null,null,null,null,null,null,null,null,null,null,null,null,null,null,null,null,null,null,null,null,null,null,null,null,null,null,null,null,null,null,null,null,null,null,null,null,null,null,null,{"$f":"IFERROR(IF(AND('PLA-FO-01'!D202<>\"\",'PLA-FO-01'!S202<>\"\",'PLA-FO-01'!E202<>\"\"),_xlfn.IFS(OR(AND(LEFT('PLA-FO-01'!D202,4)=\"E040\",LEFT('PLA-FO-01'!E202,3)=\"C01\"),AND(LEFT('PLA-FO-01'!D202,4)=\"E040\",LEFT('PLA-FO-01'!E202,3)=\"C03\"),AND(LEFT('PLA-FO-01'!D202,4)=\"E040\",LEFT('PLA-FO-01'!E202,3)=\"C04\")),\"AF1R1\",AND(LEFT('PLA-FO-01'!D202,4)=\"E040\",LEFT('PLA-FO-01'!E202,3)=\"C02\",LEFT('PLA-FO-01'!S202,2)<>\"60\"),\"AF1R2\",AND(LEFT('PLA-FO-01'!D202,4)=\"E035\",LEFT('PLA-FO-01'!S202,5)=\"20040\"),\"AF1R3\",AND(LEFT('PLA-FO-01'!D202,4)=\"E035\",LEFT('PLA-FO-01'!S202,5)<>\"20040\"),\"AF1R4\",OR(AND(LEFT('PLA-FO-01'!D202,4)=\"E066\",LEFT('PLA-FO-01'!S202,2)=\"60\"),AND(LEFT('PLA-FO-01'!D202,4)=\"E067\",LEFT('PLA-FO-01'!S202,2)=\"60\"),AND(LEFT('PLA-FO-01'!D202,4)=\"E068\",LEFT('PLA-FO-01'!S202,2)=\"60\")),\"AF1R5\",OR(AND(LEFT('PLA-FO-01'!D202,4)=\"E066\",LEFT('PLA-FO-01'!S202,2)<>\"60\"),AND(LEFT('PLA-FO-01'!D202,4)=\"E067\",LEFT('PLA-FO-01'!S202,2)<>\"60\"),AND(LEFT('PLA-FO-01'!D202,4)=\"E068\",LEFT('PLA-FO-01'!S202,2)<>\"60\")),\"AF1R6\",OR(LEFT('PLA-FO-01'!D202,4)=\"R001\",LEFT('PLA-FO-01'!D202,4)=\"O001\",LEFT('PLA-FO-01'!D202,4)=\"M001\"),\"AF1R7\"),\"Falta Valor\"), \"NO APLICA, revisar!\")","v":"Falta Valor"}]
[null,null,null,null,null,null,null,null,null,null,null,null,null,null,null,null,null,null,null,null,null,null,null,null,null,null,null,null,null,null,null,null,null,null,null,null,null,null,null,null,null,null,null,null,null,null,null,null,null,{"$f":"IFERROR(IF(AND('PLA-FO-01'!D203<>\"\",'PLA-FO-01'!S203<>\"\",'PLA-FO-01'!E203<>\"\"),_xlfn.IFS(OR(AND(LEFT('PLA-FO-01'!D203,4)=\"E040\",LEFT('PLA-FO-01'!E203,3)=\"C01\"),AND(LEFT('PLA-FO-01'!D203,4)=\"E040\",LEFT('PLA-FO-01'!E203,3)=\"C03\"),AND(LEFT('PLA-FO-01'!D203,4)=\"E040\",LEFT('PLA-FO-01'!E203,3)=\"C04\")),\"AF1R1\",AND(LEFT('PLA-FO-01'!D203,4)=\"E040\",LEFT('PLA-FO-01'!E203,3)=\"C02\",LEFT('PLA-FO-01'!S203,2)<>\"60\"),\"AF1R2\",AND(LEFT('PLA-FO-01'!D203,4)=\"E035\",LEFT('PLA-FO-01'!S203,5)=\"20040\"),\"AF1R3\",AND(LEFT('PLA-FO-01'!D203,4)=\"E035\",LEFT('PLA-FO-01'!S203,5)<>\"20040\"),\"AF1R4\",OR(AND(LEFT('PLA-FO-01'!D203,4)=\"E066\",LEFT('PLA-FO-01'!S203,2)=\"60\"),AND(LEFT('PLA-FO-01'!D203,4)=\"E067\",LEFT('PLA-FO-01'!S203,2)=\"60\"),AND(LEFT('PLA-FO-01'!D203,4)=\"E068\",LEFT('PLA-FO-01'!S203,2)=\"60\")),\"AF1R5\",OR(AND(LEFT('PLA-FO-01'!D203,4)=\"E066\",LEFT('PLA-FO-01'!S203,2)<>\"60\"),AND(LEFT('PLA-FO-01'!D203,4)=\"E067\",LEFT('PLA-FO-01'!S203,2)<>\"60\"),AND(LEFT('PLA-FO-01'!D203,4)=\"E068\",LEFT('PLA-FO-01'!S203,2)<>\"60\")),\"AF1R6\",OR(LEFT('PLA-FO-01'!D203,4)=\"R001\",LEFT('PLA-FO-01'!D203,4)=\"O001\",LEFT('PLA-FO-01'!D203,4)=\"M001\"),\"AF1R7\"),\"Falta Valor\"), \"NO APLICA, revisar!\")","v":"Falta Valor"}]
[null,null,null,null,null,null,null,null,null,null,null,null,null,null,null,null,null,null,null,null,null,null,null,null,null,null,null,null,null,null,null,null,null,null,null,null,null,null,null,null,null,null,null,null,null,null,null,null,null,{"$f":"IFERROR(IF(AND('PLA-FO-01'!D204<>\"\",'PLA-FO-01'!S204<>\"\",'PLA-FO-01'!E204<>\"\"),_xlfn.IFS(OR(AND(LEFT('PLA-FO-01'!D204,4)=\"E040\",LEFT('PLA-FO-01'!E204,3)=\"C01\"),AND(LEFT('PLA-FO-01'!D204,4)=\"E040\",LEFT('PLA-FO-01'!E204,3)=\"C03\"),AND(LEFT('PLA-FO-01'!D204,4)=\"E040\",LEFT('PLA-FO-01'!E204,3)=\"C04\")),\"AF1R1\",AND(LEFT('PLA-FO-01'!D204,4)=\"E040\",LEFT('PLA-FO-01'!E204,3)=\"C02\",LEFT('PLA-FO-01'!S204,2)<>\"60\"),\"AF1R2\",AND(LEFT('PLA-FO-01'!D204,4)=\"E035\",LEFT('PLA-FO-01'!S204,5)=\"20040\"),\"AF1R3\",AND(LEFT('PLA-FO-01'!D204,4)=\"E035\",LEFT('PLA-FO-01'!S204,5)<>\"20040\"),\"AF1R4\",OR(AND(LEFT('PLA-FO-01'!D204,4)=\"E066\",LEFT('PLA-FO-01'!S204,2)=\"60\"),AND(LEFT('PLA-FO-01'!D204,4)=\"E067\",LEFT('PLA-FO-01'!S204,2)=\"60\"),AND(LEFT('PLA-FO-01'!D204,4)=\"E068\",LEFT('PLA-FO-01'!S204,2)=\"60\")),\"AF1R5\",OR(AND(LEFT('PLA-FO-01'!D204,4)=\"E066\",LEFT('PLA-FO-01'!S204,2)<>\"60\"),AND(LEFT('PLA-FO-01'!D204,4)=\"E067\",LEFT('PLA-FO-01'!S204,2)<>\"60\"),AND(LEFT('PLA-FO-01'!D204,4)=\"E068\",LEFT('PLA-FO-01'!S204,2)<>\"60\")),\"AF1R6\",OR(LEFT('PLA-FO-01'!D204,4)=\"R001\",LEFT('PLA-FO-01'!D204,4)=\"O001\",LEFT('PLA-FO-01'!D204,4)=\"M001\"),\"AF1R7\"),\"Falta Valor\"), \"NO APLICA, revisar!\")","v":"Falta Valor"}]
[null,null,null,null,null,null,null,null,null,null,null,null,null,null,null,null,null,null,null,null,null,null,null,null,null,null,null,null,null,null,null,null,null,null,null,null,null,null,null,null,null,null,null,null,null,null,null,null,null,{"$f":"IFERROR(IF(AND('PLA-FO-01'!D205<>\"\",'PLA-FO-01'!S205<>\"\",'PLA-FO-01'!E205<>\"\"),_xlfn.IFS(OR(AND(LEFT('PLA-FO-01'!D205,4)=\"E040\",LEFT('PLA-FO-01'!E205,3)=\"C01\"),AND(LEFT('PLA-FO-01'!D205,4)=\"E040\",LEFT('PLA-FO-01'!E205,3)=\"C03\"),AND(LEFT('PLA-FO-01'!D205,4)=\"E040\",LEFT('PLA-FO-01'!E205,3)=\"C04\")),\"AF1R1\",AND(LEFT('PLA-FO-01'!D205,4)=\"E040\",LEFT('PLA-FO-01'!E205,3)=\"C02\",LEFT('PLA-FO-01'!S205,2)<>\"60\"),\"AF1R2\",AND(LEFT('PLA-FO-01'!D205,4)=\"E035\",LEFT('PLA-FO-01'!S205,5)=\"20040\"),\"AF1R3\",AND(LEFT('PLA-FO-01'!D205,4)=\"E035\",LEFT('PLA-FO-01'!S205,5)<>\"20040\"),\"AF1R4\",OR(AND(LEFT('PLA-FO-01'!D205,4)=\"E066\",LEFT('PLA-FO-01'!S205,2)=\"60\"),AND(LEFT('PLA-FO-01'!D205,4)=\"E067\",LEFT('PLA-FO-01'!S205,2)=\"60\"),AND(LEFT('PLA-FO-01'!D205,4)=\"E068\",LEFT('PLA-FO-01'!S205,2)=\"60\")),\"AF1R5\",OR(AND(LEFT('PLA-FO-01'!D205,4)=\"E066\",LEFT('PLA-FO-01'!S205,2)<>\"60\"),AND(LEFT('PLA-FO-01'!D205,4)=\"E067\",LEFT('PLA-FO-01'!S205,2)<>\"60\"),AND(LEFT('PLA-FO-01'!D205,4)=\"E068\",LEFT('PLA-FO-01'!S205,2)<>\"60\")),\"AF1R6\",OR(LEFT('PLA-FO-01'!D205,4)=\"R001\",LEFT('PLA-FO-01'!D205,4)=\"O001\",LEFT('PLA-FO-01'!D205,4)=\"M001\"),\"AF1R7\"),\"Falta Valor\"), \"NO APLICA, revisar!\")","v":"Falta Valor"}]
[null,null,null,null,null,null,null,null,null,null,null,null,null,null,null,null,null,null,null,null,null,null,null,null,null,null,null,null,null,null,null,null,null,null,null,null,null,null,null,null,null,null,null,null,null,null,null,null,null,{"$f":"IFERROR(IF(AND('PLA-FO-01'!D206<>\"\",'PLA-FO-01'!S206<>\"\",'PLA-FO-01'!E206<>\"\"),_xlfn.IFS(OR(AND(LEFT('PLA-FO-01'!D206,4)=\"E040\",LEFT('PLA-FO-01'!E206,3)=\"C01\"),AND(LEFT('PLA-FO-01'!D206,4)=\"E040\",LEFT('PLA-FO-01'!E206,3)=\"C03\"),AND(LEFT('PLA-FO-01'!D206,4)=\"E040\",LEFT('PLA-FO-01'!E206,3)=\"C04\")),\"AF1R1\",AND(LEFT('PLA-FO-01'!D206,4)=\"E040\",LEFT('PLA-FO-01'!E206,3)=\"C02\",LEFT('PLA-FO-01'!S206,2)<>\"60\"),\"AF1R2\",AND(LEFT('PLA-FO-01'!D206,4)=\"E035\",LEFT('PLA-FO-01'!S206,5)=\"20040\"),\"AF1R3\",AND(LEFT('PLA-FO-01'!D206,4)=\"E035\",LEFT('PLA-FO-01'!S206,5)<>\"20040\"),\"AF1R4\",OR(AND(LEFT('PLA-FO-01'!D206,4)=\"E066\",LEFT('PLA-FO-01'!S206,2)=\"60\"),AND(LEFT('PLA-FO-01'!D206,4)=\"E067\",LEFT('PLA-FO-01'!S206,2)=\"60\"),AND(LEFT('PLA-FO-01'!D206,4)=\"E068\",LEFT('PLA-FO-01'!S206,2)=\"60\")),\"AF1R5\",OR(AND(LEFT('PLA-FO-01'!D206,4)=\"E066\",LEFT('PLA-FO-01'!S206,2)<>\"60\"),AND(LEFT('PLA-FO-01'!D206,4)=\"E067\",LEFT('PLA-FO-01'!S206,2)<>\"60\"),AND(LEFT('PLA-FO-01'!D206,4)=\"E068\",LEFT('PLA-FO-01'!S206,2)<>\"60\")),\"AF1R6\",OR(LEFT('PLA-FO-01'!D206,4)=\"R001\",LEFT('PLA-FO-01'!D206,4)=\"O001\",LEFT('PLA-FO-01'!D206,4)=\"M001\"),\"AF1R7\"),\"Falta Valor\"), \"NO APLICA, revisar!\")","v":"Falta Valor"}]
[null,null,null,null,null,null,null,null,null,null,null,null,null,null,null,null,null,null,null,null,null,null,null,null,null,null,null,null,null,null,null,null,null,null,null,null,null,null,null,null,null,null,null,null,null,null,null,null,null,{"$f":"IFERROR(IF(AND('PLA-FO-01'!D207<>\"\",'PLA-FO-01'!S207<>\"\",'PLA-FO-01'!E207<>\"\"),_xlfn.IFS(OR(AND(LEFT('PLA-FO-01'!D207,4)=\"E040\",LEFT('PLA-FO-01'!E207,3)=\"C01\"),AND(LEFT('PLA-FO-01'!D207,4)=\"E040\",LEFT('PLA-FO-01'!E207,3)=\"C03\"),AND(LEFT('PLA-FO-01'!D207,4)=\"E040\",LEFT('PLA-FO-01'!E207,3)=\"C04\")),\"AF1R1\",AND(LEFT('PLA-FO-01'!D207,4)=\"E040\",LEFT('PLA-FO-01'!E207,3)=\"C02\",LEFT('PLA-FO-01'!S207,2)<>\"60\"),\"AF1R2\",AND(LEFT('PLA-FO-01'!D207,4)=\"E035\",LEFT('PLA-FO-01'!S207,5)=\"20040\"),\"AF1R3\",AND(LEFT('PLA-FO-01'!D207,4)=\"E035\",LEFT('PLA-FO-01'!S207,5)<>\"20040\"),\"AF1R4\",OR(AND(LEFT('PLA-FO-01'!D207,4)=\"E066\",LEFT('PLA-FO-01'!S207,2)=\"60\"),AND(LEFT('PLA-FO-01'!D207,4)=\"E067\",LEFT('PLA-FO-01'!S207,2)=\"60\"),AND(LEFT('PLA-FO-01'!D207,4)=\"E068\",LEFT('PLA-FO-01'!S207,2)=\"60\")),\"AF1R5\",OR(AND(LEFT('PLA-FO-01'!D207,4)=\"E066\",LEFT('PLA-FO-01'!S207,2)<>\"60\"),AND(LEFT('PLA-FO-01'!D207,4)=\"E067\",LEFT('PLA-FO-01'!S207,2)<>\"60\"),AND(LEFT('PLA-FO-01'!D207,4)=\"E068\",LEFT('PLA-FO-01'!S207,2)<>\"60\")),\"AF1R6\",OR(LEFT('PLA-FO-01'!D207,4)=\"R001\",LEFT('PLA-FO-01'!D207,4)=\"O001\",LEFT('PLA-FO-01'!D207,4)=\"M001\"),\"AF1R7\"),\"Falta Valor\"), \"NO APLICA, revisar!\")","v":"Falta Valor"}]
[null,null,null,null,null,null,null,null,null,null,null,null,null,null,null,null,null,null,null,null,null,null,null,null,null,null,null,null,null,null,null,null,null,null,null,null,null,null,null,null,null,null,null,null,null,null,null,null,null,{"$f":"IFERROR(IF(AND('PLA-FO-01'!D208<>\"\",'PLA-FO-01'!S208<>\"\",'PLA-FO-01'!E208<>\"\"),_xlfn.IFS(OR(AND(LEFT('PLA-FO-01'!D208,4)=\"E040\",LEFT('PLA-FO-01'!E208,3)=\"C01\"),AND(LEFT('PLA-FO-01'!D208,4)=\"E040\",LEFT('PLA-FO-01'!E208,3)=\"C03\"),AND(LEFT('PLA-FO-01'!D208,4)=\"E040\",LEFT('PLA-FO-01'!E208,3)=\"C04\")),\"AF1R1\",AND(LEFT('PLA-FO-01'!D208,4)=\"E040\",LEFT('PLA-FO-01'!E208,3)=\"C02\",LEFT('PLA-FO-01'!S208,2)<>\"60\"),\"AF1R2\",AND(LEFT('PLA-FO-01'!D208,4)=\"E035\",LEFT('PLA-FO-01'!S208,5)=\"20040\"),\"AF1R3\",AND(LEFT('PLA-FO-01'!D208,4)=\"E035\",LEFT('PLA-FO-01'!S208,5)<>\"20040\"),\"AF1R4\",OR(AND(LEFT('PLA-FO-01'!D208,4)=\"E066\",LEFT('PLA-FO-01'!S208,2)=\"60\"),AND(LEFT('PLA-FO-01'!D208,4)=\"E067\",LEFT('PLA-FO-01'!S208,2)=\"60\"),AND(LEFT('PLA-FO-01'!D208,4)=\"E068\",LEFT('PLA-FO-01'!S208,2)=\"60\")),\"AF1R5\",OR(AND(LEFT('PLA-FO-01'!D208,4)=\"E066\",LEFT('PLA-FO-01'!S208,2)<>\"60\"),AND(LEFT('PLA-FO-01'!D208,4)=\"E067\",LEFT('PLA-FO-01'!S208,2)<>\"60\"),AND(LEFT('PLA-FO-01'!D208,4)=\"E068\",LEFT('PLA-FO-01'!S208,2)<>\"60\")),\"AF1R6\",OR(LEFT('PLA-FO-01'!D208,4)=\"R001\",LEFT('PLA-FO-01'!D208,4)=\"O001\",LEFT('PLA-FO-01'!D208,4)=\"M001\"),\"AF1R7\"),\"Falta Valor\"), \"NO APLICA, revisar!\")","v":"Falta Valor"}]
[null,null,null,null,null,null,null,null,null,null,null,null,null,null,null,null,null,null,null,null,null,null,null,null,null,null,null,null,null,null,null,null,null,null,null,null,null,null,null,null,null,null,null,null,null,null,null,null,null,{"$f":"IFERROR(IF(AND('PLA-FO-01'!D209<>\"\",'PLA-FO-01'!S209<>\"\",'PLA-FO-01'!E209<>\"\"),_xlfn.IFS(OR(AND(LEFT('PLA-FO-01'!D209,4)=\"E040\",LEFT('PLA-FO-01'!E209,3)=\"C01\"),AND(LEFT('PLA-FO-01'!D209,4)=\"E040\",LEFT('PLA-FO-01'!E209,3)=\"C03\"),AND(LEFT('PLA-FO-01'!D209,4)=\"E040\",LEFT('PLA-FO-01'!E209,3)=\"C04\")),\"AF1R1\",AND(LEFT('PLA-FO-01'!D209,4)=\"E040\",LEFT('PLA-FO-01'!E209,3)=\"C02\",LEFT('PLA-FO-01'!S209,2)<>\"60\"),\"AF1R2\",AND(LEFT('PLA-FO-01'!D209,4)=\"E035\",LEFT('PLA-FO-01'!S209,5)=\"20040\"),\"AF1R3\",AND(LEFT('PLA-FO-01'!D209,4)=\"E035\",LEFT('PLA-FO-01'!S209,5)<>\"20040\"),\"AF1R4\",OR(AND(LEFT('PLA-FO-01'!D209,4)=\"E066\",LEFT('PLA-FO-01'!S209,2)=\"60\"),AND(LEFT('PLA-FO-01'!D209,4)=\"E067\",LEFT('PLA-FO-01'!S209,2)=\"60\"),AND(LEFT('PLA-FO-01'!D209,4)=\"E068\",LEFT('PLA-FO-01'!S209,2)=\"60\")),\"AF1R5\",OR(AND(LEFT('PLA-FO-01'!D209,4)=\"E066\",LEFT('PLA-FO-01'!S209,2)<>\"60\"),AND(LEFT('PLA-FO-01'!D209,4)=\"E067\",LEFT('PLA-FO-01'!S209,2)<>\"60\"),AND(LEFT('PLA-FO-01'!D209,4)=\"E068\",LEFT('PLA-FO-01'!S209,2)<>\"60\")),\"AF1R6\",OR(LEFT('PLA-FO-01'!D209,4)=\"R001\",LEFT('PLA-FO-01'!D209,4)=\"O001\",LEFT('PLA-FO-01'!D209,4)=\"M001\"),\"AF1R7\"),\"Falta Valor\"), \"NO APLICA, revisar!\")","v":"Falta Valor"}]
[null,null,null,null,null,null,null,null,null,null,null,null,null,null,null,null,null,null,null,null,null,null,null,null,null,null,null,null,null,null,null,null,null,null,null,null,null,null,null,null,null,null,null,null,null,null,null,null,null,{"$f":"IFERROR(IF(AND('PLA-FO-01'!D210<>\"\",'PLA-FO-01'!S210<>\"\",'PLA-FO-01'!E210<>\"\"),_xlfn.IFS(OR(AND(LEFT('PLA-FO-01'!D210,4)=\"E040\",LEFT('PLA-FO-01'!E210,3)=\"C01\"),AND(LEFT('PLA-FO-01'!D210,4)=\"E040\",LEFT('PLA-FO-01'!E210,3)=\"C03\"),AND(LEFT('PLA-FO-01'!D210,4)=\"E040\",LEFT('PLA-FO-01'!E210,3)=\"C04\")),\"AF1R1\",AND(LEFT('PLA-FO-01'!D210,4)=\"E040\",LEFT('PLA-FO-01'!E210,3)=\"C02\",LEFT('PLA-FO-01'!S210,2)<>\"60\"),\"AF1R2\",AND(LEFT('PLA-FO-01'!D210,4)=\"E035\",LEFT('PLA-FO-01'!S210,5)=\"20040\"),\"AF1R3\",AND(LEFT('PLA-FO-01'!D210,4)=\"E035\",LEFT('PLA-FO-01'!S210,5)<>\"20040\"),\"AF1R4\",OR(AND(LEFT('PLA-FO-01'!D210,4)=\"E066\",LEFT('PLA-FO-01'!S210,2)=\"60\"),AND(LEFT('PLA-FO-01'!D210,4)=\"E067\",LEFT('PLA-FO-01'!S210,2)=\"60\"),AND(LEFT('PLA-FO-01'!D210,4)=\"E068\",LEFT('PLA-FO-01'!S210,2)=\"60\")),\"AF1R5\",OR(AND(LEFT('PLA-FO-01'!D210,4)=\"E066\",LEFT('PLA-FO-01'!S210,2)<>\"60\"),AND(LEFT('PLA-FO-01'!D210,4)=\"E067\",LEFT('PLA-FO-01'!S210,2)<>\"60\"),AND(LEFT('PLA-FO-01'!D210,4)=\"E068\",LEFT('PLA-FO-01'!S210,2)<>\"60\")),\"AF1R6\",OR(LEFT('PLA-FO-01'!D210,4)=\"R001\",LEFT('PLA-FO-01'!D210,4)=\"O001\",LEFT('PLA-FO-01'!D210,4)=\"M001\"),\"AF1R7\"),\"Falta Valor\"), \"NO APLICA, revisar!\")","v":"Falta Valor"}]
[null,null,null,null,null,null,null,null,null,null,null,null,null,null,null,null,null,null,null,null,null,null,null,null,null,null,null,null,null,null,null,null,null,null,null,null,null,null,null,null,null,null,null,null,null,null,null,null,null,{"$f":"IFERROR(IF(AND('PLA-FO-01'!D211<>\"\",'PLA-FO-01'!S211<>\"\",'PLA-FO-01'!E211<>\"\"),_xlfn.IFS(OR(AND(LEFT('PLA-FO-01'!D211,4)=\"E040\",LEFT('PLA-FO-01'!E211,3)=\"C01\"),AND(LEFT('PLA-FO-01'!D211,4)=\"E040\",LEFT('PLA-FO-01'!E211,3)=\"C03\"),AND(LEFT('PLA-FO-01'!D211,4)=\"E040\",LEFT('PLA-FO-01'!E211,3)=\"C04\")),\"AF1R1\",AND(LEFT('PLA-FO-01'!D211,4)=\"E040\",LEFT('PLA-FO-01'!E211,3)=\"C02\",LEFT('PLA-FO-01'!S211,2)<>\"60\"),\"AF1R2\",AND(LEFT('PLA-FO-01'!D211,4)=\"E035\",LEFT('PLA-FO-01'!S211,5)=\"20040\"),\"AF1R3\",AND(LEFT('PLA-FO-01'!D211,4)=\"E035\",LEFT('PLA-FO-01'!S211,5)<>\"20040\"),\"AF1R4\",OR(AND(LEFT('PLA-FO-01'!D211,4)=\"E066\",LEFT('PLA-FO-01'!S211,2)=\"60\"),AND(LEFT('PLA-FO-01'!D211,4)=\"E067\",LEFT('PLA-FO-01'!S211,2)=\"60\"),AND(LEFT('PLA-FO-01'!D211,4)=\"E068\",LEFT('PLA-FO-01'!S211,2)=\"60\")),\"AF1R5\",OR(AND(LEFT('PLA-FO-01'!D211,4)=\"E066\",LEFT('PLA-FO-01'!S211,2)<>\"60\"),AND(LEFT('PLA-FO-01'!D211,4)=\"E067\",LEFT('PLA-FO-01'!S211,2)<>\"60\"),AND(LEFT('PLA-FO-01'!D211,4)=\"E068\",LEFT('PLA-FO-01'!S211,2)<>\"60\")),\"AF1R6\",OR(LEFT('PLA-FO-01'!D211,4)=\"R001\",LEFT('PLA-FO-01'!D211,4)=\"O001\",LEFT('PLA-FO-01'!D211,4)=\"M001\"),\"AF1R7\"),\"Falta Valor\"), \"NO APLICA, revisar!\")","v":"Falta Valor"}]
[null,null,null,null,null,null,null,null,null,null,null,null,null,null,null,null,null,null,null,null,null,null,null,null,null,null,null,null,null,null,null,null,null,null,null,null,null,null,null,null,null,null,null,null,null,null,null,null,null,{"$f":"IFERROR(IF(AND('PLA-FO-01'!D212<>\"\",'PLA-FO-01'!S212<>\"\",'PLA-FO-01'!E212<>\"\"),_xlfn.IFS(OR(AND(LEFT('PLA-FO-01'!D212,4)=\"E040\",LEFT('PLA-FO-01'!E212,3)=\"C01\"),AND(LEFT('PLA-FO-01'!D212,4)=\"E040\",LEFT('PLA-FO-01'!E212,3)=\"C03\"),AND(LEFT('PLA-FO-01'!D212,4)=\"E040\",LEFT('PLA-FO-01'!E212,3)=\"C04\")),\"AF1R1\",AND(LEFT('PLA-FO-01'!D212,4)=\"E040\",LEFT('PLA-FO-01'!E212,3)=\"C02\",LEFT('PLA-FO-01'!S212,2)<>\"60\"),\"AF1R2\",AND(LEFT('PLA-FO-01'!D212,4)=\"E035\",LEFT('PLA-FO-01'!S212,5)=\"20040\"),\"AF1R3\",AND(LEFT('PLA-FO-01'!D212,4)=\"E035\",LEFT('PLA-FO-01'!S212,5)<>\"20040\"),\"AF1R4\",OR(AND(LEFT('PLA-FO-01'!D212,4)=\"E066\",LEFT('PLA-FO-01'!S212,2)=\"60\"),AND(LEFT('PLA-FO-01'!D212,4)=\"E067\",LEFT('PLA-FO-01'!S212,2)=\"60\"),AND(LEFT('PLA-FO-01'!D212,4)=\"E068\",LEFT('PLA-FO-01'!S212,2)=\"60\")),\"AF1R5\",OR(AND(LEFT('PLA-FO-01'!D212,4)=\"E066\",LEFT('PLA-FO-01'!S212,2)<>\"60\"),AND(LEFT('PLA-FO-01'!D212,4)=\"E067\",LEFT('PLA-FO-01'!S212,2)<>\"60\"),AND(LEFT('PLA-FO-01'!D212,4)=\"E068\",LEFT('PLA-FO-01'!S212,2)<>\"60\")),\"AF1R6\",OR(LEFT('PLA-FO-01'!D212,4)=\"R001\",LEFT('PLA-FO-01'!D212,4)=\"O001\",LEFT('PLA-FO-01'!D212,4)=\"M001\"),\"AF1R7\"),\"Falta Valor\"), \"NO APLICA, revisar!\")","v":"Falta Valor"}]
[null,null,null,null,null,null,null,null,null,null,null,null,null,null,null,null,null,null,null,null,null,null,null,null,null,null,null,null,null,null,null,null,null,null,null,null,null,null,null,null,null,null,null,null,null,null,null,null,null,{"$f":"IFERROR(IF(AND('PLA-FO-01'!D213<>\"\",'PLA-FO-01'!S213<>\"\",'PLA-FO-01'!E213<>\"\"),_xlfn.IFS(OR(AND(LEFT('PLA-FO-01'!D213,4)=\"E040\",LEFT('PLA-FO-01'!E213,3)=\"C01\"),AND(LEFT('PLA-FO-01'!D213,4)=\"E040\",LEFT('PLA-FO-01'!E213,3)=\"C03\"),AND(LEFT('PLA-FO-01'!D213,4)=\"E040\",LEFT('PLA-FO-01'!E213,3)=\"C04\")),\"AF1R1\",AND(LEFT('PLA-FO-01'!D213,4)=\"E040\",LEFT('PLA-FO-01'!E213,3)=\"C02\",LEFT('PLA-FO-01'!S213,2)<>\"60\"),\"AF1R2\",AND(LEFT('PLA-FO-01'!D213,4)=\"E035\",LEFT('PLA-FO-01'!S213,5)=\"20040\"),\"AF1R3\",AND(LEFT('PLA-FO-01'!D213,4)=\"E035\",LEFT('PLA-FO-01'!S213,5)<>\"20040\"),\"AF1R4\",OR(AND(LEFT('PLA-FO-01'!D213,4)=\"E066\",LEFT('PLA-FO-01'!S213,2)=\"60\"),AND(LEFT('PLA-FO-01'!D213,4)=\"E067\",LEFT('PLA-FO-01'!S213,2)=\"60\"),AND(LEFT('PLA-FO-01'!D213,4)=\"E068\",LEFT('PLA-FO-01'!S213,2)=\"60\")),\"AF1R5\",OR(AND(LEFT('PLA-FO-01'!D213,4)=\"E066\",LEFT('PLA-FO-01'!S213,2)<>\"60\"),AND(LEFT('PLA-FO-01'!D213,4)=\"E067\",LEFT('PLA-FO-01'!S213,2)<>\"60\"),AND(LEFT('PLA-FO-01'!D213,4)=\"E068\",LEFT('PLA-FO-01'!S213,2)<>\"60\")),\"AF1R6\",OR(LEFT('PLA-FO-01'!D213,4)=\"R001\",LEFT('PLA-FO-01'!D213,4)=\"O001\",LEFT('PLA-FO-01'!D213,4)=\"M001\"),\"AF1R7\"),\"Falta Valor\"), \"NO APLICA, revisar!\")","v":"Falta Valor"}]
[null,null,null,null,null,null,null,null,null,null,null,null,null,null,null,null,null,null,null,null,null,null,null,null,null,null,null,null,null,null,null,null,null,null,null,null,null,null,null,null,null,null,null,null,null,null,null,null,null,{"$f":"IFERROR(IF(AND('PLA-FO-01'!D214<>\"\",'PLA-FO-01'!S214<>\"\",'PLA-FO-01'!E214<>\"\"),_xlfn.IFS(OR(AND(LEFT('PLA-FO-01'!D214,4)=\"E040\",LEFT('PLA-FO-01'!E214,3)=\"C01\"),AND(LEFT('PLA-FO-01'!D214,4)=\"E040\",LEFT('PLA-FO-01'!E214,3)=\"C03\"),AND(LEFT('PLA-FO-01'!D214,4)=\"E040\",LEFT('PLA-FO-01'!E214,3)=\"C04\")),\"AF1R1\",AND(LEFT('PLA-FO-01'!D214,4)=\"E040\",LEFT('PLA-FO-01'!E214,3)=\"C02\",LEFT('PLA-FO-01'!S214,2)<>\"60\"),\"AF1R2\",AND(LEFT('PLA-FO-01'!D214,4)=\"E035\",LEFT('PLA-FO-01'!S214,5)=\"20040\"),\"AF1R3\",AND(LEFT('PLA-FO-01'!D214,4)=\"E035\",LEFT('PLA-FO-01'!S214,5)<>\"20040\"),\"AF1R4\",OR(AND(LEFT('PLA-FO-01'!D214,4)=\"E066\",LEFT('PLA-FO-01'!S214,2)=\"60\"),AND(LEFT('PLA-FO-01'!D214,4)=\"E067\",LEFT('PLA-FO-01'!S214,2)=\"60\"),AND(LEFT('PLA-FO-01'!D214,4)=\"E068\",LEFT('PLA-FO-01'!S214,2)=\"60\")),\"AF1R5\",OR(AND(LEFT('PLA-FO-01'!D214,4)=\"E066\",LEFT('PLA-FO-01'!S214,2)<>\"60\"),AND(LEFT('PLA-FO-01'!D214,4)=\"E067\",LEFT('PLA-FO-01'!S214,2)<>\"60\"),AND(LEFT('PLA-FO-01'!D214,4)=\"E068\",LEFT('PLA-FO-01'!S214,2)<>\"60\")),\"AF1R6\",OR(LEFT('PLA-FO-01'!D214,4)=\"R001\",LEFT('PLA-FO-01'!D214,4)=\"O001\",LEFT('PLA-FO-01'!D214,4)=\"M001\"),\"AF1R7\"),\"Falta Valor\"), \"NO APLICA, revisar!\")","v":"Falta Valor"}]
[null,null,null,null,null,null,null,null,null,null,null,null,null,null,null,null,null,null,null,null,null,null,null,null,null,null,null,null,null,null,null,null,null,null,null,null,null,null,null,null,null,null,null,null,null,null,null,null,null,{"$f":"IFERROR(IF(AND('PLA-FO-01'!D215<>\"\",'PLA-FO-01'!S215<>\"\",'PLA-FO-01'!E215<>\"\"),_xlfn.IFS(OR(AND(LEFT('PLA-FO-01'!D215,4)=\"E040\",LEFT('PLA-FO-01'!E215,3)=\"C01\"),AND(LEFT('PLA-FO-01'!D215,4)=\"E040\",LEFT('PLA-FO-01'!E215,3)=\"C03\"),AND(LEFT('PLA-FO-01'!D215,4)=\"E040\",LEFT('PLA-FO-01'!E215,3)=\"C04\")),\"AF1R1\",AND(LEFT('PLA-FO-01'!D215,4)=\"E040\",LEFT('PLA-FO-01'!E215,3)=\"C02\",LEFT('PLA-FO-01'!S215,2)<>\"60\"),\"AF1R2\",AND(LEFT('PLA-FO-01'!D215,4)=\"E035\",LEFT('PLA-FO-01'!S215,5)=\"20040\"),\"AF1R3\",AND(LEFT('PLA-FO-01'!D215,4)=\"E035\",LEFT('PLA-FO-01'!S215,5)<>\"20040\"),\"AF1R4\",OR(AND(LEFT('PLA-FO-01'!D215,4)=\"E066\",LEFT('PLA-FO-01'!S215,2)=\"60\"),AND(LEFT('PLA-FO-01'!D215,4)=\"E067\",LEFT('PLA-FO-01'!S215,2)=\"60\"),AND(LEFT('PLA-FO-01'!D215,4)=\"E068\",LEFT('PLA-FO-01'!S215,2)=\"60\")),\"AF1R5\",OR(AND(LEFT('PLA-FO-01'!D215,4)=\"E066\",LEFT('PLA-FO-01'!S215,2)<>\"60\"),AND(LEFT('PLA-FO-01'!D215,4)=\"E067\",LEFT('PLA-FO-01'!S215,2)<>\"60\"),AND(LEFT('PLA-FO-01'!D215,4)=\"E068\",LEFT('PLA-FO-01'!S215,2)<>\"60\")),\"AF1R6\",OR(LEFT('PLA-FO-01'!D215,4)=\"R001\",LEFT('PLA-FO-01'!D215,4)=\"O001\",LEFT('PLA-FO-01'!D215,4)=\"M001\"),\"AF1R7\"),\"Falta Valor\"), \"NO APLICA, revisar!\")","v":"Falta Valor"}]
[null,null,null,null,null,null,null,null,null,null,null,null,null,null,null,null,null,null,null,null,null,null,null,null,null,null,null,null,null,null,null,null,null,null,null,null,null,null,null,null,null,null,null,null,null,null,null,null,null,{"$f":"IFERROR(IF(AND('PLA-FO-01'!D216<>\"\",'PLA-FO-01'!S216<>\"\",'PLA-FO-01'!E216<>\"\"),_xlfn.IFS(OR(AND(LEFT('PLA-FO-01'!D216,4)=\"E040\",LEFT('PLA-FO-01'!E216,3)=\"C01\"),AND(LEFT('PLA-FO-01'!D216,4)=\"E040\",LEFT('PLA-FO-01'!E216,3)=\"C03\"),AND(LEFT('PLA-FO-01'!D216,4)=\"E040\",LEFT('PLA-FO-01'!E216,3)=\"C04\")),\"AF1R1\",AND(LEFT('PLA-FO-01'!D216,4)=\"E040\",LEFT('PLA-FO-01'!E216,3)=\"C02\",LEFT('PLA-FO-01'!S216,2)<>\"60\"),\"AF1R2\",AND(LEFT('PLA-FO-01'!D216,4)=\"E035\",LEFT('PLA-FO-01'!S216,5)=\"20040\"),\"AF1R3\",AND(LEFT('PLA-FO-01'!D216,4)=\"E035\",LEFT('PLA-FO-01'!S216,5)<>\"20040\"),\"AF1R4\",OR(AND(LEFT('PLA-FO-01'!D216,4)=\"E066\",LEFT('PLA-FO-01'!S216,2)=\"60\"),AND(LEFT('PLA-FO-01'!D216,4)=\"E067\",LEFT('PLA-FO-01'!S216,2)=\"60\"),AND(LEFT('PLA-FO-01'!D216,4)=\"E068\",LEFT('PLA-FO-01'!S216,2)=\"60\")),\"AF1R5\",OR(AND(LEFT('PLA-FO-01'!D216,4)=\"E066\",LEFT('PLA-FO-01'!S216,2)<>\"60\"),AND(LEFT('PLA-FO-01'!D216,4)=\"E067\",LEFT('PLA-FO-01'!S216,2)<>\"60\"),AND(LEFT('PLA-FO-01'!D216,4)=\"E068\",LEFT('PLA-FO-01'!S216,2)<>\"60\")),\"AF1R6\",OR(LEFT('PLA-FO-01'!D216,4)=\"R001\",LEFT('PLA-FO-01'!D216,4)=\"O001\",LEFT('PLA-FO-01'!D216,4)=\"M001\"),\"AF1R7\"),\"Falta Valor\"), \"NO APLICA, revisar!\")","v":"Falta Valor"}]
[null,null,null,null,null,null,null,null,null,null,null,null,null,null,null,null,null,null,null,null,null,null,null,null,null,null,null,null,null,null,null,null,null,null,null,null,null,null,null,null,null,null,null,null,null,null,null,null,null,{"$f":"IFERROR(IF(AND('PLA-FO-01'!D217<>\"\",'PLA-FO-01'!S217<>\"\",'PLA-FO-01'!E217<>\"\"),_xlfn.IFS(OR(AND(LEFT('PLA-FO-01'!D217,4)=\"E040\",LEFT('PLA-FO-01'!E217,3)=\"C01\"),AND(LEFT('PLA-FO-01'!D217,4)=\"E040\",LEFT('PLA-FO-01'!E217,3)=\"C03\"),AND(LEFT('PLA-FO-01'!D217,4)=\"E040\",LEFT('PLA-FO-01'!E217,3)=\"C04\")),\"AF1R1\",AND(LEFT('PLA-FO-01'!D217,4)=\"E040\",LEFT('PLA-FO-01'!E217,3)=\"C02\",LEFT('PLA-FO-01'!S217,2)<>\"60\"),\"AF1R2\",AND(LEFT('PLA-FO-01'!D217,4)=\"E035\",LEFT('PLA-FO-01'!S217,5)=\"20040\"),\"AF1R3\",AND(LEFT('PLA-FO-01'!D217,4)=\"E035\",LEFT('PLA-FO-01'!S217,5)<>\"20040\"),\"AF1R4\",OR(AND(LEFT('PLA-FO-01'!D217,4)=\"E066\",LEFT('PLA-FO-01'!S217,2)=\"60\"),AND(LEFT('PLA-FO-01'!D217,4)=\"E067\",LEFT('PLA-FO-01'!S217,2)=\"60\"),AND(LEFT('PLA-FO-01'!D217,4)=\"E068\",LEFT('PLA-FO-01'!S217,2)=\"60\")),\"AF1R5\",OR(AND(LEFT('PLA-FO-01'!D217,4)=\"E066\",LEFT('PLA-FO-01'!S217,2)<>\"60\"),AND(LEFT('PLA-FO-01'!D217,4)=\"E067\",LEFT('PLA-FO-01'!S217,2)<>\"60\"),AND(LEFT('PLA-FO-01'!D217,4)=\"E068\",LEFT('PLA-FO-01'!S217,2)<>\"60\")),\"AF1R6\",OR(LEFT('PLA-FO-01'!D217,4)=\"R001\",LEFT('PLA-FO-01'!D217,4)=\"O001\",LEFT('PLA-FO-01'!D217,4)=\"M001\"),\"AF1R7\"),\"Falta Valor\"), \"NO APLICA, revisar!\")","v":"Falta Valor"}]
[null,null,null,null,null,null,null,null,null,null,null,null,null,null,null,null,null,null,null,null,null,null,null,null,null,null,null,null,null,null,null,null,null,null,null,null,null,null,null,null,null,null,null,null,null,null,null,null,null,{"$f":"IFERROR(IF(AND('PLA-FO-01'!D218<>\"\",'PLA-FO-01'!S218<>\"\",'PLA-FO-01'!E218<>\"\"),_xlfn.IFS(OR(AND(LEFT('PLA-FO-01'!D218,4)=\"E040\",LEFT('PLA-FO-01'!E218,3)=\"C01\"),AND(LEFT('PLA-FO-01'!D218,4)=\"E040\",LEFT('PLA-FO-01'!E218,3)=\"C03\"),AND(LEFT('PLA-FO-01'!D218,4)=\"E040\",LEFT('PLA-FO-01'!E218,3)=\"C04\")),\"AF1R1\",AND(LEFT('PLA-FO-01'!D218,4)=\"E040\",LEFT('PLA-FO-01'!E218,3)=\"C02\",LEFT('PLA-FO-01'!S218,2)<>\"60\"),\"AF1R2\",AND(LEFT('PLA-FO-01'!D218,4)=\"E035\",LEFT('PLA-FO-01'!S218,5)=\"20040\"),\"AF1R3\",AND(LEFT('PLA-FO-01'!D218,4)=\"E035\",LEFT('PLA-FO-01'!S218,5)<>\"20040\"),\"AF1R4\",OR(AND(LEFT('PLA-FO-01'!D218,4)=\"E066\",LEFT('PLA-FO-01'!S218,2)=\"60\"),AND(LEFT('PLA-FO-01'!D218,4)=\"E067\",LEFT('PLA-FO-01'!S218,2)=\"60\"),AND(LEFT('PLA-FO-01'!D218,4)=\"E068\",LEFT('PLA-FO-01'!S218,2)=\"60\")),\"AF1R5\",OR(AND(LEFT('PLA-FO-01'!D218,4)=\"E066\",LEFT('PLA-FO-01'!S218,2)<>\"60\"),AND(LEFT('PLA-FO-01'!D218,4)=\"E067\",LEFT('PLA-FO-01'!S218,2)<>\"60\"),AND(LEFT('PLA-FO-01'!D218,4)=\"E068\",LEFT('PLA-FO-01'!S218,2)<>\"60\")),\"AF1R6\",OR(LEFT('PLA-FO-01'!D218,4)=\"R001\",LEFT('PLA-FO-01'!D218,4)=\"O001\",LEFT('PLA-FO-01'!D218,4)=\"M001\"),\"AF1R7\"),\"Falta Valor\"), \"NO APLICA, revisar!\")","v":"Falta Valor"}]
[null,null,null,null,null,null,null,null,null,null,null,null,null,null,null,null,null,null,null,null,null,null,null,null,null,null,null,null,null,null,null,null,null,null,null,null,null,null,null,null,null,null,null,null,null,null,null,null,null,{"$f":"IFERROR(IF(AND('PLA-FO-01'!D219<>\"\",'PLA-FO-01'!S219<>\"\",'PLA-FO-01'!E219<>\"\"),_xlfn.IFS(OR(AND(LEFT('PLA-FO-01'!D219,4)=\"E040\",LEFT('PLA-FO-01'!E219,3)=\"C01\"),AND(LEFT('PLA-FO-01'!D219,4)=\"E040\",LEFT('PLA-FO-01'!E219,3)=\"C03\"),AND(LEFT('PLA-FO-01'!D219,4)=\"E040\",LEFT('PLA-FO-01'!E219,3)=\"C04\")),\"AF1R1\",AND(LEFT('PLA-FO-01'!D219,4)=\"E040\",LEFT('PLA-FO-01'!E219,3)=\"C02\",LEFT('PLA-FO-01'!S219,2)<>\"60\"),\"AF1R2\",AND(LEFT('PLA-FO-01'!D219,4)=\"E035\",LEFT('PLA-FO-01'!S219,5)=\"20040\"),\"AF1R3\",AND(LEFT('PLA-FO-01'!D219,4)=\"E035\",LEFT('PLA-FO-01'!S219,5)<>\"20040\"),\"AF1R4\",OR(AND(LEFT('PLA-FO-01'!D219,4)=\"E066\",LEFT('PLA-FO-01'!S219,2)=\"60\"),AND(LEFT('PLA-FO-01'!D219,4)=\"E067\",LEFT('PLA-FO-01'!S219,2)=\"60\"),AND(LEFT('PLA-FO-01'!D219,4)=\"E068\",LEFT('PLA-FO-01'!S219,2)=\"60\")),\"AF1R5\",OR(AND(LEFT('PLA-FO-01'!D219,4)=\"E066\",LEFT('PLA-FO-01'!S219,2)<>\"60\"),AND(LEFT('PLA-FO-01'!D219,4)=\"E067\",LEFT('PLA-FO-01'!S219,2)<>\"60\"),AND(LEFT('PLA-FO-01'!D219,4)=\"E068\",LEFT('PLA-FO-01'!S219,2)<>\"60\")),\"AF1R6\",OR(LEFT('PLA-FO-01'!D219,4)=\"R001\",LEFT('PLA-FO-01'!D219,4)=\"O001\",LEFT('PLA-FO-01'!D219,4)=\"M001\"),\"AF1R7\"),\"Falta Valor\"), \"NO APLICA, revisar!\")","v":"Falta Valor"}]
[null,null,null,null,null,null,null,null,null,null,null,null,null,null,null,null,null,null,null,null,null,null,null,null,null,null,null,null,null,null,null,null,null,null,null,null,null,null,null,null,null,null,null,null,null,null,null,null,null,{"$f":"IFERROR(IF(AND('PLA-FO-01'!D220<>\"\",'PLA-FO-01'!S220<>\"\",'PLA-FO-01'!E220<>\"\"),_xlfn.IFS(OR(AND(LEFT('PLA-FO-01'!D220,4)=\"E040\",LEFT('PLA-FO-01'!E220,3)=\"C01\"),AND(LEFT('PLA-FO-01'!D220,4)=\"E040\",LEFT('PLA-FO-01'!E220,3)=\"C03\"),AND(LEFT('PLA-FO-01'!D220,4)=\"E040\",LEFT('PLA-FO-01'!E220,3)=\"C04\")),\"AF1R1\",AND(LEFT('PLA-FO-01'!D220,4)=\"E040\",LEFT('PLA-FO-01'!E220,3)=\"C02\",LEFT('PLA-FO-01'!S220,2)<>\"60\"),\"AF1R2\",AND(LEFT('PLA-FO-01'!D220,4)=\"E035\",LEFT('PLA-FO-01'!S220,5)=\"20040\"),\"AF1R3\",AND(LEFT('PLA-FO-01'!D220,4)=\"E035\",LEFT('PLA-FO-01'!S220,5)<>\"20040\"),\"AF1R4\",OR(AND(LEFT('PLA-FO-01'!D220,4)=\"E066\",LEFT('PLA-FO-01'!S220,2)=\"60\"),AND(LEFT('PLA-FO-01'!D220,4)=\"E067\",LEFT('PLA-FO-01'!S220,2)=\"60\"),AND(LEFT('PLA-FO-01'!D220,4)=\"E068\",LEFT('PLA-FO-01'!S220,2)=\"60\")),\"AF1R5\",OR(AND(LEFT('PLA-FO-01'!D220,4)=\"E066\",LEFT('PLA-FO-01'!S220,2)<>\"60\"),AND(LEFT('PLA-FO-01'!D220,4)=\"E067\",LEFT('PLA-FO-01'!S220,2)<>\"60\"),AND(LEFT('PLA-FO-01'!D220,4)=\"E068\",LEFT('PLA-FO-01'!S220,2)<>\"60\")),\"AF1R6\",OR(LEFT('PLA-FO-01'!D220,4)=\"R001\",LEFT('PLA-FO-01'!D220,4)=\"O001\",LEFT('PLA-FO-01'!D220,4)=\"M001\"),\"AF1R7\"),\"Falta Valor\"), \"NO APLICA, revisar!\")","v":"Falta Valor"}]
[null,null,null,null,null,null,null,null,null,null,null,null,null,null,null,null,null,null,null,null,null,null,null,null,null,null,null,null,null,null,null,null,null,null,null,null,null,null,null,null,null,null,null,null,null,null,null,null,null,{"$f":"IFERROR(IF(AND('PLA-FO-01'!D221<>\"\",'PLA-FO-01'!S221<>\"\",'PLA-FO-01'!E221<>\"\"),_xlfn.IFS(OR(AND(LEFT('PLA-FO-01'!D221,4)=\"E040\",LEFT('PLA-FO-01'!E221,3)=\"C01\"),AND(LEFT('PLA-FO-01'!D221,4)=\"E040\",LEFT('PLA-FO-01'!E221,3)=\"C03\"),AND(LEFT('PLA-FO-01'!D221,4)=\"E040\",LEFT('PLA-FO-01'!E221,3)=\"C04\")),\"AF1R1\",AND(LEFT('PLA-FO-01'!D221,4)=\"E040\",LEFT('PLA-FO-01'!E221,3)=\"C02\",LEFT('PLA-FO-01'!S221,2)<>\"60\"),\"AF1R2\",AND(LEFT('PLA-FO-01'!D221,4)=\"E035\",LEFT('PLA-FO-01'!S221,5)=\"20040\"),\"AF1R3\",AND(LEFT('PLA-FO-01'!D221,4)=\"E035\",LEFT('PLA-FO-01'!S221,5)<>\"20040\"),\"AF1R4\",OR(AND(LEFT('PLA-FO-01'!D221,4)=\"E066\",LEFT('PLA-FO-01'!S221,2)=\"60\"),AND(LEFT('PLA-FO-01'!D221,4)=\"E067\",LEFT('PLA-FO-01'!S221,2)=\"60\"),AND(LEFT('PLA-FO-01'!D221,4)=\"E068\",LEFT('PLA-FO-01'!S221,2)=\"60\")),\"AF1R5\",OR(AND(LEFT('PLA-FO-01'!D221,4)=\"E066\",LEFT('PLA-FO-01'!S221,2)<>\"60\"),AND(LEFT('PLA-FO-01'!D221,4)=\"E067\",LEFT('PLA-FO-01'!S221,2)<>\"60\"),AND(LEFT('PLA-FO-01'!D221,4)=\"E068\",LEFT('PLA-FO-01'!S221,2)<>\"60\")),\"AF1R6\",OR(LEFT('PLA-FO-01'!D221,4)=\"R001\",LEFT('PLA-FO-01'!D221,4)=\"O001\",LEFT('PLA-FO-01'!D221,4)=\"M001\"),\"AF1R7\"),\"Falta Valor\"), \"NO APLICA, revisar!\")","v":"Falta Valor"}]
[null,null,null,null,null,null,null,null,null,null,null,null,null,null,null,null,null,null,null,null,null,null,null,null,null,null,null,null,null,null,null,null,null,null,null,null,null,null,null,null,null,null,null,null,null,null,null,null,null,{"$f":"IFERROR(IF(AND('PLA-FO-01'!D222<>\"\",'PLA-FO-01'!S222<>\"\",'PLA-FO-01'!E222<>\"\"),_xlfn.IFS(OR(AND(LEFT('PLA-FO-01'!D222,4)=\"E040\",LEFT('PLA-FO-01'!E222,3)=\"C01\"),AND(LEFT('PLA-FO-01'!D222,4)=\"E040\",LEFT('PLA-FO-01'!E222,3)=\"C03\"),AND(LEFT('PLA-FO-01'!D222,4)=\"E040\",LEFT('PLA-FO-01'!E222,3)=\"C04\")),\"AF1R1\",AND(LEFT('PLA-FO-01'!D222,4)=\"E040\",LEFT('PLA-FO-01'!E222,3)=\"C02\",LEFT('PLA-FO-01'!S222,2)<>\"60\"),\"AF1R2\",AND(LEFT('PLA-FO-01'!D222,4)=\"E035\",LEFT('PLA-FO-01'!S222,5)=\"20040\"),\"AF1R3\",AND(LEFT('PLA-FO-01'!D222,4)=\"E035\",LEFT('PLA-FO-01'!S222,5)<>\"20040\"),\"AF1R4\",OR(AND(LEFT('PLA-FO-01'!D222,4)=\"E066\",LEFT('PLA-FO-01'!S222,2)=\"60\"),AND(LEFT('PLA-FO-01'!D222,4)=\"E067\",LEFT('PLA-FO-01'!S222,2)=\"60\"),AND(LEFT('PLA-FO-01'!D222,4)=\"E068\",LEFT('PLA-FO-01'!S222,2)=\"60\")),\"AF1R5\",OR(AND(LEFT('PLA-FO-01'!D222,4)=\"E066\",LEFT('PLA-FO-01'!S222,2)<>\"60\"),AND(LEFT('PLA-FO-01'!D222,4)=\"E067\",LEFT('PLA-FO-01'!S222,2)<>\"60\"),AND(LEFT('PLA-FO-01'!D222,4)=\"E068\",LEFT('PLA-FO-01'!S222,2)<>\"60\")),\"AF1R6\",OR(LEFT('PLA-FO-01'!D222,4)=\"R001\",LEFT('PLA-FO-01'!D222,4)=\"O001\",LEFT('PLA-FO-01'!D222,4)=\"M001\"),\"AF1R7\"),\"Falta Valor\"), \"NO APLICA, revisar!\")","v":"Falta Valor"}]
[null,null,null,null,null,null,null,null,null,null,null,null,null,null,null,null,null,null,null,null,null,null,null,null,null,null,null,null,null,null,null,null,null,null,null,null,null,null,null,null,null,null,null,null,null,null,null,null,null,{"$f":"IFERROR(IF(AND('PLA-FO-01'!D223<>\"\",'PLA-FO-01'!S223<>\"\",'PLA-FO-01'!E223<>\"\"),_xlfn.IFS(OR(AND(LEFT('PLA-FO-01'!D223,4)=\"E040\",LEFT('PLA-FO-01'!E223,3)=\"C01\"),AND(LEFT('PLA-FO-01'!D223,4)=\"E040\",LEFT('PLA-FO-01'!E223,3)=\"C03\"),AND(LEFT('PLA-FO-01'!D223,4)=\"E040\",LEFT('PLA-FO-01'!E223,3)=\"C04\")),\"AF1R1\",AND(LEFT('PLA-FO-01'!D223,4)=\"E040\",LEFT('PLA-FO-01'!E223,3)=\"C02\",LEFT('PLA-FO-01'!S223,2)<>\"60\"),\"AF1R2\",AND(LEFT('PLA-FO-01'!D223,4)=\"E035\",LEFT('PLA-FO-01'!S223,5)=\"20040\"),\"AF1R3\",AND(LEFT('PLA-FO-01'!D223,4)=\"E035\",LEFT('PLA-FO-01'!S223,5)<>\"20040\"),\"AF1R4\",OR(AND(LEFT('PLA-FO-01'!D223,4)=\"E066\",LEFT('PLA-FO-01'!S223,2)=\"60\"),AND(LEFT('PLA-FO-01'!D223,4)=\"E067\",LEFT('PLA-FO-01'!S223,2)=\"60\"),AND(LEFT('PLA-FO-01'!D223,4)=\"E068\",LEFT('PLA-FO-01'!S223,2)=\"60\")),\"AF1R5\",OR(AND(LEFT('PLA-FO-01'!D223,4)=\"E066\",LEFT('PLA-FO-01'!S223,2)<>\"60\"),AND(LEFT('PLA-FO-01'!D223,4)=\"E067\",LEFT('PLA-FO-01'!S223,2)<>\"60\"),AND(LEFT('PLA-FO-01'!D223,4)=\"E068\",LEFT('PLA-FO-01'!S223,2)<>\"60\")),\"AF1R6\",OR(LEFT('PLA-FO-01'!D223,4)=\"R001\",LEFT('PLA-FO-01'!D223,4)=\"O001\",LEFT('PLA-FO-01'!D223,4)=\"M001\"),\"AF1R7\"),\"Falta Valor\"), \"NO APLICA, revisar!\")","v":"Falta Valor"}]
[null,null,null,null,null,null,null,null,null,null,null,null,null,null,null,null,null,null,null,null,null,null,null,null,null,null,null,null,null,null,null,null,null,null,null,null,null,null,null,null,null,null,null,null,null,null,null,null,null,{"$f":"IFERROR(IF(AND('PLA-FO-01'!D224<>\"\",'PLA-FO-01'!S224<>\"\",'PLA-FO-01'!E224<>\"\"),_xlfn.IFS(OR(AND(LEFT('PLA-FO-01'!D224,4)=\"E040\",LEFT('PLA-FO-01'!E224,3)=\"C01\"),AND(LEFT('PLA-FO-01'!D224,4)=\"E040\",LEFT('PLA-FO-01'!E224,3)=\"C03\"),AND(LEFT('PLA-FO-01'!D224,4)=\"E040\",LEFT('PLA-FO-01'!E224,3)=\"C04\")),\"AF1R1\",AND(LEFT('PLA-FO-01'!D224,4)=\"E040\",LEFT('PLA-FO-01'!E224,3)=\"C02\",LEFT('PLA-FO-01'!S224,2)<>\"60\"),\"AF1R2\",AND(LEFT('PLA-FO-01'!D224,4)=\"E035\",LEFT('PLA-FO-01'!S224,5)=\"20040\"),\"AF1R3\",AND(LEFT('PLA-FO-01'!D224,4)=\"E035\",LEFT('PLA-FO-01'!S224,5)<>\"20040\"),\"AF1R4\",OR(AND(LEFT('PLA-FO-01'!D224,4)=\"E066\",LEFT('PLA-FO-01'!S224,2)=\"60\"),AND(LEFT('PLA-FO-01'!D224,4)=\"E067\",LEFT('PLA-FO-01'!S224,2)=\"60\"),AND(LEFT('PLA-FO-01'!D224,4)=\"E068\",LEFT('PLA-FO-01'!S224,2)=\"60\")),\"AF1R5\",OR(AND(LEFT('PLA-FO-01'!D224,4)=\"E066\",LEFT('PLA-FO-01'!S224,2)<>\"60\"),AND(LEFT('PLA-FO-01'!D224,4)=\"E067\",LEFT('PLA-FO-01'!S224,2)<>\"60\"),AND(LEFT('PLA-FO-01'!D224,4)=\"E068\",LEFT('PLA-FO-01'!S224,2)<>\"60\")),\"AF1R6\",OR(LEFT('PLA-FO-01'!D224,4)=\"R001\",LEFT('PLA-FO-01'!D224,4)=\"O001\",LEFT('PLA-FO-01'!D224,4)=\"M001\"),\"AF1R7\"),\"Falta Valor\"), \"NO APLICA, revisar!\")","v":"Falta Valor"}]
[null,null,null,null,null,null,null,null,null,null,null,null,null,null,null,null,null,null,null,null,null,null,null,null,null,null,null,null,null,null,null,null,null,null,null,null,null,null,null,null,null,null,null,null,null,null,null,null,null,{"$f":"IFERROR(IF(AND('PLA-FO-01'!D225<>\"\",'PLA-FO-01'!S225<>\"\",'PLA-FO-01'!E225<>\"\"),_xlfn.IFS(OR(AND(LEFT('PLA-FO-01'!D225,4)=\"E040\",LEFT('PLA-FO-01'!E225,3)=\"C01\"),AND(LEFT('PLA-FO-01'!D225,4)=\"E040\",LEFT('PLA-FO-01'!E225,3)=\"C03\"),AND(LEFT('PLA-FO-01'!D225,4)=\"E040\",LEFT('PLA-FO-01'!E225,3)=\"C04\")),\"AF1R1\",AND(LEFT('PLA-FO-01'!D225,4)=\"E040\",LEFT('PLA-FO-01'!E225,3)=\"C02\",LEFT('PLA-FO-01'!S225,2)<>\"60\"),\"AF1R2\",AND(LEFT('PLA-FO-01'!D225,4)=\"E035\",LEFT('PLA-FO-01'!S225,5)=\"20040\"),\"AF1R3\",AND(LEFT('PLA-FO-01'!D225,4)=\"E035\",LEFT('PLA-FO-01'!S225,5)<>\"20040\"),\"AF1R4\",OR(AND(LEFT('PLA-FO-01'!D225,4)=\"E066\",LEFT('PLA-FO-01'!S225,2)=\"60\"),AND(LEFT('PLA-FO-01'!D225,4)=\"E067\",LEFT('PLA-FO-01'!S225,2)=\"60\"),AND(LEFT('PLA-FO-01'!D225,4)=\"E068\",LEFT('PLA-FO-01'!S225,2)=\"60\")),\"AF1R5\",OR(AND(LEFT('PLA-FO-01'!D225,4)=\"E066\",LEFT('PLA-FO-01'!S225,2)<>\"60\"),AND(LEFT('PLA-FO-01'!D225,4)=\"E067\",LEFT('PLA-FO-01'!S225,2)<>\"60\"),AND(LEFT('PLA-FO-01'!D225,4)=\"E068\",LEFT('PLA-FO-01'!S225,2)<>\"60\")),\"AF1R6\",OR(LEFT('PLA-FO-01'!D225,4)=\"R001\",LEFT('PLA-FO-01'!D225,4)=\"O001\",LEFT('PLA-FO-01'!D225,4)=\"M001\"),\"AF1R7\"),\"Falta Valor\"), \"NO APLICA, revisar!\")","v":"Falta Valor"}]
[null,null,null,null,null,null,null,null,null,null,null,null,null,null,null,null,null,null,null,null,null,null,null,null,null,null,null,null,null,null,null,null,null,null,null,null,null,null,null,null,null,null,null,null,null,null,null,null,null,{"$f":"IFERROR(IF(AND('PLA-FO-01'!D226<>\"\",'PLA-FO-01'!S226<>\"\",'PLA-FO-01'!E226<>\"\"),_xlfn.IFS(OR(AND(LEFT('PLA-FO-01'!D226,4)=\"E040\",LEFT('PLA-FO-01'!E226,3)=\"C01\"),AND(LEFT('PLA-FO-01'!D226,4)=\"E040\",LEFT('PLA-FO-01'!E226,3)=\"C03\"),AND(LEFT('PLA-FO-01'!D226,4)=\"E040\",LEFT('PLA-FO-01'!E226,3)=\"C04\")),\"AF1R1\",AND(LEFT('PLA-FO-01'!D226,4)=\"E040\",LEFT('PLA-FO-01'!E226,3)=\"C02\",LEFT('PLA-FO-01'!S226,2)<>\"60\"),\"AF1R2\",AND(LEFT('PLA-FO-01'!D226,4)=\"E035\",LEFT('PLA-FO-01'!S226,5)=\"20040\"),\"AF1R3\",AND(LEFT('PLA-FO-01'!D226,4)=\"E035\",LEFT('PLA-FO-01'!S226,5)<>\"20040\"),\"AF1R4\",OR(AND(LEFT('PLA-FO-01'!D226,4)=\"E066\",LEFT('PLA-FO-01'!S226,2)=\"60\"),AND(LEFT('PLA-FO-01'!D226,4)=\"E067\",LEFT('PLA-FO-01'!S226,2)=\"60\"),AND(LEFT('PLA-FO-01'!D226,4)=\"E068\",LEFT('PLA-FO-01'!S226,2)=\"60\")),\"AF1R5\",OR(AND(LEFT('PLA-FO-01'!D226,4)=\"E066\",LEFT('PLA-FO-01'!S226,2)<>\"60\"),AND(LEFT('PLA-FO-01'!D226,4)=\"E067\",LEFT('PLA-FO-01'!S226,2)<>\"60\"),AND(LEFT('PLA-FO-01'!D226,4)=\"E068\",LEFT('PLA-FO-01'!S226,2)<>\"60\")),\"AF1R6\",OR(LEFT('PLA-FO-01'!D226,4)=\"R001\",LEFT('PLA-FO-01'!D226,4)=\"O001\",LEFT('PLA-FO-01'!D226,4)=\"M001\"),\"AF1R7\"),\"Falta Valor\"), \"NO APLICA, revisar!\")","v":"Falta Valor"}]
[null,null,null,null,null,null,null,null,null,null,null,null,null,null,null,null,null,null,null,null,null,null,null,null,null,null,null,null,null,null,null,null,null,null,null,null,null,null,null,null,null,null,null,null,null,null,null,null,null,{"$f":"IFERROR(IF(AND('PLA-FO-01'!D227<>\"\",'PLA-FO-01'!S227<>\"\",'PLA-FO-01'!E227<>\"\"),_xlfn.IFS(OR(AND(LEFT('PLA-FO-01'!D227,4)=\"E040\",LEFT('PLA-FO-01'!E227,3)=\"C01\"),AND(LEFT('PLA-FO-01'!D227,4)=\"E040\",LEFT('PLA-FO-01'!E227,3)=\"C03\"),AND(LEFT('PLA-FO-01'!D227,4)=\"E040\",LEFT('PLA-FO-01'!E227,3)=\"C04\")),\"AF1R1\",AND(LEFT('PLA-FO-01'!D227,4)=\"E040\",LEFT('PLA-FO-01'!E227,3)=\"C02\",LEFT('PLA-FO-01'!S227,2)<>\"60\"),\"AF1R2\",AND(LEFT('PLA-FO-01'!D227,4)=\"E035\",LEFT('PLA-FO-01'!S227,5)=\"20040\"),\"AF1R3\",AND(LEFT('PLA-FO-01'!D227,4)=\"E035\",LEFT('PLA-FO-01'!S227,5)<>\"20040\"),\"AF1R4\",OR(AND(LEFT('PLA-FO-01'!D227,4)=\"E066\",LEFT('PLA-FO-01'!S227,2)=\"60\"),AND(LEFT('PLA-FO-01'!D227,4)=\"E067\",LEFT('PLA-FO-01'!S227,2)=\"60\"),AND(LEFT('PLA-FO-01'!D227,4)=\"E068\",LEFT('PLA-FO-01'!S227,2)=\"60\")),\"AF1R5\",OR(AND(LEFT('PLA-FO-01'!D227,4)=\"E066\",LEFT('PLA-FO-01'!S227,2)<>\"60\"),AND(LEFT('PLA-FO-01'!D227,4)=\"E067\",LEFT('PLA-FO-01'!S227,2)<>\"60\"),AND(LEFT('PLA-FO-01'!D227,4)=\"E068\",LEFT('PLA-FO-01'!S227,2)<>\"60\")),\"AF1R6\",OR(LEFT('PLA-FO-01'!D227,4)=\"R001\",LEFT('PLA-FO-01'!D227,4)=\"O001\",LEFT('PLA-FO-01'!D227,4)=\"M001\"),\"AF1R7\"),\"Falta Valor\"), \"NO APLICA, revisar!\")","v":"Falta Valor"}]
[null,null,null,null,null,null,null,null,null,null,null,null,null,null,null,null,null,null,null,null,null,null,null,null,null,null,null,null,null,null,null,null,null,null,null,null,null,null,null,null,null,null,null,null,null,null,null,null,null,{"$f":"IFERROR(IF(AND('PLA-FO-01'!D228<>\"\",'PLA-FO-01'!S228<>\"\",'PLA-FO-01'!E228<>\"\"),_xlfn.IFS(OR(AND(LEFT('PLA-FO-01'!D228,4)=\"E040\",LEFT('PLA-FO-01'!E228,3)=\"C01\"),AND(LEFT('PLA-FO-01'!D228,4)=\"E040\",LEFT('PLA-FO-01'!E228,3)=\"C03\"),AND(LEFT('PLA-FO-01'!D228,4)=\"E040\",LEFT('PLA-FO-01'!E228,3)=\"C04\")),\"AF1R1\",AND(LEFT('PLA-FO-01'!D228,4)=\"E040\",LEFT('PLA-FO-01'!E228,3)=\"C02\",LEFT('PLA-FO-01'!S228,2)<>\"60\"),\"AF1R2\",AND(LEFT('PLA-FO-01'!D228,4)=\"E035\",LEFT('PLA-FO-01'!S228,5)=\"20040\"),\"AF1R3\",AND(LEFT('PLA-FO-01'!D228,4)=\"E035\",LEFT('PLA-FO-01'!S228,5)<>\"20040\"),\"AF1R4\",OR(AND(LEFT('PLA-FO-01'!D228,4)=\"E066\",LEFT('PLA-FO-01'!S228,2)=\"60\"),AND(LEFT('PLA-FO-01'!D228,4)=\"E067\",LEFT('PLA-FO-01'!S228,2)=\"60\"),AND(LEFT('PLA-FO-01'!D228,4)=\"E068\",LEFT('PLA-FO-01'!S228,2)=\"60\")),\"AF1R5\",OR(AND(LEFT('PLA-FO-01'!D228,4)=\"E066\",LEFT('PLA-FO-01'!S228,2)<>\"60\"),AND(LEFT('PLA-FO-01'!D228,4)=\"E067\",LEFT('PLA-FO-01'!S228,2)<>\"60\"),AND(LEFT('PLA-FO-01'!D228,4)=\"E068\",LEFT('PLA-FO-01'!S228,2)<>\"60\")),\"AF1R6\",OR(LEFT('PLA-FO-01'!D228,4)=\"R001\",LEFT('PLA-FO-01'!D228,4)=\"O001\",LEFT('PLA-FO-01'!D228,4)=\"M001\"),\"AF1R7\"),\"Falta Valor\"), \"NO APLICA, revisar!\")","v":"Falta Valor"}]
[null,null,null,null,null,null,null,null,null,null,null,null,null,null,null,null,null,null,null,null,null,null,null,null,null,null,null,null,null,null,null,null,null,null,null,null,null,null,null,null,null,null,null,null,null,null,null,null,null,{"$f":"IFERROR(IF(AND('PLA-FO-01'!D229<>\"\",'PLA-FO-01'!S229<>\"\",'PLA-FO-01'!E229<>\"\"),_xlfn.IFS(OR(AND(LEFT('PLA-FO-01'!D229,4)=\"E040\",LEFT('PLA-FO-01'!E229,3)=\"C01\"),AND(LEFT('PLA-FO-01'!D229,4)=\"E040\",LEFT('PLA-FO-01'!E229,3)=\"C03\"),AND(LEFT('PLA-FO-01'!D229,4)=\"E040\",LEFT('PLA-FO-01'!E229,3)=\"C04\")),\"AF1R1\",AND(LEFT('PLA-FO-01'!D229,4)=\"E040\",LEFT('PLA-FO-01'!E229,3)=\"C02\",LEFT('PLA-FO-01'!S229,2)<>\"60\"),\"AF1R2\",AND(LEFT('PLA-FO-01'!D229,4)=\"E035\",LEFT('PLA-FO-01'!S229,5)=\"20040\"),\"AF1R3\",AND(LEFT('PLA-FO-01'!D229,4)=\"E035\",LEFT('PLA-FO-01'!S229,5)<>\"20040\"),\"AF1R4\",OR(AND(LEFT('PLA-FO-01'!D229,4)=\"E066\",LEFT('PLA-FO-01'!S229,2)=\"60\"),AND(LEFT('PLA-FO-01'!D229,4)=\"E067\",LEFT('PLA-FO-01'!S229,2)=\"60\"),AND(LEFT('PLA-FO-01'!D229,4)=\"E068\",LEFT('PLA-FO-01'!S229,2)=\"60\")),\"AF1R5\",OR(AND(LEFT('PLA-FO-01'!D229,4)=\"E066\",LEFT('PLA-FO-01'!S229,2)<>\"60\"),AND(LEFT('PLA-FO-01'!D229,4)=\"E067\",LEFT('PLA-FO-01'!S229,2)<>\"60\"),AND(LEFT('PLA-FO-01'!D229,4)=\"E068\",LEFT('PLA-FO-01'!S229,2)<>\"60\")),\"AF1R6\",OR(LEFT('PLA-FO-01'!D229,4)=\"R001\",LEFT('PLA-FO-01'!D229,4)=\"O001\",LEFT('PLA-FO-01'!D229,4)=\"M001\"),\"AF1R7\"),\"Falta Valor\"), \"NO APLICA, revisar!\")","v":"Falta Valor"}]
[null,null,null,null,null,null,null,null,null,null,null,null,null,null,null,null,null,null,null,null,null,null,null,null,null,null,null,null,null,null,null,null,null,null,null,null,null,null,null,null,null,null,null,null,null,null,null,null,null,{"$f":"IFERROR(IF(AND('PLA-FO-01'!D230<>\"\",'PLA-FO-01'!S230<>\"\",'PLA-FO-01'!E230<>\"\"),_xlfn.IFS(OR(AND(LEFT('PLA-FO-01'!D230,4)=\"E040\",LEFT('PLA-FO-01'!E230,3)=\"C01\"),AND(LEFT('PLA-FO-01'!D230,4)=\"E040\",LEFT('PLA-FO-01'!E230,3)=\"C03\"),AND(LEFT('PLA-FO-01'!D230,4)=\"E040\",LEFT('PLA-FO-01'!E230,3)=\"C04\")),\"AF1R1\",AND(LEFT('PLA-FO-01'!D230,4)=\"E040\",LEFT('PLA-FO-01'!E230,3)=\"C02\",LEFT('PLA-FO-01'!S230,2)<>\"60\"),\"AF1R2\",AND(LEFT('PLA-FO-01'!D230,4)=\"E035\",LEFT('PLA-FO-01'!S230,5)=\"20040\"),\"AF1R3\",AND(LEFT('PLA-FO-01'!D230,4)=\"E035\",LEFT('PLA-FO-01'!S230,5)<>\"20040\"),\"AF1R4\",OR(AND(LEFT('PLA-FO-01'!D230,4)=\"E066\",LEFT('PLA-FO-01'!S230,2)=\"60\"),AND(LEFT('PLA-FO-01'!D230,4)=\"E067\",LEFT('PLA-FO-01'!S230,2)=\"60\"),AND(LEFT('PLA-FO-01'!D230,4)=\"E068\",LEFT('PLA-FO-01'!S230,2)=\"60\")),\"AF1R5\",OR(AND(LEFT('PLA-FO-01'!D230,4)=\"E066\",LEFT('PLA-FO-01'!S230,2)<>\"60\"),AND(LEFT('PLA-FO-01'!D230,4)=\"E067\",LEFT('PLA-FO-01'!S230,2)<>\"60\"),AND(LEFT('PLA-FO-01'!D230,4)=\"E068\",LEFT('PLA-FO-01'!S230,2)<>\"60\")),\"AF1R6\",OR(LEFT('PLA-FO-01'!D230,4)=\"R001\",LEFT('PLA-FO-01'!D230,4)=\"O001\",LEFT('PLA-FO-01'!D230,4)=\"M001\"),\"AF1R7\"),\"Falta Valor\"), \"NO APLICA, revisar!\")","v":"Falta Valor"}]
[null,null,null,null,null,null,null,null,null,null,null,null,null,null,null,null,null,null,null,null,null,null,null,null,null,null,null,null,null,null,null,null,null,null,null,null,null,null,null,null,null,null,null,null,null,null,null,null,null,{"$f":"IFERROR(IF(AND('PLA-FO-01'!D231<>\"\",'PLA-FO-01'!S231<>\"\",'PLA-FO-01'!E231<>\"\"),_xlfn.IFS(OR(AND(LEFT('PLA-FO-01'!D231,4)=\"E040\",LEFT('PLA-FO-01'!E231,3)=\"C01\"),AND(LEFT('PLA-FO-01'!D231,4)=\"E040\",LEFT('PLA-FO-01'!E231,3)=\"C03\"),AND(LEFT('PLA-FO-01'!D231,4)=\"E040\",LEFT('PLA-FO-01'!E231,3)=\"C04\")),\"AF1R1\",AND(LEFT('PLA-FO-01'!D231,4)=\"E040\",LEFT('PLA-FO-01'!E231,3)=\"C02\",LEFT('PLA-FO-01'!S231,2)<>\"60\"),\"AF1R2\",AND(LEFT('PLA-FO-01'!D231,4)=\"E035\",LEFT('PLA-FO-01'!S231,5)=\"20040\"),\"AF1R3\",AND(LEFT('PLA-FO-01'!D231,4)=\"E035\",LEFT('PLA-FO-01'!S231,5)<>\"20040\"),\"AF1R4\",OR(AND(LEFT('PLA-FO-01'!D231,4)=\"E066\",LEFT('PLA-FO-01'!S231,2)=\"60\"),AND(LEFT('PLA-FO-01'!D231,4)=\"E067\",LEFT('PLA-FO-01'!S231,2)=\"60\"),AND(LEFT('PLA-FO-01'!D231,4)=\"E068\",LEFT('PLA-FO-01'!S231,2)=\"60\")),\"AF1R5\",OR(AND(LEFT('PLA-FO-01'!D231,4)=\"E066\",LEFT('PLA-FO-01'!S231,2)<>\"60\"),AND(LEFT('PLA-FO-01'!D231,4)=\"E067\",LEFT('PLA-FO-01'!S231,2)<>\"60\"),AND(LEFT('PLA-FO-01'!D231,4)=\"E068\",LEFT('PLA-FO-01'!S231,2)<>\"60\")),\"AF1R6\",OR(LEFT('PLA-FO-01'!D231,4)=\"R001\",LEFT('PLA-FO-01'!D231,4)=\"O001\",LEFT('PLA-FO-01'!D231,4)=\"M001\"),\"AF1R7\"),\"Falta Valor\"), \"NO APLICA, revisar!\")","v":"Falta Valor"}]
[null,null,null,null,null,null,null,null,null,null,null,null,null,null,null,null,null,null,null,null,null,null,null,null,null,null,null,null,null,null,null,null,null,null,null,null,null,null,null,null,null,null,null,null,null,null,null,null,null,{"$f":"IFERROR(IF(AND('PLA-FO-01'!D232<>\"\",'PLA-FO-01'!S232<>\"\",'PLA-FO-01'!E232<>\"\"),_xlfn.IFS(OR(AND(LEFT('PLA-FO-01'!D232,4)=\"E040\",LEFT('PLA-FO-01'!E232,3)=\"C01\"),AND(LEFT('PLA-FO-01'!D232,4)=\"E040\",LEFT('PLA-FO-01'!E232,3)=\"C03\"),AND(LEFT('PLA-FO-01'!D232,4)=\"E040\",LEFT('PLA-FO-01'!E232,3)=\"C04\")),\"AF1R1\",AND(LEFT('PLA-FO-01'!D232,4)=\"E040\",LEFT('PLA-FO-01'!E232,3)=\"C02\",LEFT('PLA-FO-01'!S232,2)<>\"60\"),\"AF1R2\",AND(LEFT('PLA-FO-01'!D232,4)=\"E035\",LEFT('PLA-FO-01'!S232,5)=\"20040\"),\"AF1R3\",AND(LEFT('PLA-FO-01'!D232,4)=\"E035\",LEFT('PLA-FO-01'!S232,5)<>\"20040\"),\"AF1R4\",OR(AND(LEFT('PLA-FO-01'!D232,4)=\"E066\",LEFT('PLA-FO-01'!S232,2)=\"60\"),AND(LEFT('PLA-FO-01'!D232,4)=\"E067\",LEFT('PLA-FO-01'!S232,2)=\"60\"),AND(LEFT('PLA-FO-01'!D232,4)=\"E068\",LEFT('PLA-FO-01'!S232,2)=\"60\")),\"AF1R5\",OR(AND(LEFT('PLA-FO-01'!D232,4)=\"E066\",LEFT('PLA-FO-01'!S232,2)<>\"60\"),AND(LEFT('PLA-FO-01'!D232,4)=\"E067\",LEFT('PLA-FO-01'!S232,2)<>\"60\"),AND(LEFT('PLA-FO-01'!D232,4)=\"E068\",LEFT('PLA-FO-01'!S232,2)<>\"60\")),\"AF1R6\",OR(LEFT('PLA-FO-01'!D232,4)=\"R001\",LEFT('PLA-FO-01'!D232,4)=\"O001\",LEFT('PLA-FO-01'!D232,4)=\"M001\"),\"AF1R7\"),\"Falta Valor\"), \"NO APLICA, revisar!\")","v":"Falta Valor"}]
[null,null,null,null,null,null,null,null,null,null,null,null,null,null,null,null,null,null,null,null,null,null,null,null,null,null,null,null,null,null,null,null,null,null,null,null,null,null,null,null,null,null,null,null,null,null,null,null,null,{"$f":"IFERROR(IF(AND('PLA-FO-01'!D233<>\"\",'PLA-FO-01'!S233<>\"\",'PLA-FO-01'!E233<>\"\"),_xlfn.IFS(OR(AND(LEFT('PLA-FO-01'!D233,4)=\"E040\",LEFT('PLA-FO-01'!E233,3)=\"C01\"),AND(LEFT('PLA-FO-01'!D233,4)=\"E040\",LEFT('PLA-FO-01'!E233,3)=\"C03\"),AND(LEFT('PLA-FO-01'!D233,4)=\"E040\",LEFT('PLA-FO-01'!E233,3)=\"C04\")),\"AF1R1\",AND(LEFT('PLA-FO-01'!D233,4)=\"E040\",LEFT('PLA-FO-01'!E233,3)=\"C02\",LEFT('PLA-FO-01'!S233,2)<>\"60\"),\"AF1R2\",AND(LEFT('PLA-FO-01'!D233,4)=\"E035\",LEFT('PLA-FO-01'!S233,5)=\"20040\"),\"AF1R3\",AND(LEFT('PLA-FO-01'!D233,4)=\"E035\",LEFT('PLA-FO-01'!S233,5)<>\"20040\"),\"AF1R4\",OR(AND(LEFT('PLA-FO-01'!D233,4)=\"E066\",LEFT('PLA-FO-01'!S233,2)=\"60\"),AND(LEFT('PLA-FO-01'!D233,4)=\"E067\",LEFT('PLA-FO-01'!S233,2)=\"60\"),AND(LEFT('PLA-FO-01'!D233,4)=\"E068\",LEFT('PLA-FO-01'!S233,2)=\"60\")),\"AF1R5\",OR(AND(LEFT('PLA-FO-01'!D233,4)=\"E066\",LEFT('PLA-FO-01'!S233,2)<>\"60\"),AND(LEFT('PLA-FO-01'!D233,4)=\"E067\",LEFT('PLA-FO-01'!S233,2)<>\"60\"),AND(LEFT('PLA-FO-01'!D233,4)=\"E068\",LEFT('PLA-FO-01'!S233,2)<>\"60\")),\"AF1R6\",OR(LEFT('PLA-FO-01'!D233,4)=\"R001\",LEFT('PLA-FO-01'!D233,4)=\"O001\",LEFT('PLA-FO-01'!D233,4)=\"M001\"),\"AF1R7\"),\"Falta Valor\"), \"NO APLICA, revisar!\")","v":"Falta Valor"}]
[null,null,null,null,null,null,null,null,null,null,null,null,null,null,null,null,null,null,null,null,null,null,null,null,null,null,null,null,null,null,null,null,null,null,null,null,null,null,null,null,null,null,null,null,null,null,null,null,null,{"$f":"IFERROR(IF(AND('PLA-FO-01'!D234<>\"\",'PLA-FO-01'!S234<>\"\",'PLA-FO-01'!E234<>\"\"),_xlfn.IFS(OR(AND(LEFT('PLA-FO-01'!D234,4)=\"E040\",LEFT('PLA-FO-01'!E234,3)=\"C01\"),AND(LEFT('PLA-FO-01'!D234,4)=\"E040\",LEFT('PLA-FO-01'!E234,3)=\"C03\"),AND(LEFT('PLA-FO-01'!D234,4)=\"E040\",LEFT('PLA-FO-01'!E234,3)=\"C04\")),\"AF1R1\",AND(LEFT('PLA-FO-01'!D234,4)=\"E040\",LEFT('PLA-FO-01'!E234,3)=\"C02\",LEFT('PLA-FO-01'!S234,2)<>\"60\"),\"AF1R2\",AND(LEFT('PLA-FO-01'!D234,4)=\"E035\",LEFT('PLA-FO-01'!S234,5)=\"20040\"),\"AF1R3\",AND(LEFT('PLA-FO-01'!D234,4)=\"E035\",LEFT('PLA-FO-01'!S234,5)<>\"20040\"),\"AF1R4\",OR(AND(LEFT('PLA-FO-01'!D234,4)=\"E066\",LEFT('PLA-FO-01'!S234,2)=\"60\"),AND(LEFT('PLA-FO-01'!D234,4)=\"E067\",LEFT('PLA-FO-01'!S234,2)=\"60\"),AND(LEFT('PLA-FO-01'!D234,4)=\"E068\",LEFT('PLA-FO-01'!S234,2)=\"60\")),\"AF1R5\",OR(AND(LEFT('PLA-FO-01'!D234,4)=\"E066\",LEFT('PLA-FO-01'!S234,2)<>\"60\"),AND(LEFT('PLA-FO-01'!D234,4)=\"E067\",LEFT('PLA-FO-01'!S234,2)<>\"60\"),AND(LEFT('PLA-FO-01'!D234,4)=\"E068\",LEFT('PLA-FO-01'!S234,2)<>\"60\")),\"AF1R6\",OR(LEFT('PLA-FO-01'!D234,4)=\"R001\",LEFT('PLA-FO-01'!D234,4)=\"O001\",LEFT('PLA-FO-01'!D234,4)=\"M001\"),\"AF1R7\"),\"Falta Valor\"), \"NO APLICA, revisar!\")","v":"Falta Valor"}]
[null,null,null,null,null,null,null,null,null,null,null,null,null,null,null,null,null,null,null,null,null,null,null,null,null,null,null,null,null,null,null,null,null,null,null,null,null,null,null,null,null,null,null,null,null,null,null,null,null,{"$f":"IFERROR(IF(AND('PLA-FO-01'!D235<>\"\",'PLA-FO-01'!S235<>\"\",'PLA-FO-01'!E235<>\"\"),_xlfn.IFS(OR(AND(LEFT('PLA-FO-01'!D235,4)=\"E040\",LEFT('PLA-FO-01'!E235,3)=\"C01\"),AND(LEFT('PLA-FO-01'!D235,4)=\"E040\",LEFT('PLA-FO-01'!E235,3)=\"C03\"),AND(LEFT('PLA-FO-01'!D235,4)=\"E040\",LEFT('PLA-FO-01'!E235,3)=\"C04\")),\"AF1R1\",AND(LEFT('PLA-FO-01'!D235,4)=\"E040\",LEFT('PLA-FO-01'!E235,3)=\"C02\",LEFT('PLA-FO-01'!S235,2)<>\"60\"),\"AF1R2\",AND(LEFT('PLA-FO-01'!D235,4)=\"E035\",LEFT('PLA-FO-01'!S235,5)=\"20040\"),\"AF1R3\",AND(LEFT('PLA-FO-01'!D235,4)=\"E035\",LEFT('PLA-FO-01'!S235,5)<>\"20040\"),\"AF1R4\",OR(AND(LEFT('PLA-FO-01'!D235,4)=\"E066\",LEFT('PLA-FO-01'!S235,2)=\"60\"),AND(LEFT('PLA-FO-01'!D235,4)=\"E067\",LEFT('PLA-FO-01'!S235,2)=\"60\"),AND(LEFT('PLA-FO-01'!D235,4)=\"E068\",LEFT('PLA-FO-01'!S235,2)=\"60\")),\"AF1R5\",OR(AND(LEFT('PLA-FO-01'!D235,4)=\"E066\",LEFT('PLA-FO-01'!S235,2)<>\"60\"),AND(LEFT('PLA-FO-01'!D235,4)=\"E067\",LEFT('PLA-FO-01'!S235,2)<>\"60\"),AND(LEFT('PLA-FO-01'!D235,4)=\"E068\",LEFT('PLA-FO-01'!S235,2)<>\"60\")),\"AF1R6\",OR(LEFT('PLA-FO-01'!D235,4)=\"R001\",LEFT('PLA-FO-01'!D235,4)=\"O001\",LEFT('PLA-FO-01'!D235,4)=\"M001\"),\"AF1R7\"),\"Falta Valor\"), \"NO APLICA, revisar!\")","v":"Falta Valor"}]
[null,null,null,null,null,null,null,null,null,null,null,null,null,null,null,null,null,null,null,null,null,null,null,null,null,null,null,null,null,null,null,null,null,null,null,null,null,null,null,null,null,null,null,null,null,null,null,null,null,{"$f":"IFERROR(IF(AND('PLA-FO-01'!D236<>\"\",'PLA-FO-01'!S236<>\"\",'PLA-FO-01'!E236<>\"\"),_xlfn.IFS(OR(AND(LEFT('PLA-FO-01'!D236,4)=\"E040\",LEFT('PLA-FO-01'!E236,3)=\"C01\"),AND(LEFT('PLA-FO-01'!D236,4)=\"E040\",LEFT('PLA-FO-01'!E236,3)=\"C03\"),AND(LEFT('PLA-FO-01'!D236,4)=\"E040\",LEFT('PLA-FO-01'!E236,3)=\"C04\")),\"AF1R1\",AND(LEFT('PLA-FO-01'!D236,4)=\"E040\",LEFT('PLA-FO-01'!E236,3)=\"C02\",LEFT('PLA-FO-01'!S236,2)<>\"60\"),\"AF1R2\",AND(LEFT('PLA-FO-01'!D236,4)=\"E035\",LEFT('PLA-FO-01'!S236,5)=\"20040\"),\"AF1R3\",AND(LEFT('PLA-FO-01'!D236,4)=\"E035\",LEFT('PLA-FO-01'!S236,5)<>\"20040\"),\"AF1R4\",OR(AND(LEFT('PLA-FO-01'!D236,4)=\"E066\",LEFT('PLA-FO-01'!S236,2)=\"60\"),AND(LEFT('PLA-FO-01'!D236,4)=\"E067\",LEFT('PLA-FO-01'!S236,2)=\"60\"),AND(LEFT('PLA-FO-01'!D236,4)=\"E068\",LEFT('PLA-FO-01'!S236,2)=\"60\")),\"AF1R5\",OR(AND(LEFT('PLA-FO-01'!D236,4)=\"E066\",LEFT('PLA-FO-01'!S236,2)<>\"60\"),AND(LEFT('PLA-FO-01'!D236,4)=\"E067\",LEFT('PLA-FO-01'!S236,2)<>\"60\"),AND(LEFT('PLA-FO-01'!D236,4)=\"E068\",LEFT('PLA-FO-01'!S236,2)<>\"60\")),\"AF1R6\",OR(LEFT('PLA-FO-01'!D236,4)=\"R001\",LEFT('PLA-FO-01'!D236,4)=\"O001\",LEFT('PLA-FO-01'!D236,4)=\"M001\"),\"AF1R7\"),\"Falta Valor\"), \"NO APLICA, revisar!\")","v":"Falta Valor"}]
[null,null,null,null,null,null,null,null,null,null,null,null,null,null,null,null,null,null,null,null,null,null,null,null,null,null,null,null,null,null,null,null,null,null,null,null,null,null,null,null,null,null,null,null,null,null,null,null,null,{"$f":"IFERROR(IF(AND('PLA-FO-01'!D237<>\"\",'PLA-FO-01'!S237<>\"\",'PLA-FO-01'!E237<>\"\"),_xlfn.IFS(OR(AND(LEFT('PLA-FO-01'!D237,4)=\"E040\",LEFT('PLA-FO-01'!E237,3)=\"C01\"),AND(LEFT('PLA-FO-01'!D237,4)=\"E040\",LEFT('PLA-FO-01'!E237,3)=\"C03\"),AND(LEFT('PLA-FO-01'!D237,4)=\"E040\",LEFT('PLA-FO-01'!E237,3)=\"C04\")),\"AF1R1\",AND(LEFT('PLA-FO-01'!D237,4)=\"E040\",LEFT('PLA-FO-01'!E237,3)=\"C02\",LEFT('PLA-FO-01'!S237,2)<>\"60\"),\"AF1R2\",AND(LEFT('PLA-FO-01'!D237,4)=\"E035\",LEFT('PLA-FO-01'!S237,5)=\"20040\"),\"AF1R3\",AND(LEFT('PLA-FO-01'!D237,4)=\"E035\",LEFT('PLA-FO-01'!S237,5)<>\"20040\"),\"AF1R4\",OR(AND(LEFT('PLA-FO-01'!D237,4)=\"E066\",LEFT('PLA-FO-01'!S237,2)=\"60\"),AND(LEFT('PLA-FO-01'!D237,4)=\"E067\",LEFT('PLA-FO-01'!S237,2)=\"60\"),AND(LEFT('PLA-FO-01'!D237,4)=\"E068\",LEFT('PLA-FO-01'!S237,2)=\"60\")),\"AF1R5\",OR(AND(LEFT('PLA-FO-01'!D237,4)=\"E066\",LEFT('PLA-FO-01'!S237,2)<>\"60\"),AND(LEFT('PLA-FO-01'!D237,4)=\"E067\",LEFT('PLA-FO-01'!S237,2)<>\"60\"),AND(LEFT('PLA-FO-01'!D237,4)=\"E068\",LEFT('PLA-FO-01'!S237,2)<>\"60\")),\"AF1R6\",OR(LEFT('PLA-FO-01'!D237,4)=\"R001\",LEFT('PLA-FO-01'!D237,4)=\"O001\",LEFT('PLA-FO-01'!D237,4)=\"M001\"),\"AF1R7\"),\"Falta Valor\"), \"NO APLICA, revisar!\")","v":"Falta Valor"}]
[null,null,null,null,null,null,null,null,null,null,null,null,null,null,null,null,null,null,null,null,null,null,null,null,null,null,null,null,null,null,null,null,null,null,null,null,null,null,null,null,null,null,null,null,null,null,null,null,null,{"$f":"IFERROR(IF(AND('PLA-FO-01'!D238<>\"\",'PLA-FO-01'!S238<>\"\",'PLA-FO-01'!E238<>\"\"),_xlfn.IFS(OR(AND(LEFT('PLA-FO-01'!D238,4)=\"E040\",LEFT('PLA-FO-01'!E238,3)=\"C01\"),AND(LEFT('PLA-FO-01'!D238,4)=\"E040\",LEFT('PLA-FO-01'!E238,3)=\"C03\"),AND(LEFT('PLA-FO-01'!D238,4)=\"E040\",LEFT('PLA-FO-01'!E238,3)=\"C04\")),\"AF1R1\",AND(LEFT('PLA-FO-01'!D238,4)=\"E040\",LEFT('PLA-FO-01'!E238,3)=\"C02\",LEFT('PLA-FO-01'!S238,2)<>\"60\"),\"AF1R2\",AND(LEFT('PLA-FO-01'!D238,4)=\"E035\",LEFT('PLA-FO-01'!S238,5)=\"20040\"),\"AF1R3\",AND(LEFT('PLA-FO-01'!D238,4)=\"E035\",LEFT('PLA-FO-01'!S238,5)<>\"20040\"),\"AF1R4\",OR(AND(LEFT('PLA-FO-01'!D238,4)=\"E066\",LEFT('PLA-FO-01'!S238,2)=\"60\"),AND(LEFT('PLA-FO-01'!D238,4)=\"E067\",LEFT('PLA-FO-01'!S238,2)=\"60\"),AND(LEFT('PLA-FO-01'!D238,4)=\"E068\",LEFT('PLA-FO-01'!S238,2)=\"60\")),\"AF1R5\",OR(AND(LEFT('PLA-FO-01'!D238,4)=\"E066\",LEFT('PLA-FO-01'!S238,2)<>\"60\"),AND(LEFT('PLA-FO-01'!D238,4)=\"E067\",LEFT('PLA-FO-01'!S238,2)<>\"60\"),AND(LEFT('PLA-FO-01'!D238,4)=\"E068\",LEFT('PLA-FO-01'!S238,2)<>\"60\")),\"AF1R6\",OR(LEFT('PLA-FO-01'!D238,4)=\"R001\",LEFT('PLA-FO-01'!D238,4)=\"O001\",LEFT('PLA-FO-01'!D238,4)=\"M001\"),\"AF1R7\"),\"Falta Valor\"), \"NO APLICA, revisar!\")","v":"Falta Valor"}]
[null,null,null,null,null,null,null,null,null,null,null,null,null,null,null,null,null,null,null,null,null,null,null,null,null,null,null,null,null,null,null,null,null,null,null,null,null,null,null,null,null,null,null,null,null,null,null,null,null,{"$f":"IFERROR(IF(AND('PLA-FO-01'!D239<>\"\",'PLA-FO-01'!S239<>\"\",'PLA-FO-01'!E239<>\"\"),_xlfn.IFS(OR(AND(LEFT('PLA-FO-01'!D239,4)=\"E040\",LEFT('PLA-FO-01'!E239,3)=\"C01\"),AND(LEFT('PLA-FO-01'!D239,4)=\"E040\",LEFT('PLA-FO-01'!E239,3)=\"C03\"),AND(LEFT('PLA-FO-01'!D239,4)=\"E040\",LEFT('PLA-FO-01'!E239,3)=\"C04\")),\"AF1R1\",AND(LEFT('PLA-FO-01'!D239,4)=\"E040\",LEFT('PLA-FO-01'!E239,3)=\"C02\",LEFT('PLA-FO-01'!S239,2)<>\"60\"),\"AF1R2\",AND(LEFT('PLA-FO-01'!D239,4)=\"E035\",LEFT('PLA-FO-01'!S239,5)=\"20040\"),\"AF1R3\",AND(LEFT('PLA-FO-01'!D239,4)=\"E035\",LEFT('PLA-FO-01'!S239,5)<>\"20040\"),\"AF1R4\",OR(AND(LEFT('PLA-FO-01'!D239,4)=\"E066\",LEFT('PLA-FO-01'!S239,2)=\"60\"),AND(LEFT('PLA-FO-01'!D239,4)=\"E067\",LEFT('PLA-FO-01'!S239,2)=\"60\"),AND(LEFT('PLA-FO-01'!D239,4)=\"E068\",LEFT('PLA-FO-01'!S239,2)=\"60\")),\"AF1R5\",OR(AND(LEFT('PLA-FO-01'!D239,4)=\"E066\",LEFT('PLA-FO-01'!S239,2)<>\"60\"),AND(LEFT('PLA-FO-01'!D239,4)=\"E067\",LEFT('PLA-FO-01'!S239,2)<>\"60\"),AND(LEFT('PLA-FO-01'!D239,4)=\"E068\",LEFT('PLA-FO-01'!S239,2)<>\"60\")),\"AF1R6\",OR(LEFT('PLA-FO-01'!D239,4)=\"R001\",LEFT('PLA-FO-01'!D239,4)=\"O001\",LEFT('PLA-FO-01'!D239,4)=\"M001\"),\"AF1R7\"),\"Falta Valor\"), \"NO APLICA, revisar!\")","v":"Falta Valor"}]
[null,null,null,null,null,null,null,null,null,null,null,null,null,null,null,null,null,null,null,null,null,null,null,null,null,null,null,null,null,null,null,null,null,null,null,null,null,null,null,null,null,null,null,null,null,null,null,null,null,{"$f":"IFERROR(IF(AND('PLA-FO-01'!D240<>\"\",'PLA-FO-01'!S240<>\"\",'PLA-FO-01'!E240<>\"\"),_xlfn.IFS(OR(AND(LEFT('PLA-FO-01'!D240,4)=\"E040\",LEFT('PLA-FO-01'!E240,3)=\"C01\"),AND(LEFT('PLA-FO-01'!D240,4)=\"E040\",LEFT('PLA-FO-01'!E240,3)=\"C03\"),AND(LEFT('PLA-FO-01'!D240,4)=\"E040\",LEFT('PLA-FO-01'!E240,3)=\"C04\")),\"AF1R1\",AND(LEFT('PLA-FO-01'!D240,4)=\"E040\",LEFT('PLA-FO-01'!E240,3)=\"C02\",LEFT('PLA-FO-01'!S240,2)<>\"60\"),\"AF1R2\",AND(LEFT('PLA-FO-01'!D240,4)=\"E035\",LEFT('PLA-FO-01'!S240,5)=\"20040\"),\"AF1R3\",AND(LEFT('PLA-FO-01'!D240,4)=\"E035\",LEFT('PLA-FO-01'!S240,5)<>\"20040\"),\"AF1R4\",OR(AND(LEFT('PLA-FO-01'!D240,4)=\"E066\",LEFT('PLA-FO-01'!S240,2)=\"60\"),AND(LEFT('PLA-FO-01'!D240,4)=\"E067\",LEFT('PLA-FO-01'!S240,2)=\"60\"),AND(LEFT('PLA-FO-01'!D240,4)=\"E068\",LEFT('PLA-FO-01'!S240,2)=\"60\")),\"AF1R5\",OR(AND(LEFT('PLA-FO-01'!D240,4)=\"E066\",LEFT('PLA-FO-01'!S240,2)<>\"60\"),AND(LEFT('PLA-FO-01'!D240,4)=\"E067\",LEFT('PLA-FO-01'!S240,2)<>\"60\"),AND(LEFT('PLA-FO-01'!D240,4)=\"E068\",LEFT('PLA-FO-01'!S240,2)<>\"60\")),\"AF1R6\",OR(LEFT('PLA-FO-01'!D240,4)=\"R001\",LEFT('PLA-FO-01'!D240,4)=\"O001\",LEFT('PLA-FO-01'!D240,4)=\"M001\"),\"AF1R7\"),\"Falta Valor\"), \"NO APLICA, revisar!\")","v":"Falta Valor"}]
[null,null,null,null,null,null,null,null,null,null,null,null,null,null,null,null,null,null,null,null,null,null,null,null,null,null,null,null,null,null,null,null,null,null,null,null,null,null,null,null,null,null,null,null,null,null,null,null,null,{"$f":"IFERROR(IF(AND('PLA-FO-01'!D241<>\"\",'PLA-FO-01'!S241<>\"\",'PLA-FO-01'!E241<>\"\"),_xlfn.IFS(OR(AND(LEFT('PLA-FO-01'!D241,4)=\"E040\",LEFT('PLA-FO-01'!E241,3)=\"C01\"),AND(LEFT('PLA-FO-01'!D241,4)=\"E040\",LEFT('PLA-FO-01'!E241,3)=\"C03\"),AND(LEFT('PLA-FO-01'!D241,4)=\"E040\",LEFT('PLA-FO-01'!E241,3)=\"C04\")),\"AF1R1\",AND(LEFT('PLA-FO-01'!D241,4)=\"E040\",LEFT('PLA-FO-01'!E241,3)=\"C02\",LEFT('PLA-FO-01'!S241,2)<>\"60\"),\"AF1R2\",AND(LEFT('PLA-FO-01'!D241,4)=\"E035\",LEFT('PLA-FO-01'!S241,5)=\"20040\"),\"AF1R3\",AND(LEFT('PLA-FO-01'!D241,4)=\"E035\",LEFT('PLA-FO-01'!S241,5)<>\"20040\"),\"AF1R4\",OR(AND(LEFT('PLA-FO-01'!D241,4)=\"E066\",LEFT('PLA-FO-01'!S241,2)=\"60\"),AND(LEFT('PLA-FO-01'!D241,4)=\"E067\",LEFT('PLA-FO-01'!S241,2)=\"60\"),AND(LEFT('PLA-FO-01'!D241,4)=\"E068\",LEFT('PLA-FO-01'!S241,2)=\"60\")),\"AF1R5\",OR(AND(LEFT('PLA-FO-01'!D241,4)=\"E066\",LEFT('PLA-FO-01'!S241,2)<>\"60\"),AND(LEFT('PLA-FO-01'!D241,4)=\"E067\",LEFT('PLA-FO-01'!S241,2)<>\"60\"),AND(LEFT('PLA-FO-01'!D241,4)=\"E068\",LEFT('PLA-FO-01'!S241,2)<>\"60\")),\"AF1R6\",OR(LEFT('PLA-FO-01'!D241,4)=\"R001\",LEFT('PLA-FO-01'!D241,4)=\"O001\",LEFT('PLA-FO-01'!D241,4)=\"M001\"),\"AF1R7\"),\"Falta Valor\"), \"NO APLICA, revisar!\")","v":"Falta Valor"}]
[null,null,null,null,null,null,null,null,null,null,null,null,null,null,null,null,null,null,null,null,null,null,null,null,null,null,null,null,null,null,null,null,null,null,null,null,null,null,null,null,null,null,null,null,null,null,null,null,null,{"$f":"IFERROR(IF(AND('PLA-FO-01'!D242<>\"\",'PLA-FO-01'!S242<>\"\",'PLA-FO-01'!E242<>\"\"),_xlfn.IFS(OR(AND(LEFT('PLA-FO-01'!D242,4)=\"E040\",LEFT('PLA-FO-01'!E242,3)=\"C01\"),AND(LEFT('PLA-FO-01'!D242,4)=\"E040\",LEFT('PLA-FO-01'!E242,3)=\"C03\"),AND(LEFT('PLA-FO-01'!D242,4)=\"E040\",LEFT('PLA-FO-01'!E242,3)=\"C04\")),\"AF1R1\",AND(LEFT('PLA-FO-01'!D242,4)=\"E040\",LEFT('PLA-FO-01'!E242,3)=\"C02\",LEFT('PLA-FO-01'!S242,2)<>\"60\"),\"AF1R2\",AND(LEFT('PLA-FO-01'!D242,4)=\"E035\",LEFT('PLA-FO-01'!S242,5)=\"20040\"),\"AF1R3\",AND(LEFT('PLA-FO-01'!D242,4)=\"E035\",LEFT('PLA-FO-01'!S242,5)<>\"20040\"),\"AF1R4\",OR(AND(LEFT('PLA-FO-01'!D242,4)=\"E066\",LEFT('PLA-FO-01'!S242,2)=\"60\"),AND(LEFT('PLA-FO-01'!D242,4)=\"E067\",LEFT('PLA-FO-01'!S242,2)=\"60\"),AND(LEFT('PLA-FO-01'!D242,4)=\"E068\",LEFT('PLA-FO-01'!S242,2)=\"60\")),\"AF1R5\",OR(AND(LEFT('PLA-FO-01'!D242,4)=\"E066\",LEFT('PLA-FO-01'!S242,2)<>\"60\"),AND(LEFT('PLA-FO-01'!D242,4)=\"E067\",LEFT('PLA-FO-01'!S242,2)<>\"60\"),AND(LEFT('PLA-FO-01'!D242,4)=\"E068\",LEFT('PLA-FO-01'!S242,2)<>\"60\")),\"AF1R6\",OR(LEFT('PLA-FO-01'!D242,4)=\"R001\",LEFT('PLA-FO-01'!D242,4)=\"O001\",LEFT('PLA-FO-01'!D242,4)=\"M001\"),\"AF1R7\"),\"Falta Valor\"), \"NO APLICA, revisar!\")","v":"Falta Valor"}]
[null,null,null,null,null,null,null,null,null,null,null,null,null,null,null,null,null,null,null,null,null,null,null,null,null,null,null,null,null,null,null,null,null,null,null,null,null,null,null,null,null,null,null,null,null,null,null,null,null,{"$f":"IFERROR(IF(AND('PLA-FO-01'!D243<>\"\",'PLA-FO-01'!S243<>\"\",'PLA-FO-01'!E243<>\"\"),_xlfn.IFS(OR(AND(LEFT('PLA-FO-01'!D243,4)=\"E040\",LEFT('PLA-FO-01'!E243,3)=\"C01\"),AND(LEFT('PLA-FO-01'!D243,4)=\"E040\",LEFT('PLA-FO-01'!E243,3)=\"C03\"),AND(LEFT('PLA-FO-01'!D243,4)=\"E040\",LEFT('PLA-FO-01'!E243,3)=\"C04\")),\"AF1R1\",AND(LEFT('PLA-FO-01'!D243,4)=\"E040\",LEFT('PLA-FO-01'!E243,3)=\"C02\",LEFT('PLA-FO-01'!S243,2)<>\"60\"),\"AF1R2\",AND(LEFT('PLA-FO-01'!D243,4)=\"E035\",LEFT('PLA-FO-01'!S243,5)=\"20040\"),\"AF1R3\",AND(LEFT('PLA-FO-01'!D243,4)=\"E035\",LEFT('PLA-FO-01'!S243,5)<>\"20040\"),\"AF1R4\",OR(AND(LEFT('PLA-FO-01'!D243,4)=\"E066\",LEFT('PLA-FO-01'!S243,2)=\"60\"),AND(LEFT('PLA-FO-01'!D243,4)=\"E067\",LEFT('PLA-FO-01'!S243,2)=\"60\"),AND(LEFT('PLA-FO-01'!D243,4)=\"E068\",LEFT('PLA-FO-01'!S243,2)=\"60\")),\"AF1R5\",OR(AND(LEFT('PLA-FO-01'!D243,4)=\"E066\",LEFT('PLA-FO-01'!S243,2)<>\"60\"),AND(LEFT('PLA-FO-01'!D243,4)=\"E067\",LEFT('PLA-FO-01'!S243,2)<>\"60\"),AND(LEFT('PLA-FO-01'!D243,4)=\"E068\",LEFT('PLA-FO-01'!S243,2)<>\"60\")),\"AF1R6\",OR(LEFT('PLA-FO-01'!D243,4)=\"R001\",LEFT('PLA-FO-01'!D243,4)=\"O001\",LEFT('PLA-FO-01'!D243,4)=\"M001\"),\"AF1R7\"),\"Falta Valor\"), \"NO APLICA, revisar!\")","v":"Falta Valor"}]
[null,null,null,null,null,null,null,null,null,null,null,null,null,null,null,null,null,null,null,null,null,null,null,null,null,null,null,null,null,null,null,null,null,null,null,null,null,null,null,null,null,null,null,null,null,null,null,null,null,{"$f":"IFERROR(IF(AND('PLA-FO-01'!D244<>\"\",'PLA-FO-01'!S244<>\"\",'PLA-FO-01'!E244<>\"\"),_xlfn.IFS(OR(AND(LEFT('PLA-FO-01'!D244,4)=\"E040\",LEFT('PLA-FO-01'!E244,3)=\"C01\"),AND(LEFT('PLA-FO-01'!D244,4)=\"E040\",LEFT('PLA-FO-01'!E244,3)=\"C03\"),AND(LEFT('PLA-FO-01'!D244,4)=\"E040\",LEFT('PLA-FO-01'!E244,3)=\"C04\")),\"AF1R1\",AND(LEFT('PLA-FO-01'!D244,4)=\"E040\",LEFT('PLA-FO-01'!E244,3)=\"C02\",LEFT('PLA-FO-01'!S244,2)<>\"60\"),\"AF1R2\",AND(LEFT('PLA-FO-01'!D244,4)=\"E035\",LEFT('PLA-FO-01'!S244,5)=\"20040\"),\"AF1R3\",AND(LEFT('PLA-FO-01'!D244,4)=\"E035\",LEFT('PLA-FO-01'!S244,5)<>\"20040\"),\"AF1R4\",OR(AND(LEFT('PLA-FO-01'!D244,4)=\"E066\",LEFT('PLA-FO-01'!S244,2)=\"60\"),AND(LEFT('PLA-FO-01'!D244,4)=\"E067\",LEFT('PLA-FO-01'!S244,2)=\"60\"),AND(LEFT('PLA-FO-01'!D244,4)=\"E068\",LEFT('PLA-FO-01'!S244,2)=\"60\")),\"AF1R5\",OR(AND(LEFT('PLA-FO-01'!D244,4)=\"E066\",LEFT('PLA-FO-01'!S244,2)<>\"60\"),AND(LEFT('PLA-FO-01'!D244,4)=\"E067\",LEFT('PLA-FO-01'!S244,2)<>\"60\"),AND(LEFT('PLA-FO-01'!D244,4)=\"E068\",LEFT('PLA-FO-01'!S244,2)<>\"60\")),\"AF1R6\",OR(LEFT('PLA-FO-01'!D244,4)=\"R001\",LEFT('PLA-FO-01'!D244,4)=\"O001\",LEFT('PLA-FO-01'!D244,4)=\"M001\"),\"AF1R7\"),\"Falta Valor\"), \"NO APLICA, revisar!\")","v":"Falta Valor"}]

{"sheet":"Ejes PLADI","index":3,"n_rows":73,"n_cols":7,"rows_kept":73,"cut":false,"hidden":true,"merged":[]}
[]
["AF","EJES PLADI (2021-2030)",null,"Eje","Políticas","Estrategias","Concatenación"]
["E03501","5.6. Eje de cohesión institucional - 5.6.2. Persona y presencia universitaria - Consolidación del proyecto cultural",null,"5.5. Eje Rumbo Académico","5.5.1. Estudiantes","Ampliación de la matrícula con pertinencia de calidad",{"$f":"_xlfn.TEXTJOIN(\" - \",TRUE,D3:F3)","v":"5.5. Eje Rumbo Académico - 5.5.1. Estudiantes - Ampliación de la matrícula con pertinencia de calidad"}]
["E03502","5.6. Eje de cohesión institucional - 5.6.2. Persona y presencia universitaria - Consolidación del proyecto cultural",null,"5.5. Eje Rumbo Académico","5.5.1. Estudiantes","Becas, apoyos y estímulos",{"$f":"_xlfn.TEXTJOIN(\" - \",TRUE,D4:F4)","v":"5.5. Eje Rumbo Académico - 5.5.1. Estudiantes - Becas, apoyos y estímulos"}]
["E03503","5.7. Eje de gestión sustentable - 5.7.4. Espacios Universitarios - Plan maestro de infraestructura",null,"5.5. Eje Rumbo Académico","5.5.1. Estudiantes","Equidad, inclusión e interculturalidad","5.5. Eje Rumbo Académico - 5.5.1. Estudiantes - Equidad, inclusión e interculturalidad"]
["E03503","5.7. Eje de gestión sustentable - 5.7.4. Espacios Universitarios - Gestión de obra",null,"5.5. Eje Rumbo Académico","5.5.1. Estudiantes","Retención y Atracción de talentos","5.5. Eje Rumbo Académico - 5.5.1. Estudiantes - Retención y Atracción de talentos"]
["E03503","5.7. Eje de gestión sustentable - 5.7.4. Espacios Universitarios - Gestión del mantenimiento y servicios en las sedes",null,"5.5. Eje Rumbo Académico","5.5.1. Estudiantes","Fortalecimiento de las trayectorias estudiantiles","5.5. Eje Rumbo Académico - 5.5.1. Estudiantes - Fortalecimiento de las trayectorias estudiantiles"]
["E03504","5.5. Eje Rumbo Académico - 5.5.2. Personal Académico - Posicionamiento de la producción académica",null,"5.5. Eje Rumbo Académico","5.5.1. Estudiantes","Consolidación de la tutoría","5.5. Eje Rumbo Académico - 5.5.1. Estudiantes - Consolidación de la tutoría"]
["E04001","5.5. Eje Rumbo Académico - 5.5.2. Personal Académico - Posicionamiento de la producción académica",null,"5.5. Eje Rumbo Académico","5.5.1. Estudiantes","Experiencias interculturales","5.5. Eje Rumbo Académico - 5.5.1. Estudiantes - Experiencias interculturales"]
["E04003","5.5. Eje Rumbo Académico - 5.5.2. Personal Académico - Revisión de políticas institucionales en el área",null,"5.5. Eje Rumbo Académico","5.5.1. Estudiantes","Servicio social desde la base estudiantil","5.5. Eje Rumbo Académico - 5.5.1. Estudiantes - Servicio social desde la base estudiantil"]
["E04003","5.5. Eje Rumbo Académico - 5.5.2. Personal Académico - Patentes y propiedad intelectual",null,"5.5. Eje Rumbo Académico","5.5.1. Estudiantes","Grupos Organizados y Sociedades de Alumnos","5.5. Eje Rumbo Académico - 5.5.1. Estudiantes - Grupos Organizados y Sociedades de Alumnos"]
["E04003","5.5. Eje Rumbo Académico - 5.5.2. Personal Académico - Sistema Nacional de Investigadores \"SNI\"",null,"5.5. Eje Rumbo Académico","5.5.1. Estudiantes","Integración de egresados a proyectos universitarios","5.5. Eje Rumbo Académico - 5.5.1. Estudiantes - Integración de egresados a proyectos universitarios"]
["E04003","5.5. Eje Rumbo Académico - 5.5.2. Personal Académico - Cuerpos Académicos y redes de colaboración",null,"5.5. Eje Rumbo Académico","5.5.2. Personal Académico","Revaloración de la actividad docente","5.5. Eje Rumbo Académico - 5.5.2. Personal Académico - Revaloración de la actividad docente"]
["E04003","5.5. Eje Rumbo Académico - 5.5.2. Personal Académico - Posicionamiento de la producción académica",null,"5.5. Eje Rumbo Académico","5.5.2. Personal Académico","Capacitación en múltiples modalidades pedagógicas","5.5. Eje Rumbo Académico - 5.5.2. Personal Académico - Capacitación en múltiples modalidades pedagógicas"]
["E04004","5.7. Eje de gestión sustentable - 5.7.4. Espacios Universitarios - Plan maestro de infraestructura",null,"5.5. Eje Rumbo Académico","5.5.2. Personal Académico","Compromiso y reconocimiento de la tutoría","5.5. Eje Rumbo Académico - 5.5.2. Personal Académico - Compromiso y reconocimiento de la tutoría"]
["E04004","5.7. Eje de gestión sustentable - 5.7.4. Espacios Universitarios - Gestión de obra",null,"5.5. Eje Rumbo Académico","5.5.2. Personal Académico","Revisión de políticas institucionales en el área","5.5. Eje Rumbo Académico - 5.5.2. Personal Académico - Revisión de políticas institucionales en el área"]
["E04004","5.7. Eje de gestión sustentable - 5.7.4. Espacios Universitarios - Gestión del mantenimiento y servicios en las sedes",null,"5.5. Eje Rumbo Académico","5.5.2. Personal Académico","Patentes y propiedad intelectual","5.5. Eje Rumbo Académico - 5.5.2. Personal Académico - Patentes y propiedad intelectual"]
["E06601","5.5. Eje Rumbo Académico - 5.5.1. Estudiantes - Ampliación de la matrícula con pertinencia de calidad",null,"5.5. Eje Rumbo Académico","5.5.2. Personal Académico","Sistema Nacional de Investigadores \"SNI\"","5.5. Eje Rumbo Académico - 5.5.2. Personal Académico - Sistema Nacional de Investigadores \"SNI\""]
["E06601","5.5. Eje Rumbo Académico - 5.5.3. Programas Educativos - Transversalidad de las Unidades de aprendizaje \"UDA\"",null,"5.5. Eje Rumbo Académico","5.5.2. Personal Académico","Cuerpos Académicos y redes de colaboración","5.5. Eje Rumbo Académico - 5.5.2. Personal Académico - Cuerpos Académicos y redes de colaboración"]
["E06601","5.5. Eje Rumbo Académico - 5.5.3. Programas Educativos - Reconocimiento internacional",null,"5.5. Eje Rumbo Académico","5.5.2. Personal Académico","Posicionamiento de la producción académica","5.5. Eje Rumbo Académico - 5.5.2. Personal Académico - Posicionamiento de la producción académica"]
["E06601","5.5. Eje Rumbo Académico - 5.5.3. Programas Educativos - Flexibilidad y multidisciplina en la oferta educativa",null,"5.5. Eje Rumbo Académico","5.5.2. Personal Académico","Educación continua","5.5. Eje Rumbo Académico - 5.5.2. Personal Académico - Educación continua"]
["E06602","5.5. Eje Rumbo Académico - 5.5.2. Personal Académico - Revaloración de la actividad docente",null,"5.5. Eje Rumbo Académico","5.5.2. Personal Académico","Vinculación con sectores gubernamentales, sociales y empresariales","5.5. Eje Rumbo Académico - 5.5.2. Personal Académico - Vinculación con sectores gubernamentales, sociales y empresariales"]
["E06602","5.5. Eje Rumbo Académico - 5.5.2. Personal Académico - Capacitación en múltiples modalidades pedagógicas",null,"5.5. Eje Rumbo Académico","5.5.2. Personal Académico","Formación y Actualización","5.5. Eje Rumbo Académico - 5.5.2. Personal Académico - Formación y Actualización"]
["E06602","5.5. Eje Rumbo Académico - 5.5.2. Personal Académico - Compromiso y reconocimiento de la tutoría",null,"5.5. Eje Rumbo Académico","5.5.2. Personal Académico","Consejos Académicos de Área","5.5. Eje Rumbo Académico - 5.5.2. Personal Académico - Consejos Académicos de Área"]
["E06602","5.5. Eje Rumbo Académico - 5.5.2. Personal Académico - Formación y Actualización",null,"5.5. Eje Rumbo Académico","5.5.2. Personal Académico","Expediente único del profesorado","5.5. Eje Rumbo Académico - 5.5.2. Personal Académico - Expediente único del profesorado"]
["E06602","5.5. Eje Rumbo Académico - 5.5.2. Personal Académico - Consejos Académicos de Área",null,"5.5. Eje Rumbo Académico","5.5.3. Programas Educativos","Visión integral","5.5. Eje Rumbo Académico - 5.5.3. Programas Educativos - Visión integral"]
["E06602","5.5. Eje Rumbo Académico - 5.5.2. Personal Académico - Expediante único del profesorado",null,"5.5. Eje Rumbo Académico","5.5.3. Programas Educativos","Flexibilidad y multidisciplina en la oferta educativa","5.5. Eje Rumbo Académico - 5.5.3. Programas Educativos - Flexibilidad y multidisciplina en la oferta educativa"]
["E06603","5.7. Eje de gestión sustentable - 5.7.4. Espacios Universitarios - Plan maestro de infraestructura",null,"5.5. Eje Rumbo Académico","5.5.3. Programas Educativos","Transversalidad de las Unidades de aprendizaje \"UDA\"","5.5. Eje Rumbo Académico - 5.5.3. Programas Educativos - Transversalidad de las Unidades de aprendizaje \"UDA\""]
["E06603","5.7. Eje de gestión sustentable - 5.7.4. Espacios Universitarios - Gestión de obra",null,"5.5. Eje Rumbo Académico","5.5.3. Programas Educativos","Aprendizaje de una segunda lengua","5.5. Eje Rumbo Académico - 5.5.3. Programas Educativos - Aprendizaje de una segunda lengua"]
["E06603","5.7. Eje de gestión sustentable - 5.7.4. Espacios Universitarios - Gestión del mantenimiento y servicios en las sedes",null,"5.5. Eje Rumbo Académico","5.5.3. Programas Educativos","Reconocimiento internacional","5.5. Eje Rumbo Académico - 5.5.3. Programas Educativos - Reconocimiento internacional"]
["E06701","5.5. Eje Rumbo Académico - 5.5.1. Estudiantes - Becas, apoyos y estímulos",null,"5.5. Eje Rumbo Académico","5.5.3. Programas Educativos","Fortalecimiento de la función social del Nivel Medio Superior \"NMS\"","5.5. Eje Rumbo Académico - 5.5.3. Programas Educativos - Fortalecimiento de la función social del Nivel Medio Superior \"NMS\""]
["E06701","5.5. Eje Rumbo Académico - 5.5.1. Estudiantes - Equidad, inclusión e interculturalidad",null,"5.6. Eje de cohesión institucional","5.6.1. Armonización del marco de convivencia institucional","Adecuación de la políticas institucionales actuales","5.6. Eje de cohesión institucional - 5.6.1. Armonización del marco de convivencia institucional - Adecuación de la políticas institucionales actuales"]
["E06702","5.5. Eje Rumbo Académico - 5.5.1. Estudiantes - Fortalecimiento de las trayectorias estudiantiles",null,"5.6. Eje de cohesión institucional","5.6.1. Armonización del marco de convivencia institucional","Aplicación de los principios guía","5.6. Eje de cohesión institucional - 5.6.1. Armonización del marco de convivencia institucional - Aplicación de los principios guía"]
["E06702","5.5. Eje Rumbo Académico - 5.5.1. Estudiantes - Consolidación de la tutoría",null,"5.6. Eje de cohesión institucional","5.6.1. Armonización del marco de convivencia institucional","Igualdad humana y perspectiva de género","5.6. Eje de cohesión institucional - 5.6.1. Armonización del marco de convivencia institucional - Igualdad humana y perspectiva de género"]
["E06703","5.5. Eje Rumbo Académico - 5.5.1. Estudiantes - Grupos Organizados y Sociedades de Alumnos",null,"5.6. Eje de cohesión institucional","5.6.1. Armonización del marco de convivencia institucional","Seguridad y prevención","5.6. Eje de cohesión institucional - 5.6.1. Armonización del marco de convivencia institucional - Seguridad y prevención"]
["E06703","5.6. Eje de cohesión institucional - 5.6.2. Persona y presencia universitaria - Estilos de vida saludable",null,"5.6. Eje de cohesión institucional","5.6.1. Armonización del marco de convivencia institucional","Comunicación institucional","5.6. Eje de cohesión institucional - 5.6.1. Armonización del marco de convivencia institucional - Comunicación institucional"]
["E06703","5.5. Eje Rumbo Académico - 5.5.1. Estudiantes - Servicio social desde la base estudiantil",null,"5.6. Eje de cohesión institucional","5.6.2. Persona y presencia universitaria","Estilos de vida saludable","5.6. Eje de cohesión institucional - 5.6.2. Persona y presencia universitaria - Estilos de vida saludable"]
["E06704","5.7. Eje de gestión sustentable - 5.7.4. Espacios Universitarios - Plan maestro de infraestructura",null,"5.6. Eje de cohesión institucional","5.6.2. Persona y presencia universitaria","Consolidación del proyecto cultural","5.6. Eje de cohesión institucional - 5.6.2. Persona y presencia universitaria - Consolidación del proyecto cultural"]
["E06704","5.7. Eje de gestión sustentable - 5.7.4. Espacios Universitarios - Gestión de obra",null,"5.6. Eje de cohesión institucional","5.6.2. Persona y presencia universitaria","Integración de egresados","5.6. Eje de cohesión institucional - 5.6.2. Persona y presencia universitaria - Integración de egresados"]
["E06704","5.7. Eje de gestión sustentable - 5.7.4. Espacios Universitarios - Gestión del mantenimiento y servicios en las sedes",null,"5.6. Eje de cohesión institucional","5.6.2. Persona y presencia universitaria","Talentos de jubilados","5.6. Eje de cohesión institucional - 5.6.2. Persona y presencia universitaria - Talentos de jubilados"]
["E06801","5.5. Eje Rumbo Académico - 5.5.1. Estudiantes - Experiencias interculturales",null,"5.7. Eje de gestión sustentable","5.7.1. Gestión Institucional","Universidad digital","5.7. Eje de gestión sustentable - 5.7.1. Gestión Institucional - Universidad digital"]
["E06801","5.5. Eje Rumbo Académico - 5.5.3. Programas Educativos - Aprendizaje de una segunda lengua",null,"5.7. Eje de gestión sustentable","5.7.1. Gestión Institucional","Gestión por Resultados","5.7. Eje de gestión sustentable - 5.7.1. Gestión Institucional - Gestión por Resultados"]
["E06803","5.5. Eje Rumbo Académico - 5.5.1. Estudiantes - Integración de egresados a proyectos universitarios",null,"5.7. Eje de gestión sustentable","5.7.1. Gestión Institucional","Gestión de la calidad","5.7. Eje de gestión sustentable - 5.7.1. Gestión Institucional - Gestión de la calidad"]
["E06803","5.6. Eje de cohesión institucional - 5.6.2. Persona y presencia universitaria - Integración de egresados",null,"5.7. Eje de gestión sustentable","5.7.1. Gestión Institucional","Información sistematizada","5.7. Eje de gestión sustentable - 5.7.1. Gestión Institucional - Información sistematizada"]
["E06803","5.7. Eje de gestión sustentable - 5.7.3. Transparecia, rendición de cuentas y diversificación del sistema financiero - Fuentes alternas e innovadoras de financiamiento",null,"5.7. Eje de gestión sustentable","5.7.2. Personal administrativo y de apoyo","Servicio universitario de carrera","5.7. Eje de gestión sustentable - 5.7.2. Personal administrativo y de apoyo - Servicio universitario de carrera"]
["M00101","5.7. Eje de gestión sustentable - 5.7.1. Gestión Institucional - Gestión de la calidad",null,"5.7. Eje de gestión sustentable","5.7.2. Personal administrativo y de apoyo","Reconocimiento al personal administrativo","5.7. Eje de gestión sustentable - 5.7.2. Personal administrativo y de apoyo - Reconocimiento al personal administrativo"]
["M00102","5.7. Eje de gestión sustentable - 5.7.1. Gestión Institucional - Gestión por Resultados",null,"5.7. Eje de gestión sustentable","5.7.3. Transparecia, rendición de cuentas y diversificación del sistema financiero","Transparencia y rendición de cuentas","5.7. Eje de gestión sustentable - 5.7.3. Transparecia, rendición de cuentas y diversificación del sistema financiero - Transparencia y rendición de cuentas"]
["M00103","5.6. Eje de cohesión institucional - 5.6.2. Persona y presencia universitaria - Talentos de jubilados",null,"5.7. Eje de gestión sustentable","5.7.3. Transparecia, rendición de cuentas y diversificación del sistema financiero","Fuentes alternas e innovadoras de financiamiento","5.7. Eje de gestión sustentable - 5.7.3. Transparecia, rendición de cuentas y diversificación del sistema financiero - Fuentes alternas e innovadoras de financiamiento"]
["M00103","5.7. Eje de gestión sustentable - 5.7.2. Personal administrativo y de apoyo - Servicio universitario de carrera",null,"5.7. Eje de gestión sustentable","5.7.3. Transparecia, rendición de cuentas y diversificación del sistema financiero","Adquisición de bienes y servicios","5.7. Eje de gestión sustentable - 5.7.3. Transparecia, rendición de cuentas y diversificación del sistema financiero - Adquisición de bienes y servicios"]
["M00103","5.7. Eje de gestión sustentable - 5.7.2. Personal administrativo y de apoyo - Reconocimiento al personal administrativo",null,"5.7. Eje de gestión sustentable","5.7.4. Espacios Universitarios","Plan maestro de infraestructura","5.7. Eje de gestión sustentable - 5.7.4. Espacios Universitarios - Plan maestro de infraestructura"]
["M00104","5.7. Eje de gestión sustentable - 5.7.3. Transparecia, rendición de cuentas y diversificación del sistema financiero - Adquisición de bienes y servicios",null,"5.7. Eje de gestión sustentable","5.7.4. Espacios Universitarios","Gestión de obra","5.7. Eje de gestión sustentable - 5.7.4. Espacios Universitarios - Gestión de obra"]
["M00105","5.7. Eje de gestión sustentable - 5.7.1. Gestión Institucional - Universidad digital",null,"5.7. Eje de gestión sustentable","5.7.4. Espacios Universitarios","Gestión del mantenimiento y servicios en las sedes","5.7. Eje de gestión sustentable - 5.7.4. Espacios Universitarios - Gestión del mantenimiento y servicios en las sedes"]
["M00105","5.7. Eje de gestión sustentable - 5.7.1. Gestión Institucional - Información sistematizada",null,"5.7. Eje de gestión sustentable","5.7.5. Universidad sustentable y agenda ambiental","Políticas de sustentabilidad","5.7. Eje de gestión sustentable - 5.7.5. Universidad sustentable y agenda ambiental - Políticas de sustentabilidad"]
["M00106","5.7. Eje de gestión sustentable - 5.7.4. Espacios Universitarios - Plan maestro de infraestructura",null,"5.7. Eje de gestión sustentable","5.7.5. Universidad sustentable y agenda ambiental","Gestión integral de la energía y del agua","5.7. Eje de gestión sustentable - 5.7.5. Universidad sustentable y agenda ambiental - Gestión integral de la energía y del agua"]
["M00106","5.7. Eje de gestión sustentable - 5.7.4. Espacios Universitarios - Gestión de obra",null,"5.7. Eje de gestión sustentable","5.7.5. Universidad sustentable y agenda ambiental","Visión sustentable y agenda ambiental","5.7. Eje de gestión sustentable - 5.7.5. Universidad sustentable y agenda ambiental - Visión sustentable y agenda ambiental"]
["M00106","5.7. Eje de gestión sustentable - 5.7.4. Espacios Universitarios - Gestión del mantenimiento y servicios en las sedes"]
["M00108","5.6. Eje de cohesión institucional - 5.6.1. Armonización del marco de convivencia institucional - Seguridad y prevención"]
["M00109","5.6. Eje de cohesión institucional - 5.6.1. Armonización del marco de convivencia institucional - Comunicación institucional"]
["R00101","5.6. Eje de cohesión institucional - 5.6.1. Armonización del marco de convivencia institucional - Aplicación de los principios guía"]
["R00101","5.6. Eje de cohesión institucional - 5.6.1. Armonización del marco de convivencia institucional - Igualdad humana y perspectiva de género"]
["R00102","5.7. Eje de gestión sustentable - 5.7.5. Universidad sustentable y agenda ambiental - Políticas de sustentabilidad"]
["R00102","5.7. Eje de gestión sustentable - 5.7.5. Universidad sustentable y agenda ambiental - Gestión integral de la energía y del agua"]
["R00102","5.7. Eje de gestión sustentable - 5.7.5. Universidad sustentable y agenda ambiental - Visión sustentable y agenda ambiental"]
[]
[]
[]
[]
[]
["N/A","5.5. Eje Rumbo Académico - 5.5.3. Programas Educativos (Visión integral)."]
["N/A","5.5. Eje Rumbo Académico - 5.5.3. Programas Educativos (Fortalecimiento de la función social del Nivel Medio Superior \"NMS\")."]
["N/A","5.5. Eje Rumbo Académico - 5.5.1. Estudiantes (Retención y Atracción de talentos)."]
["N/A","5.6. Eje de cohesión institucional - 5.6.1. Armonización del marco de convivencia institucional (Adecuación de la políticas institucionales actuales)."]
["N/A","5.7 Eje de gestión sustentable - 5.7.3. Transparecia, rendición de cuentas y diversificación del sistema financiero (Transparencia y rendición de cuentas)."]

{"sheet":"PLA-FO-01","index":4,"n_rows":249,"n_cols":23,"rows_kept":249,"cut":false,"hidden":false,"merged":[[1,21,1,22],[2,21,2,22],[3,21,3,22],[7,5,7,22],[5,1,5,22],[1,1,1,20],[7,1,7,2],[9,1,9,2],[3,1,3,20],[2,1,2,20],[7,3,7,4],[9,8,9,12],[9,13,9,22],[9,3,9,5],[248,3,248,5],[247,11,247,16],[248,11,248,16],[9,6,9,7],[15,16,15,18],[14,16,14,21],[13,1,13,7],[17,1,17,8],[246,3,246,5],[246,11,246,16],[21,2,21,22],[244,12,244,15],[15,19,15,21],[11,1,11,2],[247,3,247,5],[11,3,11,22]]}
[]
[null,"UNIVERSIDAD DE GUANAJUATO",null,null,null,null,null,null,null,null,null,null,null,null,null,null,null,null,null,null,null,"No. de Revisión: 03"]
[null,"DIRECCIÓN DE PLANEACIÓN",null,null,null,null,null,null,null,null,null,null,null,null,null,null,null,null,null,null,null,"Fecha de Liberación: 17/01/2025"]
[null,"FORMATO PARA INTEGRACIÓN DE POA´S",null,null,null,null,null,null,null,null,null,null,null,null,null,null,null,null,null,null,null,"PLA-FO-01"]
[]
[null,"POA 2024"]
[]
[null,"Nombre Rectoría de Campus / Dirección CNMS:"]
[]
[null,"Nombre RC/ División / Depto / DCNM / ENMS:",null,null,null,null,"Nombre División/ Depto. / DNMS/ ENMS:"]
[]
[null,"Nombre del Proyecto:"]
[]
[null,"COSTO TOTAL DEL PROYECTO POA 2024 (Por rubro de gasto):"]
[null,"Servicios Personales ","Materiales y Suministros","Servicios Generales","Transferencias, Asignaciones, Subsidios","Bienes Muebles, Inmuebles e Intangibles","Inversión Pública","COSTO TOTAL DEL PROYECTO",null,null,null,null,null,null,null,null,"Tipo de Proyecto"]
[null,{"$f":"SUMIF(T25:T244,\"1000 Servicios Personales.\",Q25:Q244)","v":0},{"$f":"SUMIF(T25:T244,\"2000 Materiales y Suministros.\",Q25:Q244)","v":0},{"$f":"SUMIF(T25:T244,\"3000 Servicios Generales.\",Q25:Q244)","v":0},{"$f":"SUMIF(T25:T244,\"4000 Transferencias, asignaciones, subsidios y otras ayudas.\",Q25:Q244)","v":0},{"$f":"SUMIF(T25:T244,\"5000 Bienes muebles, inmuebles e intangibles.\",Q25:Q244)","v":0},{"$f":"SUMIF(T25:T244,\"6000 Inversión Pública.\",Q25:Q244)","v":0},{"$f":"SUM(B16:G16)","v":0}]
[]
[null,"COSTO TOTAL DEL PROYECTO POA 2024 (Por Programa Presupuestario y/o Proceso de Gestión):"]
[null,"E066 - Cobertura educativa de la Universidad de Guanajuato.","E067 - Trayectoria Estudiantil Consolidada.","E068 - Vinculación de la Comunidad Universitaria con los sectores económico y social.","E040 - Investigación, desarrollo tecnológico e innovación de la Universidad de Guanajuato.","E035 - Extensión del conocimiento, arte y cultura.","R001 - Universidad con sentido humanista y responsabilidad social.","M001 - Gestión eficiente y orientada a resultados.","COSTO TOTAL DEL PROYECTO"]
[null,{"$f":"SUMIF(D25:D244,\"E066 - Cobertura educativa de la Universidad de Guanajuato.\",Q25:Q244)","v":0},{"$f":"SUMIF(D25:D244,\"E067 - Trayectoria Estudiantil Consolidada.\",Q25:Q244)","v":0},{"$f":"SUMIF(D25:D244,\"E068 - Vinculación de la Comunidad Universitaria con los sectores económico y social.\",Q25:Q244)","v":0},{"$f":"SUMIF(D25:D244,\"E040 - Investigación, desarrollo tecnológico e innovación de la Universidad de Guanajuato.\",Q25:Q244)","v":0},{"$f":"SUMIF(D25:D244,\"E035 - Extensión del conocimiento, arte y cultura.\",Q25:Q244)","v":0},{"$f":"SUMIF(D25:D244,\"R001 - Universidad con sentido humanista y responsabilidad social.\",Q25:Q244)","v":0},{"$f":"SUMIF(D25:D244,\"M001 - Gestión eficiente y orientada a resultados.\",Q25:Q244)","v":0},{"$f":"SUM(B20:H20)","v":0}]
[]
[null,"Objetivo General del Proyecto:"]
[]
[null,"Meta","Acción","Programa Presupuestario/ Proceso de Gestión","Componente","Detalle de la Actividad","Bien o Servicio","Indicador o Entregable\nPbR 2023","Indicador o Eje\nPLADI 2021-2030","PE Beneficiado","N° Hombres beneficiados","N° Mujeres beneficiadas","Total de personas Beneficiadas","Unidad de Medida","Cantidad","Precio Unitario","Monto Asignado por Meta y/o Acción","Fuente de Financiamiento","UR","Capítulo de Gasto","Rubro de Gasto","CFG","AF"]
[null,null,null,null,null,null,{"$f":"_xlfn.IFNA(VLOOKUP(tb[[#This Row],[Componente]],BySs,3,0),\"\")","v":""},null,{"$f":"_xlfn.XLOOKUP(tb[[#This Row],[Indicador o Entregable\nPbR 2023]],Indic_PLADI_PBR[INDICADOR  PbR 2023],Indic_PLADI_PBR[IE - IC  DEL  PLADI 2021-2030],\"\",0,1)","v":""},null,null,null,{"$f":"tb[[#This Row],[N° Hombres beneficiados]]+tb[[#This Row],[N° Mujeres beneficiadas]]","v":0},null,null,null,{"$f":"+tb[[#This Row],[Cantidad]]*tb[[#This Row],[Precio Unitario]]","v":0},null,{"$f":"IF(C25=\"\",\"\",_xlfn.XLOOKUP($I$10,EntidadUG,CeGe,\"Por favor, llenar celda I10\",0,1))","v":""},null,null,null,{"$f":"IFERROR(VLOOKUP($E25,'PP y Comp'!$C$3:$D$31,2,FALSE),\"\")","v":""}]
[null,null,null,null,null,null,{"$f":"_xlfn.IFNA(VLOOKUP(tb[[#This Row],[Componente]],BySs,3,0),\"\")","v":""},null,{"$f":"_xlfn.XLOOKUP(tb[[#This Row],[Indicador o Entregable\nPbR 2023]],Indic_PLADI_PBR[INDICADOR  PbR 2023],Indic_PLADI_PBR[IE - IC  DEL  PLADI 2021-2030],\"\",0,1)","v":""},null,null,null,{"$f":"tb[[#This Row],[N° Hombres beneficiados]]+tb[[#This Row],[N° Mujeres beneficiadas]]","v":0},null,null,null,{"$f":"+tb[[#This Row],[Cantidad]]*tb[[#This Row],[Precio Unitario]]","v":0},null,"",null,null,null,{"$f":"IFERROR(VLOOKUP($E26,'PP y Comp'!$C$3:$D$31,2,FALSE),\"\")","v":""}]
[null,null,null,null,null,null,{"$f":"_xlfn.IFNA(VLOOKUP(tb[[#This Row],[Componente]],BySs,3,0),\"\")","v":""},null,{"$f":"_xlfn.XLOOKUP(tb[[#This Row],[Indicador o Entregable\nPbR 2023]],Indic_PLADI_PBR[INDICADOR  PbR 2023],Indic_PLADI_PBR[IE - IC  DEL  PLADI 2021-2030],\"\",0,1)","v":""},null,null,null,{"$f":"tb[[#This Row],[N° Hombres beneficiados]]+tb[[#This Row],[N° Mujeres beneficiadas]]","v":0},null,null,null,{"$f":"+tb[[#This Row],[Cantidad]]*tb[[#This Row],[Precio Unitario]]","v":0},null,"",null,null,null,{"$f":"IFERROR(VLOOKUP($E27,'PP y Comp'!$C$3:$D$31,2,FALSE),\"\")","v":""}]
[null,null,null,null,null,null,{"$f":"_xlfn.IFNA(VLOOKUP(tb[[#This Row],[Componente]],BySs,3,0),\"\")","v":""},null,{"$f":"_xlfn.XLOOKUP(tb[[#This Row],[Indicador o Entregable\nPbR 2023]],Indic_PLADI_PBR[INDICADOR  PbR 2023],Indic_PLADI_PBR[IE - IC  DEL  PLADI 2021-2030],\"\",0,1)","v":""},null,null,null,{"$f":"tb[[#This Row],[N° Hombres beneficiados]]+tb[[#This Row],[N° Mujeres beneficiadas]]","v":0},null,null,null,{"$f":"+tb[[#This Row],[Cantidad]]*tb[[#This Row],[Precio Unitario]]","v":0},null,"",null,null,null,{"$f":"IFERROR(VLOOKUP($E28,'PP y Comp'!$C$3:$D$31,2,FALSE),\"\")","v":""}]
[null,null,null,null,null,null,{"$f":"_xlfn.IFNA(VLOOKUP(tb[[#This Row],[Componente]],BySs,3,0),\"\")","v":""},null,{"$f":"_xlfn.XLOOKUP(tb[[#This Row],[Indicador o Entregable\nPbR 2023]],Indic_PLADI_PBR[INDICADOR  PbR 2023],Indic_PLADI_PBR[IE - IC  DEL  PLADI 2021-2030],\"\",0,1)","v":""},null,null,null,{"$f":"tb[[#This Row],[N° Hombres beneficiados]]+tb[[#This Row],[N° Mujeres beneficiadas]]","v":0},null,null,null,{"$f":"+tb[[#This Row],[Cantidad]]*tb[[#This Row],[Precio Unitario]]","v":0},null,"",null,null,null,{"$f":"IFERROR(VLOOKUP($E29,'PP y Comp'!$C$3:$D$31,2,FALSE),\"\")","v":""}]
[null,null,null,null,null,null,{"$f":"_xlfn.IFNA(VLOOKUP(tb[[#This Row],[Componente]],BySs,3,0),\"\")","v":""},null,{"$f":"_xlfn.XLOOKUP(tb[[#This Row],[Indicador o Entregable\nPbR 2023]],Indic_PLADI_PBR[INDICADOR  PbR 2023],Indic_PLADI_PBR[IE - IC  DEL  PLADI 2021-2030],\"\",0,1)","v":""},null,null,null,{"$f":"tb[[#This Row],[N° Hombres beneficiados]]+tb[[#This Row],[N° Mujeres beneficiadas]]","v":0},null,null,null,{"$f":"+tb[[#This Row],[Cantidad]]*tb[[#This Row],[Precio Unitario]]","v":0},null,"",null,null,null,{"$f":"IFERROR(VLOOKUP($E30,'PP y Comp'!$C$3:$D$31,2,FALSE),\"\")","v":""}]
[null,null,null,null,null,null,{"$f":"_xlfn.IFNA(VLOOKUP(tb[[#This Row],[Componente]],BySs,3,0),\"\")","v":""},null,{"$f":"_xlfn.XLOOKUP(tb[[#This Row],[Indicador o Entregable\nPbR 2023]],Indic_PLADI_PBR[INDICADOR  PbR 2023],Indic_PLADI_PBR[IE - IC  DEL  PLADI 2021-2030],\"\",0,1)","v":""},null,null,null,{"$f":"tb[[#This Row],[N° Hombres beneficiados]]+tb[[#This Row],[N° Mujeres beneficiadas]]","v":0},null,null,null,{"$f":"+tb[[#This Row],[Cantidad]]*tb[[#This Row],[Precio Unitario]]","v":0},null,"",null,null,null,{"$f":"IFERROR(VLOOKUP($E31,'PP y Comp'!$C$3:$D$31,2,FALSE),\"\")","v":""}]
[null,null,null,null,null,null,{"$f":"_xlfn.IFNA(VLOOKUP(tb[[#This Row],[Componente]],BySs,3,0),\"\")","v":""},null,{"$f":"_xlfn.XLOOKUP(tb[[#This Row],[Indicador o Entregable\nPbR 2023]],Indic_PLADI_PBR[INDICADOR  PbR 2023],Indic_PLADI_PBR[IE - IC  DEL  PLADI 2021-2030],\"\",0,1)","v":""},null,null,null,{"$f":"tb[[#This Row],[N° Hombres beneficiados]]+tb[[#This Row],[N° Mujeres beneficiadas]]","v":0},null,null,null,{"$f":"+tb[[#This Row],[Cantidad]]*tb[[#This Row],[Precio Unitario]]","v":0},null,"",null,null,null,{"$f":"IFERROR(VLOOKUP($E32,'PP y Comp'!$C$3:$D$31,2,FALSE),\"\")","v":""}]
[null,null,null,null,null,null,{"$f":"_xlfn.IFNA(VLOOKUP(tb[[#This Row],[Componente]],BySs,3,0),\"\")","v":""},null,{"$f":"_xlfn.XLOOKUP(tb[[#This Row],[Indicador o Entregable\nPbR 2023]],Indic_PLADI_PBR[INDICADOR  PbR 2023],Indic_PLADI_PBR[IE - IC  DEL  PLADI 2021-2030],\"\",0,1)","v":""},null,null,null,{"$f":"tb[[#This Row],[N° Hombres beneficiados]]+tb[[#This Row],[N° Mujeres beneficiadas]]","v":0},null,null,null,{"$f":"+tb[[#This Row],[Cantidad]]*tb[[#This Row],[Precio Unitario]]","v":0},null,"",null,null,null,{"$f":"IFERROR(VLOOKUP($E33,'PP y Comp'!$C$3:$D$31,2,FALSE),\"\")","v":""}]
[null,null,null,null,null,null,{"$f":"_xlfn.IFNA(VLOOKUP(tb[[#This Row],[Componente]],BySs,3,0),\"\")","v":""},null,{"$f":"_xlfn.XLOOKUP(tb[[#This Row],[Indicador o Entregable\nPbR 2023]],Indic_PLADI_PBR[INDICADOR  PbR 2023],Indic_PLADI_PBR[IE - IC  DEL  PLADI 2021-2030],\"\",0,1)","v":""},null,null,null,{"$f":"tb[[#This Row],[N° Hombres beneficiados]]+tb[[#This Row],[N° Mujeres beneficiadas]]","v":0},null,null,null,{"$f":"+tb[[#This Row],[Cantidad]]*tb[[#This Row],[Precio Unitario]]","v":0},null,"",null,null,null,{"$f":"IFERROR(VLOOKUP($E34,'PP y Comp'!$C$3:$D$31,2,FALSE),\"\")","v":""}]
[null,null,null,null,null,null,{"$f":"_xlfn.IFNA(VLOOKUP(tb[[#This Row],[Componente]],BySs,3,0),\"\")","v":""},null,{"$f":"_xlfn.XLOOKUP(tb[[#This Row],[Indicador o Entregable\nPbR 2023]],Indic_PLADI_PBR[INDICADOR  PbR 2023],Indic_PLADI_PBR[IE - IC  DEL  PLADI 2021-2030],\"\",0,1)","v":""},null,null,null,{"$f":"tb[[#This Row],[N° Hombres beneficiados]]+tb[[#This Row],[N° Mujeres beneficiadas]]","v":0},null,null,null,{"$f":"+tb[[#This Row],[Cantidad]]*tb[[#This Row],[Precio Unitario]]","v":0},null,"",null,null,null,{"$f":"IFERROR(VLOOKUP($E35,'PP y Comp'!$C$3:$D$31,2,FALSE),\"\")","v":""}]
[null,null,null,null,null,null,{"$f":"_xlfn.IFNA(VLOOKUP(tb[[#This Row],[Componente]],BySs,3,0),\"\")","v":""},null,{"$f":"_xlfn.XLOOKUP(tb[[#This Row],[Indicador o Entregable\nPbR 2023]],Indic_PLADI_PBR[INDICADOR  PbR 2023],Indic_PLADI_PBR[IE - IC  DEL  PLADI 2021-2030],\"\",0,1)","v":""},null,null,null,{"$f":"tb[[#This Row],[N° Hombres beneficiados]]+tb[[#This Row],[N° Mujeres beneficiadas]]","v":0},null,null,null,{"$f":"+tb[[#This Row],[Cantidad]]*tb[[#This Row],[Precio Unitario]]","v":0},null,"",null,null,null,{"$f":"IFERROR(VLOOKUP($E36,'PP y Comp'!$C$3:$D$31,2,FALSE),\"\")","v":""}]
[null,null,null,null,null,null,{"$f":"_xlfn.IFNA(VLOOKUP(tb[[#This Row],[Componente]],BySs,3,0),\"\")","v":""},null,{"$f":"_xlfn.XLOOKUP(tb[[#This Row],[Indicador o Entregable\nPbR 2023]],Indic_PLADI_PBR[INDICADOR  PbR 2023],Indic_PLADI_PBR[IE - IC  DEL  PLADI 2021-2030],\"\",0,1)","v":""},null,null,null,{"$f":"tb[[#This Row],[N° Hombres beneficiados]]+tb[[#This Row],[N° Mujeres beneficiadas]]","v":0},null,null,null,{"$f":"+tb[[#This Row],[Cantidad]]*tb[[#This Row],[Precio Unitario]]","v":0},null,"",null,null,null,{"$f":"IFERROR(VLOOKUP($E37,'PP y Comp'!$C$3:$D$31,2,FALSE),\"\")","v":""}]
[null,null,null,null,null,null,{"$f":"_xlfn.IFNA(VLOOKUP(tb[[#This Row],[Componente]],BySs,3,0),\"\")","v":""},null,{"$f":"_xlfn.XLOOKUP(tb[[#This Row],[Indicador o Entregable\nPbR 2023]],Indic_PLADI_PBR[INDICADOR  PbR 2023],Indic_PLADI_PBR[IE - IC  DEL  PLADI 2021-2030],\"\",0,1)","v":""},null,null,null,{"$f":"tb[[#This Row],[N° Hombres beneficiados]]+tb[[#This Row],[N° Mujeres beneficiadas]]","v":0},null,null,null,{"$f":"+tb[[#This Row],[Cantidad]]*tb[[#This Row],[Precio Unitario]]","v":0},null,"",null,null,null,{"$f":"IFERROR(VLOOKUP($E38,'PP y Comp'!$C$3:$D$31,2,FALSE),\"\")","v":""}]
[null,null,null,null,null,null,{"$f":"_xlfn.IFNA(VLOOKUP(tb[[#This Row],[Componente]],BySs,3,0),\"\")","v":""},null,{"$f":"_xlfn.XLOOKUP(tb[[#This Row],[Indicador o Entregable\nPbR 2023]],Indic_PLADI_PBR[INDICADOR  PbR 2023],Indic_PLADI_PBR[IE - IC  DEL  PLADI 2021-2030],\"\",0,1)","v":""},null,null,null,{"$f":"tb[[#This Row],[N° Hombres beneficiados]]+tb[[#This Row],[N° Mujeres beneficiadas]]","v":0},null,null,null,{"$f":"+tb[[#This Row],[Cantidad]]*tb[[#This Row],[Precio Unitario]]","v":0},null,"",null,null,null,{"$f":"IFERROR(VLOOKUP($E39,'PP y Comp'!$C$3:$D$31,2,FALSE),\"\")","v":""}]
[null,null,null,null,null,null,{"$f":"_xlfn.IFNA(VLOOKUP(tb[[#This Row],[Componente]],BySs,3,0),\"\")","v":""},null,{"$f":"_xlfn.XLOOKUP(tb[[#This Row],[Indicador o Entregable\nPbR 2023]],Indic_PLADI_PBR[INDICADOR  PbR 2023],Indic_PLADI_PBR[IE - IC  DEL  PLADI 2021-2030],\"\",0,1)","v":""},null,null,null,{"$f":"tb[[#This Row],[N° Hombres beneficiados]]+tb[[#This Row],[N° Mujeres beneficiadas]]","v":0},null,null,null,{"$f":"+tb[[#This Row],[Cantidad]]*tb[[#This Row],[Precio Unitario]]","v":0},null,"",null,null,null,{"$f":"IFERROR(VLOOKUP($E40,'PP y Comp'!$C$3:$D$31,2,FALSE),\"\")","v":""}]
[null,null,null,null,null,null,{"$f":"_xlfn.IFNA(VLOOKUP(tb[[#This Row],[Componente]],BySs,3,0),\"\")","v":""},null,{"$f":"_xlfn.XLOOKUP(tb[[#This Row],[Indicador o Entregable\nPbR 2023]],Indic_PLADI_PBR[INDICADOR  PbR 2023],Indic_PLADI_PBR[IE - IC  DEL  PLADI 2021-2030],\"\",0,1)","v":""},null,null,null,{"$f":"tb[[#This Row],[N° Hombres beneficiados]]+tb[[#This Row],[N° Mujeres beneficiadas]]","v":0},null,null,null,{"$f":"+tb[[#This Row],[Cantidad]]*tb[[#This Row],[Precio Unitario]]","v":0},null,"",null,null,null,{"$f":"IFERROR(VLOOKUP($E41,'PP y Comp'!$C$3:$D$31,2,FALSE),\"\")","v":""}]
[null,null,null,null,null,null,{"$f":"_xlfn.IFNA(VLOOKUP(tb[[#This Row],[Componente]],BySs,3,0),\"\")","v":""},null,{"$f":"_xlfn.XLOOKUP(tb[[#This Row],[Indicador o Entregable\nPbR 2023]],Indic_PLADI_PBR[INDICADOR  PbR 2023],Indic_PLADI_PBR[IE - IC  DEL  PLADI 2021-2030],\"\",0,1)","v":""},null,null,null,{"$f":"tb[[#This Row],[N° Hombres beneficiados]]+tb[[#This Row],[N° Mujeres beneficiadas]]","v":0},null,null,null,{"$f":"+tb[[#This Row],[Cantidad]]*tb[[#This Row],[Precio Unitario]]","v":0},null,"",null,null,null,{"$f":"IFERROR(VLOOKUP($E42,'PP y Comp'!$C$3:$D$31,2,FALSE),\"\")","v":""}]
[null,null,null,null,null,null,{"$f":"_xlfn.IFNA(VLOOKUP(tb[[#This Row],[Componente]],BySs,3,0),\"\")","v":""},null,{"$f":"_xlfn.XLOOKUP(tb[[#This Row],[Indicador o Entregable\nPbR 2023]],Indic_PLADI_PBR[INDICADOR  PbR 2023],Indic_PLADI_PBR[IE - IC  DEL  PLADI 2021-2030],\"\",0,1)","v":""},null,null,null,{"$f":"tb[[#This Row],[N° Hombres beneficiados]]+tb[[#This Row],[N° Mujeres beneficiadas]]","v":0},null,null,null,{"$f":"+tb[[#This Row],[Cantidad]]*tb[[#This Row],[Precio Unitario]]","v":0},null,"",null,null,null,{"$f":"IFERROR(VLOOKUP($E43,'PP y Comp'!$C$3:$D$31,2,FALSE),\"\")","v":""}]
[null,null,null,null,null,null,{"$f":"_xlfn.IFNA(VLOOKUP(tb[[#This Row],[Componente]],BySs,3,0),\"\")","v":""},null,{"$f":"_xlfn.XLOOKUP(tb[[#This Row],[Indicador o Entregable\nPbR 2023]],Indic_PLADI_PBR[INDICADOR  PbR 2023],Indic_PLADI_PBR[IE - IC  DEL  PLADI 2021-2030],\"\",0,1)","v":""},null,null,null,{"$f":"tb[[#This Row],[N° Hombres beneficiados]]+tb[[#This Row],[N° Mujeres beneficiadas]]","v":0},null,null,null,{"$f":"+tb[[#This Row],[Cantidad]]*tb[[#This Row],[Precio Unitario]]","v":0},null,"",null,null,null,{"$f":"IFERROR(VLOOKUP($E44,'PP y Comp'!$C$3:$D$31,2,FALSE),\"\")","v":""}]
[null,null,null,null,null,null,{"$f":"_xlfn.IFNA(VLOOKUP(tb[[#This Row],[Componente]],BySs,3,0),\"\")","v":""},null,{"$f":"_xlfn.XLOOKUP(tb[[#This Row],[Indicador o Entregable\nPbR 2023]],Indic_PLADI_PBR[INDICADOR  PbR 2023],Indic_PLADI_PBR[IE - IC  DEL  PLADI 2021-2030],\"\",0,1)","v":""},null,null,null,{"$f":"tb[[#This Row],[N° Hombres beneficiados]]+tb[[#This Row],[N° Mujeres beneficiadas]]","v":0},null,null,null,{"$f":"+tb[[#This Row],[Cantidad]]*tb[[#This Row],[Precio Unitario]]","v":0},null,"",null,null,null,{"$f":"IFERROR(VLOOKUP($E45,'PP y Comp'!$C$3:$D$31,2,FALSE),\"\")","v":""}]
[null,null,null,null,null,null,{"$f":"_xlfn.IFNA(VLOOKUP(tb[[#This Row],[Componente]],BySs,3,0),\"\")","v":""},null,{"$f":"_xlfn.XLOOKUP(tb[[#This Row],[Indicador o Entregable\nPbR 2023]],Indic_PLADI_PBR[INDICADOR  PbR 2023],Indic_PLADI_PBR[IE - IC  DEL  PLADI 2021-2030],\"\",0,1)","v":""},null,null,null,{"$f":"tb[[#This Row],[N° Hombres beneficiados]]+tb[[#This Row],[N° Mujeres beneficiadas]]","v":0},null,null,null,{"$f":"+tb[[#This Row],[Cantidad]]*tb[[#This Row],[Precio Unitario]]","v":0},null,"",null,null,null,{"$f":"IFERROR(VLOOKUP($E46,'PP y Comp'!$C$3:$D$31,2,FALSE),\"\")","v":""}]
[null,null,null,null,null,null,{"$f":"_xlfn.IFNA(VLOOKUP(tb[[#This Row],[Componente]],BySs,3,0),\"\")","v":""},null,{"$f":"_xlfn.XLOOKUP(tb[[#This Row],[Indicador o Entregable\nPbR 2023]],Indic_PLADI_PBR[INDICADOR  PbR 2023],Indic_PLADI_PBR[IE - IC  DEL  PLADI 2021-2030],\"\",0,1)","v":""},null,null,null,{"$f":"tb[[#This Row],[N° Hombres beneficiados]]+tb[[#This Row],[N° Mujeres beneficiadas]]","v":0},null,null,null,{"$f":"+tb[[#This Row],[Cantidad]]*tb[[#This Row],[Precio Unitario]]","v":0},null,"",null,null,null,{"$f":"IFERROR(VLOOKUP($E47,'PP y Comp'!$C$3:$D$31,2,FALSE),\"\")","v":""}]
[null,null,null,null,null,null,{"$f":"_xlfn.IFNA(VLOOKUP(tb[[#This Row],[Componente]],BySs,3,0),\"\")","v":""},null,{"$f":"_xlfn.XLOOKUP(tb[[#This Row],[Indicador o Entregable\nPbR 2023]],Indic_PLADI_PBR[INDICADOR  PbR 2023],Indic_PLADI_PBR[IE - IC  DEL  PLADI 2021-2030],\"\",0,1)","v":""},null,null,null,{"$f":"tb[[#This Row],[N° Hombres beneficiados]]+tb[[#This Row],[N° Mujeres beneficiadas]]","v":0},null,null,null,{"$f":"+tb[[#This Row],[Cantidad]]*tb[[#This Row],[Precio Unitario]]","v":0},null,"",null,null,null,{"$f":"IFERROR(VLOOKUP($E48,'PP y Comp'!$C$3:$D$31,2,FALSE),\"\")","v":""}]
[null,null,null,null,null,null,{"$f":"_xlfn.IFNA(VLOOKUP(tb[[#This Row],[Componente]],BySs,3,0),\"\")","v":""},null,{"$f":"_xlfn.XLOOKUP(tb[[#This Row],[Indicador o Entregable\nPbR 2023]],Indic_PLADI_PBR[INDICADOR  PbR 2023],Indic_PLADI_PBR[IE - IC  DEL  PLADI 2021-2030],\"\",0,1)","v":""},null,null,null,{"$f":"tb[[#This Row],[N° Hombres beneficiados]]+tb[[#This Row],[N° Mujeres beneficiadas]]","v":0},null,null,null,{"$f":"+tb[[#This Row],[Cantidad]]*tb[[#This Row],[Precio Unitario]]","v":0},null,"",null,null,null,{"$f":"IFERROR(VLOOKUP($E49,'PP y Comp'!$C$3:$D$31,2,FALSE),\"\")","v":""}]
[null,null,null,null,null,null,{"$f":"_xlfn.IFNA(VLOOKUP(tb[[#This Row],[Componente]],BySs,3,0),\"\")","v":""},null,{"$f":"_xlfn.XLOOKUP(tb[[#This Row],[Indicador o Entregable\nPbR 2023]],Indic_PLADI_PBR[INDICADOR  PbR 2023],Indic_PLADI_PBR[IE - IC  DEL  PLADI 2021-2030],\"\",0,1)","v":""},null,null,null,{"$f":"tb[[#This Row],[N° Hombres beneficiados]]+tb[[#This Row],[N° Mujeres beneficiadas]]","v":0},null,null,null,{"$f":"+tb[[#This Row],[Cantidad]]*tb[[#This Row],[Precio Unitario]]","v":0},null,"",null,null,null,{"$f":"IFERROR(VLOOKUP($E50,'PP y Comp'!$C$3:$D$31,2,FALSE),\"\")","v":""}]
[null,null,null,null,null,null,{"$f":"_xlfn.IFNA(VLOOKUP(tb[[#This Row],[Componente]],BySs,3,0),\"\")","v":""},null,{"$f":"_xlfn.XLOOKUP(tb[[#This Row],[Indicador o Entregable\nPbR 2023]],Indic_PLADI_PBR[INDICADOR  PbR 2023],Indic_PLADI_PBR[IE - IC  DEL  PLADI 2021-2030],\"\",0,1)","v":""},null,null,null,{"$f":"tb[[#This Row],[N° Hombres beneficiados]]+tb[[#This Row],[N° Mujeres beneficiadas]]","v":0},null,null,null,{"$f":"+tb[[#This Row],[Cantidad]]*tb[[#This Row],[Precio Unitario]]","v":0},null,"",null,null,null,{"$f":"IFERROR(VLOOKUP($E51,'PP y Comp'!$C$3:$D$31,2,FALSE),\"\")","v":""}]
[null,null,null,null,null,null,{"$f":"_xlfn.IFNA(VLOOKUP(tb[[#This Row],[Componente]],BySs,3,0),\"\")","v":""},null,{"$f":"_xlfn.XLOOKUP(tb[[#This Row],[Indicador o Entregable\nPbR 2023]],Indic_PLADI_PBR[INDICADOR  PbR 2023],Indic_PLADI_PBR[IE - IC  DEL  PLADI 2021-2030],\"\",0,1)","v":""},null,null,null,{"$f":"tb[[#This Row],[N° Hombres beneficiados]]+tb[[#This Row],[N° Mujeres beneficiadas]]","v":0},null,null,null,{"$f":"+tb[[#This Row],[Cantidad]]*tb[[#This Row],[Precio Unitario]]","v":0},null,"",null,null,null,{"$f":"IFERROR(VLOOKUP($E52,'PP y Comp'!$C$3:$D$31,2,FALSE),\"\")","v":""}]
[null,null,null,null,null,null,{"$f":"_xlfn.IFNA(VLOOKUP(tb[[#This Row],[Componente]],BySs,3,0),\"\")","v":""},null,{"$f":"_xlfn.XLOOKUP(tb[[#This Row],[Indicador o Entregable\nPbR 2023]],Indic_PLADI_PBR[INDICADOR  PbR 2023],Indic_PLADI_PBR[IE - IC  DEL  PLADI 2021-2030],\"\",0,1)","v":""},null,null,null,{"$f":"tb[[#This Row],[N° Hombres beneficiados]]+tb[[#This Row],[N° Mujeres beneficiadas]]","v":0},null,null,null,{"$f":"+tb[[#This Row],[Cantidad]]*tb[[#This Row],[Precio Unitario]]","v":0},null,"",null,null,null,{"$f":"IFERROR(VLOOKUP($E53,'PP y Comp'!$C$3:$D$31,2,FALSE),\"\")","v":""}]
[null,null,null,null,null,null,{"$f":"_xlfn.IFNA(VLOOKUP(tb[[#This Row],[Componente]],BySs,3,0),\"\")","v":""},null,{"$f":"_xlfn.XLOOKUP(tb[[#This Row],[Indicador o Entregable\nPbR 2023]],Indic_PLADI_PBR[INDICADOR  PbR 2023],Indic_PLADI_PBR[IE - IC  DEL  PLADI 2021-2030],\"\",0,1)","v":""},null,null,null,{"$f":"tb[[#This Row],[N° Hombres beneficiados]]+tb[[#This Row],[N° Mujeres beneficiadas]]","v":0},null,null,null,{"$f":"+tb[[#This Row],[Cantidad]]*tb[[#This Row],[Precio Unitario]]","v":0},null,"",null,null,null,{"$f":"IFERROR(VLOOKUP($E54,'PP y Comp'!$C$3:$D$31,2,FALSE),\"\")","v":""}]
[null,null,null,null,null,null,{"$f":"_xlfn.IFNA(VLOOKUP(tb[[#This Row],[Componente]],BySs,3,0),\"\")","v":""},null,{"$f":"_xlfn.XLOOKUP(tb[[#This Row],[Indicador o Entregable\nPbR 2023]],Indic_PLADI_PBR[INDICADOR  PbR 2023],Indic_PLADI_PBR[IE - IC  DEL  PLADI 2021-2030],\"\",0,1)","v":""},null,null,null,{"$f":"tb[[#This Row],[N° Hombres beneficiados]]+tb[[#This Row],[N° Mujeres beneficiadas]]","v":0},null,null,null,{"$f":"+tb[[#This Row],[Cantidad]]*tb[[#This Row],[Precio Unitario]]","v":0},null,"",null,null,null,{"$f":"IFERROR(VLOOKUP($E55,'PP y Comp'!$C$3:$D$31,2,FALSE),\"\")","v":""}]
[null,null,null,null,null,null,{"$f":"_xlfn.IFNA(VLOOKUP(tb[[#This Row],[Componente]],BySs,3,0),\"\")","v":""},null,{"$f":"_xlfn.XLOOKUP(tb[[#This Row],[Indicador o Entregable\nPbR 2023]],Indic_PLADI_PBR[INDICADOR  PbR 2023],Indic_PLADI_PBR[IE - IC  DEL  PLADI 2021-2030],\"\",0,1)","v":""},null,null,null,{"$f":"tb[[#This Row],[N° Hombres beneficiados]]+tb[[#This Row],[N° Mujeres beneficiadas]]","v":0},null,null,null,{"$f":"+tb[[#This Row],[Cantidad]]*tb[[#This Row],[Precio Unitario]]","v":0},null,"",null,null,null,{"$f":"IFERROR(VLOOKUP($E56,'PP y Comp'!$C$3:$D$31,2,FALSE),\"\")","v":""}]
[null,null,null,null,null,null,{"$f":"_xlfn.IFNA(VLOOKUP(tb[[#This Row],[Componente]],BySs,3,0),\"\")","v":""},null,{"$f":"_xlfn.XLOOKUP(tb[[#This Row],[Indicador o Entregable\nPbR 2023]],Indic_PLADI_PBR[INDICADOR  PbR 2023],Indic_PLADI_PBR[IE - IC  DEL  PLADI 2021-2030],\"\",0,1)","v":""},null,null,null,{"$f":"tb[[#This Row],[N° Hombres beneficiados]]+tb[[#This Row],[N° Mujeres beneficiadas]]","v":0},null,null,null,{"$f":"+tb[[#This Row],[Cantidad]]*tb[[#This Row],[Precio Unitario]]","v":0},null,"",null,null,null,{"$f":"IFERROR(VLOOKUP($E57,'PP y Comp'!$C$3:$D$31,2,FALSE),\"\")","v":""}]
[null,null,null,null,null,null,{"$f":"_xlfn.IFNA(VLOOKUP(tb[[#This Row],[Componente]],BySs,3,0),\"\")","v":""},null,{"$f":"_xlfn.XLOOKUP(tb[[#This Row],[Indicador o Entregable\nPbR 2023]],Indic_PLADI_PBR[INDICADOR  PbR 2023],Indic_PLADI_PBR[IE - IC  DEL  PLADI 2021-2030],\"\",0,1)","v":""},null,null,null,{"$f":"tb[[#This Row],[N° Hombres beneficiados]]+tb[[#This Row],[N° Mujeres beneficiadas]]","v":0},null,null,null,{"$f":"+tb[[#This Row],[Cantidad]]*tb[[#This Row],[Precio Unitario]]","v":0},null,"",null,null,null,{"$f":"IFERROR(VLOOKUP($E58,'PP y Comp'!$C$3:$D$31,2,FALSE),\"\")","v":""}]
[null,null,null,null,null,null,{"$f":"_xlfn.IFNA(VLOOKUP(tb[[#This Row],[Componente]],BySs,3,0),\"\")","v":""},null,{"$f":"_xlfn.XLOOKUP(tb[[#This Row],[Indicador o Entregable\nPbR 2023]],Indic_PLADI_PBR[INDICADOR  PbR 2023],Indic_PLADI_PBR[IE - IC  DEL  PLADI 2021-2030],\"\",0,1)","v":""},null,null,null,{"$f":"tb[[#This Row],[N° Hombres beneficiados]]+tb[[#This Row],[N° Mujeres beneficiadas]]","v":0},null,null,null,{"$f":"+tb[[#This Row],[Cantidad]]*tb[[#This Row],[Precio Unitario]]","v":0},null,"",null,null,null,{"$f":"IFERROR(VLOOKUP($E59,'PP y Comp'!$C$3:$D$31,2,FALSE),\"\")","v":""}]
[null,null,null,null,null,null,{"$f":"_xlfn.IFNA(VLOOKUP(tb[[#This Row],[Componente]],BySs,3,0),\"\")","v":""},null,{"$f":"_xlfn.XLOOKUP(tb[[#This Row],[Indicador o Entregable\nPbR 2023]],Indic_PLADI_PBR[INDICADOR  PbR 2023],Indic_PLADI_PBR[IE - IC  DEL  PLADI 2021-2030],\"\",0,1)","v":""},null,null,null,{"$f":"tb[[#This Row],[N° Hombres beneficiados]]+tb[[#This Row],[N° Mujeres beneficiadas]]","v":0},null,null,null,{"$f":"+tb[[#This Row],[Cantidad]]*tb[[#This Row],[Precio Unitario]]","v":0},null,"",null,null,null,{"$f":"IFERROR(VLOOKUP($E60,'PP y Comp'!$C$3:$D$31,2,FALSE),\"\")","v":""}]
[null,null,null,null,null,null,{"$f":"_xlfn.IFNA(VLOOKUP(tb[[#This Row],[Componente]],BySs,3,0),\"\")","v":""},null,{"$f":"_xlfn.XLOOKUP(tb[[#This Row],[Indicador o Entregable\nPbR 2023]],Indic_PLADI_PBR[INDICADOR  PbR 2023],Indic_PLADI_PBR[IE - IC  DEL  PLADI 2021-2030],\"\",0,1)","v":""},null,null,null,{"$f":"tb[[#This Row],[N° Hombres beneficiados]]+tb[[#This Row],[N° Mujeres beneficiadas]]","v":0},null,null,null,{"$f":"+tb[[#This Row],[Cantidad]]*tb[[#This Row],[Precio Unitario]]","v":0},null,"",null,null,null,{"$f":"IFERROR(VLOOKUP($E61,'PP y Comp'!$C$3:$D$31,2,FALSE),\"\")","v":""}]
[null,null,null,null,null,null,{"$f":"_xlfn.IFNA(VLOOKUP(tb[[#This Row],[Componente]],BySs,3,0),\"\")","v":""},null,{"$f":"_xlfn.XLOOKUP(tb[[#This Row],[Indicador o Entregable\nPbR 2023]],Indic_PLADI_PBR[INDICADOR  PbR 2023],Indic_PLADI_PBR[IE - IC  DEL  PLADI 2021-2030],\"\",0,1)","v":""},null,null,null,{"$f":"tb[[#This Row],[N° Hombres beneficiados]]+tb[[#This Row],[N° Mujeres beneficiadas]]","v":0},null,null,null,{"$f":"+tb[[#This Row],[Cantidad]]*tb[[#This Row],[Precio Unitario]]","v":0},null,"",null,null,null,{"$f":"IFERROR(VLOOKUP($E62,'PP y Comp'!$C$3:$D$31,2,FALSE),\"\")","v":""}]
[null,null,null,null,null,null,{"$f":"_xlfn.IFNA(VLOOKUP(tb[[#This Row],[Componente]],BySs,3,0),\"\")","v":""},null,{"$f":"_xlfn.XLOOKUP(tb[[#This Row],[Indicador o Entregable\nPbR 2023]],Indic_PLADI_PBR[INDICADOR  PbR 2023],Indic_PLADI_PBR[IE - IC  DEL  PLADI 2021-2030],\"\",0,1)","v":""},null,null,null,{"$f":"tb[[#This Row],[N° Hombres beneficiados]]+tb[[#This Row],[N° Mujeres beneficiadas]]","v":0},null,null,null,{"$f":"+tb[[#This Row],[Cantidad]]*tb[[#This Row],[Precio Unitario]]","v":0},null,"",null,null,null,{"$f":"IFERROR(VLOOKUP($E63,'PP y Comp'!$C$3:$D$31,2,FALSE),\"\")","v":""}]
[null,null,null,null,null,null,{"$f":"_xlfn.IFNA(VLOOKUP(tb[[#This Row],[Componente]],BySs,3,0),\"\")","v":""},null,{"$f":"_xlfn.XLOOKUP(tb[[#This Row],[Indicador o Entregable\nPbR 2023]],Indic_PLADI_PBR[INDICADOR  PbR 2023],Indic_PLADI_PBR[IE - IC  DEL  PLADI 2021-2030],\"\",0,1)","v":""},null,null,null,{"$f":"tb[[#This Row],[N° Hombres beneficiados]]+tb[[#This Row],[N° Mujeres beneficiadas]]","v":0},null,null,null,{"$f":"+tb[[#This Row],[Cantidad]]*tb[[#This Row],[Precio Unitario]]","v":0},null,"",null,null,null,{"$f":"IFERROR(VLOOKUP($E64,'PP y Comp'!$C$3:$D$31,2,FALSE),\"\")","v":""}]
[null,null,null,null,null,null,{"$f":"_xlfn.IFNA(VLOOKUP(tb[[#This Row],[Componente]],BySs,3,0),\"\")","v":""},null,{"$f":"_xlfn.XLOOKUP(tb[[#This Row],[Indicador o Entregable\nPbR 2023]],Indic_PLADI_PBR[INDICADOR  PbR 2023],Indic_PLADI_PBR[IE - IC  DEL  PLADI 2021-2030],\"\",0,1)","v":""},null,null,null,{"$f":"tb[[#This Row],[N° Hombres beneficiados]]+tb[[#This Row],[N° Mujeres beneficiadas]]","v":0},null,null,null,{"$f":"+tb[[#This Row],[Cantidad]]*tb[[#This Row],[Precio Unitario]]","v":0},null,"",null,null,null,{"$f":"IFERROR(VLOOKUP($E65,'PP y Comp'!$C$3:$D$31,2,FALSE),\"\")","v":""}]
[null,null,null,null,null,null,{"$f":"_xlfn.IFNA(VLOOKUP(tb[[#This Row],[Componente]],BySs,3,0),\"\")","v":""},null,{"$f":"_xlfn.XLOOKUP(tb[[#This Row],[Indicador o Entregable\nPbR 2023]],Indic_PLADI_PBR[INDICADOR  PbR 2023],Indic_PLADI_PBR[IE - IC  DEL  PLADI 2021-2030],\"\",0,1)","v":""},null,null,null,{"$f":"tb[[#This Row],[N° Hombres beneficiados]]+tb[[#This Row],[N° Mujeres beneficiadas]]","v":0},null,null,null,{"$f":"+tb[[#This Row],[Cantidad]]*tb[[#This Row],[Precio Unitario]]","v":0},null,"",null,null,null,{"$f":"IFERROR(VLOOKUP($E66,'PP y Comp'!$C$3:$D$31,2,FALSE),\"\")","v":""}]
[null,null,null,null,null,null,{"$f":"_xlfn.IFNA(VLOOKUP(tb[[#This Row],[Componente]],BySs,3,0),\"\")","v":""},null,{"$f":"_xlfn.XLOOKUP(tb[[#This Row],[Indicador o Entregable\nPbR 2023]],Indic_PLADI_PBR[INDICADOR  PbR 2023],Indic_PLADI_PBR[IE - IC  DEL  PLADI 2021-2030],\"\",0,1)","v":""},null,null,null,{"$f":"tb[[#This Row],[N° Hombres beneficiados]]+tb[[#This Row],[N° Mujeres beneficiadas]]","v":0},null,null,null,{"$f":"+tb[[#This Row],[Cantidad]]*tb[[#This Row],[Precio Unitario]]","v":0},null,"",null,null,null,{"$f":"IFERROR(VLOOKUP($E67,'PP y Comp'!$C$3:$D$31,2,FALSE),\"\")","v":""}]
[null,null,null,null,null,null,{"$f":"_xlfn.IFNA(VLOOKUP(tb[[#This Row],[Componente]],BySs,3,0),\"\")","v":""},null,{"$f":"_xlfn.XLOOKUP(tb[[#This Row],[Indicador o Entregable\nPbR 2023]],Indic_PLADI_PBR[INDICADOR  PbR 2023],Indic_PLADI_PBR[IE - IC  DEL  PLADI 2021-2030],\"\",0,1)","v":""},null,null,null,{"$f":"tb[[#This Row],[N° Hombres beneficiados]]+tb[[#This Row],[N° Mujeres beneficiadas]]","v":0},null,null,null,{"$f":"+tb[[#This Row],[Cantidad]]*tb[[#This Row],[Precio Unitario]]","v":0},null,"",null,null,null,{"$f":"IFERROR(VLOOKUP($E68,'PP y Comp'!$C$3:$D$31,2,FALSE),\"\")","v":""}]
[null,null,null,null,null,null,{"$f":"_xlfn.IFNA(VLOOKUP(tb[[#This Row],[Componente]],BySs,3,0),\"\")","v":""},null,{"$f":"_xlfn.XLOOKUP(tb[[#This Row],[Indicador o Entregable\nPbR 2023]],Indic_PLADI_PBR[INDICADOR  PbR 2023],Indic_PLADI_PBR[IE - IC  DEL  PLADI 2021-2030],\"\",0,1)","v":""},null,null,null,{"$f":"tb[[#This Row],[N° Hombres beneficiados]]+tb[[#This Row],[N° Mujeres beneficiadas]]","v":0},null,null,null,{"$f":"+tb[[#This Row],[Cantidad]]*tb[[#This Row],[Precio Unitario]]","v":0},null,"",null,null,null,{"$f":"IFERROR(VLOOKUP($E69,'PP y Comp'!$C$3:$D$31,2,FALSE),\"\")","v":""}]
[null,null,null,null,null,null,{"$f":"_xlfn.IFNA(VLOOKUP(tb[[#This Row],[Componente]],BySs,3,0),\"\")","v":""},null,{"$f":"_xlfn.XLOOKUP(tb[[#This Row],[Indicador o Entregable\nPbR 2023]],Indic_PLADI_PBR[INDICADOR  PbR 2023],Indic_PLADI_PBR[IE - IC  DEL  PLADI 2021-2030],\"\",0,1)","v":""},null,null,null,{"$f":"tb[[#This Row],[N° Hombres beneficiados]]+tb[[#This Row],[N° Mujeres beneficiadas]]","v":0},null,null,null,{"$f":"+tb[[#This Row],[Cantidad]]*tb[[#This Row],[Precio Unitario]]","v":0},null,"",null,null,null,{"$f":"IFERROR(VLOOKUP($E70,'PP y Comp'!$C$3:$D$31,2,FALSE),\"\")","v":""}]
[null,null,null,null,null,null,{"$f":"_xlfn.IFNA(VLOOKUP(tb[[#This Row],[Componente]],BySs,3,0),\"\")","v":""},null,{"$f":"_xlfn.XLOOKUP(tb[[#This Row],[Indicador o Entregable\nPbR 2023]],Indic_PLADI_PBR[INDICADOR  PbR 2023],Indic_PLADI_PBR[IE - IC  DEL  PLADI 2021-2030],\"\",0,1)","v":""},null,null,null,{"$f":"tb[[#This Row],[N° Hombres beneficiados]]+tb[[#This Row],[N° Mujeres beneficiadas]]","v":0},null,null,null,{"$f":"+tb[[#This Row],[Cantidad]]*tb[[#This Row],[Precio Unitario]]","v":0},null,"",null,null,null,{"$f":"IFERROR(VLOOKUP($E71,'PP y Comp'!$C$3:$D$31,2,FALSE),\"\")","v":""}]
[null,null,null,null,null,null,{"$f":"_xlfn.IFNA(VLOOKUP(tb[[#This Row],[Componente]],BySs,3,0),\"\")","v":""},null,{"$f":"_xlfn.XLOOKUP(tb[[#This Row],[Indicador o Entregable\nPbR 2023]],Indic_PLADI_PBR[INDICADOR  PbR 2023],Indic_PLADI_PBR[IE - IC  DEL  PLADI 2021-2030],\"\",0,1)","v":""},null,null,null,{"$f":"tb[[#This Row],[N° Hombres beneficiados]]+tb[[#This Row],[N° Mujeres beneficiadas]]","v":0},null,null,null,{"$f":"+tb[[#This Row],[Cantidad]]*tb[[#This Row],[Precio Unitario]]","v":0},null,"",null,null,null,{"$f":"IFERROR(VLOOKUP($E72,'PP y Comp'!$C$3:$D$31,2,FALSE),\"\")","v":""}]
[null,null,null,null,null,null,{"$f":"_xlfn.IFNA(VLOOKUP(tb[[#This Row],[Componente]],BySs,3,0),\"\")","v":""},null,{"$f":"_xlfn.XLOOKUP(tb[[#This Row],[Indicador o Entregable\nPbR 2023]],Indic_PLADI_PBR[INDICADOR  PbR 2023],Indic_PLADI_PBR[IE - IC  DEL  PLADI 2021-2030],\"\",0,1)","v":""},null,null,null,{"$f":"tb[[#This Row],[N° Hombres beneficiados]]+tb[[#This Row],[N° Mujeres beneficiadas]]","v":0},null,null,null,{"$f":"+tb[[#This Row],[Cantidad]]*tb[[#This Row],[Precio Unitario]]","v":0},null,"",null,null,null,{"$f":"IFERROR(VLOOKUP($E73,'PP y Comp'!$C$3:$D$31,2,FALSE),\"\")","v":""}]
[null,null,null,null,null,null,{"$f":"_xlfn.IFNA(VLOOKUP(tb[[#This Row],[Componente]],BySs,3,0),\"\")","v":""},null,{"$f":"_xlfn.XLOOKUP(tb[[#This Row],[Indicador o Entregable\nPbR 2023]],Indic_PLADI_PBR[INDICADOR  PbR 2023],Indic_PLADI_PBR[IE - IC  DEL  PLADI 2021-2030],\"\",0,1)","v":""},null,null,null,{"$f":"tb[[#This Row],[N° Hombres beneficiados]]+tb[[#This Row],[N° Mujeres beneficiadas]]","v":0},null,null,null,{"$f":"+tb[[#This Row],[Cantidad]]*tb[[#This Row],[Precio Unitario]]","v":0},null,"",null,null,null,{"$f":"IFERROR(VLOOKUP($E74,'PP y Comp'!$C$3:$D$31,2,FALSE),\"\")","v":""}]
[null,null,null,null,null,null,{"$f":"_xlfn.IFNA(VLOOKUP(tb[[#This Row],[Componente]],BySs,3,0),\"\")","v":""},null,{"$f":"_xlfn.XLOOKUP(tb[[#This Row],[Indicador o Entregable\nPbR 2023]],Indic_PLADI_PBR[INDICADOR  PbR 2023],Indic_PLADI_PBR[IE - IC  DEL  PLADI 2021-2030],\"\",0,1)","v":""},null,null,null,{"$f":"tb[[#This Row],[N° Hombres beneficiados]]+tb[[#This Row],[N° Mujeres beneficiadas]]","v":0},null,null,null,{"$f":"+tb[[#This Row],[Cantidad]]*tb[[#This Row],[Precio Unitario]]","v":0},null,"",null,null,null,{"$f":"IFERROR(VLOOKUP($E75,'PP y Comp'!$C$3:$D$31,2,FALSE),\"\")","v":""}]
[null,null,null,null,null,null,{"$f":"_xlfn.IFNA(VLOOKUP(tb[[#This Row],[Componente]],BySs,3,0),\"\")","v":""},null,{"$f":"_xlfn.XLOOKUP(tb[[#This Row],[Indicador o Entregable\nPbR 2023]],Indic_PLADI_PBR[INDICADOR  PbR 2023],Indic_PLADI_PBR[IE - IC  DEL  PLADI 2021-2030],\"\",0,1)","v":""},null,null,null,{"$f":"tb[[#This Row],[N° Hombres beneficiados]]+tb[[#This Row],[N° Mujeres beneficiadas]]","v":0},null,null,null,{"$f":"+tb[[#This Row],[Cantidad]]*tb[[#This Row],[Precio Unitario]]","v":0},null,"",null,null,null,{"$f":"IFERROR(VLOOKUP($E76,'PP y Comp'!$C$3:$D$31,2,FALSE),\"\")","v":""}]
[null,null,null,null,null,null,{"$f":"_xlfn.IFNA(VLOOKUP(tb[[#This Row],[Componente]],BySs,3,0),\"\")","v":""},null,{"$f":"_xlfn.XLOOKUP(tb[[#This Row],[Indicador o Entregable\nPbR 2023]],Indic_PLADI_PBR[INDICADOR  PbR 2023],Indic_PLADI_PBR[IE - IC  DEL  PLADI 2021-2030],\"\",0,1)","v":""},null,null,null,{"$f":"tb[[#This Row],[N° Hombres beneficiados]]+tb[[#This Row],[N° Mujeres beneficiadas]]","v":0},null,null,null,{"$f":"+tb[[#This Row],[Cantidad]]*tb[[#This Row],[Precio Unitario]]","v":0},null,"",null,null,null,{"$f":"IFERROR(VLOOKUP($E77,'PP y Comp'!$C$3:$D$31,2,FALSE),\"\")","v":""}]
[null,null,null,null,null,null,{"$f":"_xlfn.IFNA(VLOOKUP(tb[[#This Row],[Componente]],BySs,3,0),\"\")","v":""},null,{"$f":"_xlfn.XLOOKUP(tb[[#This Row],[Indicador o Entregable\nPbR 2023]],Indic_PLADI_PBR[INDICADOR  PbR 2023],Indic_PLADI_PBR[IE - IC  DEL  PLADI 2021-2030],\"\",0,1)","v":""},null,null,null,{"$f":"tb[[#This Row],[N° Hombres beneficiados]]+tb[[#This Row],[N° Mujeres beneficiadas]]","v":0},null,null,null,{"$f":"+tb[[#This Row],[Cantidad]]*tb[[#This Row],[Precio Unitario]]","v":0},null,"",null,null,null,{"$f":"IFERROR(VLOOKUP($E78,'PP y Comp'!$C$3:$D$31,2,FALSE),\"\")","v":""}]
[null,null,null,null,null,null,{"$f":"_xlfn.IFNA(VLOOKUP(tb[[#This Row],[Componente]],BySs,3,0),\"\")","v":""},null,{"$f":"_xlfn.XLOOKUP(tb[[#This Row],[Indicador o Entregable\nPbR 2023]],Indic_PLADI_PBR[INDICADOR  PbR 2023],Indic_PLADI_PBR[IE - IC  DEL  PLADI 2021-2030],\"\",0,1)","v":""},null,null,null,{"$f":"tb[[#This Row],[N° Hombres beneficiados]]+tb[[#This Row],[N° Mujeres beneficiadas]]","v":0},null,null,null,{"$f":"+tb[[#This Row],[Cantidad]]*tb[[#This Row],[Precio Unitario]]","v":0},null,"",null,null,null,{"$f":"IFERROR(VLOOKUP($E79,'PP y Comp'!$C$3:$D$31,2,FALSE),\"\")","v":""}]
[null,null,null,null,null,null,{"$f":"_xlfn.IFNA(VLOOKUP(tb[[#This Row],[Componente]],BySs,3,0),\"\")","v":""},null,{"$f":"_xlfn.XLOOKUP(tb[[#This Row],[Indicador o Entregable\nPbR 2023]],Indic_PLADI_PBR[INDICADOR  PbR 2023],Indic_PLADI_PBR[IE - IC  DEL  PLADI 2021-2030],\"\",0,1)","v":""},null,null,null,{"$f":"tb[[#This Row],[N° Hombres beneficiados]]+tb[[#This Row],[N° Mujeres beneficiadas]]","v":0},null,null,null,{"$f":"+tb[[#This Row],[Cantidad]]*tb[[#This Row],[Precio Unitario]]","v":0},null,"",null,null,null,{"$f":"IFERROR(VLOOKUP($E80,'PP y Comp'!$C$3:$D$31,2,FALSE),\"\")","v":""}]
[null,null,null,null,null,null,{"$f":"_xlfn.IFNA(VLOOKUP(tb[[#This Row],[Componente]],BySs,3,0),\"\")","v":""},null,{"$f":"_xlfn.XLOOKUP(tb[[#This Row],[Indicador o Entregable\nPbR 2023]],Indic_PLADI_PBR[INDICADOR  PbR 2023],Indic_PLADI_PBR[IE - IC  DEL  PLADI 2021-2030],\"\",0,1)","v":""},null,null,null,{"$f":"tb[[#This Row],[N° Hombres beneficiados]]+tb[[#This Row],[N° Mujeres beneficiadas]]","v":0},null,null,null,{"$f":"+tb[[#This Row],[Cantidad]]*tb[[#This Row],[Precio Unitario]]","v":0},null,"",null,null,null,{"$f":"IFERROR(VLOOKUP($E81,'PP y Comp'!$C$3:$D$31,2,FALSE),\"\")","v":""}]
[null,null,null,null,null,null,{"$f":"_xlfn.IFNA(VLOOKUP(tb[[#This Row],[Componente]],BySs,3,0),\"\")","v":""},null,{"$f":"_xlfn.XLOOKUP(tb[[#This Row],[Indicador o Entregable\nPbR 2023]],Indic_PLADI_PBR[INDICADOR  PbR 2023],Indic_PLADI_PBR[IE - IC  DEL  PLADI 2021-2030],\"\",0,1)","v":""},null,null,null,{"$f":"tb[[#This Row],[N° Hombres beneficiados]]+tb[[#This Row],[N° Mujeres beneficiadas]]","v":0},null,null,null,{"$f":"+tb[[#This Row],[Cantidad]]*tb[[#This Row],[Precio Unitario]]","v":0},null,"",null,null,null,{"$f":"IFERROR(VLOOKUP($E82,'PP y Comp'!$C$3:$D$31,2,FALSE),\"\")","v":""}]
[null,null,null,null,null,null,{"$f":"_xlfn.IFNA(VLOOKUP(tb[[#This Row],[Componente]],BySs,3,0),\"\")","v":""},null,{"$f":"_xlfn.XLOOKUP(tb[[#This Row],[Indicador o Entregable\nPbR 2023]],Indic_PLADI_PBR[INDICADOR  PbR 2023],Indic_PLADI_PBR[IE - IC  DEL  PLADI 2021-2030],\"\",0,1)","v":""},null,null,null,{"$f":"tb[[#This Row],[N° Hombres beneficiados]]+tb[[#This Row],[N° Mujeres beneficiadas]]","v":0},null,null,null,{"$f":"+tb[[#This Row],[Cantidad]]*tb[[#This Row],[Precio Unitario]]","v":0},null,"",null,null,null,{"$f":"IFERROR(VLOOKUP($E83,'PP y Comp'!$C$3:$D$31,2,FALSE),\"\")","v":""}]
[null,null,null,null,null,null,{"$f":"_xlfn.IFNA(VLOOKUP(tb[[#This Row],[Componente]],BySs,3,0),\"\")","v":""},null,{"$f":"_xlfn.XLOOKUP(tb[[#This Row],[Indicador o Entregable\nPbR 2023]],Indic_PLADI_PBR[INDICADOR  PbR 2023],Indic_PLADI_PBR[IE - IC  DEL  PLADI 2021-2030],\"\",0,1)","v":""},null,null,null,{"$f":"tb[[#This Row],[N° Hombres beneficiados]]+tb[[#This Row],[N° Mujeres beneficiadas]]","v":0},null,null,null,{"$f":"+tb[[#This Row],[Cantidad]]*tb[[#This Row],[Precio Unitario]]","v":0},null,"",null,null,null,{"$f":"IFERROR(VLOOKUP($E84,'PP y Comp'!$C$3:$D$31,2,FALSE),\"\")","v":""}]
[null,null,null,null,null,null,{"$f":"_xlfn.IFNA(VLOOKUP(tb[[#This Row],[Componente]],BySs,3,0),\"\")","v":""},null,{"$f":"_xlfn.XLOOKUP(tb[[#This Row],[Indicador o Entregable\nPbR 2023]],Indic_PLADI_PBR[INDICADOR  PbR 2023],Indic_PLADI_PBR[IE - IC  DEL  PLADI 2021-2030],\"\",0,1)","v":""},null,null,null,{"$f":"tb[[#This Row],[N° Hombres beneficiados]]+tb[[#This Row],[N° Mujeres beneficiadas]]","v":0},null,null,null,{"$f":"+tb[[#This Row],[Cantidad]]*tb[[#This Row],[Precio Unitario]]","v":0},null,"",null,null,null,{"$f":"IFERROR(VLOOKUP($E85,'PP y Comp'!$C$3:$D$31,2,FALSE),\"\")","v":""}]
[null,null,null,null,null,null,{"$f":"_xlfn.IFNA(VLOOKUP(tb[[#This Row],[Componente]],BySs,3,0),\"\")","v":""},null,{"$f":"_xlfn.XLOOKUP(tb[[#This Row],[Indicador o Entregable\nPbR 2023]],Indic_PLADI_PBR[INDICADOR  PbR 2023],Indic_PLADI_PBR[IE - IC  DEL  PLADI 2021-2030],\"\",0,1)","v":""},null,null,null,{"$f":"tb[[#This Row],[N° Hombres beneficiados]]+tb[[#This Row],[N° Mujeres beneficiadas]]","v":0},null,null,null,{"$f":"+tb[[#This Row],[Cantidad]]*tb[[#This Row],[Precio Unitario]]","v":0},null,"",null,null,null,{"$f":"IFERROR(VLOOKUP($E86,'PP y Comp'!$C$3:$D$31,2,FALSE),\"\")","v":""}]
[null,null,null,null,null,null,{"$f":"_xlfn.IFNA(VLOOKUP(tb[[#This Row],[Componente]],BySs,3,0),\"\")","v":""},null,{"$f":"_xlfn.XLOOKUP(tb[[#This Row],[Indicador o Entregable\nPbR 2023]],Indic_PLADI_PBR[INDICADOR  PbR 2023],Indic_PLADI_PBR[IE - IC  DEL  PLADI 2021-2030],\"\",0,1)","v":""},null,null,null,{"$f":"tb[[#This Row],[N° Hombres beneficiados]]+tb[[#This Row],[N° Mujeres beneficiadas]]","v":0},null,null,null,{"$f":"+tb[[#This Row],[Cantidad]]*tb[[#This Row],[Precio Unitario]]","v":0},null,"",null,null,null,{"$f":"IFERROR(VLOOKUP($E87,'PP y Comp'!$C$3:$D$31,2,FALSE),\"\")","v":""}]
[null,null,null,null,null,null,{"$f":"_xlfn.IFNA(VLOOKUP(tb[[#This Row],[Componente]],BySs,3,0),\"\")","v":""},null,{"$f":"_xlfn.XLOOKUP(tb[[#This Row],[Indicador o Entregable\nPbR 2023]],Indic_PLADI_PBR[INDICADOR  PbR 2023],Indic_PLADI_PBR[IE - IC  DEL  PLADI 2021-2030],\"\",0,1)","v":""},null,null,null,{"$f":"tb[[#This Row],[N° Hombres beneficiados]]+tb[[#This Row],[N° Mujeres beneficiadas]]","v":0},null,null,null,{"$f":"+tb[[#This Row],[Cantidad]]*tb[[#This Row],[Precio Unitario]]","v":0},null,"",null,null,null,{"$f":"IFERROR(VLOOKUP($E88,'PP y Comp'!$C$3:$D$31,2,FALSE),\"\")","v":""}]
[null,null,null,null,null,null,{"$f":"_xlfn.IFNA(VLOOKUP(tb[[#This Row],[Componente]],BySs,3,0),\"\")","v":""},null,{"$f":"_xlfn.XLOOKUP(tb[[#This Row],[Indicador o Entregable\nPbR 2023]],Indic_PLADI_PBR[INDICADOR  PbR 2023],Indic_PLADI_PBR[IE - IC  DEL  PLADI 2021-2030],\"\",0,1)","v":""},null,null,null,{"$f":"tb[[#This Row],[N° Hombres beneficiados]]+tb[[#This Row],[N° Mujeres beneficiadas]]","v":0},null,null,null,{"$f":"+tb[[#This Row],[Cantidad]]*tb[[#This Row],[Precio Unitario]]","v":0},null,{"$f":"IF(C89=\"\",\"\",_xlfn.XLOOKUP($I$10,EntidadUG,CeGe,\"Por favor, llenar celda I10\",0,1))","v":""},null,null,null,{"$f":"IFERROR(VLOOKUP($E89,'PP y Comp'!$C$3:$D$31,2,FALSE),\"\")","v":""}]
[null,null,null,null,null,null,{"$f":"_xlfn.IFNA(VLOOKUP(tb[[#This Row],[Componente]],BySs,3,0),\"\")","v":""},null,{"$f":"_xlfn.XLOOKUP(tb[[#This Row],[Indicador o Entregable\nPbR 2023]],Indic_PLADI_PBR[INDICADOR  PbR 2023],Indic_PLADI_PBR[IE - IC  DEL  PLADI 2021-2030],\"\",0,1)","v":""},null,null,null,{"$f":"tb[[#This Row],[N° Hombres beneficiados]]+tb[[#This Row],[N° Mujeres beneficiadas]]","v":0},null,null,null,{"$f":"+tb[[#This Row],[Cantidad]]*tb[[#This Row],[Precio Unitario]]","v":0},null,"",null,null,null,{"$f":"IFERROR(VLOOKUP($E90,'PP y Comp'!$C$3:$D$31,2,FALSE),\"\")","v":""}]
[null,null,null,null,null,null,{"$f":"_xlfn.IFNA(VLOOKUP(tb[[#This Row],[Componente]],BySs,3,0),\"\")","v":""},null,{"$f":"_xlfn.XLOOKUP(tb[[#This Row],[Indicador o Entregable\nPbR 2023]],Indic_PLADI_PBR[INDICADOR  PbR 2023],Indic_PLADI_PBR[IE - IC  DEL  PLADI 2021-2030],\"\",0,1)","v":""},null,null,null,{"$f":"tb[[#This Row],[N° Hombres beneficiados]]+tb[[#This Row],[N° Mujeres beneficiadas]]","v":0},null,null,null,{"$f":"+tb[[#This Row],[Cantidad]]*tb[[#This Row],[Precio Unitario]]","v":0},null,"",null,null,null,{"$f":"IFERROR(VLOOKUP($E91,'PP y Comp'!$C$3:$D$31,2,FALSE),\"\")","v":""}]
[null,null,null,null,null,null,{"$f":"_xlfn.IFNA(VLOOKUP(tb[[#This Row],[Componente]],BySs,3,0),\"\")","v":""},null,{"$f":"_xlfn.XLOOKUP(tb[[#This Row],[Indicador o Entregable\nPbR 2023]],Indic_PLADI_PBR[INDICADOR  PbR 2023],Indic_PLADI_PBR[IE - IC  DEL  PLADI 2021-2030],\"\",0,1)","v":""},null,null,null,{"$f":"tb[[#This Row],[N° Hombres beneficiados]]+tb[[#This Row],[N° Mujeres beneficiadas]]","v":0},null,null,null,{"$f":"+tb[[#This Row],[Cantidad]]*tb[[#This Row],[Precio Unitario]]","v":0},null,"",null,null,null,{"$f":"IFERROR(VLOOKUP($E92,'PP y Comp'!$C$3:$D$31,2,FALSE),\"\")","v":""}]
[null,null,null,null,null,null,{"$f":"_xlfn.IFNA(VLOOKUP(tb[[#This Row],[Componente]],BySs,3,0),\"\")","v":""},null,{"$f":"_xlfn.XLOOKUP(tb[[#This Row],[Indicador o Entregable\nPbR 2023]],Indic_PLADI_PBR[INDICADOR  PbR 2023],Indic_PLADI_PBR[IE - IC  DEL  PLADI 2021-2030],\"\",0,1)","v":""},null,null,null,{"$f":"tb[[#This Row],[N° Hombres beneficiados]]+tb[[#This Row],[N° Mujeres beneficiadas]]","v":0},null,null,null,{"$f":"+tb[[#This Row],[Cantidad]]*tb[[#This Row],[Precio Unitario]]","v":0},null,"",null,null,null,{"$f":"IFERROR(VLOOKUP($E93,'PP y Comp'!$C$3:$D$31,2,FALSE),\"\")","v":""}]
[null,null,null,null,null,null,{"$f":"_xlfn.IFNA(VLOOKUP(tb[[#This Row],[Componente]],BySs,3,0),\"\")","v":""},null,{"$f":"_xlfn.XLOOKUP(tb[[#This Row],[Indicador o Entregable\nPbR 2023]],Indic_PLADI_PBR[INDICADOR  PbR 2023],Indic_PLADI_PBR[IE - IC  DEL  PLADI 2021-2030],\"\",0,1)","v":""},null,null,null,{"$f":"tb[[#This Row],[N° Hombres beneficiados]]+tb[[#This Row],[N° Mujeres beneficiadas]]","v":0},null,null,null,{"$f":"+tb[[#This Row],[Cantidad]]*tb[[#This Row],[Precio Unitario]]","v":0},null,"",null,null,null,{"$f":"IFERROR(VLOOKUP($E94,'PP y Comp'!$C$3:$D$31,2,FALSE),\"\")","v":""}]
[null,null,null,null,null,null,{"$f":"_xlfn.IFNA(VLOOKUP(tb[[#This Row],[Componente]],BySs,3,0),\"\")","v":""},null,{"$f":"_xlfn.XLOOKUP(tb[[#This Row],[Indicador o Entregable\nPbR 2023]],Indic_PLADI_PBR[INDICADOR  PbR 2023],Indic_PLADI_PBR[IE - IC  DEL  PLADI 2021-2030],\"\",0,1)","v":""},null,null,null,{"$f":"tb[[#This Row],[N° Hombres beneficiados]]+tb[[#This Row],[N° Mujeres beneficiadas]]","v":0},null,null,null,{"$f":"+tb[[#This Row],[Cantidad]]*tb[[#This Row],[Precio Unitario]]","v":0},null,"",null,null,null,{"$f":"IFERROR(VLOOKUP($E95,'PP y Comp'!$C$3:$D$31,2,FALSE),\"\")","v":""}]
[null,null,null,null,null,null,{"$f":"_xlfn.IFNA(VLOOKUP(tb[[#This Row],[Componente]],BySs,3,0),\"\")","v":""},null,{"$f":"_xlfn.XLOOKUP(tb[[#This Row],[Indicador o Entregable\nPbR 2023]],Indic_PLADI_PBR[INDICADOR  PbR 2023],Indic_PLADI_PBR[IE - IC  DEL  PLADI 2021-2030],\"\",0,1)","v":""},null,null,null,{"$f":"tb[[#This Row],[N° Hombres beneficiados]]+tb[[#This Row],[N° Mujeres beneficiadas]]","v":0},null,null,null,{"$f":"+tb[[#This Row],[Cantidad]]*tb[[#This Row],[Precio Unitario]]","v":0},null,"",null,null,null,{"$f":"IFERROR(VLOOKUP($E96,'PP y Comp'!$C$3:$D$31,2,FALSE),\"\")","v":""}]
[null,null,null,null,null,null,{"$f":"_xlfn.IFNA(VLOOKUP(tb[[#This Row],[Componente]],BySs,3,0),\"\")","v":""},null,{"$f":"_xlfn.XLOOKUP(tb[[#This Row],[Indicador o Entregable\nPbR 2023]],Indic_PLADI_PBR[INDICADOR  PbR 2023],Indic_PLADI_PBR[IE - IC  DEL  PLADI 2021-2030],\"\",0,1)","v":""},null,null,null,{"$f":"tb[[#This Row],[N° Hombres beneficiados]]+tb[[#This Row],[N° Mujeres beneficiadas]]","v":0},null,null,null,{"$f":"+tb[[#This Row],[Cantidad]]*tb[[#This Row],[Precio Unitario]]","v":0},null,"",null,null,null,{"$f":"IFERROR(VLOOKUP($E97,'PP y Comp'!$C$3:$D$31,2,FALSE),\"\")","v":""}]
[null,null,null,null,null,null,{"$f":"_xlfn.IFNA(VLOOKUP(tb[[#This Row],[Componente]],BySs,3,0),\"\")","v":""},null,{"$f":"_xlfn.XLOOKUP(tb[[#This Row],[Indicador o Entregable\nPbR 2023]],Indic_PLADI_PBR[INDICADOR  PbR 2023],Indic_PLADI_PBR[IE - IC  DEL  PLADI 2021-2030],\"\",0,1)","v":""},null,null,null,{"$f":"tb[[#This Row],[N° Hombres beneficiados]]+tb[[#This Row],[N° Mujeres beneficiadas]]","v":0},null,null,null,{"$f":"+tb[[#This Row],[Cantidad]]*tb[[#This Row],[Precio Unitario]]","v":0},null,"",null,null,null,{"$f":"IFERROR(VLOOKUP($E98,'PP y Comp'!$C$3:$D$31,2,FALSE),\"\")","v":""}]
[null,null,null,null,null,null,{"$f":"_xlfn.IFNA(VLOOKUP(tb[[#This Row],[Componente]],BySs,3,0),\"\")","v":""},null,{"$f":"_xlfn.XLOOKUP(tb[[#This Row],[Indicador o Entregable\nPbR 2023]],Indic_PLADI_PBR[INDICADOR  PbR 2023],Indic_PLADI_PBR[IE - IC  DEL  PLADI 2021-2030],\"\",0,1)","v":""},null,null,null,{"$f":"tb[[#This Row],[N° Hombres beneficiados]]+tb[[#This Row],[N° Mujeres beneficiadas]]","v":0},null,null,null,{"$f":"+tb[[#This Row],[Cantidad]]*tb[[#This Row],[Precio Unitario]]","v":0},null,"",null,null,null,{"$f":"IFERROR(VLOOKUP($E99,'PP y Comp'!$C$3:$D$31,2,FALSE),\"\")","v":""}]
[null,null,null,null,null,null,{"$f":"_xlfn.IFNA(VLOOKUP(tb[[#This Row],[Componente]],BySs,3,0),\"\")","v":""},null,{"$f":"_xlfn.XLOOKUP(tb[[#This Row],[Indicador o Entregable\nPbR 2023]],Indic_PLADI_PBR[INDICADOR  PbR 2023],Indic_PLADI_PBR[IE - IC  DEL  PLADI 2021-2030],\"\",0,1)","v":""},null,null,null,{"$f":"tb[[#This Row],[N° Hombres beneficiados]]+tb[[#This Row],[N° Mujeres beneficiadas]]","v":0},null,null,null,{"$f":"+tb[[#This Row],[Cantidad]]*tb[[#This Row],[Precio Unitario]]","v":0},null,"",null,null,null,{"$f":"IFERROR(VLOOKUP($E100,'PP y Comp'!$C$3:$D$31,2,FALSE),\"\")","v":""}]
[null,null,null,null,null,null,{"$f":"_xlfn.IFNA(VLOOKUP(tb[[#This Row],[Componente]],BySs,3,0),\"\")","v":""},null,{"$f":"_xlfn.XLOOKUP(tb[[#This Row],[Indicador o Entregable\nPbR 2023]],Indic_PLADI_PBR[INDICADOR  PbR 2023],Indic_PLADI_PBR[IE - IC  DEL  PLADI 2021-2030],\"\",0,1)","v":""},null,null,null,{"$f":"tb[[#This Row],[N° Hombres beneficiados]]+tb[[#This Row],[N° Mujeres beneficiadas]]","v":0},null,null,null,{"$f":"+tb[[#This Row],[Cantidad]]*tb[[#This Row],[Precio Unitario]]","v":0},null,"",null,null,null,{"$f":"IFERROR(VLOOKUP($E101,'PP y Comp'!$C$3:$D$31,2,FALSE),\"\")","v":""}]
[null,null,null,null,null,null,{"$f":"_xlfn.IFNA(VLOOKUP(tb[[#This Row],[Componente]],BySs,3,0),\"\")","v":""},null,{"$f":"_xlfn.XLOOKUP(tb[[#This Row],[Indicador o Entregable\nPbR 2023]],Indic_PLADI_PBR[INDICADOR  PbR 2023],Indic_PLADI_PBR[IE - IC  DEL  PLADI 2021-2030],\"\",0,1)","v":""},null,null,null,{"$f":"tb[[#This Row],[N° Hombres beneficiados]]+tb[[#This Row],[N° Mujeres beneficiadas]]","v":0},null,null,null,{"$f":"+tb[[#This Row],[Cantidad]]*tb[[#This Row],[Precio Unitario]]","v":0},null,"",null,null,null,{"$f":"IFERROR(VLOOKUP($E102,'PP y Comp'!$C$3:$D$31,2,FALSE),\"\")","v":""}]
[null,null,null,null,null,null,{"$f":"_xlfn.IFNA(VLOOKUP(tb[[#This Row],[Componente]],BySs,3,0),\"\")","v":""},null,{"$f":"_xlfn.XLOOKUP(tb[[#This Row],[Indicador o Entregable\nPbR 2023]],Indic_PLADI_PBR[INDICADOR  PbR 2023],Indic_PLADI_PBR[IE - IC  DEL  PLADI 2021-2030],\"\",0,1)","v":""},null,null,null,{"$f":"tb[[#This Row],[N° Hombres beneficiados]]+tb[[#This Row],[N° Mujeres beneficiadas]]","v":0},null,null,null,{"$f":"+tb[[#This Row],[Cantidad]]*tb[[#This Row],[Precio Unitario]]","v":0},null,"",null,null,null,{"$f":"IFERROR(VLOOKUP($E103,'PP y Comp'!$C$3:$D$31,2,FALSE),\"\")","v":""}]
[null,null,null,null,null,null,{"$f":"_xlfn.IFNA(VLOOKUP(tb[[#This Row],[Componente]],BySs,3,0),\"\")","v":""},null,{"$f":"_xlfn.XLOOKUP(tb[[#This Row],[Indicador o Entregable\nPbR 2023]],Indic_PLADI_PBR[INDICADOR  PbR 2023],Indic_PLADI_PBR[IE - IC  DEL  PLADI 2021-2030],\"\",0,1)","v":""},null,null,null,{"$f":"tb[[#This Row],[N° Hombres beneficiados]]+tb[[#This Row],[N° Mujeres beneficiadas]]","v":0},null,null,null,{"$f":"+tb[[#This Row],[Cantidad]]*tb[[#This Row],[Precio Unitario]]","v":0},null,"",null,null,null,{"$f":"IFERROR(VLOOKUP($E104,'PP y Comp'!$C$3:$D$31,2,FALSE),\"\")","v":""}]
[null,null,null,null,null,null,{"$f":"_xlfn.IFNA(VLOOKUP(tb[[#This Row],[Componente]],BySs,3,0),\"\")","v":""},null,{"$f":"_xlfn.XLOOKUP(tb[[#This Row],[Indicador o Entregable\nPbR 2023]],Indic_PLADI_PBR[INDICADOR  PbR 2023],Indic_PLADI_PBR[IE - IC  DEL  PLADI 2021-2030],\"\",0,1)","v":""},null,null,null,{"$f":"tb[[#This Row],[N° Hombres beneficiados]]+tb[[#This Row],[N° Mujeres beneficiadas]]","v":0},null,null,null,{"$f":"+tb[[#This Row],[Cantidad]]*tb[[#This Row],[Precio Unitario]]","v":0},null,"",null,null,null,{"$f":"IFERROR(VLOOKUP($E105,'PP y Comp'!$C$3:$D$31,2,FALSE),\"\")","v":""}]
[null,null,null,null,null,null,{"$f":"_xlfn.IFNA(VLOOKUP(tb[[#This Row],[Componente]],BySs,3,0),\"\")","v":""},null,{"$f":"_xlfn.XLOOKUP(tb[[#This Row],[Indicador o Entregable\nPbR 2023]],Indic_PLADI_PBR[INDICADOR  PbR 2023],Indic_PLADI_PBR[IE - IC  DEL  PLADI 2021-2030],\"\",0,1)","v":""},null,null,null,{"$f":"tb[[#This Row],[N° Hombres beneficiados]]+tb[[#This Row],[N° Mujeres beneficiadas]]","v":0},null,null,null,{"$f":"+tb[[#This Row],[Cantidad]]*tb[[#This Row],[Precio Unitario]]","v":0},null,"",null,null,null,{"$f":"IFERROR(VLOOKUP($E106,'PP y Comp'!$C$3:$D$31,2,FALSE),\"\")","v":""}]
[null,null,null,null,null,null,{"$f":"_xlfn.IFNA(VLOOKUP(tb[[#This Row],[Componente]],BySs,3,0),\"\")","v":""},null,{"$f":"_xlfn.XLOOKUP(tb[[#This Row],[Indicador o Entregable\nPbR 2023]],Indic_PLADI_PBR[INDICADOR  PbR 2023],Indic_PLADI_PBR[IE - IC  DEL  PLADI 2021-2030],\"\",0,1)","v":""},null,null,null,{"$f":"tb[[#This Row],[N° Hombres beneficiados]]+tb[[#This Row],[N° Mujeres beneficiadas]]","v":0},null,null,null,{"$f":"+tb[[#This Row],[Cantidad]]*tb[[#This Row],[Precio Unitario]]","v":0},null,"",null,null,null,{"$f":"IFERROR(VLOOKUP($E107,'PP y Comp'!$C$3:$D$31,2,FALSE),\"\")","v":""}]
[null,null,null,null,null,null,{"$f":"_xlfn.IFNA(VLOOKUP(tb[[#This Row],[Componente]],BySs,3,0),\"\")","v":""},null,{"$f":"_xlfn.XLOOKUP(tb[[#This Row],[Indicador o Entregable\nPbR 2023]],Indic_PLADI_PBR[INDICADOR  PbR 2023],Indic_PLADI_PBR[IE - IC  DEL  PLADI 2021-2030],\"\",0,1)","v":""},null,null,null,{"$f":"tb[[#This Row],[N° Hombres beneficiados]]+tb[[#This Row],[N° Mujeres beneficiadas]]","v":0},null,null,null,{"$f":"+tb[[#This Row],[Cantidad]]*tb[[#This Row],[Precio Unitario]]","v":0},null,"",null,null,null,{"$f":"IFERROR(VLOOKUP($E108,'PP y Comp'!$C$3:$D$31,2,FALSE),\"\")","v":""}]
[null,null,null,null,null,null,{"$f":"_xlfn.IFNA(VLOOKUP(tb[[#This Row],[Componente]],BySs,3,0),\"\")","v":""},null,{"$f":"_xlfn.XLOOKUP(tb[[#This Row],[Indicador o Entregable\nPbR 2023]],Indic_PLADI_PBR[INDICADOR  PbR 2023],Indic_PLADI_PBR[IE - IC  DEL  PLADI 2021-2030],\"\",0,1)","v":""},null,null,null,{"$f":"tb[[#This Row],[N° Hombres beneficiados]]+tb[[#This Row],[N° Mujeres beneficiadas]]","v":0},null,null,null,{"$f":"+tb[[#This Row],[Cantidad]]*tb[[#This Row],[Precio Unitario]]","v":0},null,"",null,null,null,{"$f":"IFERROR(VLOOKUP($E109,'PP y Comp'!$C$3:$D$31,2,FALSE),\"\")","v":""}]
[null,null,null,null,null,null,{"$f":"_xlfn.IFNA(VLOOKUP(tb[[#This Row],[Componente]],BySs,3,0),\"\")","v":""},null,{"$f":"_xlfn.XLOOKUP(tb[[#This Row],[Indicador o Entregable\nPbR 2023]],Indic_PLADI_PBR[INDICADOR  PbR 2023],Indic_PLADI_PBR[IE - IC  DEL  PLADI 2021-2030],\"\",0,1)","v":""},null,null,null,{"$f":"tb[[#This Row],[N° Hombres beneficiados]]+tb[[#This Row],[N° Mujeres beneficiadas]]","v":0},null,null,null,{"$f":"+tb[[#This Row],[Cantidad]]*tb[[#This Row],[Precio Unitario]]","v":0},null,"",null,null,null,{"$f":"IFERROR(VLOOKUP($E110,'PP y Comp'!$C$3:$D$31,2,FALSE),\"\")","v":""}]
[null,null,null,null,null,null,{"$f":"_xlfn.IFNA(VLOOKUP(tb[[#This Row],[Componente]],BySs,3,0),\"\")","v":""},null,{"$f":"_xlfn.XLOOKUP(tb[[#This Row],[Indicador o Entregable\nPbR 2023]],Indic_PLADI_PBR[INDICADOR  PbR 2023],Indic_PLADI_PBR[IE - IC  DEL  PLADI 2021-2030],\"\",0,1)","v":""},null,null,null,{"$f":"tb[[#This Row],[N° Hombres beneficiados]]+tb[[#This Row],[N° Mujeres beneficiadas]]","v":0},null,null,null,{"$f":"+tb[[#This Row],[Cantidad]]*tb[[#This Row],[Precio Unitario]]","v":0},null,"",null,null,null,{"$f":"IFERROR(VLOOKUP($E111,'PP y Comp'!$C$3:$D$31,2,FALSE),\"\")","v":""}]
[null,null,null,null,null,null,{"$f":"_xlfn.IFNA(VLOOKUP(tb[[#This Row],[Componente]],BySs,3,0),\"\")","v":""},null,{"$f":"_xlfn.XLOOKUP(tb[[#This Row],[Indicador o Entregable\nPbR 2023]],Indic_PLADI_PBR[INDICADOR  PbR 2023],Indic_PLADI_PBR[IE - IC  DEL  PLADI 2021-2030],\"\",0,1)","v":""},null,null,null,{"$f":"tb[[#This Row],[N° Hombres beneficiados]]+tb[[#This Row],[N° Mujeres beneficiadas]]","v":0},null,null,null,{"$f":"+tb[[#This Row],[Cantidad]]*tb[[#This Row],[Precio Unitario]]","v":0},null,"",null,null,null,{"$f":"IFERROR(VLOOKUP($E112,'PP y Comp'!$C$3:$D$31,2,FALSE),\"\")","v":""}]
[null,null,null,null,null,null,{"$f":"_xlfn.IFNA(VLOOKUP(tb[[#This Row],[Componente]],BySs,3,0),\"\")","v":""},null,{"$f":"_xlfn.XLOOKUP(tb[[#This Row],[Indicador o Entregable\nPbR 2023]],Indic_PLADI_PBR[INDICADOR  PbR 2023],Indic_PLADI_PBR[IE - IC  DEL  PLADI 2021-2030],\"\",0,1)","v":""},null,null,null,{"$f":"tb[[#This Row],[N° Hombres beneficiados]]+tb[[#This Row],[N° Mujeres beneficiadas]]","v":0},null,null,null,{"$f":"+tb[[#This Row],[Cantidad]]*tb[[#This Row],[Precio Unitario]]","v":0},null,"",null,null,null,{"$f":"IFERROR(VLOOKUP($E113,'PP y Comp'!$C$3:$D$31,2,FALSE),\"\")","v":""}]
[null,null,null,null,null,null,{"$f":"_xlfn.IFNA(VLOOKUP(tb[[#This Row],[Componente]],BySs,3,0),\"\")","v":""},null,{"$f":"_xlfn.XLOOKUP(tb[[#This Row],[Indicador o Entregable\nPbR 2023]],Indic_PLADI_PBR[INDICADOR  PbR 2023],Indic_PLADI_PBR[IE - IC  DEL  PLADI 2021-2030],\"\",0,1)","v":""},null,null,null,{"$f":"tb[[#This Row],[N° Hombres beneficiados]]+tb[[#This Row],[N° Mujeres beneficiadas]]","v":0},null,null,null,{"$f":"+tb[[#This Row],[Cantidad]]*tb[[#This Row],[Precio Unitario]]","v":0},null,"",null,null,null,{"$f":"IFERROR(VLOOKUP($E114,'PP y Comp'!$C$3:$D$31,2,FALSE),\"\")","v":""}]
[null,null,null,null,null,null,{"$f":"_xlfn.IFNA(VLOOKUP(tb[[#This Row],[Componente]],BySs,3,0),\"\")","v":""},null,{"$f":"_xlfn.XLOOKUP(tb[[#This Row],[Indicador o Entregable\nPbR 2023]],Indic_PLADI_PBR[INDICADOR  PbR 2023],Indic_PLADI_PBR[IE - IC  DEL  PLADI 2021-2030],\"\",0,1)","v":""},null,null,null,{"$f":"tb[[#This Row],[N° Hombres beneficiados]]+tb[[#This Row],[N° Mujeres beneficiadas]]","v":0},null,null,null,{"$f":"+tb[[#This Row],[Cantidad]]*tb[[#This Row],[Precio Unitario]]","v":0},null,"",null,null,null,{"$f":"IFERROR(VLOOKUP($E115,'PP y Comp'!$C$3:$D$31,2,FALSE),\"\")","v":""}]
[null,null,null,null,null,null,{"$f":"_xlfn.IFNA(VLOOKUP(tb[[#This Row],[Componente]],BySs,3,0),\"\")","v":""},null,{"$f":"_xlfn.XLOOKUP(tb[[#This Row],[Indicador o Entregable\nPbR 2023]],Indic_PLADI_PBR[INDICADOR  PbR 2023],Indic_PLADI_PBR[IE - IC  DEL  PLADI 2021-2030],\"\",0,1)","v":""},null,null,null,{"$f":"tb[[#This Row],[N° Hombres beneficiados]]+tb[[#This Row],[N° Mujeres beneficiadas]]","v":0},null,null,null,{"$f":"+tb[[#This Row],[Cantidad]]*tb[[#This Row],[Precio Unitario]]","v":0},null,"",null,null,null,{"$f":"IFERROR(VLOOKUP($E116,'PP y Comp'!$C$3:$D$31,2,FALSE),\"\")","v":""}]
[null,null,null,null,null,null,{"$f":"_xlfn.IFNA(VLOOKUP(tb[[#This Row],[Componente]],BySs,3,0),\"\")","v":""},null,{"$f":"_xlfn.XLOOKUP(tb[[#This Row],[Indicador o Entregable\nPbR 2023]],Indic_PLADI_PBR[INDICADOR  PbR 2023],Indic_PLADI_PBR[IE - IC  DEL  PLADI 2021-2030],\"\",0,1)","v":""},null,null,null,{"$f":"tb[[#This Row],[N° Hombres beneficiados]]+tb[[#This Row],[N° Mujeres beneficiadas]]","v":0},null,null,null,{"$f":"+tb[[#This Row],[Cantidad]]*tb[[#This Row],[Precio Unitario]]","v":0},null,"",null,null,null,{"$f":"IFERROR(VLOOKUP($E117,'PP y Comp'!$C$3:$D$31,2,FALSE),\"\")","v":""}]
[null,null,null,null,null,null,{"$f":"_xlfn.IFNA(VLOOKUP(tb[[#This Row],[Componente]],BySs,3,0),\"\")","v":""},null,{"$f":"_xlfn.XLOOKUP(tb[[#This Row],[Indicador o Entregable\nPbR 2023]],Indic_PLADI_PBR[INDICADOR  PbR 2023],Indic_PLADI_PBR[IE - IC  DEL  PLADI 2021-2030],\"\",0,1)","v":""},null,null,null,{"$f":"tb[[#This Row],[N° Hombres beneficiados]]+tb[[#This Row],[N° Mujeres beneficiadas]]","v":0},null,null,null,{"$f":"+tb[[#This Row],[Cantidad]]*tb[[#This Row],[Precio Unitario]]","v":0},null,"",null,null,null,{"$f":"IFERROR(VLOOKUP($E118,'PP y Comp'!$C$3:$D$31,2,FALSE),\"\")","v":""}]
[null,null,null,null,null,null,{"$f":"_xlfn.IFNA(VLOOKUP(tb[[#This Row],[Componente]],BySs,3,0),\"\")","v":""},null,{"$f":"_xlfn.XLOOKUP(tb[[#This Row],[Indicador o Entregable\nPbR 2023]],Indic_PLADI_PBR[INDICADOR  PbR 2023],Indic_PLADI_PBR[IE - IC  DEL  PLADI 2021-2030],\"\",0,1)","v":""},null,null,null,{"$f":"tb[[#This Row],[N° Hombres beneficiados]]+tb[[#This Row],[N° Mujeres beneficiadas]]","v":0},null,null,null,{"$f":"+tb[[#This Row],[Cantidad]]*tb[[#This Row],[Precio Unitario]]","v":0},null,"",null,null,null,{"$f":"IFERROR(VLOOKUP($E119,'PP y Comp'!$C$3:$D$31,2,FALSE),\"\")","v":""}]
[null,null,null,null,null,null,{"$f":"_xlfn.IFNA(VLOOKUP(tb[[#This Row],[Componente]],BySs,3,0),\"\")","v":""},null,{"$f":"_xlfn.XLOOKUP(tb[[#This Row],[Indicador o Entregable\nPbR 2023]],Indic_PLADI_PBR[INDICADOR  PbR 2023],Indic_PLADI_PBR[IE - IC  DEL  PLADI 2021-2030],\"\",0,1)","v":""},null,null,null,{"$f":"tb[[#This Row],[N° Hombres beneficiados]]+tb[[#This Row],[N° Mujeres beneficiadas]]","v":0},null,null,null,{"$f":"+tb[[#This Row],[Cantidad]]*tb[[#This Row],[Precio Unitario]]","v":0},null,"",null,null,null,{"$f":"IFERROR(VLOOKUP($E120,'PP y Comp'!$C$3:$D$31,2,FALSE),\"\")","v":""}]
[null,null,null,null,null,null,{"$f":"_xlfn.IFNA(VLOOKUP(tb[[#This Row],[Componente]],BySs,3,0),\"\")","v":""},null,{"$f":"_xlfn.XLOOKUP(tb[[#This Row],[Indicador o Entregable\nPbR 2023]],Indic_PLADI_PBR[INDICADOR  PbR 2023],Indic_PLADI_PBR[IE - IC  DEL  PLADI 2021-2030],\"\",0,1)","v":""},null,null,null,{"$f":"tb[[#This Row],[N° Hombres beneficiados]]+tb[[#This Row],[N° Mujeres beneficiadas]]","v":0},null,null,null,{"$f":"+tb[[#This Row],[Cantidad]]*tb[[#This Row],[Precio Unitario]]","v":0},null,"",null,null,null,{"$f":"IFERROR(VLOOKUP($E121,'PP y Comp'!$C$3:$D$31,2,FALSE),\"\")","v":""}]
[null,null,null,null,null,null,{"$f":"_xlfn.IFNA(VLOOKUP(tb[[#This Row],[Componente]],BySs,3,0),\"\")","v":""},null,{"$f":"_xlfn.XLOOKUP(tb[[#This Row],[Indicador o Entregable\nPbR 2023]],Indic_PLADI_PBR[INDICADOR  PbR 2023],Indic_PLADI_PBR[IE - IC  DEL  PLADI 2021-2030],\"\",0,1)","v":""},null,null,null,{"$f":"tb[[#This Row],[N° Hombres beneficiados]]+tb[[#This Row],[N° Mujeres beneficiadas]]","v":0},null,null,null,{"$f":"+tb[[#This Row],[Cantidad]]*tb[[#This Row],[Precio Unitario]]","v":0},null,"",null,null,null,{"$f":"IFERROR(VLOOKUP($E122,'PP y Comp'!$C$3:$D$31,2,FALSE),\"\")","v":""}]
[null,null,null,null,null,null,{"$f":"_xlfn.IFNA(VLOOKUP(tb[[#This Row],[Componente]],BySs,3,0),\"\")","v":""},null,{"$f":"_xlfn.XLOOKUP(tb[[#This Row],[Indicador o Entregable\nPbR 2023]],Indic_PLADI_PBR[INDICADOR  PbR 2023],Indic_PLADI_PBR[IE - IC  DEL  PLADI 2021-2030],\"\",0,1)","v":""},null,null,null,{"$f":"tb[[#This Row],[N° Hombres beneficiados]]+tb[[#This Row],[N° Mujeres beneficiadas]]","v":0},null,null,null,{"$f":"+tb[[#This Row],[Cantidad]]*tb[[#This Row],[Precio Unitario]]","v":0},null,"",null,null,null,{"$f":"IFERROR(VLOOKUP($E123,'PP y Comp'!$C$3:$D$31,2,FALSE),\"\")","v":""}]
[null,null,null,null,null,null,{"$f":"_xlfn.IFNA(VLOOKUP(tb[[#This Row],[Componente]],BySs,3,0),\"\")","v":""},null,{"$f":"_xlfn.XLOOKUP(tb[[#This Row],[Indicador o Entregable\nPbR 2023]],Indic_PLADI_PBR[INDICADOR  PbR 2023],Indic_PLADI_PBR[IE - IC  DEL  PLADI 2021-2030],\"\",0,1)","v":""},null,null,null,{"$f":"tb[[#This Row],[N° Hombres beneficiados]]+tb[[#This Row],[N° Mujeres beneficiadas]]","v":0},null,null,null,{"$f":"+tb[[#This Row],[Cantidad]]*tb[[#This Row],[Precio Unitario]]","v":0},null,"",null,null,null,{"$f":"IFERROR(VLOOKUP($E124,'PP y Comp'!$C$3:$D$31,2,FALSE),\"\")","v":""}]
[null,null,null,null,null,null,{"$f":"_xlfn.IFNA(VLOOKUP(tb[[#This Row],[Componente]],BySs,3,0),\"\")","v":""},null,{"$f":"_xlfn.XLOOKUP(tb[[#This Row],[Indicador o Entregable\nPbR 2023]],Indic_PLADI_PBR[INDICADOR  PbR 2023],Indic_PLADI_PBR[IE - IC  DEL  PLADI 2021-2030],\"\",0,1)","v":""},null,null,null,{"$f":"tb[[#This Row],[N° Hombres beneficiados]]+tb[[#This Row],[N° Mujeres beneficiadas]]","v":0},null,null,null,{"$f":"+tb[[#This Row],[Cantidad]]*tb[[#This Row],[Precio Unitario]]","v":0},null,"",null,null,null,{"$f":"IFERROR(VLOOKUP($E125,'PP y Comp'!$C$3:$D$31,2,FALSE),\"\")","v":""}]
[null,null,null,null,null,null,{"$f":"_xlfn.IFNA(VLOOKUP(tb[[#This Row],[Componente]],BySs,3,0),\"\")","v":""},null,{"$f":"_xlfn.XLOOKUP(tb[[#This Row],[Indicador o Entregable\nPbR 2023]],Indic_PLADI_PBR[INDICADOR  PbR 2023],Indic_PLADI_PBR[IE - IC  DEL  PLADI 2021-2030],\"\",0,1)","v":""},null,null,null,{"$f":"tb[[#This Row],[N° Hombres beneficiados]]+tb[[#This Row],[N° Mujeres beneficiadas]]","v":0},null,null,null,{"$f":"+tb[[#This Row],[Cantidad]]*tb[[#This Row],[Precio Unitario]]","v":0},null,"",null,null,null,{"$f":"IFERROR(VLOOKUP($E126,'PP y Comp'!$C$3:$D$31,2,FALSE),\"\")","v":""}]
[null,null,null,null,null,null,{"$f":"_xlfn.IFNA(VLOOKUP(tb[[#This Row],[Componente]],BySs,3,0),\"\")","v":""},null,{"$f":"_xlfn.XLOOKUP(tb[[#This Row],[Indicador o Entregable\nPbR 2023]],Indic_PLADI_PBR[INDICADOR  PbR 2023],Indic_PLADI_PBR[IE - IC  DEL  PLADI 2021-2030],\"\",0,1)","v":""},null,null,null,{"$f":"tb[[#This Row],[N° Hombres beneficiados]]+tb[[#This Row],[N° Mujeres beneficiadas]]","v":0},null,null,null,{"$f":"+tb[[#This Row],[Cantidad]]*tb[[#This Row],[Precio Unitario]]","v":0},null,"",null,null,null,{"$f":"IFERROR(VLOOKUP($E127,'PP y Comp'!$C$3:$D$31,2,FALSE),\"\")","v":""}]
[null,null,null,null,null,null,{"$f":"_xlfn.IFNA(VLOOKUP(tb[[#This Row],[Componente]],BySs,3,0),\"\")","v":""},null,{"$f":"_xlfn.XLOOKUP(tb[[#This Row],[Indicador o Entregable\nPbR 2023]],Indic_PLADI_PBR[INDICADOR  PbR 2023],Indic_PLADI_PBR[IE - IC  DEL  PLADI 2021-2030],\"\",0,1)","v":""},null,null,null,{"$f":"tb[[#This Row],[N° Hombres beneficiados]]+tb[[#This Row],[N° Mujeres beneficiadas]]","v":0},null,null,null,{"$f":"+tb[[#This Row],[Cantidad]]*tb[[#This Row],[Precio Unitario]]","v":0},null,"",null,null,null,{"$f":"IFERROR(VLOOKUP($E128,'PP y Comp'!$C$3:$D$31,2,FALSE),\"\")","v":""}]
[null,null,null,null,null,null,{"$f":"_xlfn.IFNA(VLOOKUP(tb[[#This Row],[Componente]],BySs,3,0),\"\")","v":""},null,{"$f":"_xlfn.XLOOKUP(tb[[#This Row],[Indicador o Entregable\nPbR 2023]],Indic_PLADI_PBR[INDICADOR  PbR 2023],Indic_PLADI_PBR[IE - IC  DEL  PLADI 2021-2030],\"\",0,1)","v":""},null,null,null,{"$f":"tb[[#This Row],[N° Hombres beneficiados]]+tb[[#This Row],[N° Mujeres beneficiadas]]","v":0},null,null,null,{"$f":"+tb[[#This Row],[Cantidad]]*tb[[#This Row],[Precio Unitario]]","v":0},null,"",null,null,null,{"$f":"IFERROR(VLOOKUP($E129,'PP y Comp'!$C$3:$D$31,2,FALSE),\"\")","v":""}]
[null,null,null,null,null,null,{"$f":"_xlfn.IFNA(VLOOKUP(tb[[#This Row],[Componente]],BySs,3,0),\"\")","v":""},null,{"$f":"_xlfn.XLOOKUP(tb[[#This Row],[Indicador o Entregable\nPbR 2023]],Indic_PLADI_PBR[INDICADOR  PbR 2023],Indic_PLADI_PBR[IE - IC  DEL  PLADI 2021-2030],\"\",0,1)","v":""},null,null,null,{"$f":"tb[[#This Row],[N° Hombres beneficiados]]+tb[[#This Row],[N° Mujeres beneficiadas]]","v":0},null,null,null,{"$f":"+tb[[#This Row],[Cantidad]]*tb[[#This Row],[Precio Unitario]]","v":0},null,"",null,null,null,{"$f":"IFERROR(VLOOKUP($E130,'PP y Comp'!$C$3:$D$31,2,FALSE),\"\")","v":""}]
[null,null,null,null,null,null,{"$f":"_xlfn.IFNA(VLOOKUP(tb[[#This Row],[Componente]],BySs,3,0),\"\")","v":""},null,{"$f":"_xlfn.XLOOKUP(tb[[#This Row],[Indicador o Entregable\nPbR 2023]],Indic_PLADI_PBR[INDICADOR  PbR 2023],Indic_PLADI_PBR[IE - IC  DEL  PLADI 2021-2030],\"\",0,1)","v":""},null,null,null,{"$f":"tb[[#This Row],[N° Hombres beneficiados]]+tb[[#This Row],[N° Mujeres beneficiadas]]","v":0},null,null,null,{"$f":"+tb[[#This Row],[Cantidad]]*tb[[#This Row],[Precio Unitario]]","v":0},null,"",null,null,null,{"$f":"IFERROR(VLOOKUP($E131,'PP y Comp'!$C$3:$D$31,2,FALSE),\"\")","v":""}]
[null,null,null,null,null,null,{"$f":"_xlfn.IFNA(VLOOKUP(tb[[#This Row],[Componente]],BySs,3,0),\"\")","v":""},null,{"$f":"_xlfn.XLOOKUP(tb[[#This Row],[Indicador o Entregable\nPbR 2023]],Indic_PLADI_PBR[INDICADOR  PbR 2023],Indic_PLADI_PBR[IE - IC  DEL  PLADI 2021-2030],\"\",0,1)","v":""},null,null,null,{"$f":"tb[[#This Row],[N° Hombres beneficiados]]+tb[[#This Row],[N° Mujeres beneficiadas]]","v":0},null,null,null,{"$f":"+tb[[#This Row],[Cantidad]]*tb[[#This Row],[Precio Unitario]]","v":0},null,"",null,null,null,{"$f":"IFERROR(VLOOKUP($E132,'PP y Comp'!$C$3:$D$31,2,FALSE),\"\")","v":""}]
[null,null,null,null,null,null,{"$f":"_xlfn.IFNA(VLOOKUP(tb[[#This Row],[Componente]],BySs,3,0),\"\")","v":""},null,{"$f":"_xlfn.XLOOKUP(tb[[#This Row],[Indicador o Entregable\nPbR 2023]],Indic_PLADI_PBR[INDICADOR  PbR 2023],Indic_PLADI_PBR[IE - IC  DEL  PLADI 2021-2030],\"\",0,1)","v":""},null,null,null,{"$f":"tb[[#This Row],[N° Hombres beneficiados]]+tb[[#This Row],[N° Mujeres beneficiadas]]","v":0},null,null,null,{"$f":"+tb[[#This Row],[Cantidad]]*tb[[#This Row],[Precio Unitario]]","v":0},null,"",null,null,null,{"$f":"IFERROR(VLOOKUP($E133,'PP y Comp'!$C$3:$D$31,2,FALSE),\"\")","v":""}]
[null,null,null,null,null,null,{"$f":"_xlfn.IFNA(VLOOKUP(tb[[#This Row],[Componente]],BySs,3,0),\"\")","v":""},null,{"$f":"_xlfn.XLOOKUP(tb[[#This Row],[Indicador o Entregable\nPbR 2023]],Indic_PLADI_PBR[INDICADOR  PbR 2023],Indic_PLADI_PBR[IE - IC  DEL  PLADI 2021-2030],\"\",0,1)","v":""},null,null,null,{"$f":"tb[[#This Row],[N° Hombres beneficiados]]+tb[[#This Row],[N° Mujeres beneficiadas]]","v":0},null,null,null,{"$f":"+tb[[#This Row],[Cantidad]]*tb[[#This Row],[Precio Unitario]]","v":0},null,"",null,null,null,{"$f":"IFERROR(VLOOKUP($E134,'PP y Comp'!$C$3:$D$31,2,FALSE),\"\")","v":""}]
[null,null,null,null,null,null,{"$f":"_xlfn.IFNA(VLOOKUP(tb[[#This Row],[Componente]],BySs,3,0),\"\")","v":""},null,{"$f":"_xlfn.XLOOKUP(tb[[#This Row],[Indicador o Entregable\nPbR 2023]],Indic_PLADI_PBR[INDICADOR  PbR 2023],Indic_PLADI_PBR[IE - IC  DEL  PLADI 2021-2030],\"\",0,1)","v":""},null,null,null,{"$f":"tb[[#This Row],[N° Hombres beneficiados]]+tb[[#This Row],[N° Mujeres beneficiadas]]","v":0},null,null,null,{"$f":"+tb[[#This Row],[Cantidad]]*tb[[#This Row],[Precio Unitario]]","v":0},null,"",null,null,null,{"$f":"IFERROR(VLOOKUP($E135,'PP y Comp'!$C$3:$D$31,2,FALSE),\"\")","v":""}]
[null,null,null,null,null,null,{"$f":"_xlfn.IFNA(VLOOKUP(tb[[#This Row],[Componente]],BySs,3,0),\"\")","v":""},null,{"$f":"_xlfn.XLOOKUP(tb[[#This Row],[Indicador o Entregable\nPbR 2023]],Indic_PLADI_PBR[INDICADOR  PbR 2023],Indic_PLADI_PBR[IE - IC  DEL  PLADI 2021-2030],\"\",0,1)","v":""},null,null,null,{"$f":"tb[[#This Row],[N° Hombres beneficiados]]+tb[[#This Row],[N° Mujeres beneficiadas]]","v":0},null,null,null,{"$f":"+tb[[#This Row],[Cantidad]]*tb[[#This Row],[Precio Unitario]]","v":0},null,"",null,null,null,{"$f":"IFERROR(VLOOKUP($E136,'PP y Comp'!$C$3:$D$31,2,FALSE),\"\")","v":""}]
[null,null,null,null,null,null,{"$f":"_xlfn.IFNA(VLOOKUP(tb[[#This Row],[Componente]],BySs,3,0),\"\")","v":""},null,{"$f":"_xlfn.XLOOKUP(tb[[#This Row],[Indicador o Entregable\nPbR 2023]],Indic_PLADI_PBR[INDICADOR  PbR 2023],Indic_PLADI_PBR[IE - IC  DEL  PLADI 2021-2030],\"\",0,1)","v":""},null,null,null,{"$f":"tb[[#This Row],[N° Hombres beneficiados]]+tb[[#This Row],[N° Mujeres beneficiadas]]","v":0},null,null,null,{"$f":"+tb[[#This Row],[Cantidad]]*tb[[#This Row],[Precio Unitario]]","v":0},null,"",null,null,null,{"$f":"IFERROR(VLOOKUP($E137,'PP y Comp'!$C$3:$D$31,2,FALSE),\"\")","v":""}]
[null,null,null,null,null,null,{"$f":"_xlfn.IFNA(VLOOKUP(tb[[#This Row],[Componente]],BySs,3,0),\"\")","v":""},null,{"$f":"_xlfn.XLOOKUP(tb[[#This Row],[Indicador o Entregable\nPbR 2023]],Indic_PLADI_PBR[INDICADOR  PbR 2023],Indic_PLADI_PBR[IE - IC  DEL  PLADI 2021-2030],\"\",0,1)","v":""},null,null,null,{"$f":"tb[[#This Row],[N° Hombres beneficiados]]+tb[[#This Row],[N° Mujeres beneficiadas]]","v":0},null,null,null,{"$f":"+tb[[#This Row],[Cantidad]]*tb[[#This Row],[Precio Unitario]]","v":0},null,"",null,null,null,{"$f":"IFERROR(VLOOKUP($E138,'PP y Comp'!$C$3:$D$31,2,FALSE),\"\")","v":""}]
[null,null,null,null,null,null,{"$f":"_xlfn.IFNA(VLOOKUP(tb[[#This Row],[Componente]],BySs,3,0),\"\")","v":""},null,{"$f":"_xlfn.XLOOKUP(tb[[#This Row],[Indicador o Entregable\nPbR 2023]],Indic_PLADI_PBR[INDICADOR  PbR 2023],Indic_PLADI_PBR[IE - IC  DEL  PLADI 2021-2030],\"\",0,1)","v":""},null,null,null,{"$f":"tb[[#This Row],[N° Hombres beneficiados]]+tb[[#This Row],[N° Mujeres beneficiadas]]","v":0},null,null,null,{"$f":"+tb[[#This Row],[Cantidad]]*tb[[#This Row],[Precio Unitario]]","v":0},null,"",null,null,null,{"$f":"IFERROR(VLOOKUP($E139,'PP y Comp'!$C$3:$D$31,2,FALSE),\"\")","v":""}]
[null,null,null,null,null,null,{"$f":"_xlfn.IFNA(VLOOKUP(tb[[#This Row],[Componente]],BySs,3,0),\"\")","v":""},null,{"$f":"_xlfn.XLOOKUP(tb[[#This Row],[Indicador o Entregable\nPbR 2023]],Indic_PLADI_PBR[INDICADOR  PbR 2023],Indic_PLADI_PBR[IE - IC  DEL  PLADI 2021-2030],\"\",0,1)","v":""},null,null,null,{"$f":"tb[[#This Row],[N° Hombres beneficiados]]+tb[[#This Row],[N° Mujeres beneficiadas]]","v":0},null,null,null,{"$f":"+tb[[#This Row],[Cantidad]]*tb[[#This Row],[Precio Unitario]]","v":0},null,"",null,null,null,{"$f":"IFERROR(VLOOKUP($E140,'PP y Comp'!$C$3:$D$31,2,FALSE),\"\")","v":""}]
[null,null,null,null,null,null,{"$f":"_xlfn.IFNA(VLOOKUP(tb[[#This Row],[Componente]],BySs,3,0),\"\")","v":""},null,{"$f":"_xlfn.XLOOKUP(tb[[#This Row],[Indicador o Entregable\nPbR 2023]],Indic_PLADI_PBR[INDICADOR  PbR 2023],Indic_PLADI_PBR[IE - IC  DEL  PLADI 2021-2030],\"\",0,1)","v":""},null,null,null,{"$f":"tb[[#This Row],[N° Hombres beneficiados]]+tb[[#This Row],[N° Mujeres beneficiadas]]","v":0},null,null,null,{"$f":"+tb[[#This Row],[Cantidad]]*tb[[#This Row],[Precio Unitario]]","v":0},null,"",null,null,null,{"$f":"IFERROR(VLOOKUP($E141,'PP y Comp'!$C$3:$D$31,2,FALSE),\"\")","v":""}]
[null,null,null,null,null,null,{"$f":"_xlfn.IFNA(VLOOKUP(tb[[#This Row],[Componente]],BySs,3,0),\"\")","v":""},null,{"$f":"_xlfn.XLOOKUP(tb[[#This Row],[Indicador o Entregable\nPbR 2023]],Indic_PLADI_PBR[INDICADOR  PbR 2023],Indic_PLADI_PBR[IE - IC  DEL  PLADI 2021-2030],\"\",0,1)","v":""},null,null,null,{"$f":"tb[[#This Row],[N° Hombres beneficiados]]+tb[[#This Row],[N° Mujeres beneficiadas]]","v":0},null,null,null,{"$f":"+tb[[#This Row],[Cantidad]]*tb[[#This Row],[Precio Unitario]]","v":0},null,"",null,null,null,{"$f":"IFERROR(VLOOKUP($E142,'PP y Comp'!$C$3:$D$31,2,FALSE),\"\")","v":""}]
[null,null,null,null,null,null,{"$f":"_xlfn.IFNA(VLOOKUP(tb[[#This Row],[Componente]],BySs,3,0),\"\")","v":""},null,{"$f":"_xlfn.XLOOKUP(tb[[#This Row],[Indicador o Entregable\nPbR 2023]],Indic_PLADI_PBR[INDICADOR  PbR 2023],Indic_PLADI_PBR[IE - IC  DEL  PLADI 2021-2030],\"\",0,1)","v":""},null,null,null,{"$f":"tb[[#This Row],[N° Hombres beneficiados]]+tb[[#This Row],[N° Mujeres beneficiadas]]","v":0},null,null,null,{"$f":"+tb[[#This Row],[Cantidad]]*tb[[#This Row],[Precio Unitario]]","v":0},null,"",null,null,null,{"$f":"IFERROR(VLOOKUP($E143,'PP y Comp'!$C$3:$D$31,2,FALSE),\"\")","v":""}]
[null,null,null,null,null,null,{"$f":"_xlfn.IFNA(VLOOKUP(tb[[#This Row],[Componente]],BySs,3,0),\"\")","v":""},null,{"$f":"_xlfn.XLOOKUP(tb[[#This Row],[Indicador o Entregable\nPbR 2023]],Indic_PLADI_PBR[INDICADOR  PbR 2023],Indic_PLADI_PBR[IE - IC  DEL  PLADI 2021-2030],\"\",0,1)","v":""},null,null,null,{"$f":"tb[[#This Row],[N° Hombres beneficiados]]+tb[[#This Row],[N° Mujeres beneficiadas]]","v":0},null,null,null,{"$f":"+tb[[#This Row],[Cantidad]]*tb[[#This Row],[Precio Unitario]]","v":0},null,"",null,null,null,{"$f":"IFERROR(VLOOKUP($E144,'PP y Comp'!$C$3:$D$31,2,FALSE),\"\")","v":""}]
[null,null,null,null,null,null,{"$f":"_xlfn.IFNA(VLOOKUP(tb[[#This Row],[Componente]],BySs,3,0),\"\")","v":""},null,{"$f":"_xlfn.XLOOKUP(tb[[#This Row],[Indicador o Entregable\nPbR 2023]],Indic_PLADI_PBR[INDICADOR  PbR 2023],Indic_PLADI_PBR[IE - IC  DEL  PLADI 2021-2030],\"\",0,1)","v":""},null,null,null,{"$f":"tb[[#This Row],[N° Hombres beneficiados]]+tb[[#This Row],[N° Mujeres beneficiadas]]","v":0},null,null,null,{"$f":"+tb[[#This Row],[Cantidad]]*tb[[#This Row],[Precio Unitario]]","v":0},null,"",null,null,null,{"$f":"IFERROR(VLOOKUP($E145,'PP y Comp'!$C$3:$D$31,2,FALSE),\"\")","v":""}]
[null,null,null,null,null,null,{"$f":"_xlfn.IFNA(VLOOKUP(tb[[#This Row],[Componente]],BySs,3,0),\"\")","v":""},null,{"$f":"_xlfn.XLOOKUP(tb[[#This Row],[Indicador o Entregable\nPbR 2023]],Indic_PLADI_PBR[INDICADOR  PbR 2023],Indic_PLADI_PBR[IE - IC  DEL  PLADI 2021-2030],\"\",0,1)","v":""},null,null,null,{"$f":"tb[[#This Row],[N° Hombres beneficiados]]+tb[[#This Row],[N° Mujeres beneficiadas]]","v":0},null,null,null,{"$f":"+tb[[#This Row],[Cantidad]]*tb[[#This Row],[Precio Unitario]]","v":0},null,"",null,null,null,{"$f":"IFERROR(VLOOKUP($E146,'PP y Comp'!$C$3:$D$31,2,FALSE),\"\")","v":""}]
[null,null,null,null,null,null,{"$f":"_xlfn.IFNA(VLOOKUP(tb[[#This Row],[Componente]],BySs,3,0),\"\")","v":""},null,{"$f":"_xlfn.XLOOKUP(tb[[#This Row],[Indicador o Entregable\nPbR 2023]],Indic_PLADI_PBR[INDICADOR  PbR 2023],Indic_PLADI_PBR[IE - IC  DEL  PLADI 2021-2030],\"\",0,1)","v":""},null,null,null,{"$f":"tb[[#This Row],[N° Hombres beneficiados]]+tb[[#This Row],[N° Mujeres beneficiadas]]","v":0},null,null,null,{"$f":"+tb[[#This Row],[Cantidad]]*tb[[#This Row],[Precio Unitario]]","v":0},null,"",null,null,null,{"$f":"IFERROR(VLOOKUP($E147,'PP y Comp'!$C$3:$D$31,2,FALSE),\"\")","v":""}]
[null,null,null,null,null,null,{"$f":"_xlfn.IFNA(VLOOKUP(tb[[#This Row],[Componente]],BySs,3,0),\"\")","v":""},null,{"$f":"_xlfn.XLOOKUP(tb[[#This Row],[Indicador o Entregable\nPbR 2023]],Indic_PLADI_PBR[INDICADOR  PbR 2023],Indic_PLADI_PBR[IE - IC  DEL  PLADI 2021-2030],\"\",0,1)","v":""},null,null,null,{"$f":"tb[[#This Row],[N° Hombres beneficiados]]+tb[[#This Row],[N° Mujeres beneficiadas]]","v":0},null,null,null,{"$f":"+tb[[#This Row],[Cantidad]]*tb[[#This Row],[Precio Unitario]]","v":0},null,"",null,null,null,{"$f":"IFERROR(VLOOKUP($E148,'PP y Comp'!$C$3:$D$31,2,FALSE),\"\")","v":""}]
[null,null,null,null,null,null,{"$f":"_xlfn.IFNA(VLOOKUP(tb[[#This Row],[Componente]],BySs,3,0),\"\")","v":""},null,{"$f":"_xlfn.XLOOKUP(tb[[#This Row],[Indicador o Entregable\nPbR 2023]],Indic_PLADI_PBR[INDICADOR  PbR 2023],Indic_PLADI_PBR[IE - IC  DEL  PLADI 2021-2030],\"\",0,1)","v":""},null,null,null,{"$f":"tb[[#This Row],[N° Hombres beneficiados]]+tb[[#This Row],[N° Mujeres beneficiadas]]","v":0},null,null,null,{"$f":"+tb[[#This Row],[Cantidad]]*tb[[#This Row],[Precio Unitario]]","v":0},null,"",null,null,null,{"$f":"IFERROR(VLOOKUP($E149,'PP y Comp'!$C$3:$D$31,2,FALSE),\"\")","v":""}]
[null,null,null,null,null,null,{"$f":"_xlfn.IFNA(VLOOKUP(tb[[#This Row],[Componente]],BySs,3,0),\"\")","v":""},null,{"$f":"_xlfn.XLOOKUP(tb[[#This Row],[Indicador o Entregable\nPbR 2023]],Indic_PLADI_PBR[INDICADOR  PbR 2023],Indic_PLADI_PBR[IE - IC  DEL  PLADI 2021-2030],\"\",0,1)","v":""},null,null,null,{"$f":"tb[[#This Row],[N° Hombres beneficiados]]+tb[[#This Row],[N° Mujeres beneficiadas]]","v":0},null,null,null,{"$f":"+tb[[#This Row],[Cantidad]]*tb[[#This Row],[Precio Unitario]]","v":0},null,"",null,null,null,{"$f":"IFERROR(VLOOKUP($E150,'PP y Comp'!$C$3:$D$31,2,FALSE),\"\")","v":""}]
[null,null,null,null,null,null,{"$f":"_xlfn.IFNA(VLOOKUP(tb[[#This Row],[Componente]],BySs,3,0),\"\")","v":""},null,{"$f":"_xlfn.XLOOKUP(tb[[#This Row],[Indicador o Entregable\nPbR 2023]],Indic_PLADI_PBR[INDICADOR  PbR 2023],Indic_PLADI_PBR[IE - IC  DEL  PLADI 2021-2030],\"\",0,1)","v":""},null,null,null,{"$f":"tb[[#This Row],[N° Hombres beneficiados]]+tb[[#This Row],[N° Mujeres beneficiadas]]","v":0},null,null,null,{"$f":"+tb[[#This Row],[Cantidad]]*tb[[#This Row],[Precio Unitario]]","v":0},null,"",null,null,null,{"$f":"IFERROR(VLOOKUP($E151,'PP y Comp'!$C$3:$D$31,2,FALSE),\"\")","v":""}]
[null,null,null,null,null,null,{"$f":"_xlfn.IFNA(VLOOKUP(tb[[#This Row],[Componente]],BySs,3,0),\"\")","v":""},null,{"$f":"_xlfn.XLOOKUP(tb[[#This Row],[Indicador o Entregable\nPbR 2023]],Indic_PLADI_PBR[INDICADOR  PbR 2023],Indic_PLADI_PBR[IE - IC  DEL  PLADI 2021-2030],\"\",0,1)","v":""},null,null,null,{"$f":"tb[[#This Row],[N° Hombres beneficiados]]+tb[[#This Row],[N° Mujeres beneficiadas]]","v":0},null,null,null,{"$f":"+tb[[#This Row],[Cantidad]]*tb[[#This Row],[Precio Unitario]]","v":0},null,"",null,null,null,{"$f":"IFERROR(VLOOKUP($E152,'PP y Comp'!$C$3:$D$31,2,FALSE),\"\")","v":""}]
[null,null,null,null,null,null,{"$f":"_xlfn.IFNA(VLOOKUP(tb[[#This Row],[Componente]],BySs,3,0),\"\")","v":""},null,{"$f":"_xlfn.XLOOKUP(tb[[#This Row],[Indicador o Entregable\nPbR 2023]],Indic_PLADI_PBR[INDICADOR  PbR 2023],Indic_PLADI_PBR[IE - IC  DEL  PLADI 2021-2030],\"\",0,1)","v":""},null,null,null,{"$f":"tb[[#This Row],[N° Hombres beneficiados]]+tb[[#This Row],[N° Mujeres beneficiadas]]","v":0},null,null,null,{"$f":"+tb[[#This Row],[Cantidad]]*tb[[#This Row],[Precio Unitario]]","v":0},null,{"$f":"IF(C153=\"\",\"\",_xlfn.XLOOKUP($I$10,EntidadUG,CeGe,\"Por favor, llenar celda I10\",0,1))","v":""},null,null,null,{"$f":"IFERROR(VLOOKUP($E153,'PP y Comp'!$C$3:$D$31,2,FALSE),\"\")","v":""}]
[null,null,null,null,null,null,{"$f":"_xlfn.IFNA(VLOOKUP(tb[[#This Row],[Componente]],BySs,3,0),\"\")","v":""},null,{"$f":"_xlfn.XLOOKUP(tb[[#This Row],[Indicador o Entregable\nPbR 2023]],Indic_PLADI_PBR[INDICADOR  PbR 2023],Indic_PLADI_PBR[IE - IC  DEL  PLADI 2021-2030],\"\",0,1)","v":""},null,null,null,{"$f":"tb[[#This Row],[N° Hombres beneficiados]]+tb[[#This Row],[N° Mujeres beneficiadas]]","v":0},null,null,null,{"$f":"+tb[[#This Row],[Cantidad]]*tb[[#This Row],[Precio Unitario]]","v":0},null,"",null,null,null,{"$f":"IFERROR(VLOOKUP($E154,'PP y Comp'!$C$3:$D$31,2,FALSE),\"\")","v":""}]
[null,null,null,null,null,null,{"$f":"_xlfn.IFNA(VLOOKUP(tb[[#This Row],[Componente]],BySs,3,0),\"\")","v":""},null,{"$f":"_xlfn.XLOOKUP(tb[[#This Row],[Indicador o Entregable\nPbR 2023]],Indic_PLADI_PBR[INDICADOR  PbR 2023],Indic_PLADI_PBR[IE - IC  DEL  PLADI 2021-2030],\"\",0,1)","v":""},null,null,null,{"$f":"tb[[#This Row],[N° Hombres beneficiados]]+tb[[#This Row],[N° Mujeres beneficiadas]]","v":0},null,null,null,{"$f":"+tb[[#This Row],[Cantidad]]*tb[[#This Row],[Precio Unitario]]","v":0},null,"",null,null,null,{"$f":"IFERROR(VLOOKUP($E155,'PP y Comp'!$C$3:$D$31,2,FALSE),\"\")","v":""}]
[null,null,null,null,null,null,{"$f":"_xlfn.IFNA(VLOOKUP(tb[[#This Row],[Componente]],BySs,3,0),\"\")","v":""},null,{"$f":"_xlfn.XLOOKUP(tb[[#This Row],[Indicador o Entregable\nPbR 2023]],Indic_PLADI_PBR[INDICADOR  PbR 2023],Indic_PLADI_PBR[IE - IC  DEL  PLADI 2021-2030],\"\",0,1)","v":""},null,null,null,{"$f":"tb[[#This Row],[N° Hombres beneficiados]]+tb[[#This Row],[N° Mujeres beneficiadas]]","v":0},null,null,null,{"$f":"+tb[[#This Row],[Cantidad]]*tb[[#This Row],[Precio Unitario]]","v":0},null,"",null,null,null,{"$f":"IFERROR(VLOOKUP($E156,'PP y Comp'!$C$3:$D$31,2,FALSE),\"\")","v":""}]
[null,null,null,null,null,null,{"$f":"_xlfn.IFNA(VLOOKUP(tb[[#This Row],[Componente]],BySs,3,0),\"\")","v":""},null,{"$f":"_xlfn.XLOOKUP(tb[[#This Row],[Indicador o Entregable\nPbR 2023]],Indic_PLADI_PBR[INDICADOR  PbR 2023],Indic_PLADI_PBR[IE - IC  DEL  PLADI 2021-2030],\"\",0,1)","v":""},null,null,null,{"$f":"tb[[#This Row],[N° Hombres beneficiados]]+tb[[#This Row],[N° Mujeres beneficiadas]]","v":0},null,null,null,{"$f":"+tb[[#This Row],[Cantidad]]*tb[[#This Row],[Precio Unitario]]","v":0},null,"",null,null,null,{"$f":"IFERROR(VLOOKUP($E157,'PP y Comp'!$C$3:$D$31,2,FALSE),\"\")","v":""}]
[null,null,null,null,null,null,{"$f":"_xlfn.IFNA(VLOOKUP(tb[[#This Row],[Componente]],BySs,3,0),\"\")","v":""},null,{"$f":"_xlfn.XLOOKUP(tb[[#This Row],[Indicador o Entregable\nPbR 2023]],Indic_PLADI_PBR[INDICADOR  PbR 2023],Indic_PLADI_PBR[IE - IC  DEL  PLADI 2021-2030],\"\",0,1)","v":""},null,null,null,{"$f":"tb[[#This Row],[N° Hombres beneficiados]]+tb[[#This Row],[N° Mujeres beneficiadas]]","v":0},null,null,null,{"$f":"+tb[[#This Row],[Cantidad]]*tb[[#This Row],[Precio Unitario]]","v":0},null,"",null,null,null,{"$f":"IFERROR(VLOOKUP($E158,'PP y Comp'!$C$3:$D$31,2,FALSE),\"\")","v":""}]
[null,null,null,null,null,null,{"$f":"_xlfn.IFNA(VLOOKUP(tb[[#This Row],[Componente]],BySs,3,0),\"\")","v":""},null,{"$f":"_xlfn.XLOOKUP(tb[[#This Row],[Indicador o Entregable\nPbR 2023]],Indic_PLADI_PBR[INDICADOR  PbR 2023],Indic_PLADI_PBR[IE - IC  DEL  PLADI 2021-2030],\"\",0,1)","v":""},null,null,null,{"$f":"tb[[#This Row],[N° Hombres beneficiados]]+tb[[#This Row],[N° Mujeres beneficiadas]]","v":0},null,null,null,{"$f":"+tb[[#This Row],[Cantidad]]*tb[[#This Row],[Precio Unitario]]","v":0},null,"",null,null,null,{"$f":"IFERROR(VLOOKUP($E159,'PP y Comp'!$C$3:$D$31,2,FALSE),\"\")","v":""}]
[null,null,null,null,null,null,{"$f":"_xlfn.IFNA(VLOOKUP(tb[[#This Row],[Componente]],BySs,3,0),\"\")","v":""},null,{"$f":"_xlfn.XLOOKUP(tb[[#This Row],[Indicador o Entregable\nPbR 2023]],Indic_PLADI_PBR[INDICADOR  PbR 2023],Indic_PLADI_PBR[IE - IC  DEL  PLADI 2021-2030],\"\",0,1)","v":""},null,null,null,{"$f":"tb[[#This Row],[N° Hombres beneficiados]]+tb[[#This Row],[N° Mujeres beneficiadas]]","v":0},null,null,null,{"$f":"+tb[[#This Row],[Cantidad]]*tb[[#This Row],[Precio Unitario]]","v":0},null,"",null,null,null,{"$f":"IFERROR(VLOOKUP($E160,'PP y Comp'!$C$3:$D$31,2,FALSE),\"\")","v":""}]
[null,null,null,null,null,null,{"$f":"_xlfn.IFNA(VLOOKUP(tb[[#This Row],[Componente]],BySs,3,0),\"\")","v":""},null,{"$f":"_xlfn.XLOOKUP(tb[[#This Row],[Indicador o Entregable\nPbR 2023]],Indic_PLADI_PBR[INDICADOR  PbR 2023],Indic_PLADI_PBR[IE - IC  DEL  PLADI 2021-2030],\"\",0,1)","v":""},null,null,null,{"$f":"tb[[#This Row],[N° Hombres beneficiados]]+tb[[#This Row],[N° Mujeres beneficiadas]]","v":0},null,null,null,{"$f":"+tb[[#This Row],[Cantidad]]*tb[[#This Row],[Precio Unitario]]","v":0},null,"",null,null,null,{"$f":"IFERROR(VLOOKUP($E161,'PP y Comp'!$C$3:$D$31,2,FALSE),\"\")","v":""}]
[null,null,null,null,null,null,{"$f":"_xlfn.IFNA(VLOOKUP(tb[[#This Row],[Componente]],BySs,3,0),\"\")","v":""},null,{"$f":"_xlfn.XLOOKUP(tb[[#This Row],[Indicador o Entregable\nPbR 2023]],Indic_PLADI_PBR[INDICADOR  PbR 2023],Indic_PLADI_PBR[IE - IC  DEL  PLADI 2021-2030],\"\",0,1)","v":""},null,null,null,{"$f":"tb[[#This Row],[N° Hombres beneficiados]]+tb[[#This Row],[N° Mujeres beneficiadas]]","v":0},null,null,null,{"$f":"+tb[[#This Row],[Cantidad]]*tb[[#This Row],[Precio Unitario]]","v":0},null,"",null,null,null,{"$f":"IFERROR(VLOOKUP($E162,'PP y Comp'!$C$3:$D$31,2,FALSE),\"\")","v":""}]
[null,null,null,null,null,null,{"$f":"_xlfn.IFNA(VLOOKUP(tb[[#This Row],[Componente]],BySs,3,0),\"\")","v":""},null,{"$f":"_xlfn.XLOOKUP(tb[[#This Row],[Indicador o Entregable\nPbR 2023]],Indic_PLADI_PBR[INDICADOR  PbR 2023],Indic_PLADI_PBR[IE - IC  DEL  PLADI 2021-2030],\"\",0,1)","v":""},null,null,null,{"$f":"tb[[#This Row],[N° Hombres beneficiados]]+tb[[#This Row],[N° Mujeres beneficiadas]]","v":0},null,null,null,{"$f":"+tb[[#This Row],[Cantidad]]*tb[[#This Row],[Precio Unitario]]","v":0},null,"",null,null,null,{"$f":"IFERROR(VLOOKUP($E163,'PP y Comp'!$C$3:$D$31,2,FALSE),\"\")","v":""}]
[null,null,null,null,null,null,{"$f":"_xlfn.IFNA(VLOOKUP(tb[[#This Row],[Componente]],BySs,3,0),\"\")","v":""},null,{"$f":"_xlfn.XLOOKUP(tb[[#This Row],[Indicador o Entregable\nPbR 2023]],Indic_PLADI_PBR[INDICADOR  PbR 2023],Indic_PLADI_PBR[IE - IC  DEL  PLADI 2021-2030],\"\",0,1)","v":""},null,null,null,{"$f":"tb[[#This Row],[N° Hombres beneficiados]]+tb[[#This Row],[N° Mujeres beneficiadas]]","v":0},null,null,null,{"$f":"+tb[[#This Row],[Cantidad]]*tb[[#This Row],[Precio Unitario]]","v":0},null,"",null,null,null,{"$f":"IFERROR(VLOOKUP($E164,'PP y Comp'!$C$3:$D$31,2,FALSE),\"\")","v":""}]
[null,null,null,null,null,null,{"$f":"_xlfn.IFNA(VLOOKUP(tb[[#This Row],[Componente]],BySs,3,0),\"\")","v":""},null,{"$f":"_xlfn.XLOOKUP(tb[[#This Row],[Indicador o Entregable\nPbR 2023]],Indic_PLADI_PBR[INDICADOR  PbR 2023],Indic_PLADI_PBR[IE - IC  DEL  PLADI 2021-2030],\"\",0,1)","v":""},null,null,null,{"$f":"tb[[#This Row],[N° Hombres beneficiados]]+tb[[#This Row],[N° Mujeres beneficiadas]]","v":0},null,null,null,{"$f":"+tb[[#This Row],[Cantidad]]*tb[[#This Row],[Precio Unitario]]","v":0},null,"",null,null,null,{"$f":"IFERROR(VLOOKUP($E165,'PP y Comp'!$C$3:$D$31,2,FALSE),\"\")","v":""}]
[null,null,null,null,null,null,{"$f":"_xlfn.IFNA(VLOOKUP(tb[[#This Row],[Componente]],BySs,3,0),\"\")","v":""},null,{"$f":"_xlfn.XLOOKUP(tb[[#This Row],[Indicador o Entregable\nPbR 2023]],Indic_PLADI_PBR[INDICADOR  PbR 2023],Indic_PLADI_PBR[IE - IC  DEL  PLADI 2021-2030],\"\",0,1)","v":""},null,null,null,{"$f":"tb[[#This Row],[N° Hombres beneficiados]]+tb[[#This Row],[N° Mujeres beneficiadas]]","v":0},null,null,null,{"$f":"+tb[[#This Row],[Cantidad]]*tb[[#This Row],[Precio Unitario]]","v":0},null,"",null,null,null,{"$f":"IFERROR(VLOOKUP($E166,'PP y Comp'!$C$3:$D$31,2,FALSE),\"\")","v":""}]
[null,null,null,null,null,null,{"$f":"_xlfn.IFNA(VLOOKUP(tb[[#This Row],[Componente]],BySs,3,0),\"\")","v":""},null,{"$f":"_xlfn.XLOOKUP(tb[[#This Row],[Indicador o Entregable\nPbR 2023]],Indic_PLADI_PBR[INDICADOR  PbR 2023],Indic_PLADI_PBR[IE - IC  DEL  PLADI 2021-2030],\"\",0,1)","v":""},null,null,null,{"$f":"tb[[#This Row],[N° Hombres beneficiados]]+tb[[#This Row],[N° Mujeres beneficiadas]]","v":0},null,null,null,{"$f":"+tb[[#This Row],[Cantidad]]*tb[[#This Row],[Precio Unitario]]","v":0},null,"",null,null,null,{"$f":"IFERROR(VLOOKUP($E167,'PP y Comp'!$C$3:$D$31,2,FALSE),\"\")","v":""}]
[null,null,null,null,null,null,{"$f":"_xlfn.IFNA(VLOOKUP(tb[[#This Row],[Componente]],BySs,3,0),\"\")","v":""},null,{"$f":"_xlfn.XLOOKUP(tb[[#This Row],[Indicador o Entregable\nPbR 2023]],Indic_PLADI_PBR[INDICADOR  PbR 2023],Indic_PLADI_PBR[IE - IC  DEL  PLADI 2021-2030],\"\",0,1)","v":""},null,null,null,{"$f":"tb[[#This Row],[N° Hombres beneficiados]]+tb[[#This Row],[N° Mujeres beneficiadas]]","v":0},null,null,null,{"$f":"+tb[[#This Row],[Cantidad]]*tb[[#This Row],[Precio Unitario]]","v":0},null,"",null,null,null,{"$f":"IFERROR(VLOOKUP($E168,'PP y Comp'!$C$3:$D$31,2,FALSE),\"\")","v":""}]
[null,null,null,null,null,null,{"$f":"_xlfn.IFNA(VLOOKUP(tb[[#This Row],[Componente]],BySs,3,0),\"\")","v":""},null,{"$f":"_xlfn.XLOOKUP(tb[[#This Row],[Indicador o Entregable\nPbR 2023]],Indic_PLADI_PBR[INDICADOR  PbR 2023],Indic_PLADI_PBR[IE - IC  DEL  PLADI 2021-2030],\"\",0,1)","v":""},null,null,null,{"$f":"tb[[#This Row],[N° Hombres beneficiados]]+tb[[#This Row],[N° Mujeres beneficiadas]]","v":0},null,null,null,{"$f":"+tb[[#This Row],[Cantidad]]*tb[[#This Row],[Precio Unitario]]","v":0},null,"",null,null,null,{"$f":"IFERROR(VLOOKUP($E169,'PP y Comp'!$C$3:$D$31,2,FALSE),\"\")","v":""}]
[null,null,null,null,null,null,{"$f":"_xlfn.IFNA(VLOOKUP(tb[[#This Row],[Componente]],BySs,3,0),\"\")","v":""},null,{"$f":"_xlfn.XLOOKUP(tb[[#This Row],[Indicador o Entregable\nPbR 2023]],Indic_PLADI_PBR[INDICADOR  PbR 2023],Indic_PLADI_PBR[IE - IC  DEL  PLADI 2021-2030],\"\",0,1)","v":""},null,null,null,{"$f":"tb[[#This Row],[N° Hombres beneficiados]]+tb[[#This Row],[N° Mujeres beneficiadas]]","v":0},null,null,null,{"$f":"+tb[[#This Row],[Cantidad]]*tb[[#This Row],[Precio Unitario]]","v":0},null,"",null,null,null,{"$f":"IFERROR(VLOOKUP($E170,'PP y Comp'!$C$3:$D$31,2,FALSE),\"\")","v":""}]
[null,null,null,null,null,null,{"$f":"_xlfn.IFNA(VLOOKUP(tb[[#This Row],[Componente]],BySs,3,0),\"\")","v":""},null,{"$f":"_xlfn.XLOOKUP(tb[[#This Row],[Indicador o Entregable\nPbR 2023]],Indic_PLADI_PBR[INDICADOR  PbR 2023],Indic_PLADI_PBR[IE - IC  DEL  PLADI 2021-2030],\"\",0,1)","v":""},null,null,null,{"$f":"tb[[#This Row],[N° Hombres beneficiados]]+tb[[#This Row],[N° Mujeres beneficiadas]]","v":0},null,null,null,{"$f":"+tb[[#This Row],[Cantidad]]*tb[[#This Row],[Precio Unitario]]","v":0},null,"",null,null,null,{"$f":"IFERROR(VLOOKUP($E171,'PP y Comp'!$C$3:$D$31,2,FALSE),\"\")","v":""}]
[null,null,null,null,null,null,{"$f":"_xlfn.IFNA(VLOOKUP(tb[[#This Row],[Componente]],BySs,3,0),\"\")","v":""},null,{"$f":"_xlfn.XLOOKUP(tb[[#This Row],[Indicador o Entregable\nPbR 2023]],Indic_PLADI_PBR[INDICADOR  PbR 2023],Indic_PLADI_PBR[IE - IC  DEL  PLADI 2021-2030],\"\",0,1)","v":""},null,null,null,{"$f":"tb[[#This Row],[N° Hombres beneficiados]]+tb[[#This Row],[N° Mujeres beneficiadas]]","v":0},null,null,null,{"$f":"+tb[[#This Row],[Cantidad]]*tb[[#This Row],[Precio Unitario]]","v":0},null,"",null,null,null,{"$f":"IFERROR(VLOOKUP($E172,'PP y Comp'!$C$3:$D$31,2,FALSE),\"\")","v":""}]
[null,null,null,null,null,null,{"$f":"_xlfn.IFNA(VLOOKUP(tb[[#This Row],[Componente]],BySs,3,0),\"\")","v":""},null,{"$f":"_xlfn.XLOOKUP(tb[[#This Row],[Indicador o Entregable\nPbR 2023]],Indic_PLADI_PBR[INDICADOR  PbR 2023],Indic_PLADI_PBR[IE - IC  DEL  PLADI 2021-2030],\"\",0,1)","v":""},null,null,null,{"$f":"tb[[#This Row],[N° Hombres beneficiados]]+tb[[#This Row],[N° Mujeres beneficiadas]]","v":0},null,null,null,{"$f":"+tb[[#This Row],[Cantidad]]*tb[[#This Row],[Precio Unitario]]","v":0},null,"",null,null,null,{"$f":"IFERROR(VLOOKUP($E173,'PP y Comp'!$C$3:$D$31,2,FALSE),\"\")","v":""}]
[null,null,null,null,null,null,{"$f":"_xlfn.IFNA(VLOOKUP(tb[[#This Row],[Componente]],BySs,3,0),\"\")","v":""},null,{"$f":"_xlfn.XLOOKUP(tb[[#This Row],[Indicador o Entregable\nPbR 2023]],Indic_PLADI_PBR[INDICADOR  PbR 2023],Indic_PLADI_PBR[IE - IC  DEL  PLADI 2021-2030],\"\",0,1)","v":""},null,null,null,{"$f":"tb[[#This Row],[N° Hombres beneficiados]]+tb[[#This Row],[N° Mujeres beneficiadas]]","v":0},null,null,null,{"$f":"+tb[[#This Row],[Cantidad]]*tb[[#This Row],[Precio Unitario]]","v":0},null,"",null,null,null,{"$f":"IFERROR(VLOOKUP($E174,'PP y Comp'!$C$3:$D$31,2,FALSE),\"\")","v":""}]
[null,null,null,null,null,null,{"$f":"_xlfn.IFNA(VLOOKUP(tb[[#This Row],[Componente]],BySs,3,0),\"\")","v":""},null,{"$f":"_xlfn.XLOOKUP(tb[[#This Row],[Indicador o Entregable\nPbR 2023]],Indic_PLADI_PBR[INDICADOR  PbR 2023],Indic_PLADI_PBR[IE - IC  DEL  PLADI 2021-2030],\"\",0,1)","v":""},null,null,null,{"$f":"tb[[#This Row],[N° Hombres beneficiados]]+tb[[#This Row],[N° Mujeres beneficiadas]]","v":0},null,null,null,{"$f":"+tb[[#This Row],[Cantidad]]*tb[[#This Row],[Precio Unitario]]","v":0},null,"",null,null,null,{"$f":"IFERROR(VLOOKUP($E175,'PP y Comp'!$C$3:$D$31,2,FALSE),\"\")","v":""}]
[null,null,null,null,null,null,{"$f":"_xlfn.IFNA(VLOOKUP(tb[[#This Row],[Componente]],BySs,3,0),\"\")","v":""},null,{"$f":"_xlfn.XLOOKUP(tb[[#This Row],[Indicador o Entregable\nPbR 2023]],Indic_PLADI_PBR[INDICADOR  PbR 2023],Indic_PLADI_PBR[IE - IC  DEL  PLADI 2021-2030],\"\",0,1)","v":""},null,null,null,{"$f":"tb[[#This Row],[N° Hombres beneficiados]]+tb[[#This Row],[N° Mujeres beneficiadas]]","v":0},null,null,null,{"$f":"+tb[[#This Row],[Cantidad]]*tb[[#This Row],[Precio Unitario]]","v":0},null,"",null,null,null,{"$f":"IFERROR(VLOOKUP($E176,'PP y Comp'!$C$3:$D$31,2,FALSE),\"\")","v":""}]
[null,null,null,null,null,null,{"$f":"_xlfn.IFNA(VLOOKUP(tb[[#This Row],[Componente]],BySs,3,0),\"\")","v":""},null,{"$f":"_xlfn.XLOOKUP(tb[[#This Row],[Indicador o Entregable\nPbR 2023]],Indic_PLADI_PBR[INDICADOR  PbR 2023],Indic_PLADI_PBR[IE - IC  DEL  PLADI 2021-2030],\"\",0,1)","v":""},null,null,null,{"$f":"tb[[#This Row],[N° Hombres beneficiados]]+tb[[#This Row],[N° Mujeres beneficiadas]]","v":0},null,null,null,{"$f":"+tb[[#This Row],[Cantidad]]*tb[[#This Row],[Precio Unitario]]","v":0},null,"",null,null,null,{"$f":"IFERROR(VLOOKUP($E177,'PP y Comp'!$C$3:$D$31,2,FALSE),\"\")","v":""}]
[null,null,null,null,null,null,{"$f":"_xlfn.IFNA(VLOOKUP(tb[[#This Row],[Componente]],BySs,3,0),\"\")","v":""},null,{"$f":"_xlfn.XLOOKUP(tb[[#This Row],[Indicador o Entregable\nPbR 2023]],Indic_PLADI_PBR[INDICADOR  PbR 2023],Indic_PLADI_PBR[IE - IC  DEL  PLADI 2021-2030],\"\",0,1)","v":""},null,null,null,{"$f":"tb[[#This Row],[N° Hombres beneficiados]]+tb[[#This Row],[N° Mujeres beneficiadas]]","v":0},null,null,null,{"$f":"+tb[[#This Row],[Cantidad]]*tb[[#This Row],[Precio Unitario]]","v":0},null,"",null,null,null,{"$f":"IFERROR(VLOOKUP($E178,'PP y Comp'!$C$3:$D$31,2,FALSE),\"\")","v":""}]
[null,null,null,null,null,null,{"$f":"_xlfn.IFNA(VLOOKUP(tb[[#This Row],[Componente]],BySs,3,0),\"\")","v":""},null,{"$f":"_xlfn.XLOOKUP(tb[[#This Row],[Indicador o Entregable\nPbR 2023]],Indic_PLADI_PBR[INDICADOR  PbR 2023],Indic_PLADI_PBR[IE - IC  DEL  PLADI 2021-2030],\"\",0,1)","v":""},null,null,null,{"$f":"tb[[#This Row],[N° Hombres beneficiados]]+tb[[#This Row],[N° Mujeres beneficiadas]]","v":0},null,null,null,{"$f":"+tb[[#This Row],[Cantidad]]*tb[[#This Row],[Precio Unitario]]","v":0},null,"",null,null,null,{"$f":"IFERROR(VLOOKUP($E179,'PP y Comp'!$C$3:$D$31,2,FALSE),\"\")","v":""}]
[null,null,null,null,null,null,{"$f":"_xlfn.IFNA(VLOOKUP(tb[[#This Row],[Componente]],BySs,3,0),\"\")","v":""},null,{"$f":"_xlfn.XLOOKUP(tb[[#This Row],[Indicador o Entregable\nPbR 2023]],Indic_PLADI_PBR[INDICADOR  PbR 2023],Indic_PLADI_PBR[IE - IC  DEL  PLADI 2021-2030],\"\",0,1)","v":""},null,null,null,{"$f":"tb[[#This Row],[N° Hombres beneficiados]]+tb[[#This Row],[N° Mujeres beneficiadas]]","v":0},null,null,null,{"$f":"+tb[[#This Row],[Cantidad]]*tb[[#This Row],[Precio Unitario]]","v":0},null,"",null,null,null,{"$f":"IFERROR(VLOOKUP($E180,'PP y Comp'!$C$3:$D$31,2,FALSE),\"\")","v":""}]
[null,null,null,null,null,null,{"$f":"_xlfn.IFNA(VLOOKUP(tb[[#This Row],[Componente]],BySs,3,0),\"\")","v":""},null,{"$f":"_xlfn.XLOOKUP(tb[[#This Row],[Indicador o Entregable\nPbR 2023]],Indic_PLADI_PBR[INDICADOR  PbR 2023],Indic_PLADI_PBR[IE - IC  DEL  PLADI 2021-2030],\"\",0,1)","v":""},null,null,null,{"$f":"tb[[#This Row],[N° Hombres beneficiados]]+tb[[#This Row],[N° Mujeres beneficiadas]]","v":0},null,null,null,{"$f":"+tb[[#This Row],[Cantidad]]*tb[[#This Row],[Precio Unitario]]","v":0},null,"",null,null,null,{"$f":"IFERROR(VLOOKUP($E181,'PP y Comp'!$C$3:$D$31,2,FALSE),\"\")","v":""}]
[null,null,null,null,null,null,{"$f":"_xlfn.IFNA(VLOOKUP(tb[[#This Row],[Componente]],BySs,3,0),\"\")","v":""},null,{"$f":"_xlfn.XLOOKUP(tb[[#This Row],[Indicador o Entregable\nPbR 2023]],Indic_PLADI_PBR[INDICADOR  PbR 2023],Indic_PLADI_PBR[IE - IC  DEL  PLADI 2021-2030],\"\",0,1)","v":""},null,null,null,{"$f":"tb[[#This Row],[N° Hombres beneficiados]]+tb[[#This Row],[N° Mujeres beneficiadas]]","v":0},null,null,null,{"$f":"+tb[[#This Row],[Cantidad]]*tb[[#This Row],[Precio Unitario]]","v":0},null,"",null,null,null,{"$f":"IFERROR(VLOOKUP($E182,'PP y Comp'!$C$3:$D$31,2,FALSE),\"\")","v":""}]
[null,null,null,null,null,null,{"$f":"_xlfn.IFNA(VLOOKUP(tb[[#This Row],[Componente]],BySs,3,0),\"\")","v":""},null,{"$f":"_xlfn.XLOOKUP(tb[[#This Row],[Indicador o Entregable\nPbR 2023]],Indic_PLADI_PBR[INDICADOR  PbR 2023],Indic_PLADI_PBR[IE - IC  DEL  PLADI 2021-2030],\"\",0,1)","v":""},null,null,null,{"$f":"tb[[#This Row],[N° Hombres beneficiados]]+tb[[#This Row],[N° Mujeres beneficiadas]]","v":0},null,null,null,{"$f":"+tb[[#This Row],[Cantidad]]*tb[[#This Row],[Precio Unitario]]","v":0},null,"",null,null,null,{"$f":"IFERROR(VLOOKUP($E183,'PP y Comp'!$C$3:$D$31,2,FALSE),\"\")","v":""}]
[null,null,null,null,null,null,{"$f":"_xlfn.IFNA(VLOOKUP(tb[[#This Row],[Componente]],BySs,3,0),\"\")","v":""},null,{"$f":"_xlfn.XLOOKUP(tb[[#This Row],[Indicador o Entregable\nPbR 2023]],Indic_PLADI_PBR[INDICADOR  PbR 2023],Indic_PLADI_PBR[IE - IC  DEL  PLADI 2021-2030],\"\",0,1)","v":""},null,null,null,{"$f":"tb[[#This Row],[N° Hombres beneficiados]]+tb[[#This Row],[N° Mujeres beneficiadas]]","v":0},null,null,null,{"$f":"+tb[[#This Row],[Cantidad]]*tb[[#This Row],[Precio Unitario]]","v":0},null,"",null,null,null,{"$f":"IFERROR(VLOOKUP($E184,'PP y Comp'!$C$3:$D$31,2,FALSE),\"\")","v":""}]
[null,null,null,null,null,null,{"$f":"_xlfn.IFNA(VLOOKUP(tb[[#This Row],[Componente]],BySs,3,0),\"\")","v":""},null,{"$f":"_xlfn.XLOOKUP(tb[[#This Row],[Indicador o Entregable\nPbR 2023]],Indic_PLADI_PBR[INDICADOR  PbR 2023],Indic_PLADI_PBR[IE - IC  DEL  PLADI 2021-2030],\"\",0,1)","v":""},null,null,null,{"$f":"tb[[#This Row],[N° Hombres beneficiados]]+tb[[#This Row],[N° Mujeres beneficiadas]]","v":0},null,null,null,{"$f":"+tb[[#This Row],[Cantidad]]*tb[[#This Row],[Precio Unitario]]","v":0},null,"",null,null,null,{"$f":"IFERROR(VLOOKUP($E185,'PP y Comp'!$C$3:$D$31,2,FALSE),\"\")","v":""}]
[null,null,null,null,null,null,{"$f":"_xlfn.IFNA(VLOOKUP(tb[[#This Row],[Componente]],BySs,3,0),\"\")","v":""},null,{"$f":"_xlfn.XLOOKUP(tb[[#This Row],[Indicador o Entregable\nPbR 2023]],Indic_PLADI_PBR[INDICADOR  PbR 2023],Indic_PLADI_PBR[IE - IC  DEL  PLADI 2021-2030],\"\",0,1)","v":""},null,null,null,{"$f":"tb[[#This Row],[N° Hombres beneficiados]]+tb[[#This Row],[N° Mujeres beneficiadas]]","v":0},null,null,null,{"$f":"+tb[[#This Row],[Cantidad]]*tb[[#This Row],[Precio Unitario]]","v":0},null,"",null,null,null,{"$f":"IFERROR(VLOOKUP($E186,'PP y Comp'!$C$3:$D$31,2,FALSE),\"\")","v":""}]
[null,null,null,null,null,null,{"$f":"_xlfn.IFNA(VLOOKUP(tb[[#This Row],[Componente]],BySs,3,0),\"\")","v":""},null,{"$f":"_xlfn.XLOOKUP(tb[[#This Row],[Indicador o Entregable\nPbR 2023]],Indic_PLADI_PBR[INDICADOR  PbR 2023],Indic_PLADI_PBR[IE - IC  DEL  PLADI 2021-2030],\"\",0,1)","v":""},null,null,null,{"$f":"tb[[#This Row],[N° Hombres beneficiados]]+tb[[#This Row],[N° Mujeres beneficiadas]]","v":0},null,null,null,{"$f":"+tb[[#This Row],[Cantidad]]*tb[[#This Row],[Precio Unitario]]","v":0},null,"",null,null,null,{"$f":"IFERROR(VLOOKUP($E187,'PP y Comp'!$C$3:$D$31,2,FALSE),\"\")","v":""}]
[null,null,null,null,null,null,{"$f":"_xlfn.IFNA(VLOOKUP(tb[[#This Row],[Componente]],BySs,3,0),\"\")","v":""},null,{"$f":"_xlfn.XLOOKUP(tb[[#This Row],[Indicador o Entregable\nPbR 2023]],Indic_PLADI_PBR[INDICADOR  PbR 2023],Indic_PLADI_PBR[IE - IC  DEL  PLADI 2021-2030],\"\",0,1)","v":""},null,null,null,{"$f":"tb[[#This Row],[N° Hombres beneficiados]]+tb[[#This Row],[N° Mujeres beneficiadas]]","v":0},null,null,null,{"$f":"+tb[[#This Row],[Cantidad]]*tb[[#This Row],[Precio Unitario]]","v":0},null,"",null,null,null,{"$f":"IFERROR(VLOOKUP($E188,'PP y Comp'!$C$3:$D$31,2,FALSE),\"\")","v":""}]
[null,null,null,null,null,null,{"$f":"_xlfn.IFNA(VLOOKUP(tb[[#This Row],[Componente]],BySs,3,0),\"\")","v":""},null,{"$f":"_xlfn.XLOOKUP(tb[[#This Row],[Indicador o Entregable\nPbR 2023]],Indic_PLADI_PBR[INDICADOR  PbR 2023],Indic_PLADI_PBR[IE - IC  DEL  PLADI 2021-2030],\"\",0,1)","v":""},null,null,null,{"$f":"tb[[#This Row],[N° Hombres beneficiados]]+tb[[#This Row],[N° Mujeres beneficiadas]]","v":0},null,null,null,{"$f":"+tb[[#This Row],[Cantidad]]*tb[[#This Row],[Precio Unitario]]","v":0},null,"",null,null,null,{"$f":"IFERROR(VLOOKUP($E189,'PP y Comp'!$C$3:$D$31,2,FALSE),\"\")","v":""}]
[null,null,null,null,null,null,{"$f":"_xlfn.IFNA(VLOOKUP(tb[[#This Row],[Componente]],BySs,3,0),\"\")","v":""},null,{"$f":"_xlfn.XLOOKUP(tb[[#This Row],[Indicador o Entregable\nPbR 2023]],Indic_PLADI_PBR[INDICADOR  PbR 2023],Indic_PLADI_PBR[IE - IC  DEL  PLADI 2021-2030],\"\",0,1)","v":""},null,null,null,{"$f":"tb[[#This Row],[N° Hombres beneficiados]]+tb[[#This Row],[N° Mujeres beneficiadas]]","v":0},null,null,null,{"$f":"+tb[[#This Row],[Cantidad]]*tb[[#This Row],[Precio Unitario]]","v":0},null,"",null,null,null,{"$f":"IFERROR(VLOOKUP($E190,'PP y Comp'!$C$3:$D$31,2,FALSE),\"\")","v":""}]
[null,null,null,null,null,null,{"$f":"_xlfn.IFNA(VLOOKUP(tb[[#This Row],[Componente]],BySs,3,0),\"\")","v":""},null,{"$f":"_xlfn.XLOOKUP(tb[[#This Row],[Indicador o Entregable\nPbR 2023]],Indic_PLADI_PBR[INDICADOR  PbR 2023],Indic_PLADI_PBR[IE - IC  DEL  PLADI 2021-2030],\"\",0,1)","v":""},null,null,null,{"$f":"tb[[#This Row],[N° Hombres beneficiados]]+tb[[#This Row],[N° Mujeres beneficiadas]]","v":0},null,null,null,{"$f":"+tb[[#This Row],[Cantidad]]*tb[[#This Row],[Precio Unitario]]","v":0},null,"",null,null,null,{"$f":"IFERROR(VLOOKUP($E191,'PP y Comp'!$C$3:$D$31,2,FALSE),\"\")","v":""}]
[null,null,null,null,null,null,{"$f":"_xlfn.IFNA(VLOOKUP(tb[[#This Row],[Componente]],BySs,3,0),\"\")","v":""},null,{"$f":"_xlfn.XLOOKUP(tb[[#This Row],[Indicador o Entregable\nPbR 2023]],Indic_PLADI_PBR[INDICADOR  PbR 2023],Indic_PLADI_PBR[IE - IC  DEL  PLADI 2021-2030],\"\",0,1)","v":""},null,null,null,{"$f":"tb[[#This Row],[N° Hombres beneficiados]]+tb[[#This Row],[N° Mujeres beneficiadas]]","v":0},null,null,null,{"$f":"+tb[[#This Row],[Cantidad]]*tb[[#This Row],[Precio Unitario]]","v":0},null,"",null,null,null,{"$f":"IFERROR(VLOOKUP($E192,'PP y Comp'!$C$3:$D$31,2,FALSE),\"\")","v":""}]
[null,null,null,null,null,null,{"$f":"_xlfn.IFNA(VLOOKUP(tb[[#This Row],[Componente]],BySs,3,0),\"\")","v":""},null,{"$f":"_xlfn.XLOOKUP(tb[[#This Row],[Indicador o Entregable\nPbR 2023]],Indic_PLADI_PBR[INDICADOR  PbR 2023],Indic_PLADI_PBR[IE - IC  DEL  PLADI 2021-2030],\"\",0,1)","v":""},null,null,null,{"$f":"tb[[#This Row],[N° Hombres beneficiados]]+tb[[#This Row],[N° Mujeres beneficiadas]]","v":0},null,null,null,{"$f":"+tb[[#This Row],[Cantidad]]*tb[[#This Row],[Precio Unitario]]","v":0},null,"",null,null,null,{"$f":"IFERROR(VLOOKUP($E193,'PP y Comp'!$C$3:$D$31,2,FALSE),\"\")","v":""}]
[null,null,null,null,null,null,{"$f":"_xlfn.IFNA(VLOOKUP(tb[[#This Row],[Componente]],BySs,3,0),\"\")","v":""},null,{"$f":"_xlfn.XLOOKUP(tb[[#This Row],[Indicador o Entregable\nPbR 2023]],Indic_PLADI_PBR[INDICADOR  PbR 2023],Indic_PLADI_PBR[IE - IC  DEL  PLADI 2021-2030],\"\",0,1)","v":""},null,null,null,{"$f":"tb[[#This Row],[N° Hombres beneficiados]]+tb[[#This Row],[N° Mujeres beneficiadas]]","v":0},null,null,null,{"$f":"+tb[[#This Row],[Cantidad]]*tb[[#This Row],[Precio Unitario]]","v":0},null,"",null,null,null,{"$f":"IFERROR(VLOOKUP($E194,'PP y Comp'!$C$3:$D$31,2,FALSE),\"\")","v":""}]
[null,null,null,null,null,null,{"$f":"_xlfn.IFNA(VLOOKUP(tb[[#This Row],[Componente]],BySs,3,0),\"\")","v":""},null,{"$f":"_xlfn.XLOOKUP(tb[[#This Row],[Indicador o Entregable\nPbR 2023]],Indic_PLADI_PBR[INDICADOR  PbR 2023],Indic_PLADI_PBR[IE - IC  DEL  PLADI 2021-2030],\"\",0,1)","v":""},null,null,null,{"$f":"tb[[#This Row],[N° Hombres beneficiados]]+tb[[#This Row],[N° Mujeres beneficiadas]]","v":0},null,null,null,{"$f":"+tb[[#This Row],[Cantidad]]*tb[[#This Row],[Precio Unitario]]","v":0},null,"",null,null,null,{"$f":"IFERROR(VLOOKUP($E195,'PP y Comp'!$C$3:$D$31,2,FALSE),\"\")","v":""}]
[null,null,null,null,null,null,{"$f":"_xlfn.IFNA(VLOOKUP(tb[[#This Row],[Componente]],BySs,3,0),\"\")","v":""},null,{"$f":"_xlfn.XLOOKUP(tb[[#This Row],[Indicador o Entregable\nPbR 2023]],Indic_PLADI_PBR[INDICADOR  PbR 2023],Indic_PLADI_PBR[IE - IC  DEL  PLADI 2021-2030],\"\",0,1)","v":""},null,null,null,{"$f":"tb[[#This Row],[N° Hombres beneficiados]]+tb[[#This Row],[N° Mujeres beneficiadas]]","v":0},null,null,null,{"$f":"+tb[[#This Row],[Cantidad]]*tb[[#This Row],[Precio Unitario]]","v":0},null,"",null,null,null,{"$f":"IFERROR(VLOOKUP($E196,'PP y Comp'!$C$3:$D$31,2,FALSE),\"\")","v":""}]
[null,null,null,null,null,null,{"$f":"_xlfn.IFNA(VLOOKUP(tb[[#This Row],[Componente]],BySs,3,0),\"\")","v":""},null,{"$f":"_xlfn.XLOOKUP(tb[[#This Row],[Indicador o Entregable\nPbR 2023]],Indic_PLADI_PBR[INDICADOR  PbR 2023],Indic_PLADI_PBR[IE - IC  DEL  PLADI 2021-2030],\"\",0,1)","v":""},null,null,null,{"$f":"tb[[#This Row],[N° Hombres beneficiados]]+tb[[#This Row],[N° Mujeres beneficiadas]]","v":0},null,null,null,{"$f":"+tb[[#This Row],[Cantidad]]*tb[[#This Row],[Precio Unitario]]","v":0},null,"",null,null,null,{"$f":"IFERROR(VLOOKUP($E197,'PP y Comp'!$C$3:$D$31,2,FALSE),\"\")","v":""}]
[null,null,null,null,null,null,{"$f":"_xlfn.IFNA(VLOOKUP(tb[[#This Row],[Componente]],BySs,3,0),\"\")","v":""},null,{"$f":"_xlfn.XLOOKUP(tb[[#This Row],[Indicador o Entregable\nPbR 2023]],Indic_PLADI_PBR[INDICADOR  PbR 2023],Indic_PLADI_PBR[IE - IC  DEL  PLADI 2021-2030],\"\",0,1)","v":""},null,null,null,{"$f":"tb[[#This Row],[N° Hombres beneficiados]]+tb[[#This Row],[N° Mujeres beneficiadas]]","v":0},null,null,null,{"$f":"+tb[[#This Row],[Cantidad]]*tb[[#This Row],[Precio Unitario]]","v":0},null,"",null,null,null,{"$f":"IFERROR(VLOOKUP($E198,'PP y Comp'!$C$3:$D$31,2,FALSE),\"\")","v":""}]
[null,null,null,null,null,null,{"$f":"_xlfn.IFNA(VLOOKUP(tb[[#This Row],[Componente]],BySs,3,0),\"\")","v":""},null,{"$f":"_xlfn.XLOOKUP(tb[[#This Row],[Indicador o Entregable\nPbR 2023]],Indic_PLADI_PBR[INDICADOR  PbR 2023],Indic_PLADI_PBR[IE - IC  DEL  PLADI 2021-2030],\"\",0,1)","v":""},null,null,null,{"$f":"tb[[#This Row],[N° Hombres beneficiados]]+tb[[#This Row],[N° Mujeres beneficiadas]]","v":0},null,null,null,{"$f":"+tb[[#This Row],[Cantidad]]*tb[[#This Row],[Precio Unitario]]","v":0},null,"",null,null,null,{"$f":"IFERROR(VLOOKUP($E199,'PP y Comp'!$C$3:$D$31,2,FALSE),\"\")","v":""}]
[null,null,null,null,null,null,{"$f":"_xlfn.IFNA(VLOOKUP(tb[[#This Row],[Componente]],BySs,3,0),\"\")","v":""},null,{"$f":"_xlfn.XLOOKUP(tb[[#This Row],[Indicador o Entregable\nPbR 2023]],Indic_PLADI_PBR[INDICADOR  PbR 2023],Indic_PLADI_PBR[IE - IC  DEL  PLADI 2021-2030],\"\",0,1)","v":""},null,null,null,{"$f":"tb[[#This Row],[N° Hombres beneficiados]]+tb[[#This Row],[N° Mujeres beneficiadas]]","v":0},null,null,null,{"$f":"+tb[[#This Row],[Cantidad]]*tb[[#This Row],[Precio Unitario]]","v":0},null,"",null,null,null,{"$f":"IFERROR(VLOOKUP($E200,'PP y Comp'!$C$3:$D$31,2,FALSE),\"\")","v":""}]
[null,null,null,null,null,null,{"$f":"_xlfn.IFNA(VLOOKUP(tb[[#This Row],[Componente]],BySs,3,0),\"\")","v":""},null,{"$f":"_xlfn.XLOOKUP(tb[[#This Row],[Indicador o Entregable\nPbR 2023]],Indic_PLADI_PBR[INDICADOR  PbR 2023],Indic_PLADI_PBR[IE - IC  DEL  PLADI 2021-2030],\"\",0,1)","v":""},null,null,null,{"$f":"tb[[#This Row],[N° Hombres beneficiados]]+tb[[#This Row],[N° Mujeres beneficiadas]]","v":0},null,null,null,{"$f":"+tb[[#This Row],[Cantidad]]*tb[[#This Row],[Precio Unitario]]","v":0},null,"",null,null,null,{"$f":"IFERROR(VLOOKUP($E201,'PP y Comp'!$C$3:$D$31,2,FALSE),\"\")","v":""}]
[null,null,null,null,null,null,{"$f":"_xlfn.IFNA(VLOOKUP(tb[[#This Row],[Componente]],BySs,3,0),\"\")","v":""},null,{"$f":"_xlfn.XLOOKUP(tb[[#This Row],[Indicador o Entregable\nPbR 2023]],Indic_PLADI_PBR[INDICADOR  PbR 2023],Indic_PLADI_PBR[IE - IC  DEL  PLADI 2021-2030],\"\",0,1)","v":""},null,null,null,{"$f":"tb[[#This Row],[N° Hombres beneficiados]]+tb[[#This Row],[N° Mujeres beneficiadas]]","v":0},null,null,null,{"$f":"+tb[[#This Row],[Cantidad]]*tb[[#This Row],[Precio Unitario]]","v":0},null,"",null,null,null,{"$f":"IFERROR(VLOOKUP($E202,'PP y Comp'!$C$3:$D$31,2,FALSE),\"\")","v":""}]
[null,null,null,null,null,null,{"$f":"_xlfn.IFNA(VLOOKUP(tb[[#This Row],[Componente]],BySs,3,0),\"\")","v":""},null,{"$f":"_xlfn.XLOOKUP(tb[[#This Row],[Indicador o Entregable\nPbR 2023]],Indic_PLADI_PBR[INDICADOR  PbR 2023],Indic_PLADI_PBR[IE - IC  DEL  PLADI 2021-2030],\"\",0,1)","v":""},null,null,null,{"$f":"tb[[#This Row],[N° Hombres beneficiados]]+tb[[#This Row],[N° Mujeres beneficiadas]]","v":0},null,null,null,{"$f":"+tb[[#This Row],[Cantidad]]*tb[[#This Row],[Precio Unitario]]","v":0},null,"",null,null,null,{"$f":"IFERROR(VLOOKUP($E203,'PP y Comp'!$C$3:$D$31,2,FALSE),\"\")","v":""}]
[null,null,null,null,null,null,{"$f":"_xlfn.IFNA(VLOOKUP(tb[[#This Row],[Componente]],BySs,3,0),\"\")","v":""},null,{"$f":"_xlfn.XLOOKUP(tb[[#This Row],[Indicador o Entregable\nPbR 2023]],Indic_PLADI_PBR[INDICADOR  PbR 2023],Indic_PLADI_PBR[IE - IC  DEL  PLADI 2021-2030],\"\",0,1)","v":""},null,null,null,{"$f":"tb[[#This Row],[N° Hombres beneficiados]]+tb[[#This Row],[N° Mujeres beneficiadas]]","v":0},null,null,null,{"$f":"+tb[[#This Row],[Cantidad]]*tb[[#This Row],[Precio Unitario]]","v":0},null,"",null,null,null,{"$f":"IFERROR(VLOOKUP($E204,'PP y Comp'!$C$3:$D$31,2,FALSE),\"\")","v":""}]
[null,null,null,null,null,null,{"$f":"_xlfn.IFNA(VLOOKUP(tb[[#This Row],[Componente]],BySs,3,0),\"\")","v":""},null,{"$f":"_xlfn.XLOOKUP(tb[[#This Row],[Indicador o Entregable\nPbR 2023]],Indic_PLADI_PBR[INDICADOR  PbR 2023],Indic_PLADI_PBR[IE - IC  DEL  PLADI 2021-2030],\"\",0,1)","v":""},null,null,null,{"$f":"tb[[#This Row],[N° Hombres beneficiados]]+tb[[#This Row],[N° Mujeres beneficiadas]]","v":0},null,null,null,{"$f":"+tb[[#This Row],[Cantidad]]*tb[[#This Row],[Precio Unitario]]","v":0},null,"",null,null,null,{"$f":"IFERROR(VLOOKUP($E205,'PP y Comp'!$C$3:$D$31,2,FALSE),\"\")","v":""}]
[null,null,null,null,null,null,{"$f":"_xlfn.IFNA(VLOOKUP(tb[[#This Row],[Componente]],BySs,3,0),\"\")","v":""},null,{"$f":"_xlfn.XLOOKUP(tb[[#This Row],[Indicador o Entregable\nPbR 2023]],Indic_PLADI_PBR[INDICADOR  PbR 2023],Indic_PLADI_PBR[IE - IC  DEL  PLADI 2021-2030],\"\",0,1)","v":""},null,null,null,{"$f":"tb[[#This Row],[N° Hombres beneficiados]]+tb[[#This Row],[N° Mujeres beneficiadas]]","v":0},null,null,null,{"$f":"+tb[[#This Row],[Cantidad]]*tb[[#This Row],[Precio Unitario]]","v":0},null,"",null,null,null,{"$f":"IFERROR(VLOOKUP($E206,'PP y Comp'!$C$3:$D$31,2,FALSE),\"\")","v":""}]
[null,null,null,null,null,null,{"$f":"_xlfn.IFNA(VLOOKUP(tb[[#This Row],[Componente]],BySs,3,0),\"\")","v":""},null,{"$f":"_xlfn.XLOOKUP(tb[[#This Row],[Indicador o Entregable\nPbR 2023]],Indic_PLADI_PBR[INDICADOR  PbR 2023],Indic_PLADI_PBR[IE - IC  DEL  PLADI 2021-2030],\"\",0,1)","v":""},null,null,null,{"$f":"tb[[#This Row],[N° Hombres beneficiados]]+tb[[#This Row],[N° Mujeres beneficiadas]]","v":0},null,null,null,{"$f":"+tb[[#This Row],[Cantidad]]*tb[[#This Row],[Precio Unitario]]","v":0},null,"",null,null,null,{"$f":"IFERROR(VLOOKUP($E207,'PP y Comp'!$C$3:$D$31,2,FALSE),\"\")","v":""}]
[null,null,null,null,null,null,{"$f":"_xlfn.IFNA(VLOOKUP(tb[[#This Row],[Componente]],BySs,3,0),\"\")","v":""},null,{"$f":"_xlfn.XLOOKUP(tb[[#This Row],[Indicador o Entregable\nPbR 2023]],Indic_PLADI_PBR[INDICADOR  PbR 2023],Indic_PLADI_PBR[IE - IC  DEL  PLADI 2021-2030],\"\",0,1)","v":""},null,null,null,{"$f":"tb[[#This Row],[N° Hombres beneficiados]]+tb[[#This Row],[N° Mujeres beneficiadas]]","v":0},null,null,null,{"$f":"+tb[[#This Row],[Cantidad]]*tb[[#This Row],[Precio Unitario]]","v":0},null,"",null,null,null,{"$f":"IFERROR(VLOOKUP($E208,'PP y Comp'!$C$3:$D$31,2,FALSE),\"\")","v":""}]
[null,null,null,null,null,null,{"$f":"_xlfn.IFNA(VLOOKUP(tb[[#This Row],[Componente]],BySs,3,0),\"\")","v":""},null,{"$f":"_xlfn.XLOOKUP(tb[[#This Row],[Indicador o Entregable\nPbR 2023]],Indic_PLADI_PBR[INDICADOR  PbR 2023],Indic_PLADI_PBR[IE - IC  DEL  PLADI 2021-2030],\"\",0,1)","v":""},null,null,null,{"$f":"tb[[#This Row],[N° Hombres beneficiados]]+tb[[#This Row],[N° Mujeres beneficiadas]]","v":0},null,null,null,{"$f":"+tb[[#This Row],[Cantidad]]*tb[[#This Row],[Precio Unitario]]","v":0},null,"",null,null,null,{"$f":"IFERROR(VLOOKUP($E209,'PP y Comp'!$C$3:$D$31,2,FALSE),\"\")","v":""}]
[null,null,null,null,null,null,{"$f":"_xlfn.IFNA(VLOOKUP(tb[[#This Row],[Componente]],BySs,3,0),\"\")","v":""},null,{"$f":"_xlfn.XLOOKUP(tb[[#This Row],[Indicador o Entregable\nPbR 2023]],Indic_PLADI_PBR[INDICADOR  PbR 2023],Indic_PLADI_PBR[IE - IC  DEL  PLADI 2021-2030],\"\",0,1)","v":""},null,null,null,{"$f":"tb[[#This Row],[N° Hombres beneficiados]]+tb[[#This Row],[N° Mujeres beneficiadas]]","v":0},null,null,null,{"$f":"+tb[[#This Row],[Cantidad]]*tb[[#This Row],[Precio Unitario]]","v":0},null,"",null,null,null,{"$f":"IFERROR(VLOOKUP($E210,'PP y Comp'!$C$3:$D$31,2,FALSE),\"\")","v":""}]
[null,null,null,null,null,null,{"$f":"_xlfn.IFNA(VLOOKUP(tb[[#This Row],[Componente]],BySs,3,0),\"\")","v":""},null,{"$f":"_xlfn.XLOOKUP(tb[[#This Row],[Indicador o Entregable\nPbR 2023]],Indic_PLADI_PBR[INDICADOR  PbR 2023],Indic_PLADI_PBR[IE - IC  DEL  PLADI 2021-2030],\"\",0,1)","v":""},null,null,null,{"$f":"tb[[#This Row],[N° Hombres beneficiados]]+tb[[#This Row],[N° Mujeres beneficiadas]]","v":0},null,null,null,{"$f":"+tb[[#This Row],[Cantidad]]*tb[[#This Row],[Precio Unitario]]","v":0},null,"",null,null,null,{"$f":"IFERROR(VLOOKUP($E211,'PP y Comp'!$C$3:$D$31,2,FALSE),\"\")","v":""}]
[null,null,null,null,null,null,{"$f":"_xlfn.IFNA(VLOOKUP(tb[[#This Row],[Componente]],BySs,3,0),\"\")","v":""},null,{"$f":"_xlfn.XLOOKUP(tb[[#This Row],[Indicador o Entregable\nPbR 2023]],Indic_PLADI_PBR[INDICADOR  PbR 2023],Indic_PLADI_PBR[IE - IC  DEL  PLADI 2021-2030],\"\",0,1)","v":""},null,null,null,{"$f":"tb[[#This Row],[N° Hombres beneficiados]]+tb[[#This Row],[N° Mujeres beneficiadas]]","v":0},null,null,null,{"$f":"+tb[[#This Row],[Cantidad]]*tb[[#This Row],[Precio Unitario]]","v":0},null,"",null,null,null,{"$f":"IFERROR(VLOOKUP($E212,'PP y Comp'!$C$3:$D$31,2,FALSE),\"\")","v":""}]
[null,null,null,null,null,null,{"$f":"_xlfn.IFNA(VLOOKUP(tb[[#This Row],[Componente]],BySs,3,0),\"\")","v":""},null,{"$f":"_xlfn.XLOOKUP(tb[[#This Row],[Indicador o Entregable\nPbR 2023]],Indic_PLADI_PBR[INDICADOR  PbR 2023],Indic_PLADI_PBR[IE - IC  DEL  PLADI 2021-2030],\"\",0,1)","v":""},null,null,null,{"$f":"tb[[#This Row],[N° Hombres beneficiados]]+tb[[#This Row],[N° Mujeres beneficiadas]]","v":0},null,null,null,{"$f":"+tb[[#This Row],[Cantidad]]*tb[[#This Row],[Precio Unitario]]","v":0},null,"",null,null,null,{"$f":"IFERROR(VLOOKUP($E213,'PP y Comp'!$C$3:$D$31,2,FALSE),\"\")","v":""}]
[null,null,null,null,null,null,{"$f":"_xlfn.IFNA(VLOOKUP(tb[[#This Row],[Componente]],BySs,3,0),\"\")","v":""},null,{"$f":"_xlfn.XLOOKUP(tb[[#This Row],[Indicador o Entregable\nPbR 2023]],Indic_PLADI_PBR[INDICADOR  PbR 2023],Indic_PLADI_PBR[IE - IC  DEL  PLADI 2021-2030],\"\",0,1)","v":""},null,null,null,{"$f":"tb[[#This Row],[N° Hombres beneficiados]]+tb[[#This Row],[N° Mujeres beneficiadas]]","v":0},null,null,null,{"$f":"+tb[[#This Row],[Cantidad]]*tb[[#This Row],[Precio Unitario]]","v":0},null,"",null,null,null,{"$f":"IFERROR(VLOOKUP($E214,'PP y Comp'!$C$3:$D$31,2,FALSE),\"\")","v":""}]
[null,null,null,null,null,null,{"$f":"_xlfn.IFNA(VLOOKUP(tb[[#This Row],[Componente]],BySs,3,0),\"\")","v":""},null,{"$f":"_xlfn.XLOOKUP(tb[[#This Row],[Indicador o Entregable\nPbR 2023]],Indic_PLADI_PBR[INDICADOR  PbR 2023],Indic_PLADI_PBR[IE - IC  DEL  PLADI 2021-2030],\"\",0,1)","v":""},null,null,null,{"$f":"tb[[#This Row],[N° Hombres beneficiados]]+tb[[#This Row],[N° Mujeres beneficiadas]]","v":0},null,null,null,{"$f":"+tb[[#This Row],[Cantidad]]*tb[[#This Row],[Precio Unitario]]","v":0},null,"",null,null,null,{"$f":"IFERROR(VLOOKUP($E215,'PP y Comp'!$C$3:$D$31,2,FALSE),\"\")","v":""}]
[null,null,null,null,null,null,{"$f":"_xlfn.IFNA(VLOOKUP(tb[[#This Row],[Componente]],BySs,3,0),\"\")","v":""},null,{"$f":"_xlfn.XLOOKUP(tb[[#This Row],[Indicador o Entregable\nPbR 2023]],Indic_PLADI_PBR[INDICADOR  PbR 2023],Indic_PLADI_PBR[IE - IC  DEL  PLADI 2021-2030],\"\",0,1)","v":""},null,null,null,{"$f":"tb[[#This Row],[N° Hombres beneficiados]]+tb[[#This Row],[N° Mujeres beneficiadas]]","v":0},null,null,null,{"$f":"+tb[[#This Row],[Cantidad]]*tb[[#This Row],[Precio Unitario]]","v":0},null,"",null,null,null,{"$f":"IFERROR(VLOOKUP($E216,'PP y Comp'!$C$3:$D$31,2,FALSE),\"\")","v":""}]
[null,null,null,null,null,null,{"$f":"_xlfn.IFNA(VLOOKUP(tb[[#This Row],[Componente]],BySs,3,0),\"\")","v":""},null,{"$f":"_xlfn.XLOOKUP(tb[[#This Row],[Indicador o Entregable\nPbR 2023]],Indic_PLADI_PBR[INDICADOR  PbR 2023],Indic_PLADI_PBR[IE - IC  DEL  PLADI 2021-2030],\"\",0,1)","v":""},null,null,null,{"$f":"tb[[#This Row],[N° Hombres beneficiados]]+tb[[#This Row],[N° Mujeres beneficiadas]]","v":0},null,null,null,{"$f":"+tb[[#This Row],[Cantidad]]*tb[[#This Row],[Precio Unitario]]","v":0},null,{"$f":"IF(C217=\"\",\"\",_xlfn.XLOOKUP($I$10,EntidadUG,CeGe,\"Por favor, llenar celda I10\",0,1))","v":""},null,null,null,{"$f":"IFERROR(VLOOKUP($E217,'PP y Comp'!$C$3:$D$31,2,FALSE),\"\")","v":""}]
[null,null,null,null,null,null,{"$f":"_xlfn.IFNA(VLOOKUP(tb[[#This Row],[Componente]],BySs,3,0),\"\")","v":""},null,{"$f":"_xlfn.XLOOKUP(tb[[#This Row],[Indicador o Entregable\nPbR 2023]],Indic_PLADI_PBR[INDICADOR  PbR 2023],Indic_PLADI_PBR[IE - IC  DEL  PLADI 2021-2030],\"\",0,1)","v":""},null,null,null,{"$f":"tb[[#This Row],[N° Hombres beneficiados]]+tb[[#This Row],[N° Mujeres beneficiadas]]","v":0},null,null,null,{"$f":"+tb[[#This Row],[Cantidad]]*tb[[#This Row],[Precio Unitario]]","v":0},null,"",null,null,null,{"$f":"IFERROR(VLOOKUP($E218,'PP y Comp'!$C$3:$D$31,2,FALSE),\"\")","v":""}]
[null,null,null,null,null,null,{"$f":"_xlfn.IFNA(VLOOKUP(tb[[#This Row],[Componente]],BySs,3,0),\"\")","v":""},null,{"$f":"_xlfn.XLOOKUP(tb[[#This Row],[Indicador o Entregable\nPbR 2023]],Indic_PLADI_PBR[INDICADOR  PbR 2023],Indic_PLADI_PBR[IE - IC  DEL  PLADI 2021-2030],\"\",0,1)","v":""},null,null,null,{"$f":"tb[[#This Row],[N° Hombres beneficiados]]+tb[[#This Row],[N° Mujeres beneficiadas]]","v":0},null,null,null,{"$f":"+tb[[#This Row],[Cantidad]]*tb[[#This Row],[Precio Unitario]]","v":0},null,"",null,null,null,{"$f":"IFERROR(VLOOKUP($E219,'PP y Comp'!$C$3:$D$31,2,FALSE),\"\")","v":""}]
[null,null,null,null,null,null,{"$f":"_xlfn.IFNA(VLOOKUP(tb[[#This Row],[Componente]],BySs,3,0),\"\")","v":""},null,{"$f":"_xlfn.XLOOKUP(tb[[#This Row],[Indicador o Entregable\nPbR 2023]],Indic_PLADI_PBR[INDICADOR  PbR 2023],Indic_PLADI_PBR[IE - IC  DEL  PLADI 2021-2030],\"\",0,1)","v":""},null,null,null,{"$f":"tb[[#This Row],[N° Hombres beneficiados]]+tb[[#This Row],[N° Mujeres beneficiadas]]","v":0},null,null,null,{"$f":"+tb[[#This Row],[Cantidad]]*tb[[#This Row],[Precio Unitario]]","v":0},null,"",null,null,null,{"$f":"IFERROR(VLOOKUP($E220,'PP y Comp'!$C$3:$D$31,2,FALSE),\"\")","v":""}]
[null,null,null,null,null,null,{"$f":"_xlfn.IFNA(VLOOKUP(tb[[#This Row],[Componente]],BySs,3,0),\"\")","v":""},null,{"$f":"_xlfn.XLOOKUP(tb[[#This Row],[Indicador o Entregable\nPbR 2023]],Indic_PLADI_PBR[INDICADOR  PbR 2023],Indic_PLADI_PBR[IE - IC  DEL  PLADI 2021-2030],\"\",0,1)","v":""},null,null,null,{"$f":"tb[[#This Row],[N° Hombres beneficiados]]+tb[[#This Row],[N° Mujeres beneficiadas]]","v":0},null,null,null,{"$f":"+tb[[#This Row],[Cantidad]]*tb[[#This Row],[Precio Unitario]]","v":0},null,"",null,null,null,{"$f":"IFERROR(VLOOKUP($E221,'PP y Comp'!$C$3:$D$31,2,FALSE),\"\")","v":""}]
[null,null,null,null,null,null,{"$f":"_xlfn.IFNA(VLOOKUP(tb[[#This Row],[Componente]],BySs,3,0),\"\")","v":""},null,{"$f":"_xlfn.XLOOKUP(tb[[#This Row],[Indicador o Entregable\nPbR 2023]],Indic_PLADI_PBR[INDICADOR  PbR 2023],Indic_PLADI_PBR[IE - IC  DEL  PLADI 2021-2030],\"\",0,1)","v":""},null,null,null,{"$f":"tb[[#This Row],[N° Hombres beneficiados]]+tb[[#This Row],[N° Mujeres beneficiadas]]","v":0},null,null,null,{"$f":"+tb[[#This Row],[Cantidad]]*tb[[#This Row],[Precio Unitario]]","v":0},null,"",null,null,null,{"$f":"IFERROR(VLOOKUP($E222,'PP y Comp'!$C$3:$D$31,2,FALSE),\"\")","v":""}]
[null,null,null,null,null,null,{"$f":"_xlfn.IFNA(VLOOKUP(tb[[#This Row],[Componente]],BySs,3,0),\"\")","v":""},null,{"$f":"_xlfn.XLOOKUP(tb[[#This Row],[Indicador o Entregable\nPbR 2023]],Indic_PLADI_PBR[INDICADOR  PbR 2023],Indic_PLADI_PBR[IE - IC  DEL  PLADI 2021-2030],\"\",0,1)","v":""},null,null,null,{"$f":"tb[[#This Row],[N° Hombres beneficiados]]+tb[[#This Row],[N° Mujeres beneficiadas]]","v":0},null,null,null,{"$f":"+tb[[#This Row],[Cantidad]]*tb[[#This Row],[Precio Unitario]]","v":0},null,"",null,null,null,{"$f":"IFERROR(VLOOKUP($E223,'PP y Comp'!$C$3:$D$31,2,FALSE),\"\")","v":""}]
[null,null,null,null,null,null,{"$f":"_xlfn.IFNA(VLOOKUP(tb[[#This Row],[Componente]],BySs,3,0),\"\")","v":""},null,{"$f":"_xlfn.XLOOKUP(tb[[#This Row],[Indicador o Entregable\nPbR 2023]],Indic_PLADI_PBR[INDICADOR  PbR 2023],Indic_PLADI_PBR[IE - IC  DEL  PLADI 2021-2030],\"\",0,1)","v":""},null,null,null,{"$f":"tb[[#This Row],[N° Hombres beneficiados]]+tb[[#This Row],[N° Mujeres beneficiadas]]","v":0},null,null,null,{"$f":"+tb[[#This Row],[Cantidad]]*tb[[#This Row],[Precio Unitario]]","v":0},null,"",null,null,null,{"$f":"IFERROR(VLOOKUP($E224,'PP y Comp'!$C$3:$D$31,2,FALSE),\"\")","v":""}]
[null,null,null,null,null,null,{"$f":"_xlfn.IFNA(VLOOKUP(tb[[#This Row],[Componente]],BySs,3,0),\"\")","v":""},null,{"$f":"_xlfn.XLOOKUP(tb[[#This Row],[Indicador o Entregable\nPbR 2023]],Indic_PLADI_PBR[INDICADOR  PbR 2023],Indic_PLADI_PBR[IE - IC  DEL  PLADI 2021-2030],\"\",0,1)","v":""},null,null,null,{"$f":"tb[[#This Row],[N° Hombres beneficiados]]+tb[[#This Row],[N° Mujeres beneficiadas]]","v":0},null,null,null,{"$f":"+tb[[#This Row],[Cantidad]]*tb[[#This Row],[Precio Unitario]]","v":0},null,"",null,null,null,{"$f":"IFERROR(VLOOKUP($E225,'PP y Comp'!$C$3:$D$31,2,FALSE),\"\")","v":""}]
[null,null,null,null,null,null,{"$f":"_xlfn.IFNA(VLOOKUP(tb[[#This Row],[Componente]],BySs,3,0),\"\")","v":""},null,{"$f":"_xlfn.XLOOKUP(tb[[#This Row],[Indicador o Entregable\nPbR 2023]],Indic_PLADI_PBR[INDICADOR  PbR 2023],Indic_PLADI_PBR[IE - IC  DEL  PLADI 2021-2030],\"\",0,1)","v":""},null,null,null,{"$f":"tb[[#This Row],[N° Hombres beneficiados]]+tb[[#This Row],[N° Mujeres beneficiadas]]","v":0},null,null,null,{"$f":"+tb[[#This Row],[Cantidad]]*tb[[#This Row],[Precio Unitario]]","v":0},null,"",null,null,null,{"$f":"IFERROR(VLOOKUP($E226,'PP y Comp'!$C$3:$D$31,2,FALSE),\"\")","v":""}]
[null,null,null,null,null,null,{"$f":"_xlfn.IFNA(VLOOKUP(tb[[#This Row],[Componente]],BySs,3,0),\"\")","v":""},null,{"$f":"_xlfn.XLOOKUP(tb[[#This Row],[Indicador o Entregable\nPbR 2023]],Indic_PLADI_PBR[INDICADOR  PbR 2023],Indic_PLADI_PBR[IE - IC  DEL  PLADI 2021-2030],\"\",0,1)","v":""},null,null,null,{"$f":"tb[[#This Row],[N° Hombres beneficiados]]+tb[[#This Row],[N° Mujeres beneficiadas]]","v":0},null,null,null,{"$f":"+tb[[#This Row],[Cantidad]]*tb[[#This Row],[Precio Unitario]]","v":0},null,"",null,null,null,{"$f":"IFERROR(VLOOKUP($E227,'PP y Comp'!$C$3:$D$31,2,FALSE),\"\")","v":""}]
[null,null,null,null,null,null,{"$f":"_xlfn.IFNA(VLOOKUP(tb[[#This Row],[Componente]],BySs,3,0),\"\")","v":""},null,{"$f":"_xlfn.XLOOKUP(tb[[#This Row],[Indicador o Entregable\nPbR 2023]],Indic_PLADI_PBR[INDICADOR  PbR 2023],Indic_PLADI_PBR[IE - IC  DEL  PLADI 2021-2030],\"\",0,1)","v":""},null,null,null,{"$f":"tb[[#This Row],[N° Hombres beneficiados]]+tb[[#This Row],[N° Mujeres beneficiadas]]","v":0},null,null,null,{"$f":"+tb[[#This Row],[Cantidad]]*tb[[#This Row],[Precio Unitario]]","v":0},null,"",null,null,null,{"$f":"IFERROR(VLOOKUP($E228,'PP y Comp'!$C$3:$D$31,2,FALSE),\"\")","v":""}]
[null,null,null,null,null,null,{"$f":"_xlfn.IFNA(VLOOKUP(tb[[#This Row],[Componente]],BySs,3,0),\"\")","v":""},null,{"$f":"_xlfn.XLOOKUP(tb[[#This Row],[Indicador o Entregable\nPbR 2023]],Indic_PLADI_PBR[INDICADOR  PbR 2023],Indic_PLADI_PBR[IE - IC  DEL  PLADI 2021-2030],\"\",0,1)","v":""},null,null,null,{"$f":"tb[[#This Row],[N° Hombres beneficiados]]+tb[[#This Row],[N° Mujeres beneficiadas]]","v":0},null,null,null,{"$f":"+tb[[#This Row],[Cantidad]]*tb[[#This Row],[Precio Unitario]]","v":0},null,"",null,null,null,{"$f":"IFERROR(VLOOKUP($E229,'PP y Comp'!$C$3:$D$31,2,FALSE),\"\")","v":""}]
[null,null,null,null,null,null,{"$f":"_xlfn.IFNA(VLOOKUP(tb[[#This Row],[Componente]],BySs,3,0),\"\")","v":""},null,{"$f":"_xlfn.XLOOKUP(tb[[#This Row],[Indicador o Entregable\nPbR 2023]],Indic_PLADI_PBR[INDICADOR  PbR 2023],Indic_PLADI_PBR[IE - IC  DEL  PLADI 2021-2030],\"\",0,1)","v":""},null,null,null,{"$f":"tb[[#This Row],[N° Hombres beneficiados]]+tb[[#This Row],[N° Mujeres beneficiadas]]","v":0},null,null,null,{"$f":"+tb[[#This Row],[Cantidad]]*tb[[#This Row],[Precio Unitario]]","v":0},null,"",null,null,null,{"$f":"IFERROR(VLOOKUP($E230,'PP y Comp'!$C$3:$D$31,2,FALSE),\"\")","v":""}]
[null,null,null,null,null,null,{"$f":"_xlfn.IFNA(VLOOKUP(tb[[#This Row],[Componente]],BySs,3,0),\"\")","v":""},null,{"$f":"_xlfn.XLOOKUP(tb[[#This Row],[Indicador o Entregable\nPbR 2023]],Indic_PLADI_PBR[INDICADOR  PbR 2023],Indic_PLADI_PBR[IE - IC  DEL  PLADI 2021-2030],\"\",0,1)","v":""},null,null,null,{"$f":"tb[[#This Row],[N° Hombres beneficiados]]+tb[[#This Row],[N° Mujeres beneficiadas]]","v":0},null,null,null,{"$f":"+tb[[#This Row],[Cantidad]]*tb[[#This Row],[Precio Unitario]]","v":0},null,"",null,null,null,{"$f":"IFERROR(VLOOKUP($E231,'PP y Comp'!$C$3:$D$31,2,FALSE),\"\")","v":""}]
[null,null,null,null,null,null,{"$f":"_xlfn.IFNA(VLOOKUP(tb[[#This Row],[Componente]],BySs,3,0),\"\")","v":""},null,{"$f":"_xlfn.XLOOKUP(tb[[#This Row],[Indicador o Entregable\nPbR 2023]],Indic_PLADI_PBR[INDICADOR  PbR 2023],Indic_PLADI_PBR[IE - IC  DEL  PLADI 2021-2030],\"\",0,1)","v":""},null,null,null,{"$f":"tb[[#This Row],[N° Hombres beneficiados]]+tb[[#This Row],[N° Mujeres beneficiadas]]","v":0},null,null,null,{"$f":"+tb[[#This Row],[Cantidad]]*tb[[#This Row],[Precio Unitario]]","v":0},null,"",null,null,null,{"$f":"IFERROR(VLOOKUP($E232,'PP y Comp'!$C$3:$D$31,2,FALSE),\"\")","v":""}]
[null,null,null,null,null,null,{"$f":"_xlfn.IFNA(VLOOKUP(tb[[#This Row],[Componente]],BySs,3,0),\"\")","v":""},null,{"$f":"_xlfn.XLOOKUP(tb[[#This Row],[Indicador o Entregable\nPbR 2023]],Indic_PLADI_PBR[INDICADOR  PbR 2023],Indic_PLADI_PBR[IE - IC  DEL  PLADI 2021-2030],\"\",0,1)","v":""},null,null,null,{"$f":"tb[[#This Row],[N° Hombres beneficiados]]+tb[[#This Row],[N° Mujeres beneficiadas]]","v":0},null,null,null,{"$f":"+tb[[#This Row],[Cantidad]]*tb[[#This Row],[Precio Unitario]]","v":0},null,"",null,null,null,{"$f":"IFERROR(VLOOKUP($E233,'PP y Comp'!$C$3:$D$31,2,FALSE),\"\")","v":""}]
[null,null,null,null,null,null,{"$f":"_xlfn.IFNA(VLOOKUP(tb[[#This Row],[Componente]],BySs,3,0),\"\")","v":""},null,{"$f":"_xlfn.XLOOKUP(tb[[#This Row],[Indicador o Entregable\nPbR 2023]],Indic_PLADI_PBR[INDICADOR  PbR 2023],Indic_PLADI_PBR[IE - IC  DEL  PLADI 2021-2030],\"\",0,1)","v":""},null,null,null,{"$f":"tb[[#This Row],[N° Hombres beneficiados]]+tb[[#This Row],[N° Mujeres beneficiadas]]","v":0},null,null,null,{"$f":"+tb[[#This Row],[Cantidad]]*tb[[#This Row],[Precio Unitario]]","v":0},null,"",null,null,null,{"$f":"IFERROR(VLOOKUP($E234,'PP y Comp'!$C$3:$D$31,2,FALSE),\"\")","v":""}]
[null,null,null,null,null,null,{"$f":"_xlfn.IFNA(VLOOKUP(tb[[#This Row],[Componente]],BySs,3,0),\"\")","v":""},null,{"$f":"_xlfn.XLOOKUP(tb[[#This Row],[Indicador o Entregable\nPbR 2023]],Indic_PLADI_PBR[INDICADOR  PbR 2023],Indic_PLADI_PBR[IE - IC  DEL  PLADI 2021-2030],\"\",0,1)","v":""},null,null,null,{"$f":"tb[[#This Row],[N° Hombres beneficiados]]+tb[[#This Row],[N° Mujeres beneficiadas]]","v":0},null,null,null,{"$f":"+tb[[#This Row],[Cantidad]]*tb[[#This Row],[Precio Unitario]]","v":0},null,"",null,null,null,{"$f":"IFERROR(VLOOKUP($E235,'PP y Comp'!$C$3:$D$31,2,FALSE),\"\")","v":""}]
[null,null,null,null,null,null,{"$f":"_xlfn.IFNA(VLOOKUP(tb[[#This Row],[Componente]],BySs,3,0),\"\")","v":""},null,{"$f":"_xlfn.XLOOKUP(tb[[#This Row],[Indicador o Entregable\nPbR 2023]],Indic_PLADI_PBR[INDICADOR  PbR 2023],Indic_PLADI_PBR[IE - IC  DEL  PLADI 2021-2030],\"\",0,1)","v":""},null,null,null,{"$f":"tb[[#This Row],[N° Hombres beneficiados]]+tb[[#This Row],[N° Mujeres beneficiadas]]","v":0},null,null,null,{"$f":"+tb[[#This Row],[Cantidad]]*tb[[#This Row],[Precio Unitario]]","v":0},null,"",null,null,null,{"$f":"IFERROR(VLOOKUP($E236,'PP y Comp'!$C$3:$D$31,2,FALSE),\"\")","v":""}]
[null,null,null,null,null,null,{"$f":"_xlfn.IFNA(VLOOKUP(tb[[#This Row],[Componente]],BySs,3,0),\"\")","v":""},null,{"$f":"_xlfn.XLOOKUP(tb[[#This Row],[Indicador o Entregable\nPbR 2023]],Indic_PLADI_PBR[INDICADOR  PbR 2023],Indic_PLADI_PBR[IE - IC  DEL  PLADI 2021-2030],\"\",0,1)","v":""},null,null,null,{"$f":"tb[[#This Row],[N° Hombres beneficiados]]+tb[[#This Row],[N° Mujeres beneficiadas]]","v":0},null,null,null,{"$f":"+tb[[#This Row],[Cantidad]]*tb[[#This Row],[Precio Unitario]]","v":0},null,"",null,null,null,{"$f":"IFERROR(VLOOKUP($E237,'PP y Comp'!$C$3:$D$31,2,FALSE),\"\")","v":""}]
[null,null,null,null,null,null,{"$f":"_xlfn.IFNA(VLOOKUP(tb[[#This Row],[Componente]],BySs,3,0),\"\")","v":""},null,{"$f":"_xlfn.XLOOKUP(tb[[#This Row],[Indicador o Entregable\nPbR 2023]],Indic_PLADI_PBR[INDICADOR  PbR 2023],Indic_PLADI_PBR[IE - IC  DEL  PLADI 2021-2030],\"\",0,1)","v":""},null,null,null,{"$f":"tb[[#This Row],[N° Hombres beneficiados]]+tb[[#This Row],[N° Mujeres beneficiadas]]","v":0},null,null,null,{"$f":"+tb[[#This Row],[Cantidad]]*tb[[#This Row],[Precio Unitario]]","v":0},null,"",null,null,null,{"$f":"IFERROR(VLOOKUP($E238,'PP y Comp'!$C$3:$D$31,2,FALSE),\"\")","v":""}]
[null,null,null,null,null,null,{"$f":"_xlfn.IFNA(VLOOKUP(tb[[#This Row],[Componente]],BySs,3,0),\"\")","v":""},null,{"$f":"_xlfn.XLOOKUP(tb[[#This Row],[Indicador o Entregable\nPbR 2023]],Indic_PLADI_PBR[INDICADOR  PbR 2023],Indic_PLADI_PBR[IE - IC  DEL  PLADI 2021-2030],\"\",0,1)","v":""},null,null,null,{"$f":"tb[[#This Row],[N° Hombres beneficiados]]+tb[[#This Row],[N° Mujeres beneficiadas]]","v":0},null,null,null,{"$f":"+tb[[#This Row],[Cantidad]]*tb[[#This Row],[Precio Unitario]]","v":0},null,"",null,null,null,{"$f":"IFERROR(VLOOKUP($E239,'PP y Comp'!$C$3:$D$31,2,FALSE),\"\")","v":""}]
[null,null,null,null,null,null,{"$f":"_xlfn.IFNA(VLOOKUP(tb[[#This Row],[Componente]],BySs,3,0),\"\")","v":""},null,{"$f":"_xlfn.XLOOKUP(tb[[#This Row],[Indicador o Entregable\nPbR 2023]],Indic_PLADI_PBR[INDICADOR  PbR 2023],Indic_PLADI_PBR[IE - IC  DEL  PLADI 2021-2030],\"\",0,1)","v":""},null,null,null,{"$f":"tb[[#This Row],[N° Hombres beneficiados]]+tb[[#This Row],[N° Mujeres beneficiadas]]","v":0},null,null,null,{"$f":"+tb[[#This Row],[Cantidad]]*tb[[#This Row],[Precio Unitario]]","v":0},null,"",null,null,null,{"$f":"IFERROR(VLOOKUP($E240,'PP y Comp'!$C$3:$D$31,2,FALSE),\"\")","v":""}]
[null,null,null,null,null,null,{"$f":"_xlfn.IFNA(VLOOKUP(tb[[#This Row],[Componente]],BySs,3,0),\"\")","v":""},null,{"$f":"_xlfn.XLOOKUP(tb[[#This Row],[Indicador o Entregable\nPbR 2023]],Indic_PLADI_PBR[INDICADOR  PbR 2023],Indic_PLADI_PBR[IE - IC  DEL  PLADI 2021-2030],\"\",0,1)","v":""},null,null,null,{"$f":"tb[[#This Row],[N° Hombres beneficiados]]+tb[[#This Row],[N° Mujeres beneficiadas]]","v":0},null,null,null,{"$f":"+tb[[#This Row],[Cantidad]]*tb[[#This Row],[Precio Unitario]]","v":0},null,"",null,null,null,{"$f":"IFERROR(VLOOKUP($E241,'PP y Comp'!$C$3:$D$31,2,FALSE),\"\")","v":""}]
[null,null,null,null,null,null,{"$f":"_xlfn.IFNA(VLOOKUP(tb[[#This Row],[Componente]],BySs,3,0),\"\")","v":""},null,{"$f":"_xlfn.XLOOKUP(tb[[#This Row],[Indicador o Entregable\nPbR 2023]],Indic_PLADI_PBR[INDICADOR  PbR 2023],Indic_PLADI_PBR[IE - IC  DEL  PLADI 2021-2030],\"\",0,1)","v":""},null,null,null,{"$f":"tb[[#This Row],[N° Hombres beneficiados]]+tb[[#This Row],[N° Mujeres beneficiadas]]","v":0},null,null,null,{"$f":"+tb[[#This Row],[Cantidad]]*tb[[#This Row],[Precio Unitario]]","v":0},null,"",null,null,null,{"$f":"IFERROR(VLOOKUP($E242,'PP y Comp'!$C$3:$D$31,2,FALSE),\"\")","v":""}]
[null,null,null,null,null,null,{"$f":"_xlfn.IFNA(VLOOKUP(tb[[#This Row],[Componente]],BySs,3,0),\"\")","v":""},null,{"$f":"_xlfn.XLOOKUP(tb[[#This Row],[Indicador o Entregable\nPbR 2023]],Indic_PLADI_PBR[INDICADOR  PbR 2023],Indic_PLADI_PBR[IE - IC  DEL  PLADI 2021-2030],\"\",0,1)","v":""},null,null,null,{"$f":"tb[[#This Row],[N° Hombres beneficiados]]+tb[[#This Row],[N° Mujeres beneficiadas]]","v":0},null,null,null,{"$f":"+tb[[#This Row],[Cantidad]]*tb[[#This Row],[Precio Unitario]]","v":0},null,"",null,null,null,{"$f":"IFERROR(VLOOKUP($E243,'PP y Comp'!$C$3:$D$31,2,FALSE),\"\")","v":""}]
[null,null,null,null,null,null,{"$f":"_xlfn.IFNA(VLOOKUP(tb[[#This Row],[Componente]],BySs,3,0),\"\")","v":""},null,{"$f":"_xlfn.XLOOKUP(tb[[#This Row],[Indicador o Entregable\nPbR 2023]],Indic_PLADI_PBR[INDICADOR  PbR 2023],Indic_PLADI_PBR[IE - IC  DEL  PLADI 2021-2030],\"\",0,1)","v":""},null,null,null,{"$f":"tb[[#This Row],[N° Hombres beneficiados]]+tb[[#This Row],[N° Mujeres beneficiadas]]","v":0},null,null,null,{"$f":"+tb[[#This Row],[Cantidad]]*tb[[#This Row],[Precio Unitario]]","v":0},null,"",null,null,null,{"$f":"IFERROR(VLOOKUP($E244,'PP y Comp'!$C$3:$D$31,2,FALSE),\"\")","v":""}]
[null,null,null,null,null,null,null,null,null,null,null,null,"Costo Total del Proyecto",null,null,null,{"$f":"SUM(Q25:Q244)","v":0}]
[]
[null,null,null,null,null,null,null,null,null,null,null,{"$f":"IFERROR(VLOOKUP(D8,Matriz_Campus,3,FALSE),\"\")","v":""}]
[null,null,null,"Responsable del Proyecto",null,null,null,null,null,null,null,"Rector (a) de Campus / Director (a) del CNMS"]
[null,null,null,"Nombre y firma",null,null,null,null,null,null,null,"Nombre y firma"]

{"sheet":"Calendarización","index":5,"n_rows":246,"n_cols":27,"rows_kept":246,"cut":false,"hidden":false,"merged":[[240,1,240,2],[7,2,7,16],[11,2,11,16],[13,7,13,11],[13,13,15,16],[9,2,9,7],[9,8,9,10],[5,1,5,16],[1,1,1,16],[2,1,2,16],[3,1,3,16],[18,1,18,16],[244,4,244,8],[245,4,245,8],[244,11,244,15],[245,11,245,15],[243,11,243,15],[243,4,243,8]]}
[]
[null,"UNIVERSIDAD DE GUANAJUATO"]
[null,"DIRECCIÓN DE PLANEACIÓN"]
[null,"FORMATO PARA INTEGRACIÓN DE POA´S"]
[]
[null,"POA 2024"]
[]
[null,"Nombre Rectoría de Campus / Dirección CNMS:",{"$f":"IF('PLA-FO-01'!D8=\"\",\"\",'PLA-FO-01'!D8)","v":""}]
[]
[null,"Nombre la División / Escuela de NMS:",{"$f":"IF('PLA-FO-01'!D10=\"\",\"\",'PLA-FO-01'!D10)","v":""},null,null,null,null,null,"Nombre Depto. / Escuela de NMS:",null,null,{"$f":"IF('PLA-FO-01'!I10=\"\",\"\",'PLA-FO-01'!I10)","v":""}]
[]
[null,"Nombre del Proyecto:",{"$f":"IF('PLA-FO-01'!D12=\"\",\"\",'PLA-FO-01'!D12)","v":""}]
[]
[null,null,null,null,null,null,null,"COSTO TOTAL DEL PROYECTO POA 2023",null,null,null,null,null,{"$f":"IF((H16+I16)<(J16+K16),\"El POA deberá superar el 50% del total del importe del proyecto en el 1er semestre del año, de acuerdo a las Reglas de Operación vigentes para el ejercicio fiscal 2024.\",\"El POA cumple con lo establecido en la Reglas de Operación vigentes para el ejercicio fiscal 2024, Numeral 11.\")","v":"El POA cumple con lo establecido en la Reglas de Operación vigentes para el ejercicio fiscal 2024, Numeral 11."}]
[null,null,null,null,null,null,null,"Enero-Marzo","Abril-Junio","Julio-Septiembre","Octubre-Noviembre","COSTO TOTAL"]
[null,null,null,null,null,null,null,{"$f":"SUM(G241+H241+I241)","v":0},{"$f":"+J241+K241+L241","v":0},{"$f":"+M241+N241+O241","v":0},{"$f":"+P241+Q241","v":0},{"$f":"SUM(H16:K16)","v":0}]
[null,null,null,null,null,null,null,{"$f":"H16/L16","v":{"$error":"#DIV/0!"}},{"$f":"I16/L16","v":{"$error":"#DIV/0!"}},{"$f":"J16/L16","v":{"$error":"#DIV/0!"}},{"$f":"K16/L16","v":{"$error":"#DIV/0!"}},{"$f":"SUM(H17:K17)","v":{"$error":"#DIV/0!"}}]
[]
[null,"CALENDARIZACIÓN"]
[null,"Acción","Cantidad","Precio Unitario","Monto","Cap","Enero ","Febrero","Marzo","Abril","Mayo","Junio","Julio","Agosto","Septiembre","Octubre","Noviembre",null,null,null,null,null,null,"cumple???","Monto ","Sumatoria Meses","diferencia"]
[null,{"$f":"CELL(\"contenido\",'PLA-FO-01'!C25)","v":0},{"$f":"CELL(\"contenido\",'PLA-FO-01'!O25)","v":0},{"$f":"CELL(\"contenido\",'PLA-FO-01'!P25)","v":0},{"$f":"CELL(\"contenido\",'PLA-FO-01'!Q25)","v":0},{"$f":"MID('PLA-FO-01'!T25,1,4)","v":""},0,0,0,0,0,0,0,0,0,0,0,null,null,null,null,null,null,{"$f":"Y21<>Z21","v":false},{"$f":"VALUE(E21)","v":0},{"$f":"SUM(G21:Q21)","v":0},{"$f":"Y21-Z21","v":0}]
[null,{"$f":"CELL(\"contenido\",'PLA-FO-01'!C26)","v":0},{"$f":"CELL(\"contenido\",'PLA-FO-01'!O26)","v":0},{"$f":"CELL(\"contenido\",'PLA-FO-01'!P26)","v":0},{"$f":"CELL(\"contenido\",'PLA-FO-01'!Q26)","v":0},{"$f":"MID('PLA-FO-01'!T26,1,4)","v":""},0,0,0,0,0,0,0,0,0,0,0,null,null,null,null,null,null,{"$f":"Y22<>Z22","v":false},0,0,{"$f":"Y22-Z22","v":0}]
[null,{"$f":"CELL(\"contenido\",'PLA-FO-01'!C27)","v":0},{"$f":"CELL(\"contenido\",'PLA-FO-01'!O27)","v":0},{"$f":"CELL(\"contenido\",'PLA-FO-01'!P27)","v":0},{"$f":"CELL(\"contenido\",'PLA-FO-01'!Q27)","v":0},{"$f":"MID('PLA-FO-01'!T27,1,4)","v":""},0,0,0,0,0,0,0,0,0,0,0,null,null,null,null,null,null,false,0,0,0]
[null,{"$f":"CELL(\"contenido\",'PLA-FO-01'!C28)","v":0},{"$f":"CELL(\"contenido\",'PLA-FO-01'!O28)","v":0},{"$f":"CELL(\"contenido\",'PLA-FO-01'!P28)","v":0},{"$f":"CELL(\"contenido\",'PLA-FO-01'!Q28)","v":0},{"$f":"MID('PLA-FO-01'!T28,1,4)","v":""},0,0,0,0,0,0,0,0,0,0,0,null,null,null,null,null,null,false,0,0,0]
[null,{"$f":"CELL(\"contenido\",'PLA-FO-01'!C29)","v":0},{"$f":"CELL(\"contenido\",'PLA-FO-01'!O29)","v":0},{"$f":"CELL(\"contenido\",'PLA-FO-01'!P29)","v":0},{"$f":"CELL(\"contenido\",'PLA-FO-01'!Q29)","v":0},{"$f":"MID('PLA-FO-01'!T29,1,4)","v":""},0,0,0,0,0,0,0,0,0,0,0,null,null,null,null,null,null,false,0,0,0]
[null,{"$f":"CELL(\"contenido\",'PLA-FO-01'!C30)","v":0},{"$f":"CELL(\"contenido\",'PLA-FO-01'!O30)","v":0},{"$f":"CELL(\"contenido\",'PLA-FO-01'!P30)","v":0},{"$f":"CELL(\"contenido\",'PLA-FO-01'!Q30)","v":0},{"$f":"MID('PLA-FO-01'!T30,1,4)","v":""},0,0,0,0,0,0,0,0,0,0,0,null,null,null,null,null,null,false,0,0,0]
[null,{"$f":"CELL(\"contenido\",'PLA-FO-01'!C31)","v":0},{"$f":"CELL(\"contenido\",'PLA-FO-01'!O31)","v":0},{"$f":"CELL(\"contenido\",'PLA-FO-01'!P31)","v":0},{"$f":"CELL(\"contenido\",'PLA-FO-01'!Q31)","v":0},{"$f":"MID('PLA-FO-01'!T31,1,4)","v":""},0,0,0,0,0,0,0,0,0,0,0,null,null,null,null,null,null,false,0,0,0]
[null,{"$f":"CELL(\"contenido\",'PLA-FO-01'!C32)","v":0},{"$f":"CELL(\"contenido\",'PLA-FO-01'!O32)","v":0},{"$f":"CELL(\"contenido\",'PLA-FO-01'!P32)","v":0},{"$f":"CELL(\"contenido\",'PLA-FO-01'!Q32)","v":0},{"$f":"MID('PLA-FO-01'!T32,1,4)","v":""},0,0,0,0,0,0,0,0,0,0,0,null,null,null,null,null,null,false,0,0,0]
[null,{"$f":"CELL(\"contenido\",'PLA-FO-01'!C33)","v":0},{"$f":"CELL(\"contenido\",'PLA-FO-01'!O33)","v":0},{"$f":"CELL(\"contenido\",'PLA-FO-01'!P33)","v":0},{"$f":"CELL(\"contenido\",'PLA-FO-01'!Q33)","v":0},{"$f":"MID('PLA-FO-01'!T33,1,4)","v":""},0,0,0,0,0,0,0,0,0,0,0,null,null,null,null,null,null,false,0,0,0]
[null,{"$f":"CELL(\"contenido\",'PLA-FO-01'!C34)","v":0},{"$f":"CELL(\"contenido\",'PLA-FO-01'!O34)","v":0},{"$f":"CELL(\"contenido\",'PLA-FO-01'!P34)","v":0},{"$f":"CELL(\"contenido\",'PLA-FO-01'!Q34)","v":0},{"$f":"MID('PLA-FO-01'!T34,1,4)","v":""},0,0,0,0,0,0,0,0,0,0,0,null,null,null,null,null,null,false,0,0,0]
[null,{"$f":"CELL(\"contenido\",'PLA-FO-01'!C35)","v":0},{"$f":"CELL(\"contenido\",'PLA-FO-01'!O35)","v":0},{"$f":"CELL(\"contenido\",'PLA-FO-01'!P35)","v":0},{"$f":"CELL(\"contenido\",'PLA-FO-01'!Q35)","v":0},{"$f":"MID('PLA-FO-01'!T35,1,4)","v":""},0,0,0,0,0,0,0,0,0,0,0,null,null,null,null,null,null,false,0,0,0]
[null,{"$f":"CELL(\"contenido\",'PLA-FO-01'!C36)","v":0},{"$f":"CELL(\"contenido\",'PLA-FO-01'!O36)","v":0},{"$f":"CELL(\"contenido\",'PLA-FO-01'!P36)","v":0},{"$f":"CELL(\"contenido\",'PLA-FO-01'!Q36)","v":0},{"$f":"MID('PLA-FO-01'!T36,1,4)","v":""},0,0,0,0,0,0,0,0,0,0,0,null,null,null,null,null,null,false,0,0,0]
[null,{"$f":"CELL(\"contenido\",'PLA-FO-01'!C37)","v":0},{"$f":"CELL(\"contenido\",'PLA-FO-01'!O37)","v":0},{"$f":"CELL(\"contenido\",'PLA-FO-01'!P37)","v":0},{"$f":"CELL(\"contenido\",'PLA-FO-01'!Q37)","v":0},{"$f":"MID('PLA-FO-01'!T37,1,4)","v":""},0,0,0,0,0,0,0,0,0,0,0,null,null,null,null,null,null,false,0,0,0]
[null,{"$f":"CELL(\"contenido\",'PLA-FO-01'!C38)","v":0},{"$f":"CELL(\"contenido\",'PLA-FO-01'!O38)","v":0},{"$f":"CELL(\"contenido\",'PLA-FO-01'!P38)","v":0},{"$f":"CELL(\"contenido\",'PLA-FO-01'!Q38)","v":0},{"$f":"MID('PLA-FO-01'!T38,1,4)","v":""},0,0,0,0,0,0,0,0,0,0,0,null,null,null,null,null,null,false,0,0,0]
[null,{"$f":"CELL(\"contenido\",'PLA-FO-01'!C39)","v":0},{"$f":"CELL(\"contenido\",'PLA-FO-01'!O39)","v":0},{"$f":"CELL(\"contenido\",'PLA-FO-01'!P39)","v":0},{"$f":"CELL(\"contenido\",'PLA-FO-01'!Q39)","v":0},{"$f":"MID('PLA-FO-01'!T39,1,4)","v":""},0,0,0,0,0,0,0,0,0,0,0,null,null,null,null,null,null,false,0,0,0]
[null,{"$f":"CELL(\"contenido\",'PLA-FO-01'!C40)","v":0},{"$f":"CELL(\"contenido\",'PLA-FO-01'!O40)","v":0},{"$f":"CELL(\"contenido\",'PLA-FO-01'!P40)","v":0},{"$f":"CELL(\"contenido\",'PLA-FO-01'!Q40)","v":0},{"$f":"MID('PLA-FO-01'!T40,1,4)","v":""},0,0,0,0,0,0,0,0,0,0,0,null,null,null,null,null,null,false,0,0,0]
[null,{"$f":"CELL(\"contenido\",'PLA-FO-01'!C41)","v":0},{"$f":"CELL(\"contenido\",'PLA-FO-01'!O41)","v":0},{"$f":"CELL(\"contenido\",'PLA-FO-01'!P41)","v":0},{"$f":"CELL(\"contenido\",'PLA-FO-01'!Q41)","v":0},{"$f":"MID('PLA-FO-01'!T41,1,4)","v":""},0,0,0,0,0,0,0,0,0,0,0,null,null,null,null,null,null,false,0,0,0]
[null,{"$f":"CELL(\"contenido\",'PLA-FO-01'!C42)","v":0},{"$f":"CELL(\"contenido\",'PLA-FO-01'!O42)","v":0},{"$f":"CELL(\"contenido\",'PLA-FO-01'!P42)","v":0},{"$f":"CELL(\"contenido\",'PLA-FO-01'!Q42)","v":0},{"$f":"MID('PLA-FO-01'!T42,1,4)","v":""},0,0,0,0,0,0,0,0,0,0,0,null,null,null,null,null,null,false,0,0,0]
[null,{"$f":"CELL(\"contenido\",'PLA-FO-01'!C43)","v":0},{"$f":"CELL(\"contenido\",'PLA-FO-01'!O43)","v":0},{"$f":"CELL(\"contenido\",'PLA-FO-01'!P43)","v":0},{"$f":"CELL(\"contenido\",'PLA-FO-01'!Q43)","v":0},{"$f":"MID('PLA-FO-01'!T43,1,4)","v":""},0,0,0,0,0,0,0,0,0,0,0,null,null,null,null,null,null,false,0,0,0]
[null,{"$f":"CELL(\"contenido\",'PLA-FO-01'!C44)","v":0},{"$f":"CELL(\"contenido\",'PLA-FO-01'!O44)","v":0},{"$f":"CELL(\"contenido\",'PLA-FO-01'!P44)","v":0},{"$f":"CELL(\"contenido\",'PLA-FO-01'!Q44)","v":0},{"$f":"MID('PLA-FO-01'!T44,1,4)","v":""},0,0,0,0,0,0,0,0,0,0,0,null,null,null,null,null,null,false,0,0,0]
[null,{"$f":"CELL(\"contenido\",'PLA-FO-01'!C45)","v":0},{"$f":"CELL(\"contenido\",'PLA-FO-01'!O45)","v":0},{"$f":"CELL(\"contenido\",'PLA-FO-01'!P45)","v":0},{"$f":"CELL(\"contenido\",'PLA-FO-01'!Q45)","v":0},{"$f":"MID('PLA-FO-01'!T45,1,4)","v":""},0,0,0,0,0,0,0,0,0,0,0,null,null,null,null,null,null,false,0,0,0]
[null,{"$f":"CELL(\"contenido\",'PLA-FO-01'!C46)","v":0},{"$f":"CELL(\"contenido\",'PLA-FO-01'!O46)","v":0},{"$f":"CELL(\"contenido\",'PLA-FO-01'!P46)","v":0},{"$f":"CELL(\"contenido\",'PLA-FO-01'!Q46)","v":0},{"$f":"MID('PLA-FO-01'!T46,1,4)","v":""},0,0,0,0,0,0,0,0,0,0,0,null,null,null,null,null,null,false,0,0,0]
[null,{"$f":"CELL(\"contenido\",'PLA-FO-01'!C47)","v":0},{"$f":"CELL(\"contenido\",'PLA-FO-01'!O47)","v":0},{"$f":"CELL(\"contenido\",'PLA-FO-01'!P47)","v":0},{"$f":"CELL(\"contenido\",'PLA-FO-01'!Q47)","v":0},{"$f":"MID('PLA-FO-01'!T47,1,4)","v":""},0,0,0,0,0,0,0,0,0,0,0,null,null,null,null,null,null,false,0,0,0]
[null,{"$f":"CELL(\"contenido\",'PLA-FO-01'!C48)","v":0},{"$f":"CELL(\"contenido\",'PLA-FO-01'!O48)","v":0},{"$f":"CELL(\"contenido\",'PLA-FO-01'!P48)","v":0},{"$f":"CELL(\"contenido\",'PLA-FO-01'!Q48)","v":0},{"$f":"MID('PLA-FO-01'!T48,1,4)","v":""},0,0,0,0,0,0,0,0,0,0,0,null,null,null,null,null,null,false,0,0,0]
[null,{"$f":"CELL(\"contenido\",'PLA-FO-01'!C49)","v":0},{"$f":"CELL(\"contenido\",'PLA-FO-01'!O49)","v":0},{"$f":"CELL(\"contenido\",'PLA-FO-01'!P49)","v":0},{"$f":"CELL(\"contenido\",'PLA-FO-01'!Q49)","v":0},{"$f":"MID('PLA-FO-01'!T49,1,4)","v":""},0,0,0,0,0,0,0,0,0,0,0,null,null,null,null,null,null,false,0,0,0]
[null,{"$f":"CELL(\"contenido\",'PLA-FO-01'!C50)","v":0},{"$f":"CELL(\"contenido\",'PLA-FO-01'!O50)","v":0},{"$f":"CELL(\"contenido\",'PLA-FO-01'!P50)","v":0},{"$f":"CELL(\"contenido\",'PLA-FO-01'!Q50)","v":0},{"$f":"MID('PLA-FO-01'!T50,1,4)","v":""},0,0,0,0,0,0,0,0,0,0,0,null,null,null,null,null,null,false,0,0,0]
[null,{"$f":"CELL(\"contenido\",'PLA-FO-01'!C51)","v":0},{"$f":"CELL(\"contenido\",'PLA-FO-01'!O51)","v":0},{"$f":"CELL(\"contenido\",'PLA-FO-01'!P51)","v":0},{"$f":"CELL(\"contenido\",'PLA-FO-01'!Q51)","v":0},{"$f":"MID('PLA-FO-01'!T51,1,4)","v":""},0,0,0,0,0,0,0,0,0,0,0,null,null,null,null,null,null,false,0,0,0]
[null,{"$f":"CELL(\"contenido\",'PLA-FO-01'!C52)","v":0},{"$f":"CELL(\"contenido\",'PLA-FO-01'!O52)","v":0},{"$f":"CELL(\"contenido\",'PLA-FO-01'!P52)","v":0},{"$f":"CELL(\"contenido\",'PLA-FO-01'!Q52)","v":0},{"$f":"MID('PLA-FO-01'!T52,1,4)","v":""},0,0,0,0,0,0,0,0,0,0,0,null,null,null,null,null,null,false,0,0,0]
[null,{"$f":"CELL(\"contenido\",'PLA-FO-01'!C53)","v":0},{"$f":"CELL(\"contenido\",'PLA-FO-01'!O53)","v":0},{"$f":"CELL(\"contenido\",'PLA-FO-01'!P53)","v":0},{"$f":"CELL(\"contenido\",'PLA-FO-01'!Q53)","v":0},{"$f":"MID('PLA-FO-01'!T53,1,4)","v":""},0,0,0,0,0,0,0,0,0,0,0,null,null,null,null,null,null,false,0,0,0]
[null,{"$f":"CELL(\"contenido\",'PLA-FO-01'!C54)","v":0},{"$f":"CELL(\"contenido\",'PLA-FO-01'!O54)","v":0},{"$f":"CELL(\"contenido\",'PLA-FO-01'!P54)","v":0},{"$f":"CELL(\"contenido\",'PLA-FO-01'!Q54)","v":0},{"$f":"MID('PLA-FO-01'!T54,1,4)","v":""},0,0,0,0,0,0,0,0,0,0,0,null,null,null,null,null,null,false,0,0,0]
[null,{"$f":"CELL(\"contenido\",'PLA-FO-01'!C55)","v":0},{"$f":"CELL(\"contenido\",'PLA-FO-01'!O55)","v":0},{"$f":"CELL(\"contenido\",'PLA-FO-01'!P55)","v":0},{"$f":"CELL(\"contenido\",'PLA-FO-01'!Q55)","v":0},{"$f":"MID('PLA-FO-01'!T55,1,4)","v":""},0,0,0,0,0,0,0,0,0,0,0,null,null,null,null,null,null,false,0,0,0]
[null,{"$f":"CELL(\"contenido\",'PLA-FO-01'!C56)","v":0},{"$f":"CELL(\"contenido\",'PLA-FO-01'!O56)","v":0},{"$f":"CELL(\"contenido\",'PLA-FO-01'!P56)","v":0},{"$f":"CELL(\"contenido\",'PLA-FO-01'!Q56)","v":0},{"$f":"MID('PLA-FO-01'!T56,1,4)","v":""},0,0,0,0,0,0,0,0,0,0,0,null,null,null,null,null,null,false,0,0,0]
[null,{"$f":"CELL(\"contenido\",'PLA-FO-01'!C57)","v":0},{"$f":"CELL(\"contenido\",'PLA-FO-01'!O57)","v":0},{"$f":"CELL(\"contenido\",'PLA-FO-01'!P57)","v":0},{"$f":"CELL(\"contenido\",'PLA-FO-01'!Q57)","v":0},{"$f":"MID('PLA-FO-01'!T57,1,4)","v":""},0,0,0,0,0,0,0,0,0,0,0,null,null,null,null,null,null,false,0,0,0]
[null,{"$f":"CELL(\"contenido\",'PLA-FO-01'!C58)","v":0},{"$f":"CELL(\"contenido\",'PLA-FO-01'!O58)","v":0},{"$f":"CELL(\"contenido\",'PLA-FO-01'!P58)","v":0},{"$f":"CELL(\"contenido\",'PLA-FO-01'!Q58)","v":0},{"$f":"MID('PLA-FO-01'!T58,1,4)","v":""},0,0,0,0,0,0,0,0,0,0,0,null,null,null,null,null,null,false,0,0,0]
[null,{"$f":"CELL(\"contenido\",'PLA-FO-01'!C59)","v":0},{"$f":"CELL(\"contenido\",'PLA-FO-01'!O59)","v":0},{"$f":"CELL(\"contenido\",'PLA-FO-01'!P59)","v":0},{"$f":"CELL(\"contenido\",'PLA-FO-01'!Q59)","v":0},{"$f":"MID('PLA-FO-01'!T59,1,4)","v":""},0,0,0,0,0,0,0,0,0,0,0,null,null,null,null,null,null,false,0,0,0]
[null,{"$f":"CELL(\"contenido\",'PLA-FO-01'!C60)","v":0},{"$f":"CELL(\"contenido\",'PLA-FO-01'!O60)","v":0},{"$f":"CELL(\"contenido\",'PLA-FO-01'!P60)","v":0},{"$f":"CELL(\"contenido\",'PLA-FO-01'!Q60)","v":0},{"$f":"MID('PLA-FO-01'!T60,1,4)","v":""},0,0,0,0,0,0,0,0,0,0,0,null,null,null,null,null,null,false,0,0,0]
[null,{"$f":"CELL(\"contenido\",'PLA-FO-01'!C61)","v":0},{"$f":"CELL(\"contenido\",'PLA-FO-01'!O61)","v":0},{"$f":"CELL(\"contenido\",'PLA-FO-01'!P61)","v":0},{"$f":"CELL(\"contenido\",'PLA-FO-01'!Q61)","v":0},{"$f":"MID('PLA-FO-01'!T61,1,4)","v":""},0,0,0,0,0,0,0,0,0,0,0,null,null,null,null,null,null,false,0,0,0]
[null,{"$f":"CELL(\"contenido\",'PLA-FO-01'!C62)","v":0},{"$f":"CELL(\"contenido\",'PLA-FO-01'!O62)","v":0},{"$f":"CELL(\"contenido\",'PLA-FO-01'!P62)","v":0},{"$f":"CELL(\"contenido\",'PLA-FO-01'!Q62)","v":0},{"$f":"MID('PLA-FO-01'!T62,1,4)","v":""},0,0,0,0,0,0,0,0,0,0,0,null,null,null,null,null,null,false,0,0,0]
[null,{"$f":"CELL(\"contenido\",'PLA-FO-01'!C63)","v":0},{"$f":"CELL(\"contenido\",'PLA-FO-01'!O63)","v":0},{"$f":"CELL(\"contenido\",'PLA-FO-01'!P63)","v":0},{"$f":"CELL(\"contenido\",'PLA-FO-01'!Q63)","v":0},{"$f":"MID('PLA-FO-01'!T63,1,4)","v":""},0,0,0,0,0,0,0,0,0,0,0,null,null,null,null,null,null,false,0,0,0]
[null,{"$f":"CELL(\"contenido\",'PLA-FO-01'!C64)","v":0},{"$f":"CELL(\"contenido\",'PLA-FO-01'!O64)","v":0},{"$f":"CELL(\"contenido\",'PLA-FO-01'!P64)","v":0},{"$f":"CELL(\"contenido\",'PLA-FO-01'!Q64)","v":0},{"$f":"MID('PLA-FO-01'!T64,1,4)","v":""},0,0,0,0,0,0,0,0,0,0,0,null,null,null,null,null,null,false,0,0,0]
[null,{"$f":"CELL(\"contenido\",'PLA-FO-01'!C65)","v":0},{"$f":"CELL(\"contenido\",'PLA-FO-01'!O65)","v":0},{"$f":"CELL(\"contenido\",'PLA-FO-01'!P65)","v":0},{"$f":"CELL(\"contenido\",'PLA-FO-01'!Q65)","v":0},{"$f":"MID('PLA-FO-01'!T65,1,4)","v":""},0,0,0,0,0,0,0,0,0,0,0,null,null,null,null,null,null,false,0,0,0]
[null,{"$f":"CELL(\"contenido\",'PLA-FO-01'!C66)","v":0},{"$f":"CELL(\"contenido\",'PLA-FO-01'!O66)","v":0},{"$f":"CELL(\"contenido\",'PLA-FO-01'!P66)","v":0},{"$f":"CELL(\"contenido\",'PLA-FO-01'!Q66)","v":0},{"$f":"MID('PLA-FO-01'!T66,1,4)","v":""},0,0,0,0,0,0,0,0,0,0,0,null,null,null,null,null,null,false,0,0,0]
[null,{"$f":"CELL(\"contenido\",'PLA-FO-01'!C67)","v":0},{"$f":"CELL(\"contenido\",'PLA-FO-01'!O67)","v":0},{"$f":"CELL(\"contenido\",'PLA-FO-01'!P67)","v":0},{"$f":"CELL(\"contenido\",'PLA-FO-01'!Q67)","v":0},{"$f":"MID('PLA-FO-01'!T67,1,4)","v":""},0,0,0,0,0,0,0,0,0,0,0,null,null,null,null,null,null,false,0,0,0]
[null,{"$f":"CELL(\"contenido\",'PLA-FO-01'!C68)","v":0},{"$f":"CELL(\"contenido\",'PLA-FO-01'!O68)","v":0},{"$f":"CELL(\"contenido\",'PLA-FO-01'!P68)","v":0},{"$f":"CELL(\"contenido\",'PLA-FO-01'!Q68)","v":0},{"$f":"MID('PLA-FO-01'!T68,1,4)","v":""},0,0,0,0,0,0,0,0,0,0,0,null,null,null,null,null,null,false,0,0,0]
[null,{"$f":"CELL(\"contenido\",'PLA-FO-01'!C69)","v":0},{"$f":"CELL(\"contenido\",'PLA-FO-01'!O69)","v":0},{"$f":"CELL(\"contenido\",'PLA-FO-01'!P69)","v":0},{"$f":"CELL(\"contenido\",'PLA-FO-01'!Q69)","v":0},{"$f":"MID('PLA-FO-01'!T69,1,4)","v":""},0,0,0,0,0,0,0,0,0,0,0,null,null,null,null,null,null,false,0,0,0]
[null,{"$f":"CELL(\"contenido\",'PLA-FO-01'!C70)","v":0},{"$f":"CELL(\"contenido\",'PLA-FO-01'!O70)","v":0},{"$f":"CELL(\"contenido\",'PLA-FO-01'!P70)","v":0},{"$f":"CELL(\"contenido\",'PLA-FO-01'!Q70)","v":0},{"$f":"MID('PLA-FO-01'!T70,1,4)","v":""},0,0,0,0,0,0,0,0,0,0,0,null,null,null,null,null,null,false,0,0,0]
[null,{"$f":"CELL(\"contenido\",'PLA-FO-01'!C71)","v":0},{"$f":"CELL(\"contenido\",'PLA-FO-01'!O71)","v":0},{"$f":"CELL(\"contenido\",'PLA-FO-01'!P71)","v":0},{"$f":"CELL(\"contenido\",'PLA-FO-01'!Q71)","v":0},{"$f":"MID('PLA-FO-01'!T71,1,4)","v":""},0,0,0,0,0,0,0,0,0,0,0,null,null,null,null,null,null,false,0,0,0]
[null,{"$f":"CELL(\"contenido\",'PLA-FO-01'!C72)","v":0},{"$f":"CELL(\"contenido\",'PLA-FO-01'!O72)","v":0},{"$f":"CELL(\"contenido\",'PLA-FO-01'!P72)","v":0},{"$f":"CELL(\"contenido\",'PLA-FO-01'!Q72)","v":0},{"$f":"MID('PLA-FO-01'!T72,1,4)","v":""},0,0,0,0,0,0,0,0,0,0,0,null,null,null,null,null,null,false,0,0,0]
[null,{"$f":"CELL(\"contenido\",'PLA-FO-01'!C73)","v":0},{"$f":"CELL(\"contenido\",'PLA-FO-01'!O73)","v":0},{"$f":"CELL(\"contenido\",'PLA-FO-01'!P73)","v":0},{"$f":"CELL(\"contenido\",'PLA-FO-01'!Q73)","v":0},{"$f":"MID('PLA-FO-01'!T73,1,4)","v":""},0,0,0,0,0,0,0,0,0,0,0,null,null,null,null,null,null,false,0,0,0]
[null,{"$f":"CELL(\"contenido\",'PLA-FO-01'!C74)","v":0},{"$f":"CELL(\"contenido\",'PLA-FO-01'!O74)","v":0},{"$f":"CELL(\"contenido\",'PLA-FO-01'!P74)","v":0},{"$f":"CELL(\"contenido\",'PLA-FO-01'!Q74)","v":0},{"$f":"MID('PLA-FO-01'!T74,1,4)","v":""},0,0,0,0,0,0,0,0,0,0,0,null,null,null,null,null,null,false,0,0,0]
[null,{"$f":"CELL(\"contenido\",'PLA-FO-01'!C75)","v":0},{"$f":"CELL(\"contenido\",'PLA-FO-01'!O75)","v":0},{"$f":"CELL(\"contenido\",'PLA-FO-01'!P75)","v":0},{"$f":"CELL(\"contenido\",'PLA-FO-01'!Q75)","v":0},{"$f":"MID('PLA-FO-01'!T75,1,4)","v":""},0,0,0,0,0,0,0,0,0,0,0,null,null,null,null,null,null,false,0,0,0]
[null,{"$f":"CELL(\"contenido\",'PLA-FO-01'!C76)","v":0},{"$f":"CELL(\"contenido\",'PLA-FO-01'!O76)","v":0},{"$f":"CELL(\"contenido\",'PLA-FO-01'!P76)","v":0},{"$f":"CELL(\"contenido\",'PLA-FO-01'!Q76)","v":0},{"$f":"MID('PLA-FO-01'!T76,1,4)","v":""},0,0,0,0,0,0,0,0,0,0,0,null,null,null,null,null,null,false,0,0,0]
[null,{"$f":"CELL(\"contenido\",'PLA-FO-01'!C77)","v":0},{"$f":"CELL(\"contenido\",'PLA-FO-01'!O77)","v":0},{"$f":"CELL(\"contenido\",'PLA-FO-01'!P77)","v":0},{"$f":"CELL(\"contenido\",'PLA-FO-01'!Q77)","v":0},{"$f":"MID('PLA-FO-01'!T77,1,4)","v":""},0,0,0,0,0,0,0,0,0,0,0,null,null,null,null,null,null,false,0,0,0]
[null,{"$f":"CELL(\"contenido\",'PLA-FO-01'!C78)","v":0},{"$f":"CELL(\"contenido\",'PLA-FO-01'!O78)","v":0},{"$f":"CELL(\"contenido\",'PLA-FO-01'!P78)","v":0},{"$f":"CELL(\"contenido\",'PLA-FO-01'!Q78)","v":0},{"$f":"MID('PLA-FO-01'!T78,1,4)","v":""},0,0,0,0,0,0,0,0,0,0,0,null,null,null,null,null,null,false,0,0,0]
[null,{"$f":"CELL(\"contenido\",'PLA-FO-01'!C79)","v":0},{"$f":"CELL(\"contenido\",'PLA-FO-01'!O79)","v":0},{"$f":"CELL(\"contenido\",'PLA-FO-01'!P79)","v":0},{"$f":"CELL(\"contenido\",'PLA-FO-01'!Q79)","v":0},{"$f":"MID('PLA-FO-01'!T79,1,4)","v":""},0,0,0,0,0,0,0,0,0,0,0,null,null,null,null,null,null,false,0,0,0]
[null,{"$f":"CELL(\"contenido\",'PLA-FO-01'!C80)","v":0},{"$f":"CELL(\"contenido\",'PLA-FO-01'!O80)","v":0},{"$f":"CELL(\"contenido\",'PLA-FO-01'!P80)","v":0},{"$f":"CELL(\"contenido\",'PLA-FO-01'!Q80)","v":0},{"$f":"MID('PLA-FO-01'!T80,1,4)","v":""},0,0,0,0,0,0,0,0,0,0,0,null,null,null,null,null,null,false,0,0,0]
[null,{"$f":"CELL(\"contenido\",'PLA-FO-01'!C81)","v":0},{"$f":"CELL(\"contenido\",'PLA-FO-01'!O81)","v":0},{"$f":"CELL(\"contenido\",'PLA-FO-01'!P81)","v":0},{"$f":"CELL(\"contenido\",'PLA-FO-01'!Q81)","v":0},{"$f":"MID('PLA-FO-01'!T81,1,4)","v":""},0,0,0,0,0,0,0,0,0,0,0,null,null,null,null,null,null,false,0,0,0]
[null,{"$f":"CELL(\"contenido\",'PLA-FO-01'!C82)","v":0},{"$f":"CELL(\"contenido\",'PLA-FO-01'!O82)","v":0},{"$f":"CELL(\"contenido\",'PLA-FO-01'!P82)","v":0},{"$f":"CELL(\"contenido\",'PLA-FO-01'!Q82)","v":0},{"$f":"MID('PLA-FO-01'!T82,1,4)","v":""},0,0,0,0,0,0,0,0,0,0,0,null,null,null,null,null,null,false,0,0,0]
[null,{"$f":"CELL(\"contenido\",'PLA-FO-01'!C83)","v":0},{"$f":"CELL(\"contenido\",'PLA-FO-01'!O83)","v":0},{"$f":"CELL(\"contenido\",'PLA-FO-01'!P83)","v":0},{"$f":"CELL(\"contenido\",'PLA-FO-01'!Q83)","v":0},{"$f":"MID('PLA-FO-01'!T83,1,4)","v":""},0,0,0,0,0,0,0,0,0,0,0,null,null,null,null,null,null,false,0,0,0]
[null,{"$f":"CELL(\"contenido\",'PLA-FO-01'!C84)","v":0},{"$f":"CELL(\"contenido\",'PLA-FO-01'!O84)","v":0},{"$f":"CELL(\"contenido\",'PLA-FO-01'!P84)","v":0},{"$f":"CELL(\"contenido\",'PLA-FO-01'!Q84)","v":0},{"$f":"MID('PLA-FO-01'!T84,1,4)","v":""},0,0,0,0,0,0,0,0,0,0,0,null,null,null,null,null,null,false,0,0,0]
[null,{"$f":"CELL(\"contenido\",'PLA-FO-01'!C85)","v":0},{"$f":"CELL(\"contenido\",'PLA-FO-01'!O85)","v":0},{"$f":"CELL(\"contenido\",'PLA-FO-01'!P85)","v":0},{"$f":"CELL(\"contenido\",'PLA-FO-01'!Q85)","v":0},{"$f":"MID('PLA-FO-01'!T85,1,4)","v":""},0,0,0,0,0,0,0,0,0,0,0,null,null,null,null,null,null,false,0,0,0]
[null,{"$f":"CELL(\"contenido\",'PLA-FO-01'!C86)","v":0},{"$f":"CELL(\"contenido\",'PLA-FO-01'!O86)","v":0},{"$f":"CELL(\"contenido\",'PLA-FO-01'!P86)","v":0},{"$f":"CELL(\"contenido\",'PLA-FO-01'!Q86)","v":0},{"$f":"MID('PLA-FO-01'!T86,1,4)","v":""},0,0,0,0,0,0,0,0,0,0,0,null,null,null,null,null,null,false,0,0,0]
[null,{"$f":"CELL(\"contenido\",'PLA-FO-01'!C87)","v":0},{"$f":"CELL(\"contenido\",'PLA-FO-01'!O87)","v":0},{"$f":"CELL(\"contenido\",'PLA-FO-01'!P87)","v":0},{"$f":"CELL(\"contenido\",'PLA-FO-01'!Q87)","v":0},{"$f":"MID('PLA-FO-01'!T87,1,4)","v":""},0,0,0,0,0,0,0,0,0,0,0,null,null,null,null,null,null,false,0,0,0]
[null,{"$f":"CELL(\"contenido\",'PLA-FO-01'!C88)","v":0},{"$f":"CELL(\"contenido\",'PLA-FO-01'!O88)","v":0},{"$f":"CELL(\"contenido\",'PLA-FO-01'!P88)","v":0},{"$f":"CELL(\"contenido\",'PLA-FO-01'!Q88)","v":0},{"$f":"MID('PLA-FO-01'!T88,1,4)","v":""},0,0,0,0,0,0,0,0,0,0,0,null,null,null,null,null,null,false,0,0,0]
[null,{"$f":"CELL(\"contenido\",'PLA-FO-01'!C89)","v":0},{"$f":"CELL(\"contenido\",'PLA-FO-01'!O89)","v":0},{"$f":"CELL(\"contenido\",'PLA-FO-01'!P89)","v":0},{"$f":"CELL(\"contenido\",'PLA-FO-01'!Q89)","v":0},{"$f":"MID('PLA-FO-01'!T89,1,4)","v":""},0,0,0,0,0,0,0,0,0,0,0,null,null,null,null,null,null,false,{"$f":"VALUE(E85)","v":0},{"$f":"SUM(G85:Q85)","v":0},0]
[null,{"$f":"CELL(\"contenido\",'PLA-FO-01'!C90)","v":0},{"$f":"CELL(\"contenido\",'PLA-FO-01'!O90)","v":0},{"$f":"CELL(\"contenido\",'PLA-FO-01'!P90)","v":0},{"$f":"CELL(\"contenido\",'PLA-FO-01'!Q90)","v":0},{"$f":"MID('PLA-FO-01'!T90,1,4)","v":""},0,0,0,0,0,0,0,0,0,0,0,null,null,null,null,null,null,{"$f":"Y86<>Z86","v":false},0,0,{"$f":"Y86-Z86","v":0}]
[null,{"$f":"CELL(\"contenido\",'PLA-FO-01'!C91)","v":0},{"$f":"CELL(\"contenido\",'PLA-FO-01'!O91)","v":0},{"$f":"CELL(\"contenido\",'PLA-FO-01'!P91)","v":0},{"$f":"CELL(\"contenido\",'PLA-FO-01'!Q91)","v":0},{"$f":"MID('PLA-FO-01'!T91,1,4)","v":""},0,0,0,0,0,0,0,0,0,0,0,null,null,null,null,null,null,false,0,0,0]
[null,{"$f":"CELL(\"contenido\",'PLA-FO-01'!C92)","v":0},{"$f":"CELL(\"contenido\",'PLA-FO-01'!O92)","v":0},{"$f":"CELL(\"contenido\",'PLA-FO-01'!P92)","v":0},{"$f":"CELL(\"contenido\",'PLA-FO-01'!Q92)","v":0},{"$f":"MID('PLA-FO-01'!T92,1,4)","v":""},0,0,0,0,0,0,0,0,0,0,0,null,null,null,null,null,null,false,0,0,0]
[null,{"$f":"CELL(\"contenido\",'PLA-FO-01'!C93)","v":0},{"$f":"CELL(\"contenido\",'PLA-FO-01'!O93)","v":0},{"$f":"CELL(\"contenido\",'PLA-FO-01'!P93)","v":0},{"$f":"CELL(\"contenido\",'PLA-FO-01'!Q93)","v":0},{"$f":"MID('PLA-FO-01'!T93,1,4)","v":""},0,0,0,0,0,0,0,0,0,0,0,null,null,null,null,null,null,false,0,0,0]
[null,{"$f":"CELL(\"contenido\",'PLA-FO-01'!C94)","v":0},{"$f":"CELL(\"contenido\",'PLA-FO-01'!O94)","v":0},{"$f":"CELL(\"contenido\",'PLA-FO-01'!P94)","v":0},{"$f":"CELL(\"contenido\",'PLA-FO-01'!Q94)","v":0},{"$f":"MID('PLA-FO-01'!T94,1,4)","v":""},0,0,0,0,0,0,0,0,0,0,0,null,null,null,null,null,null,false,0,0,0]
[null,{"$f":"CELL(\"contenido\",'PLA-FO-01'!C95)","v":0},{"$f":"CELL(\"contenido\",'PLA-FO-01'!O95)","v":0},{"$f":"CELL(\"contenido\",'PLA-FO-01'!P95)","v":0},{"$f":"CELL(\"contenido\",'PLA-FO-01'!Q95)","v":0},{"$f":"MID('PLA-FO-01'!T95,1,4)","v":""},0,0,0,0,0,0,0,0,0,0,0,null,null,null,null,null,null,false,0,0,0]
[null,{"$f":"CELL(\"contenido\",'PLA-FO-01'!C96)","v":0},{"$f":"CELL(\"contenido\",'PLA-FO-01'!O96)","v":0},{"$f":"CELL(\"contenido\",'PLA-FO-01'!P96)","v":0},{"$f":"CELL(\"contenido\",'PLA-FO-01'!Q96)","v":0},{"$f":"MID('PLA-FO-01'!T96,1,4)","v":""},0,0,0,0,0,0,0,0,0,0,0,null,null,null,null,null,null,false,0,0,0]
[null,{"$f":"CELL(\"contenido\",'PLA-FO-01'!C97)","v":0},{"$f":"CELL(\"contenido\",'PLA-FO-01'!O97)","v":0},{"$f":"CELL(\"contenido\",'PLA-FO-01'!P97)","v":0},{"$f":"CELL(\"contenido\",'PLA-FO-01'!Q97)","v":0},{"$f":"MID('PLA-FO-01'!T97,1,4)","v":""},0,0,0,0,0,0,0,0,0,0,0,null,null,null,null,null,null,false,0,0,0]
[null,{"$f":"CELL(\"contenido\",'PLA-FO-01'!C98)","v":0},{"$f":"CELL(\"contenido\",'PLA-FO-01'!O98)","v":0},{"$f":"CELL(\"contenido\",'PLA-FO-01'!P98)","v":0},{"$f":"CELL(\"contenido\",'PLA-FO-01'!Q98)","v":0},{"$f":"MID('PLA-FO-01'!T98,1,4)","v":""},0,0,0,0,0,0,0,0,0,0,0,null,null,null,null,null,null,false,0,0,0]
[null,{"$f":"CELL(\"contenido\",'PLA-FO-01'!C99)","v":0},{"$f":"CELL(\"contenido\",'PLA-FO-01'!O99)","v":0},{"$f":"CELL(\"contenido\",'PLA-FO-01'!P99)","v":0},{"$f":"CELL(\"contenido\",'PLA-FO-01'!Q99)","v":0},{"$f":"MID('PLA-FO-01'!T99,1,4)","v":""},0,0,0,0,0,0,0,0,0,0,0,null,null,null,null,null,null,false,0,0,0]
[null,{"$f":"CELL(\"contenido\",'PLA-FO-01'!C100)","v":0},{"$f":"CELL(\"contenido\",'PLA-FO-01'!O100)","v":0},{"$f":"CELL(\"contenido\",'PLA-FO-01'!P100)","v":0},{"$f":"CELL(\"contenido\",'PLA-FO-01'!Q100)","v":0},{"$f":"MID('PLA-FO-01'!T100,1,4)","v":""},0,0,0,0,0,0,0,0,0,0,0,null,null,null,null,null,null,false,0,0,0]
[null,{"$f":"CELL(\"contenido\",'PLA-FO-01'!C101)","v":0},{"$f":"CELL(\"contenido\",'PLA-FO-01'!O101)","v":0},{"$f":"CELL(\"contenido\",'PLA-FO-01'!P101)","v":0},{"$f":"CELL(\"contenido\",'PLA-FO-01'!Q101)","v":0},{"$f":"MID('PLA-FO-01'!T101,1,4)","v":""},0,0,0,0,0,0,0,0,0,0,0,null,null,null,null,null,null,false,0,0,0]
[null,{"$f":"CELL(\"contenido\",'PLA-FO-01'!C102)","v":0},{"$f":"CELL(\"contenido\",'PLA-FO-01'!O102)","v":0},{"$f":"CELL(\"contenido\",'PLA-FO-01'!P102)","v":0},{"$f":"CELL(\"contenido\",'PLA-FO-01'!Q102)","v":0},{"$f":"MID('PLA-FO-01'!T102,1,4)","v":""},0,0,0,0,0,0,0,0,0,0,0,null,null,null,null,null,null,false,0,0,0]
[null,{"$f":"CELL(\"contenido\",'PLA-FO-01'!C103)","v":0},{"$f":"CELL(\"contenido\",'PLA-FO-01'!O103)","v":0},{"$f":"CELL(\"contenido\",'PLA-FO-01'!P103)","v":0},{"$f":"CELL(\"contenido\",'PLA-FO-01'!Q103)","v":0},{"$f":"MID('PLA-FO-01'!T103,1,4)","v":""},0,0,0,0,0,0,0,0,0,0,0,null,null,null,null,null,null,false,0,0,0]
[null,{"$f":"CELL(\"contenido\",'PLA-FO-01'!C104)","v":0},{"$f":"CELL(\"contenido\",'PLA-FO-01'!O104)","v":0},{"$f":"CELL(\"contenido\",'PLA-FO-01'!P104)","v":0},{"$f":"CELL(\"contenido\",'PLA-FO-01'!Q104)","v":0},{"$f":"MID('PLA-FO-01'!T104,1,4)","v":""},0,0,0,0,0,0,0,0,0,0,0,null,null,null,null,null,null,false,0,0,0]
[null,{"$f":"CELL(\"contenido\",'PLA-FO-01'!C105)","v":0},{"$f":"CELL(\"contenido\",'PLA-FO-01'!O105)","v":0},{"$f":"CELL(\"contenido\",'PLA-FO-01'!P105)","v":0},{"$f":"CELL(\"contenido\",'PLA-FO-01'!Q105)","v":0},{"$f":"MID('PLA-FO-01'!T105,1,4)","v":""},0,0,0,0,0,0,0,0,0,0,0,null,null,null,null,null,null,false,0,0,0]
[null,{"$f":"CELL(\"contenido\",'PLA-FO-01'!C106)","v":0},{"$f":"CELL(\"contenido\",'PLA-FO-01'!O106)","v":0},{"$f":"CELL(\"contenido\",'PLA-FO-01'!P106)","v":0},{"$f":"CELL(\"contenido\",'PLA-FO-01'!Q106)","v":0},{"$f":"MID('PLA-FO-01'!T106,1,4)","v":""},0,0,0,0,0,0,0,0,0,0,0,null,null,null,null,null,null,false,0,0,0]
[null,{"$f":"CELL(\"contenido\",'PLA-FO-01'!C107)","v":0},{"$f":"CELL(\"contenido\",'PLA-FO-01'!O107)","v":0},{"$f":"CELL(\"contenido\",'PLA-FO-01'!P107)","v":0},{"$f":"CELL(\"contenido\",'PLA-FO-01'!Q107)","v":0},{"$f":"MID('PLA-FO-01'!T107,1,4)","v":""},0,0,0,0,0,0,0,0,0,0,0,null,null,null,null,null,null,false,0,0,0]
[null,{"$f":"CELL(\"contenido\",'PLA-FO-01'!C108)","v":0},{"$f":"CELL(\"contenido\",'PLA-FO-01'!O108)","v":0},{"$f":"CELL(\"contenido\",'PLA-FO-01'!P108)","v":0},{"$f":"CELL(\"contenido\",'PLA-FO-01'!Q108)","v":0},{"$f":"MID('PLA-FO-01'!T108,1,4)","v":""},0,0,0,0,0,0,0,0,0,0,0,null,null,null,null,null,null,false,0,0,0]
[null,{"$f":"CELL(\"contenido\",'PLA-FO-01'!C109)","v":0},{"$f":"CELL(\"contenido\",'PLA-FO-01'!O109)","v":0},{"$f":"CELL(\"contenido\",'PLA-FO-01'!P109)","v":0},{"$f":"CELL(\"contenido\",'PLA-FO-01'!Q109)","v":0},{"$f":"MID('PLA-FO-01'!T109,1,4)","v":""},0,0,0,0,0,0,0,0,0,0,0,null,null,null,null,null,null,false,0,0,0]
[null,{"$f":"CELL(\"contenido\",'PLA-FO-01'!C110)","v":0},{"$f":"CELL(\"contenido\",'PLA-FO-01'!O110)","v":0},{"$f":"CELL(\"contenido\",'PLA-FO-01'!P110)","v":0},{"$f":"CELL(\"contenido\",'PLA-FO-01'!Q110)","v":0},{"$f":"MID('PLA-FO-01'!T110,1,4)","v":""},0,0,0,0,0,0,0,0,0,0,0,null,null,null,null,null,null,false,0,0,0]
[null,{"$f":"CELL(\"contenido\",'PLA-FO-01'!C111)","v":0},{"$f":"CELL(\"contenido\",'PLA-FO-01'!O111)","v":0},{"$f":"CELL(\"contenido\",'PLA-FO-01'!P111)","v":0},{"$f":"CELL(\"contenido\",'PLA-FO-01'!Q111)","v":0},{"$f":"MID('PLA-FO-01'!T111,1,4)","v":""},0,0,0,0,0,0,0,0,0,0,0,null,null,null,null,null,null,false,0,0,0]
[null,{"$f":"CELL(\"contenido\",'PLA-FO-01'!C112)","v":0},{"$f":"CELL(\"contenido\",'PLA-FO-01'!O112)","v":0},{"$f":"CELL(\"contenido\",'PLA-FO-01'!P112)","v":0},{"$f":"CELL(\"contenido\",'PLA-FO-01'!Q112)","v":0},{"$f":"MID('PLA-FO-01'!T112,1,4)","v":""},0,0,0,0,0,0,0,0,0,0,0,null,null,null,null,null,null,false,0,0,0]
[null,{"$f":"CELL(\"contenido\",'PLA-FO-01'!C113)","v":0},{"$f":"CELL(\"contenido\",'PLA-FO-01'!O113)","v":0},{"$f":"CELL(\"contenido\",'PLA-FO-01'!P113)","v":0},{"$f":"CELL(\"contenido\",'PLA-FO-01'!Q113)","v":0},{"$f":"MID('PLA-FO-01'!T113,1,4)","v":""},0,0,0,0,0,0,0,0,0,0,0,null,null,null,null,null,null,false,0,0,0]
[null,{"$f":"CELL(\"contenido\",'PLA-FO-01'!C114)","v":0},{"$f":"CELL(\"contenido\",'PLA-FO-01'!O114)","v":0},{"$f":"CELL(\"contenido\",'PLA-FO-01'!P114)","v":0},{"$f":"CELL(\"contenido\",'PLA-FO-01'!Q114)","v":0},{"$f":"MID('PLA-FO-01'!T114,1,4)","v":""},0,0,0,0,0,0,0,0,0,0,0,null,null,null,null,null,null,false,0,0,0]
[null,{"$f":"CELL(\"contenido\",'PLA-FO-01'!C115)","v":0},{"$f":"CELL(\"contenido\",'PLA-FO-01'!O115)","v":0},{"$f":"CELL(\"contenido\",'PLA-FO-01'!P115)","v":0},{"$f":"CELL(\"contenido\",'PLA-FO-01'!Q115)","v":0},{"$f":"MID('PLA-FO-01'!T115,1,4)","v":""},0,0,0,0,0,0,0,0,0,0,0,null,null,null,null,null,null,false,0,0,0]
[null,{"$f":"CELL(\"contenido\",'PLA-FO-01'!C116)","v":0},{"$f":"CELL(\"contenido\",'PLA-FO-01'!O116)","v":0},{"$f":"CELL(\"contenido\",'PLA-FO-01'!P116)","v":0},{"$f":"CELL(\"contenido\",'PLA-FO-01'!Q116)","v":0},{"$f":"MID('PLA-FO-01'!T116,1,4)","v":""},0,0,0,0,0,0,0,0,0,0,0,null,null,null,null,null,null,false,0,0,0]
[null,{"$f":"CELL(\"contenido\",'PLA-FO-01'!C117)","v":0},{"$f":"CELL(\"contenido\",'PLA-FO-01'!O117)","v":0},{"$f":"CELL(\"contenido\",'PLA-FO-01'!P117)","v":0},{"$f":"CELL(\"contenido\",'PLA-FO-01'!Q117)","v":0},{"$f":"MID('PLA-FO-01'!T117,1,4)","v":""},0,0,0,0,0,0,0,0,0,0,0,null,null,null,null,null,null,false,0,0,0]
[null,{"$f":"CELL(\"contenido\",'PLA-FO-01'!C118)","v":0},{"$f":"CELL(\"contenido\",'PLA-FO-01'!O118)","v":0},{"$f":"CELL(\"contenido\",'PLA-FO-01'!P118)","v":0},{"$f":"CELL(\"contenido\",'PLA-FO-01'!Q118)","v":0},{"$f":"MID('PLA-FO-01'!T118,1,4)","v":""},0,0,0,0,0,0,0,0,0,0,0,null,null,null,null,null,null,false,0,0,0]
[null,{"$f":"CELL(\"contenido\",'PLA-FO-01'!C119)","v":0},{"$f":"CELL(\"contenido\",'PLA-FO-01'!O119)","v":0},{"$f":"CELL(\"contenido\",'PLA-FO-01'!P119)","v":0},{"$f":"CELL(\"contenido\",'PLA-FO-01'!Q119)","v":0},{"$f":"MID('PLA-FO-01'!T119,1,4)","v":""},0,0,0,0,0,0,0,0,0,0,0,null,null,null,null,null,null,false,0,0,0]
[null,{"$f":"CELL(\"contenido\",'PLA-FO-01'!C120)","v":0},{"$f":"CELL(\"contenido\",'PLA-FO-01'!O120)","v":0},{"$f":"CELL(\"contenido\",'PLA-FO-01'!P120)","v":0},{"$f":"CELL(\"contenido\",'PLA-FO-01'!Q120)","v":0},{"$f":"MID('PLA-FO-01'!T120,1,4)","v":""},0,0,0,0,0,0,0,0,0,0,0,null,null,null,null,null,null,false,0,0,0]
[null,{"$f":"CELL(\"contenido\",'PLA-FO-01'!C121)","v":0},{"$f":"CELL(\"contenido\",'PLA-FO-01'!O121)","v":0},{"$f":"CELL(\"contenido\",'PLA-FO-01'!P121)","v":0},{"$f":"CELL(\"contenido\",'PLA-FO-01'!Q121)","v":0},{"$f":"MID('PLA-FO-01'!T121,1,4)","v":""},0,0,0,0,0,0,0,0,0,0,0,null,null,null,null,null,null,false,0,0,0]
[null,{"$f":"CELL(\"contenido\",'PLA-FO-01'!C122)","v":0},{"$f":"CELL(\"contenido\",'PLA-FO-01'!O122)","v":0},{"$f":"CELL(\"contenido\",'PLA-FO-01'!P122)","v":0},{"$f":"CELL(\"contenido\",'PLA-FO-01'!Q122)","v":0},{"$f":"MID('PLA-FO-01'!T122,1,4)","v":""},0,0,0,0,0,0,0,0,0,0,0,null,null,null,null,null,null,false,0,0,0]
[null,{"$f":"CELL(\"contenido\",'PLA-FO-01'!C123)","v":0},{"$f":"CELL(\"contenido\",'PLA-FO-01'!O123)","v":0},{"$f":"CELL(\"contenido\",'PLA-FO-01'!P123)","v":0},{"$f":"CELL(\"contenido\",'PLA-FO-01'!Q123)","v":0},{"$f":"MID('PLA-FO-01'!T123,1,4)","v":""},0,0,0,0,0,0,0,0,0,0,0,null,null,null,null,null,null,false,0,0,0]
[null,{"$f":"CELL(\"contenido\",'PLA-FO-01'!C124)","v":0},{"$f":"CELL(\"contenido\",'PLA-FO-01'!O124)","v":0},{"$f":"CELL(\"contenido\",'PLA-FO-01'!P124)","v":0},{"$f":"CELL(\"contenido\",'PLA-FO-01'!Q124)","v":0},{"$f":"MID('PLA-FO-01'!T124,1,4)","v":""},0,0,0,0,0,0,0,0,0,0,0,null,null,null,null,null,null,false,0,0,0]
[null,{"$f":"CELL(\"contenido\",'PLA-FO-01'!C125)","v":0},{"$f":"CELL(\"contenido\",'PLA-FO-01'!O125)","v":0},{"$f":"CELL(\"contenido\",'PLA-FO-01'!P125)","v":0},{"$f":"CELL(\"contenido\",'PLA-FO-01'!Q125)","v":0},{"$f":"MID('PLA-FO-01'!T125,1,4)","v":""},0,0,0,0,0,0,0,0,0,0,0,null,null,null,null,null,null,false,0,0,0]
[null,{"$f":"CELL(\"contenido\",'PLA-FO-01'!C126)","v":0},{"$f":"CELL(\"contenido\",'PLA-FO-01'!O126)","v":0},{"$f":"CELL(\"contenido\",'PLA-FO-01'!P126)","v":0},{"$f":"CELL(\"contenido\",'PLA-FO-01'!Q126)","v":0},{"$f":"MID('PLA-FO-01'!T126,1,4)","v":""},0,0,0,0,0,0,0,0,0,0,0,null,null,null,null,null,null,false,0,0,0]
[null,{"$f":"CELL(\"contenido\",'PLA-FO-01'!C127)","v":0},{"$f":"CELL(\"contenido\",'PLA-FO-01'!O127)","v":0},{"$f":"CELL(\"contenido\",'PLA-FO-01'!P127)","v":0},{"$f":"CELL(\"contenido\",'PLA-FO-01'!Q127)","v":0},{"$f":"MID('PLA-FO-01'!T127,1,4)","v":""},0,0,0,0,0,0,0,0,0,0,0,null,null,null,null,null,null,false,0,0,0]
[null,{"$f":"CELL(\"contenido\",'PLA-FO-01'!C128)","v":0},{"$f":"CELL(\"contenido\",'PLA-FO-01'!O128)","v":0},{"$f":"CELL(\"contenido\",'PLA-FO-01'!P128)","v":0},{"$f":"CELL(\"contenido\",'PLA-FO-01'!Q128)","v":0},{"$f":"MID('PLA-FO-01'!T128,1,4)","v":""},0,0,0,0,0,0,0,0,0,0,0,null,null,null,null,null,null,false,0,0,0]
[null,{"$f":"CELL(\"contenido\",'PLA-FO-01'!C129)","v":0},{"$f":"CELL(\"contenido\",'PLA-FO-01'!O129)","v":0},{"$f":"CELL(\"contenido\",'PLA-FO-01'!P129)","v":0},{"$f":"CELL(\"contenido\",'PLA-FO-01'!Q129)","v":0},{"$f":"MID('PLA-FO-01'!T129,1,4)","v":""},0,0,0,0,0,0,0,0,0,0,0,null,null,null,null,null,null,false,0,0,0]
[null,{"$f":"CELL(\"contenido\",'PLA-FO-01'!C130)","v":0},{"$f":"CELL(\"contenido\",'PLA-FO-01'!O130)","v":0},{"$f":"CELL(\"contenido\",'PLA-FO-01'!P130)","v":0},{"$f":"CELL(\"contenido\",'PLA-FO-01'!Q130)","v":0},{"$f":"MID('PLA-FO-01'!T130,1,4)","v":""},0,0,0,0,0,0,0,0,0,0,0,null,null,null,null,null,null,false,0,0,0]
[null,{"$f":"CELL(\"contenido\",'PLA-FO-01'!C131)","v":0},{"$f":"CELL(\"contenido\",'PLA-FO-01'!O131)","v":0},{"$f":"CELL(\"contenido\",'PLA-FO-01'!P131)","v":0},{"$f":"CELL(\"contenido\",'PLA-FO-01'!Q131)","v":0},{"$f":"MID('PLA-FO-01'!T131,1,4)","v":""},0,0,0,0,0,0,0,0,0,0,0,null,null,null,null,null,null,false,0,0,0]
[null,{"$f":"CELL(\"contenido\",'PLA-FO-01'!C132)","v":0},{"$f":"CELL(\"contenido\",'PLA-FO-01'!O132)","v":0},{"$f":"CELL(\"contenido\",'PLA-FO-01'!P132)","v":0},{"$f":"CELL(\"contenido\",'PLA-FO-01'!Q132)","v":0},{"$f":"MID('PLA-FO-01'!T132,1,4)","v":""},0,0,0,0,0,0,0,0,0,0,0,null,null,null,null,null,null,false,0,0,0]
[null,{"$f":"CELL(\"contenido\",'PLA-FO-01'!C133)","v":0},{"$f":"CELL(\"contenido\",'PLA-FO-01'!O133)","v":0},{"$f":"CELL(\"contenido\",'PLA-FO-01'!P133)","v":0},{"$f":"CELL(\"contenido\",'PLA-FO-01'!Q133)","v":0},{"$f":"MID('PLA-FO-01'!T133,1,4)","v":""},0,0,0,0,0,0,0,0,0,0,0,null,null,null,null,null,null,false,0,0,0]
[null,{"$f":"CELL(\"contenido\",'PLA-FO-01'!C134)","v":0},{"$f":"CELL(\"contenido\",'PLA-FO-01'!O134)","v":0},{"$f":"CELL(\"contenido\",'PLA-FO-01'!P134)","v":0},{"$f":"CELL(\"contenido\",'PLA-FO-01'!Q134)","v":0},{"$f":"MID('PLA-FO-01'!T134,1,4)","v":""},0,0,0,0,0,0,0,0,0,0,0,null,null,null,null,null,null,false,0,0,0]
[null,{"$f":"CELL(\"contenido\",'PLA-FO-01'!C135)","v":0},{"$f":"CELL(\"contenido\",'PLA-FO-01'!O135)","v":0},{"$f":"CELL(\"contenido\",'PLA-FO-01'!P135)","v":0},{"$f":"CELL(\"contenido\",'PLA-FO-01'!Q135)","v":0},{"$f":"MID('PLA-FO-01'!T135,1,4)","v":""},0,0,0,0,0,0,0,0,0,0,0,null,null,null,null,null,null,false,0,0,0]
[null,{"$f":"CELL(\"contenido\",'PLA-FO-01'!C136)","v":0},{"$f":"CELL(\"contenido\",'PLA-FO-01'!O136)","v":0},{"$f":"CELL(\"contenido\",'PLA-FO-01'!P136)","v":0},{"$f":"CELL(\"contenido\",'PLA-FO-01'!Q136)","v":0},{"$f":"MID('PLA-FO-01'!T136,1,4)","v":""},0,0,0,0,0,0,0,0,0,0,0,null,null,null,null,null,null,false,0,0,0]
[null,{"$f":"CELL(\"contenido\",'PLA-FO-01'!C137)","v":0},{"$f":"CELL(\"contenido\",'PLA-FO-01'!O137)","v":0},{"$f":"CELL(\"contenido\",'PLA-FO-01'!P137)","v":0},{"$f":"CELL(\"contenido\",'PLA-FO-01'!Q137)","v":0},{"$f":"MID('PLA-FO-01'!T137,1,4)","v":""},0,0,0,0,0,0,0,0,0,0,0,null,null,null,null,null,null,false,0,0,0]
[null,{"$f":"CELL(\"contenido\",'PLA-FO-01'!C138)","v":0},{"$f":"CELL(\"contenido\",'PLA-FO-01'!O138)","v":0},{"$f":"CELL(\"contenido\",'PLA-FO-01'!P138)","v":0},{"$f":"CELL(\"contenido\",'PLA-FO-01'!Q138)","v":0},{"$f":"MID('PLA-FO-01'!T138,1,4)","v":""},0,0,0,0,0,0,0,0,0,0,0,null,null,null,null,null,null,false,0,0,0]
[null,{"$f":"CELL(\"contenido\",'PLA-FO-01'!C139)","v":0},{"$f":"CELL(\"contenido\",'PLA-FO-01'!O139)","v":0},{"$f":"CELL(\"contenido\",'PLA-FO-01'!P139)","v":0},{"$f":"CELL(\"contenido\",'PLA-FO-01'!Q139)","v":0},{"$f":"MID('PLA-FO-01'!T139,1,4)","v":""},0,0,0,0,0,0,0,0,0,0,0,null,null,null,null,null,null,false,0,0,0]
[null,{"$f":"CELL(\"contenido\",'PLA-FO-01'!C140)","v":0},{"$f":"CELL(\"contenido\",'PLA-FO-01'!O140)","v":0},{"$f":"CELL(\"contenido\",'PLA-FO-01'!P140)","v":0},{"$f":"CELL(\"contenido\",'PLA-FO-01'!Q140)","v":0},{"$f":"MID('PLA-FO-01'!T140,1,4)","v":""},0,0,0,0,0,0,0,0,0,0,0,null,null,null,null,null,null,false,0,0,0]
[null,{"$f":"CELL(\"contenido\",'PLA-FO-01'!C141)","v":0},{"$f":"CELL(\"contenido\",'PLA-FO-01'!O141)","v":0},{"$f":"CELL(\"contenido\",'PLA-FO-01'!P141)","v":0},{"$f":"CELL(\"contenido\",'PLA-FO-01'!Q141)","v":0},{"$f":"MID('PLA-FO-01'!T141,1,4)","v":""},0,0,0,0,0,0,0,0,0,0,0,null,null,null,null,null,null,false,0,0,0]
[null,{"$f":"CELL(\"contenido\",'PLA-FO-01'!C142)","v":0},{"$f":"CELL(\"contenido\",'PLA-FO-01'!O142)","v":0},{"$f":"CELL(\"contenido\",'PLA-FO-01'!P142)","v":0},{"$f":"CELL(\"contenido\",'PLA-FO-01'!Q142)","v":0},{"$f":"MID('PLA-FO-01'!T142,1,4)","v":""},0,0,0,0,0,0,0,0,0,0,0,null,null,null,null,null,null,false,0,0,0]
[null,{"$f":"CELL(\"contenido\",'PLA-FO-01'!C143)","v":0},{"$f":"CELL(\"contenido\",'PLA-FO-01'!O143)","v":0},{"$f":"CELL(\"contenido\",'PLA-FO-01'!P143)","v":0},{"$f":"CELL(\"contenido\",'PLA-FO-01'!Q143)","v":0},{"$f":"MID('PLA-FO-01'!T143,1,4)","v":""},0,0,0,0,0,0,0,0,0,0,0,null,null,null,null,null,null,false,0,0,0]
[null,{"$f":"CELL(\"contenido\",'PLA-FO-01'!C144)","v":0},{"$f":"CELL(\"contenido\",'PLA-FO-01'!O144)","v":0},{"$f":"CELL(\"contenido\",'PLA-FO-01'!P144)","v":0},{"$f":"CELL(\"contenido\",'PLA-FO-01'!Q144)","v":0},{"$f":"MID('PLA-FO-01'!T144,1,4)","v":""},0,0,0,0,0,0,0,0,0,0,0,null,null,null,null,null,null,false,0,0,0]
[null,{"$f":"CELL(\"contenido\",'PLA-FO-01'!C145)","v":0},{"$f":"CELL(\"contenido\",'PLA-FO-01'!O145)","v":0},{"$f":"CELL(\"contenido\",'PLA-FO-01'!P145)","v":0},{"$f":"CELL(\"contenido\",'PLA-FO-01'!Q145)","v":0},{"$f":"MID('PLA-FO-01'!T145,1,4)","v":""},0,0,0,0,0,0,0,0,0,0,0,null,null,null,null,null,null,false,0,0,0]
[null,{"$f":"CELL(\"contenido\",'PLA-FO-01'!C146)","v":0},{"$f":"CELL(\"contenido\",'PLA-FO-01'!O146)","v":0},{"$f":"CELL(\"contenido\",'PLA-FO-01'!P146)","v":0},{"$f":"CELL(\"contenido\",'PLA-FO-01'!Q146)","v":0},{"$f":"MID('PLA-FO-01'!T146,1,4)","v":""},0,0,0,0,0,0,0,0,0,0,0,null,null,null,null,null,null,false,0,0,0]
[null,{"$f":"CELL(\"contenido\",'PLA-FO-01'!C147)","v":0},{"$f":"CELL(\"contenido\",'PLA-FO-01'!O147)","v":0},{"$f":"CELL(\"contenido\",'PLA-FO-01'!P147)","v":0},{"$f":"CELL(\"contenido\",'PLA-FO-01'!Q147)","v":0},{"$f":"MID('PLA-FO-01'!T147,1,4)","v":""},0,0,0,0,0,0,0,0,0,0,0,null,null,null,null,null,null,false,0,0,0]
[null,{"$f":"CELL(\"contenido\",'PLA-FO-01'!C148)","v":0},{"$f":"CELL(\"contenido\",'PLA-FO-01'!O148)","v":0},{"$f":"CELL(\"contenido\",'PLA-FO-01'!P148)","v":0},{"$f":"CELL(\"contenido\",'PLA-FO-01'!Q148)","v":0},{"$f":"MID('PLA-FO-01'!T148,1,4)","v":""},0,0,0,0,0,0,0,0,0,0,0,null,null,null,null,null,null,false,0,0,0]
[null,{"$f":"CELL(\"contenido\",'PLA-FO-01'!C149)","v":0},{"$f":"CELL(\"contenido\",'PLA-FO-01'!O149)","v":0},{"$f":"CELL(\"contenido\",'PLA-FO-01'!P149)","v":0},{"$f":"CELL(\"contenido\",'PLA-FO-01'!Q149)","v":0},{"$f":"MID('PLA-FO-01'!T149,1,4)","v":""},0,0,0,0,0,0,0,0,0,0,0,null,null,null,null,null,null,false,0,0,0]
[null,{"$f":"CELL(\"contenido\",'PLA-FO-01'!C150)","v":0},{"$f":"CELL(\"contenido\",'PLA-FO-01'!O150)","v":0},{"$f":"CELL(\"contenido\",'PLA-FO-01'!P150)","v":0},{"$f":"CELL(\"contenido\",'PLA-FO-01'!Q150)","v":0},{"$f":"MID('PLA-FO-01'!T150,1,4)","v":""},0,0,0,0,0,0,0,0,0,0,0,null,null,null,null,null,null,false,0,0,0]
[null,{"$f":"CELL(\"contenido\",'PLA-FO-01'!C151)","v":0},{"$f":"CELL(\"contenido\",'PLA-FO-01'!O151)","v":0},{"$f":"CELL(\"contenido\",'PLA-FO-01'!P151)","v":0},{"$f":"CELL(\"contenido\",'PLA-FO-01'!Q151)","v":0},{"$f":"MID('PLA-FO-01'!T151,1,4)","v":""},0,0,0,0,0,0,0,0,0,0,0,null,null,null,null,null,null,false,0,0,0]
[null,{"$f":"CELL(\"contenido\",'PLA-FO-01'!C152)","v":0},{"$f":"CELL(\"contenido\",'PLA-FO-01'!O152)","v":0},{"$f":"CELL(\"contenido\",'PLA-FO-01'!P152)","v":0},{"$f":"CELL(\"contenido\",'PLA-FO-01'!Q152)","v":0},{"$f":"MID('PLA-FO-01'!T152,1,4)","v":""},0,0,0,0,0,0,0,0,0,0,0,null,null,null,null,null,null,false,0,0,0]
[null,{"$f":"CELL(\"contenido\",'PLA-FO-01'!C153)","v":0},{"$f":"CELL(\"contenido\",'PLA-FO-01'!O153)","v":0},{"$f":"CELL(\"contenido\",'PLA-FO-01'!P153)","v":0},{"$f":"CELL(\"contenido\",'PLA-FO-01'!Q153)","v":0},{"$f":"MID('PLA-FO-01'!T153,1,4)","v":""},0,0,0,0,0,0,0,0,0,0,0,null,null,null,null,null,null,false,{"$f":"VALUE(E149)","v":0},{"$f":"SUM(G149:Q149)","v":0},0]
[null,{"$f":"CELL(\"contenido\",'PLA-FO-01'!C154)","v":0},{"$f":"CELL(\"contenido\",'PLA-FO-01'!O154)","v":0},{"$f":"CELL(\"contenido\",'PLA-FO-01'!P154)","v":0},{"$f":"CELL(\"contenido\",'PLA-FO-01'!Q154)","v":0},{"$f":"MID('PLA-FO-01'!T154,1,4)","v":""},0,0,0,0,0,0,0,0,0,0,0,null,null,null,null,null,null,{"$f":"Y150<>Z150","v":false},0,0,{"$f":"Y150-Z150","v":0}]
[null,{"$f":"CELL(\"contenido\",'PLA-FO-01'!C155)","v":0},{"$f":"CELL(\"contenido\",'PLA-FO-01'!O155)","v":0},{"$f":"CELL(\"contenido\",'PLA-FO-01'!P155)","v":0},{"$f":"CELL(\"contenido\",'PLA-FO-01'!Q155)","v":0},{"$f":"MID('PLA-FO-01'!T155,1,4)","v":""},0,0,0,0,0,0,0,0,0,0,0,null,null,null,null,null,null,false,0,0,0]
[null,{"$f":"CELL(\"contenido\",'PLA-FO-01'!C156)","v":0},{"$f":"CELL(\"contenido\",'PLA-FO-01'!O156)","v":0},{"$f":"CELL(\"contenido\",'PLA-FO-01'!P156)","v":0},{"$f":"CELL(\"contenido\",'PLA-FO-01'!Q156)","v":0},{"$f":"MID('PLA-FO-01'!T156,1,4)","v":""},0,0,0,0,0,0,0,0,0,0,0,null,null,null,null,null,null,false,0,0,0]
[null,{"$f":"CELL(\"contenido\",'PLA-FO-01'!C157)","v":0},{"$f":"CELL(\"contenido\",'PLA-FO-01'!O157)","v":0},{"$f":"CELL(\"contenido\",'PLA-FO-01'!P157)","v":0},{"$f":"CELL(\"contenido\",'PLA-FO-01'!Q157)","v":0},{"$f":"MID('PLA-FO-01'!T157,1,4)","v":""},0,0,0,0,0,0,0,0,0,0,0,null,null,null,null,null,null,false,0,0,0]
[null,{"$f":"CELL(\"contenido\",'PLA-FO-01'!C158)","v":0},{"$f":"CELL(\"contenido\",'PLA-FO-01'!O158)","v":0},{"$f":"CELL(\"contenido\",'PLA-FO-01'!P158)","v":0},{"$f":"CELL(\"contenido\",'PLA-FO-01'!Q158)","v":0},{"$f":"MID('PLA-FO-01'!T158,1,4)","v":""},0,0,0,0,0,0,0,0,0,0,0,null,null,null,null,null,null,false,0,0,0]
[null,{"$f":"CELL(\"contenido\",'PLA-FO-01'!C159)","v":0},{"$f":"CELL(\"contenido\",'PLA-FO-01'!O159)","v":0},{"$f":"CELL(\"contenido\",'PLA-FO-01'!P159)","v":0},{"$f":"CELL(\"contenido\",'PLA-FO-01'!Q159)","v":0},{"$f":"MID('PLA-FO-01'!T159,1,4)","v":""},0,0,0,0,0,0,0,0,0,0,0,null,null,null,null,null,null,false,0,0,0]
[null,{"$f":"CELL(\"contenido\",'PLA-FO-01'!C160)","v":0},{"$f":"CELL(\"contenido\",'PLA-FO-01'!O160)","v":0},{"$f":"CELL(\"contenido\",'PLA-FO-01'!P160)","v":0},{"$f":"CELL(\"contenido\",'PLA-FO-01'!Q160)","v":0},{"$f":"MID('PLA-FO-01'!T160,1,4)","v":""},0,0,0,0,0,0,0,0,0,0,0,null,null,null,null,null,null,false,0,0,0]
[null,{"$f":"CELL(\"contenido\",'PLA-FO-01'!C161)","v":0},{"$f":"CELL(\"contenido\",'PLA-FO-01'!O161)","v":0},{"$f":"CELL(\"contenido\",'PLA-FO-01'!P161)","v":0},{"$f":"CELL(\"contenido\",'PLA-FO-01'!Q161)","v":0},{"$f":"MID('PLA-FO-01'!T161,1,4)","v":""},0,0,0,0,0,0,0,0,0,0,0,null,null,null,null,null,null,false,0,0,0]
[null,{"$f":"CELL(\"contenido\",'PLA-FO-01'!C162)","v":0},{"$f":"CELL(\"contenido\",'PLA-FO-01'!O162)","v":0},{"$f":"CELL(\"contenido\",'PLA-FO-01'!P162)","v":0},{"$f":"CELL(\"contenido\",'PLA-FO-01'!Q162)","v":0},{"$f":"MID('PLA-FO-01'!T162,1,4)","v":""},0,0,0,0,0,0,0,0,0,0,0,null,null,null,null,null,null,false,0,0,0]
[null,{"$f":"CELL(\"contenido\",'PLA-FO-01'!C163)","v":0},{"$f":"CELL(\"contenido\",'PLA-FO-01'!O163)","v":0},{"$f":"CELL(\"contenido\",'PLA-FO-01'!P163)","v":0},{"$f":"CELL(\"contenido\",'PLA-FO-01'!Q163)","v":0},{"$f":"MID('PLA-FO-01'!T163,1,4)","v":""},0,0,0,0,0,0,0,0,0,0,0,null,null,null,null,null,null,false,0,0,0]
[null,{"$f":"CELL(\"contenido\",'PLA-FO-01'!C164)","v":0},{"$f":"CELL(\"contenido\",'PLA-FO-01'!O164)","v":0},{"$f":"CELL(\"contenido\",'PLA-FO-01'!P164)","v":0},{"$f":"CELL(\"contenido\",'PLA-FO-01'!Q164)","v":0},{"$f":"MID('PLA-FO-01'!T164,1,4)","v":""},0,0,0,0,0,0,0,0,0,0,0,null,null,null,null,null,null,false,0,0,0]
[null,{"$f":"CELL(\"contenido\",'PLA-FO-01'!C165)","v":0},{"$f":"CELL(\"contenido\",'PLA-FO-01'!O165)","v":0},{"$f":"CELL(\"contenido\",'PLA-FO-01'!P165)","v":0},{"$f":"CELL(\"contenido\",'PLA-FO-01'!Q165)","v":0},{"$f":"MID('PLA-FO-01'!T165,1,4)","v":""},0,0,0,0,0,0,0,0,0,0,0,null,null,null,null,null,null,false,0,0,0]
[null,{"$f":"CELL(\"contenido\",'PLA-FO-01'!C166)","v":0},{"$f":"CELL(\"contenido\",'PLA-FO-01'!O166)","v":0},{"$f":"CELL(\"contenido\",'PLA-FO-01'!P166)","v":0},{"$f":"CELL(\"contenido\",'PLA-FO-01'!Q166)","v":0},{"$f":"MID('PLA-FO-01'!T166,1,4)","v":""},0,0,0,0,0,0,0,0,0,0,0,null,null,null,null,null,null,false,0,0,0]
[null,{"$f":"CELL(\"contenido\",'PLA-FO-01'!C167)","v":0},{"$f":"CELL(\"contenido\",'PLA-FO-01'!O167)","v":0},{"$f":"CELL(\"contenido\",'PLA-FO-01'!P167)","v":0},{"$f":"CELL(\"contenido\",'PLA-FO-01'!Q167)","v":0},{"$f":"MID('PLA-FO-01'!T167,1,4)","v":""},0,0,0,0,0,0,0,0,0,0,0,null,null,null,null,null,null,false,0,0,0]
[null,{"$f":"CELL(\"contenido\",'PLA-FO-01'!C168)","v":0},{"$f":"CELL(\"contenido\",'PLA-FO-01'!O168)","v":0},{"$f":"CELL(\"contenido\",'PLA-FO-01'!P168)","v":0},{"$f":"CELL(\"contenido\",'PLA-FO-01'!Q168)","v":0},{"$f":"MID('PLA-FO-01'!T168,1,4)","v":""},0,0,0,0,0,0,0,0,0,0,0,null,null,null,null,null,null,false,0,0,0]
[null,{"$f":"CELL(\"contenido\",'PLA-FO-01'!C169)","v":0},{"$f":"CELL(\"contenido\",'PLA-FO-01'!O169)","v":0},{"$f":"CELL(\"contenido\",'PLA-FO-01'!P169)","v":0},{"$f":"CELL(\"contenido\",'PLA-FO-01'!Q169)","v":0},{"$f":"MID('PLA-FO-01'!T169,1,4)","v":""},0,0,0,0,0,0,0,0,0,0,0,null,null,null,null,null,null,false,0,0,0]
[null,{"$f":"CELL(\"contenido\",'PLA-FO-01'!C170)","v":0},{"$f":"CELL(\"contenido\",'PLA-FO-01'!O170)","v":0},{"$f":"CELL(\"contenido\",'PLA-FO-01'!P170)","v":0},{"$f":"CELL(\"contenido\",'PLA-FO-01'!Q170)","v":0},{"$f":"MID('PLA-FO-01'!T170,1,4)","v":""},0,0,0,0,0,0,0,0,0,0,0,null,null,null,null,null,null,false,0,0,0]
[null,{"$f":"CELL(\"contenido\",'PLA-FO-01'!C171)","v":0},{"$f":"CELL(\"contenido\",'PLA-FO-01'!O171)","v":0},{"$f":"CELL(\"contenido\",'PLA-FO-01'!P171)","v":0},{"$f":"CELL(\"contenido\",'PLA-FO-01'!Q171)","v":0},{"$f":"MID('PLA-FO-01'!T171,1,4)","v":""},0,0,0,0,0,0,0,0,0,0,0,null,null,null,null,null,null,false,0,0,0]
[null,{"$f":"CELL(\"contenido\",'PLA-FO-01'!C172)","v":0},{"$f":"CELL(\"contenido\",'PLA-FO-01'!O172)","v":0},{"$f":"CELL(\"contenido\",'PLA-FO-01'!P172)","v":0},{"$f":"CELL(\"contenido\",'PLA-FO-01'!Q172)","v":0},{"$f":"MID('PLA-FO-01'!T172,1,4)","v":""},0,0,0,0,0,0,0,0,0,0,0,null,null,null,null,null,null,false,0,0,0]
[null,{"$f":"CELL(\"contenido\",'PLA-FO-01'!C173)","v":0},{"$f":"CELL(\"contenido\",'PLA-FO-01'!O173)","v":0},{"$f":"CELL(\"contenido\",'PLA-FO-01'!P173)","v":0},{"$f":"CELL(\"contenido\",'PLA-FO-01'!Q173)","v":0},{"$f":"MID('PLA-FO-01'!T173,1,4)","v":""},0,0,0,0,0,0,0,0,0,0,0,null,null,null,null,null,null,false,0,0,0]
[null,{"$f":"CELL(\"contenido\",'PLA-FO-01'!C174)","v":0},{"$f":"CELL(\"contenido\",'PLA-FO-01'!O174)","v":0},{"$f":"CELL(\"contenido\",'PLA-FO-01'!P174)","v":0},{"$f":"CELL(\"contenido\",'PLA-FO-01'!Q174)","v":0},{"$f":"MID('PLA-FO-01'!T174,1,4)","v":""},0,0,0,0,0,0,0,0,0,0,0,null,null,null,null,null,null,false,0,0,0]
[null,{"$f":"CELL(\"contenido\",'PLA-FO-01'!C175)","v":0},{"$f":"CELL(\"contenido\",'PLA-FO-01'!O175)","v":0},{"$f":"CELL(\"contenido\",'PLA-FO-01'!P175)","v":0},{"$f":"CELL(\"contenido\",'PLA-FO-01'!Q175)","v":0},{"$f":"MID('PLA-FO-01'!T175,1,4)","v":""},0,0,0,0,0,0,0,0,0,0,0,null,null,null,null,null,null,false,0,0,0]
[null,{"$f":"CELL(\"contenido\",'PLA-FO-01'!C176)","v":0},{"$f":"CELL(\"contenido\",'PLA-FO-01'!O176)","v":0},{"$f":"CELL(\"contenido\",'PLA-FO-01'!P176)","v":0},{"$f":"CELL(\"contenido\",'PLA-FO-01'!Q176)","v":0},{"$f":"MID('PLA-FO-01'!T176,1,4)","v":""},0,0,0,0,0,0,0,0,0,0,0,null,null,null,null,null,null,false,0,0,0]
[null,{"$f":"CELL(\"contenido\",'PLA-FO-01'!C177)","v":0},{"$f":"CELL(\"contenido\",'PLA-FO-01'!O177)","v":0},{"$f":"CELL(\"contenido\",'PLA-FO-01'!P177)","v":0},{"$f":"CELL(\"contenido\",'PLA-FO-01'!Q177)","v":0},{"$f":"MID('PLA-FO-01'!T177,1,4)","v":""},0,0,0,0,0,0,0,0,0,0,0,null,null,null,null,null,null,false,0,0,0]
[null,{"$f":"CELL(\"contenido\",'PLA-FO-01'!C178)","v":0},{"$f":"CELL(\"contenido\",'PLA-FO-01'!O178)","v":0},{"$f":"CELL(\"contenido\",'PLA-FO-01'!P178)","v":0},{"$f":"CELL(\"contenido\",'PLA-FO-01'!Q178)","v":0},{"$f":"MID('PLA-FO-01'!T178,1,4)","v":""},0,0,0,0,0,0,0,0,0,0,0,null,null,null,null,null,null,false,0,0,0]
[null,{"$f":"CELL(\"contenido\",'PLA-FO-01'!C179)","v":0},{"$f":"CELL(\"contenido\",'PLA-FO-01'!O179)","v":0},{"$f":"CELL(\"contenido\",'PLA-FO-01'!P179)","v":0},{"$f":"CELL(\"contenido\",'PLA-FO-01'!Q179)","v":0},{"$f":"MID('PLA-FO-01'!T179,1,4)","v":""},0,0,0,0,0,0,0,0,0,0,0,null,null,null,null,null,null,false,0,0,0]
[null,{"$f":"CELL(\"contenido\",'PLA-FO-01'!C180)","v":0},{"$f":"CELL(\"contenido\",'PLA-FO-01'!O180)","v":0},{"$f":"CELL(\"contenido\",'PLA-FO-01'!P180)","v":0},{"$f":"CELL(\"contenido\",'PLA-FO-01'!Q180)","v":0},{"$f":"MID('PLA-FO-01'!T180,1,4)","v":""},0,0,0,0,0,0,0,0,0,0,0,null,null,null,null,null,null,false,0,0,0]
[null,{"$f":"CELL(\"contenido\",'PLA-FO-01'!C181)","v":0},{"$f":"CELL(\"contenido\",'PLA-FO-01'!O181)","v":0},{"$f":"CELL(\"contenido\",'PLA-FO-01'!P181)","v":0},{"$f":"CELL(\"contenido\",'PLA-FO-01'!Q181)","v":0},{"$f":"MID('PLA-FO-01'!T181,1,4)","v":""},0,0,0,0,0,0,0,0,0,0,0,null,null,null,null,null,null,false,0,0,0]
[null,{"$f":"CELL(\"contenido\",'PLA-FO-01'!C182)","v":0},{"$f":"CELL(\"contenido\",'PLA-FO-01'!O182)","v":0},{"$f":"CELL(\"contenido\",'PLA-FO-01'!P182)","v":0},{"$f":"CELL(\"contenido\",'PLA-FO-01'!Q182)","v":0},{"$f":"MID('PLA-FO-01'!T182,1,4)","v":""},0,0,0,0,0,0,0,0,0,0,0,null,null,null,null,null,null,false,0,0,0]
[null,{"$f":"CELL(\"contenido\",'PLA-FO-01'!C183)","v":0},{"$f":"CELL(\"contenido\",'PLA-FO-01'!O183)","v":0},{"$f":"CELL(\"contenido\",'PLA-FO-01'!P183)","v":0},{"$f":"CELL(\"contenido\",'PLA-FO-01'!Q183)","v":0},{"$f":"MID('PLA-FO-01'!T183,1,4)","v":""},0,0,0,0,0,0,0,0,0,0,0,null,null,null,null,null,null,false,0,0,0]
[null,{"$f":"CELL(\"contenido\",'PLA-FO-01'!C184)","v":0},{"$f":"CELL(\"contenido\",'PLA-FO-01'!O184)","v":0},{"$f":"CELL(\"contenido\",'PLA-FO-01'!P184)","v":0},{"$f":"CELL(\"contenido\",'PLA-FO-01'!Q184)","v":0},{"$f":"MID('PLA-FO-01'!T184,1,4)","v":""},0,0,0,0,0,0,0,0,0,0,0,null,null,null,null,null,null,false,0,0,0]
[null,{"$f":"CELL(\"contenido\",'PLA-FO-01'!C185)","v":0},{"$f":"CELL(\"contenido\",'PLA-FO-01'!O185)","v":0},{"$f":"CELL(\"contenido\",'PLA-FO-01'!P185)","v":0},{"$f":"CELL(\"contenido\",'PLA-FO-01'!Q185)","v":0},{"$f":"MID('PLA-FO-01'!T185,1,4)","v":""},0,0,0,0,0,0,0,0,0,0,0,null,null,null,null,null,null,false,0,0,0]
[null,{"$f":"CELL(\"contenido\",'PLA-FO-01'!C186)","v":0},{"$f":"CELL(\"contenido\",'PLA-FO-01'!O186)","v":0},{"$f":"CELL(\"contenido\",'PLA-FO-01'!P186)","v":0},{"$f":"CELL(\"contenido\",'PLA-FO-01'!Q186)","v":0},{"$f":"MID('PLA-FO-01'!T186,1,4)","v":""},0,0,0,0,0,0,0,0,0,0,0,null,null,null,null,null,null,false,0,0,0]
[null,{"$f":"CELL(\"contenido\",'PLA-FO-01'!C187)","v":0},{"$f":"CELL(\"contenido\",'PLA-FO-01'!O187)","v":0},{"$f":"CELL(\"contenido\",'PLA-FO-01'!P187)","v":0},{"$f":"CELL(\"contenido\",'PLA-FO-01'!Q187)","v":0},{"$f":"MID('PLA-FO-01'!T187,1,4)","v":""},0,0,0,0,0,0,0,0,0,0,0,null,null,null,null,null,null,false,0,0,0]
[null,{"$f":"CELL(\"contenido\",'PLA-FO-01'!C188)","v":0},{"$f":"CELL(\"contenido\",'PLA-FO-01'!O188)","v":0},{"$f":"CELL(\"contenido\",'PLA-FO-01'!P188)","v":0},{"$f":"CELL(\"contenido\",'PLA-FO-01'!Q188)","v":0},{"$f":"MID('PLA-FO-01'!T188,1,4)","v":""},0,0,0,0,0,0,0,0,0,0,0,null,null,null,null,null,null,false,0,0,0]
[null,{"$f":"CELL(\"contenido\",'PLA-FO-01'!C189)","v":0},{"$f":"CELL(\"contenido\",'PLA-FO-01'!O189)","v":0},{"$f":"CELL(\"contenido\",'PLA-FO-01'!P189)","v":0},{"$f":"CELL(\"contenido\",'PLA-FO-01'!Q189)","v":0},{"$f":"MID('PLA-FO-01'!T189,1,4)","v":""},0,0,0,0,0,0,0,0,0,0,0,null,null,null,null,null,null,false,0,0,0]
[null,{"$f":"CELL(\"contenido\",'PLA-FO-01'!C190)","v":0},{"$f":"CELL(\"contenido\",'PLA-FO-01'!O190)","v":0},{"$f":"CELL(\"contenido\",'PLA-FO-01'!P190)","v":0},{"$f":"CELL(\"contenido\",'PLA-FO-01'!Q190)","v":0},{"$f":"MID('PLA-FO-01'!T190,1,4)","v":""},0,0,0,0,0,0,0,0,0,0,0,null,null,null,null,null,null,false,0,0,0]
[null,{"$f":"CELL(\"contenido\",'PLA-FO-01'!C191)","v":0},{"$f":"CELL(\"contenido\",'PLA-FO-01'!O191)","v":0},{"$f":"CELL(\"contenido\",'PLA-FO-01'!P191)","v":0},{"$f":"CELL(\"contenido\",'PLA-FO-01'!Q191)","v":0},{"$f":"MID('PLA-FO-01'!T191,1,4)","v":""},0,0,0,0,0,0,0,0,0,0,0,null,null,null,null,null,null,false,0,0,0]
[null,{"$f":"CELL(\"contenido\",'PLA-FO-01'!C192)","v":0},{"$f":"CELL(\"contenido\",'PLA-FO-01'!O192)","v":0},{"$f":"CELL(\"contenido\",'PLA-FO-01'!P192)","v":0},{"$f":"CELL(\"contenido\",'PLA-FO-01'!Q192)","v":0},{"$f":"MID('PLA-FO-01'!T192,1,4)","v":""},0,0,0,0,0,0,0,0,0,0,0,null,null,null,null,null,null,false,0,0,0]
[null,{"$f":"CELL(\"contenido\",'PLA-FO-01'!C193)","v":0},{"$f":"CELL(\"contenido\",'PLA-FO-01'!O193)","v":0},{"$f":"CELL(\"contenido\",'PLA-FO-01'!P193)","v":0},{"$f":"CELL(\"contenido\",'PLA-FO-01'!Q193)","v":0},{"$f":"MID('PLA-FO-01'!T193,1,4)","v":""},0,0,0,0,0,0,0,0,0,0,0,null,null,null,null,null,null,false,0,0,0]
[null,{"$f":"CELL(\"contenido\",'PLA-FO-01'!C194)","v":0},{"$f":"CELL(\"contenido\",'PLA-FO-01'!O194)","v":0},{"$f":"CELL(\"contenido\",'PLA-FO-01'!P194)","v":0},{"$f":"CELL(\"contenido\",'PLA-FO-01'!Q194)","v":0},{"$f":"MID('PLA-FO-01'!T194,1,4)","v":""},0,0,0,0,0,0,0,0,0,0,0,null,null,null,null,null,null,false,0,0,0]
[null,{"$f":"CELL(\"contenido\",'PLA-FO-01'!C195)","v":0},{"$f":"CELL(\"contenido\",'PLA-FO-01'!O195)","v":0},{"$f":"CELL(\"contenido\",'PLA-FO-01'!P195)","v":0},{"$f":"CELL(\"contenido\",'PLA-FO-01'!Q195)","v":0},{"$f":"MID('PLA-FO-01'!T195,1,4)","v":""},0,0,0,0,0,0,0,0,0,0,0,null,null,null,null,null,null,false,0,0,0]
[null,{"$f":"CELL(\"contenido\",'PLA-FO-01'!C196)","v":0},{"$f":"CELL(\"contenido\",'PLA-FO-01'!O196)","v":0},{"$f":"CELL(\"contenido\",'PLA-FO-01'!P196)","v":0},{"$f":"CELL(\"contenido\",'PLA-FO-01'!Q196)","v":0},{"$f":"MID('PLA-FO-01'!T196,1,4)","v":""},0,0,0,0,0,0,0,0,0,0,0,null,null,null,null,null,null,false,0,0,0]
[null,{"$f":"CELL(\"contenido\",'PLA-FO-01'!C197)","v":0},{"$f":"CELL(\"contenido\",'PLA-FO-01'!O197)","v":0},{"$f":"CELL(\"contenido\",'PLA-FO-01'!P197)","v":0},{"$f":"CELL(\"contenido\",'PLA-FO-01'!Q197)","v":0},{"$f":"MID('PLA-FO-01'!T197,1,4)","v":""},0,0,0,0,0,0,0,0,0,0,0,null,null,null,null,null,null,false,0,0,0]
[null,{"$f":"CELL(\"contenido\",'PLA-FO-01'!C198)","v":0},{"$f":"CELL(\"contenido\",'PLA-FO-01'!O198)","v":0},{"$f":"CELL(\"contenido\",'PLA-FO-01'!P198)","v":0},{"$f":"CELL(\"contenido\",'PLA-FO-01'!Q198)","v":0},{"$f":"MID('PLA-FO-01'!T198,1,4)","v":""},0,0,0,0,0,0,0,0,0,0,0,null,null,null,null,null,null,false,0,0,0]
[null,{"$f":"CELL(\"contenido\",'PLA-FO-01'!C199)","v":0},{"$f":"CELL(\"contenido\",'PLA-FO-01'!O199)","v":0},{"$f":"CELL(\"contenido\",'PLA-FO-01'!P199)","v":0},{"$f":"CELL(\"contenido\",'PLA-FO-01'!Q199)","v":0},{"$f":"MID('PLA-FO-01'!T199,1,4)","v":""},0,0,0,0,0,0,0,0,0,0,0,null,null,null,null,null,null,false,0,0,0]
[null,{"$f":"CELL(\"contenido\",'PLA-FO-01'!C200)","v":0},{"$f":"CELL(\"contenido\",'PLA-FO-01'!O200)","v":0},{"$f":"CELL(\"contenido\",'PLA-FO-01'!P200)","v":0},{"$f":"CELL(\"contenido\",'PLA-FO-01'!Q200)","v":0},{"$f":"MID('PLA-FO-01'!T200,1,4)","v":""},0,0,0,0,0,0,0,0,0,0,0,null,null,null,null,null,null,false,0,0,0]
[null,{"$f":"CELL(\"contenido\",'PLA-FO-01'!C201)","v":0},{"$f":"CELL(\"contenido\",'PLA-FO-01'!O201)","v":0},{"$f":"CELL(\"contenido\",'PLA-FO-01'!P201)","v":0},{"$f":"CELL(\"contenido\",'PLA-FO-01'!Q201)","v":0},{"$f":"MID('PLA-FO-01'!T201,1,4)","v":""},0,0,0,0,0,0,0,0,0,0,0,null,null,null,null,null,null,false,0,0,0]
[null,{"$f":"CELL(\"contenido\",'PLA-FO-01'!C202)","v":0},{"$f":"CELL(\"contenido\",'PLA-FO-01'!O202)","v":0},{"$f":"CELL(\"contenido\",'PLA-FO-01'!P202)","v":0},{"$f":"CELL(\"contenido\",'PLA-FO-01'!Q202)","v":0},{"$f":"MID('PLA-FO-01'!T202,1,4)","v":""},0,0,0,0,0,0,0,0,0,0,0,null,null,null,null,null,null,false,0,0,0]
[null,{"$f":"CELL(\"contenido\",'PLA-FO-01'!C203)","v":0},{"$f":"CELL(\"contenido\",'PLA-FO-01'!O203)","v":0},{"$f":"CELL(\"contenido\",'PLA-FO-01'!P203)","v":0},{"$f":"CELL(\"contenido\",'PLA-FO-01'!Q203)","v":0},{"$f":"MID('PLA-FO-01'!T203,1,4)","v":""},0,0,0,0,0,0,0,0,0,0,0,null,null,null,null,null,null,false,0,0,0]
[null,{"$f":"CELL(\"contenido\",'PLA-FO-01'!C204)","v":0},{"$f":"CELL(\"contenido\",'PLA-FO-01'!O204)","v":0},{"$f":"CELL(\"contenido\",'PLA-FO-01'!P204)","v":0},{"$f":"CELL(\"contenido\",'PLA-FO-01'!Q204)","v":0},{"$f":"MID('PLA-FO-01'!T204,1,4)","v":""},0,0,0,0,0,0,0,0,0,0,0,null,null,null,null,null,null,false,0,0,0]
[null,{"$f":"CELL(\"contenido\",'PLA-FO-01'!C205)","v":0},{"$f":"CELL(\"contenido\",'PLA-FO-01'!O205)","v":0},{"$f":"CELL(\"contenido\",'PLA-FO-01'!P205)","v":0},{"$f":"CELL(\"contenido\",'PLA-FO-01'!Q205)","v":0},{"$f":"MID('PLA-FO-01'!T205,1,4)","v":""},0,0,0,0,0,0,0,0,0,0,0,null,null,null,null,null,null,false,0,0,0]
[null,{"$f":"CELL(\"contenido\",'PLA-FO-01'!C206)","v":0},{"$f":"CELL(\"contenido\",'PLA-FO-01'!O206)","v":0},{"$f":"CELL(\"contenido\",'PLA-FO-01'!P206)","v":0},{"$f":"CELL(\"contenido\",'PLA-FO-01'!Q206)","v":0},{"$f":"MID('PLA-FO-01'!T206,1,4)","v":""},0,0,0,0,0,0,0,0,0,0,0,null,null,null,null,null,null,false,0,0,0]
[null,{"$f":"CELL(\"contenido\",'PLA-FO-01'!C207)","v":0},{"$f":"CELL(\"contenido\",'PLA-FO-01'!O207)","v":0},{"$f":"CELL(\"contenido\",'PLA-FO-01'!P207)","v":0},{"$f":"CELL(\"contenido\",'PLA-FO-01'!Q207)","v":0},{"$f":"MID('PLA-FO-01'!T207,1,4)","v":""},0,0,0,0,0,0,0,0,0,0,0,null,null,null,null,null,null,false,0,0,0]
[null,{"$f":"CELL(\"contenido\",'PLA-FO-01'!C208)","v":0},{"$f":"CELL(\"contenido\",'PLA-FO-01'!O208)","v":0},{"$f":"CELL(\"contenido\",'PLA-FO-01'!P208)","v":0},{"$f":"CELL(\"contenido\",'PLA-FO-01'!Q208)","v":0},{"$f":"MID('PLA-FO-01'!T208,1,4)","v":""},0,0,0,0,0,0,0,0,0,0,0,null,null,null,null,null,null,false,0,0,0]
[null,{"$f":"CELL(\"contenido\",'PLA-FO-01'!C209)","v":0},{"$f":"CELL(\"contenido\",'PLA-FO-01'!O209)","v":0},{"$f":"CELL(\"contenido\",'PLA-FO-01'!P209)","v":0},{"$f":"CELL(\"contenido\",'PLA-FO-01'!Q209)","v":0},{"$f":"MID('PLA-FO-01'!T209,1,4)","v":""},0,0,0,0,0,0,0,0,0,0,0,null,null,null,null,null,null,false,0,0,0]
[null,{"$f":"CELL(\"contenido\",'PLA-FO-01'!C210)","v":0},{"$f":"CELL(\"contenido\",'PLA-FO-01'!O210)","v":0},{"$f":"CELL(\"contenido\",'PLA-FO-01'!P210)","v":0},{"$f":"CELL(\"contenido\",'PLA-FO-01'!Q210)","v":0},{"$f":"MID('PLA-FO-01'!T210,1,4)","v":""},0,0,0,0,0,0,0,0,0,0,0,null,null,null,null,null,null,false,0,0,0]
[null,{"$f":"CELL(\"contenido\",'PLA-FO-01'!C211)","v":0},{"$f":"CELL(\"contenido\",'PLA-FO-01'!O211)","v":0},{"$f":"CELL(\"contenido\",'PLA-FO-01'!P211)","v":0},{"$f":"CELL(\"contenido\",'PLA-FO-01'!Q211)","v":0},{"$f":"MID('PLA-FO-01'!T211,1,4)","v":""},0,0,0,0,0,0,0,0,0,0,0,null,null,null,null,null,null,false,0,0,0]
[null,{"$f":"CELL(\"contenido\",'PLA-FO-01'!C212)","v":0},{"$f":"CELL(\"contenido\",'PLA-FO-01'!O212)","v":0},{"$f":"CELL(\"contenido\",'PLA-FO-01'!P212)","v":0},{"$f":"CELL(\"contenido\",'PLA-FO-01'!Q212)","v":0},{"$f":"MID('PLA-FO-01'!T212,1,4)","v":""},0,0,0,0,0,0,0,0,0,0,0,null,null,null,null,null,null,false,0,0,0]
[null,{"$f":"CELL(\"contenido\",'PLA-FO-01'!C213)","v":0},{"$f":"CELL(\"contenido\",'PLA-FO-01'!O213)","v":0},{"$f":"CELL(\"contenido\",'PLA-FO-01'!P213)","v":0},{"$f":"CELL(\"contenido\",'PLA-FO-01'!Q213)","v":0},{"$f":"MID('PLA-FO-01'!T213,1,4)","v":""},0,0,0,0,0,0,0,0,0,0,0,null,null,null,null,null,null,false,0,0,0]
[null,{"$f":"CELL(\"contenido\",'PLA-FO-01'!C214)","v":0},{"$f":"CELL(\"contenido\",'PLA-FO-01'!O214)","v":0},{"$f":"CELL(\"contenido\",'PLA-FO-01'!P214)","v":0},{"$f":"CELL(\"contenido\",'PLA-FO-01'!Q214)","v":0},{"$f":"MID('PLA-FO-01'!T214,1,4)","v":""},0,0,0,0,0,0,0,0,0,0,0,null,null,null,null,null,null,false,0,0,0]
[null,{"$f":"CELL(\"contenido\",'PLA-FO-01'!C215)","v":0},{"$f":"CELL(\"contenido\",'PLA-FO-01'!O215)","v":0},{"$f":"CELL(\"contenido\",'PLA-FO-01'!P215)","v":0},{"$f":"CELL(\"contenido\",'PLA-FO-01'!Q215)","v":0},{"$f":"MID('PLA-FO-01'!T215,1,4)","v":""},0,0,0,0,0,0,0,0,0,0,0,null,null,null,null,null,null,false,0,0,0]
[null,{"$f":"CELL(\"contenido\",'PLA-FO-01'!C216)","v":0},{"$f":"CELL(\"contenido\",'PLA-FO-01'!O216)","v":0},{"$f":"CELL(\"contenido\",'PLA-FO-01'!P216)","v":0},{"$f":"CELL(\"contenido\",'PLA-FO-01'!Q216)","v":0},{"$f":"MID('PLA-FO-01'!T216,1,4)","v":""},0,0,0,0,0,0,0,0,0,0,0,null,null,null,null,null,null,false,0,0,0]
[null,{"$f":"CELL(\"contenido\",'PLA-FO-01'!C217)","v":0},{"$f":"CELL(\"contenido\",'PLA-FO-01'!O217)","v":0},{"$f":"CELL(\"contenido\",'PLA-FO-01'!P217)","v":0},{"$f":"CELL(\"contenido\",'PLA-FO-01'!Q217)","v":0},{"$f":"MID('PLA-FO-01'!T217,1,4)","v":""},0,0,0,0,0,0,0,0,0,0,0,null,null,null,null,null,null,false,{"$f":"VALUE(E213)","v":0},{"$f":"SUM(G213:Q213)","v":0},0]
[null,{"$f":"CELL(\"contenido\",'PLA-FO-01'!C218)","v":0},{"$f":"CELL(\"contenido\",'PLA-FO-01'!O218)","v":0},{"$f":"CELL(\"contenido\",'PLA-FO-01'!P218)","v":0},{"$f":"CELL(\"contenido\",'PLA-FO-01'!Q218)","v":0},{"$f":"MID('PLA-FO-01'!T218,1,4)","v":""},0,0,0,0,0,0,0,0,0,0,0,null,null,null,null,null,null,{"$f":"Y214<>Z214","v":false},0,0,{"$f":"Y214-Z214","v":0}]
[null,{"$f":"CELL(\"contenido\",'PLA-FO-01'!C219)","v":0},{"$f":"CELL(\"contenido\",'PLA-FO-01'!O219)","v":0},{"$f":"CELL(\"contenido\",'PLA-FO-01'!P219)","v":0},{"$f":"CELL(\"contenido\",'PLA-FO-01'!Q219)","v":0},{"$f":"MID('PLA-FO-01'!T219,1,4)","v":""},0,0,0,0,0,0,0,0,0,0,0,null,null,null,null,null,null,false,0,0,0]
[null,{"$f":"CELL(\"contenido\",'PLA-FO-01'!C220)","v":0},{"$f":"CELL(\"contenido\",'PLA-FO-01'!O220)","v":0},{"$f":"CELL(\"contenido\",'PLA-FO-01'!P220)","v":0},{"$f":"CELL(\"contenido\",'PLA-FO-01'!Q220)","v":0},{"$f":"MID('PLA-FO-01'!T220,1,4)","v":""},0,0,0,0,0,0,0,0,0,0,0,null,null,null,null,null,null,false,0,0,0]
[null,{"$f":"CELL(\"contenido\",'PLA-FO-01'!C221)","v":0},{"$f":"CELL(\"contenido\",'PLA-FO-01'!O221)","v":0},{"$f":"CELL(\"contenido\",'PLA-FO-01'!P221)","v":0},{"$f":"CELL(\"contenido\",'PLA-FO-01'!Q221)","v":0},{"$f":"MID('PLA-FO-01'!T221,1,4)","v":""},0,0,0,0,0,0,0,0,0,0,0,null,null,null,null,null,null,false,0,0,0]
[null,{"$f":"CELL(\"contenido\",'PLA-FO-01'!C222)","v":0},{"$f":"CELL(\"contenido\",'PLA-FO-01'!O222)","v":0},{"$f":"CELL(\"contenido\",'PLA-FO-01'!P222)","v":0},{"$f":"CELL(\"contenido\",'PLA-FO-01'!Q222)","v":0},{"$f":"MID('PLA-FO-01'!T222,1,4)","v":""},0,0,0,0,0,0,0,0,0,0,0,null,null,null,null,null,null,false,0,0,0]
[null,{"$f":"CELL(\"contenido\",'PLA-FO-01'!C223)","v":0},{"$f":"CELL(\"contenido\",'PLA-FO-01'!O223)","v":0},{"$f":"CELL(\"contenido\",'PLA-FO-01'!P223)","v":0},{"$f":"CELL(\"contenido\",'PLA-FO-01'!Q223)","v":0},{"$f":"MID('PLA-FO-01'!T223,1,4)","v":""},0,0,0,0,0,0,0,0,0,0,0,null,null,null,null,null,null,false,0,0,0]
[null,{"$f":"CELL(\"contenido\",'PLA-FO-01'!C224)","v":0},{"$f":"CELL(\"contenido\",'PLA-FO-01'!O224)","v":0},{"$f":"CELL(\"contenido\",'PLA-FO-01'!P224)","v":0},{"$f":"CELL(\"contenido\",'PLA-FO-01'!Q224)","v":0},{"$f":"MID('PLA-FO-01'!T224,1,4)","v":""},0,0,0,0,0,0,0,0,0,0,0,null,null,null,null,null,null,false,0,0,0]
[null,{"$f":"CELL(\"contenido\",'PLA-FO-01'!C225)","v":0},{"$f":"CELL(\"contenido\",'PLA-FO-01'!O225)","v":0},{"$f":"CELL(\"contenido\",'PLA-FO-01'!P225)","v":0},{"$f":"CELL(\"contenido\",'PLA-FO-01'!Q225)","v":0},{"$f":"MID('PLA-FO-01'!T225,1,4)","v":""},0,0,0,0,0,0,0,0,0,0,0,null,null,null,null,null,null,false,0,0,0]
[null,{"$f":"CELL(\"contenido\",'PLA-FO-01'!C226)","v":0},{"$f":"CELL(\"contenido\",'PLA-FO-01'!O226)","v":0},{"$f":"CELL(\"contenido\",'PLA-FO-01'!P226)","v":0},{"$f":"CELL(\"contenido\",'PLA-FO-01'!Q226)","v":0},{"$f":"MID('PLA-FO-01'!T226,1,4)","v":""},0,0,0,0,0,0,0,0,0,0,0,null,null,null,null,null,null,false,0,0,0]
[null,{"$f":"CELL(\"contenido\",'PLA-FO-01'!C227)","v":0},{"$f":"CELL(\"contenido\",'PLA-FO-01'!O227)","v":0},{"$f":"CELL(\"contenido\",'PLA-FO-01'!P227)","v":0},{"$f":"CELL(\"contenido\",'PLA-FO-01'!Q227)","v":0},{"$f":"MID('PLA-FO-01'!T227,1,4)","v":""},0,0,0,0,0,0,0,0,0,0,0,null,null,null,null,null,null,false,0,0,0]
[null,{"$f":"CELL(\"contenido\",'PLA-FO-01'!C228)","v":0},{"$f":"CELL(\"contenido\",'PLA-FO-01'!O228)","v":0},{"$f":"CELL(\"contenido\",'PLA-FO-01'!P228)","v":0},{"$f":"CELL(\"contenido\",'PLA-FO-01'!Q228)","v":0},{"$f":"MID('PLA-FO-01'!T228,1,4)","v":""},0,0,0,0,0,0,0,0,0,0,0,null,null,null,null,null,null,false,0,0,0]
[null,{"$f":"CELL(\"contenido\",'PLA-FO-01'!C229)","v":0},{"$f":"CELL(\"contenido\",'PLA-FO-01'!O229)","v":0},{"$f":"CELL(\"contenido\",'PLA-FO-01'!P229)","v":0},{"$f":"CELL(\"contenido\",'PLA-FO-01'!Q229)","v":0},{"$f":"MID('PLA-FO-01'!T229,1,4)","v":""},0,0,0,0,0,0,0,0,0,0,0,null,null,null,null,null,null,false,0,0,0]
[null,{"$f":"CELL(\"contenido\",'PLA-FO-01'!C230)","v":0},{"$f":"CELL(\"contenido\",'PLA-FO-01'!O230)","v":0},{"$f":"CELL(\"contenido\",'PLA-FO-01'!P230)","v":0},{"$f":"CELL(\"contenido\",'PLA-FO-01'!Q230)","v":0},{"$f":"MID('PLA-FO-01'!T230,1,4)","v":""},0,0,0,0,0,0,0,0,0,0,0,null,null,null,null,null,null,false,0,0,0]
[null,{"$f":"CELL(\"contenido\",'PLA-FO-01'!C231)","v":0},{"$f":"CELL(\"contenido\",'PLA-FO-01'!O231)","v":0},{"$f":"CELL(\"contenido\",'PLA-FO-01'!P231)","v":0},{"$f":"CELL(\"contenido\",'PLA-FO-01'!Q231)","v":0},{"$f":"MID('PLA-FO-01'!T231,1,4)","v":""},0,0,0,0,0,0,0,0,0,0,0,null,null,null,null,null,null,false,0,0,0]
[null,{"$f":"CELL(\"contenido\",'PLA-FO-01'!C232)","v":0},{"$f":"CELL(\"contenido\",'PLA-FO-01'!O232)","v":0},{"$f":"CELL(\"contenido\",'PLA-FO-01'!P232)","v":0},{"$f":"CELL(\"contenido\",'PLA-FO-01'!Q232)","v":0},{"$f":"MID('PLA-FO-01'!T232,1,4)","v":""},0,0,0,0,0,0,0,0,0,0,0,null,null,null,null,null,null,false,0,0,0]
[null,{"$f":"CELL(\"contenido\",'PLA-FO-01'!C233)","v":0},{"$f":"CELL(\"contenido\",'PLA-FO-01'!O233)","v":0},{"$f":"CELL(\"contenido\",'PLA-FO-01'!P233)","v":0},{"$f":"CELL(\"contenido\",'PLA-FO-01'!Q233)","v":0},{"$f":"MID('PLA-FO-01'!T233,1,4)","v":""},0,0,0,0,0,0,0,0,0,0,0,null,null,null,null,null,null,false,0,0,0]
[null,{"$f":"CELL(\"contenido\",'PLA-FO-01'!C234)","v":0},{"$f":"CELL(\"contenido\",'PLA-FO-01'!O234)","v":0},{"$f":"CELL(\"contenido\",'PLA-FO-01'!P234)","v":0},{"$f":"CELL(\"contenido\",'PLA-FO-01'!Q234)","v":0},{"$f":"MID('PLA-FO-01'!T234,1,4)","v":""},0,0,0,0,0,0,0,0,0,0,0,null,null,null,null,null,null,false,0,0,0]
[null,{"$f":"CELL(\"contenido\",'PLA-FO-01'!C235)","v":0},{"$f":"CELL(\"contenido\",'PLA-FO-01'!O235)","v":0},{"$f":"CELL(\"contenido\",'PLA-FO-01'!P235)","v":0},{"$f":"CELL(\"contenido\",'PLA-FO-01'!Q235)","v":0},{"$f":"MID('PLA-FO-01'!T235,1,4)","v":""},0,0,0,0,0,0,0,0,0,0,0,null,null,null,null,null,null,false,0,0,0]
[null,{"$f":"CELL(\"contenido\",'PLA-FO-01'!C236)","v":0},{"$f":"CELL(\"contenido\",'PLA-FO-01'!O236)","v":0},{"$f":"CELL(\"contenido\",'PLA-FO-01'!P236)","v":0},{"$f":"CELL(\"contenido\",'PLA-FO-01'!Q236)","v":0},{"$f":"MID('PLA-FO-01'!T236,1,4)","v":""},0,0,0,0,0,0,0,0,0,0,0,null,null,null,null,null,null,false,0,0,0]
[null,{"$f":"CELL(\"contenido\",'PLA-FO-01'!C237)","v":0},{"$f":"CELL(\"contenido\",'PLA-FO-01'!O237)","v":0},{"$f":"CELL(\"contenido\",'PLA-FO-01'!P237)","v":0},{"$f":"CELL(\"contenido\",'PLA-FO-01'!Q237)","v":0},{"$f":"MID('PLA-FO-01'!T237,1,4)","v":""},0,0,0,0,0,0,0,0,0,0,0,null,null,null,null,null,null,false,0,0,0]
[null,{"$f":"CELL(\"contenido\",'PLA-FO-01'!C238)","v":0},{"$f":"CELL(\"contenido\",'PLA-FO-01'!O238)","v":0},{"$f":"CELL(\"contenido\",'PLA-FO-01'!P238)","v":0},{"$f":"CELL(\"contenido\",'PLA-FO-01'!Q238)","v":0},{"$f":"MID('PLA-FO-01'!T238,1,4)","v":""},0,0,0,0,0,0,0,0,0,0,0,null,null,null,null,null,null,false,0,0,0]
[null,{"$f":"CELL(\"contenido\",'PLA-FO-01'!C239)","v":0},{"$f":"CELL(\"contenido\",'PLA-FO-01'!O239)","v":0},{"$f":"CELL(\"contenido\",'PLA-FO-01'!P239)","v":0},{"$f":"CELL(\"contenido\",'PLA-FO-01'!Q239)","v":0},{"$f":"MID('PLA-FO-01'!T239,1,4)","v":""},0,0,0,0,0,0,0,0,0,0,0,null,null,null,null,null,null,false,0,0,0]
[null,{"$f":"CELL(\"contenido\",'PLA-FO-01'!C240)","v":0},{"$f":"CELL(\"contenido\",'PLA-FO-01'!O240)","v":0},{"$f":"CELL(\"contenido\",'PLA-FO-01'!P240)","v":0},{"$f":"CELL(\"contenido\",'PLA-FO-01'!Q240)","v":0},{"$f":"MID('PLA-FO-01'!T240,1,4)","v":""},0,0,0,0,0,0,0,0,0,0,0,null,null,null,null,null,null,false,0,0,0]
[null,{"$f":"CELL(\"contenido\",'PLA-FO-01'!C241)","v":0},{"$f":"CELL(\"contenido\",'PLA-FO-01'!O241)","v":0},{"$f":"CELL(\"contenido\",'PLA-FO-01'!P241)","v":0},{"$f":"CELL(\"contenido\",'PLA-FO-01'!Q241)","v":0},{"$f":"MID('PLA-FO-01'!T241,1,4)","v":""},0,0,0,0,0,0,0,0,0,0,0,null,null,null,null,null,null,false,0,0,0]
[null,{"$f":"CELL(\"contenido\",'PLA-FO-01'!C242)","v":0},{"$f":"CELL(\"contenido\",'PLA-FO-01'!O242)","v":0},{"$f":"CELL(\"contenido\",'PLA-FO-01'!P242)","v":0},{"$f":"CELL(\"contenido\",'PLA-FO-01'!Q242)","v":0},{"$f":"MID('PLA-FO-01'!T242,1,4)","v":""},0,0,0,0,0,0,0,0,0,0,0,null,null,null,null,null,null,false,0,0,0]
[null,{"$f":"CELL(\"contenido\",'PLA-FO-01'!C243)","v":0},{"$f":"CELL(\"contenido\",'PLA-FO-01'!O243)","v":0},{"$f":"CELL(\"contenido\",'PLA-FO-01'!P243)","v":0},{"$f":"CELL(\"contenido\",'PLA-FO-01'!Q243)","v":0},{"$f":"MID('PLA-FO-01'!T243,1,4)","v":""},0,0,0,0,0,0,0,0,0,0,0,null,null,null,null,null,null,false,0,0,0]
[null,{"$f":"CELL(\"contenido\",'PLA-FO-01'!C244)","v":0},{"$f":"CELL(\"contenido\",'PLA-FO-01'!O244)","v":0},{"$f":"CELL(\"contenido\",'PLA-FO-01'!P244)","v":0},{"$f":"CELL(\"contenido\",'PLA-FO-01'!Q244)","v":0},{"$f":"MID('PLA-FO-01'!T244,1,4)","v":""},0,0,0,0,0,0,0,0,0,0,0,null,null,null,null,null,null,false,0,0,0]
[null,"TOTAL",null,{"$f":"SUM(D21:D240)","v":0},0,null,0,0,0,0,0,0,0,0,0,0,0]
[]
[]
[null,null,null,null,{"$f":"CELL(\"contenido\",'PLA-FO-01'!D247:F247)","v":0},null,null,null,null,null,null,{"$f":"CELL(\"contenido\",'PLA-FO-01'!L247:L247)","v":""}]
[null,null,null,null,{"$f":"CELL(\"contenido\",'PLA-FO-01'!D248:F248)","v":"Responsable del Proyecto"},null,null,null,null,null,null,{"$f":"CELL(\"contenido\",'PLA-FO-01'!L248:L248)","v":"Rector (a) de Campus / Director (a) del CNMS"}]
[null,null,null,null,{"$f":"CELL(\"contenido\",'PLA-FO-01'!D249:F249)","v":"Nombre y firma"},null,null,null,null,null,null,{"$f":"CELL(\"contenido\",'PLA-FO-01'!L249:L249)","v":"Nombre y firma"}]

{"sheet":"Resumen CONAC","index":6,"n_rows":68,"n_cols":3,"rows_kept":68,"cut":false,"hidden":true,"merged":[[9,1,9,2],[5,1,5,2],[7,1,7,2],[6,1,6,2],[1,1,1,2],[2,1,2,2],[3,1,3,2]]}
[]
[null,"UNIVERSIDAD DE GUANAJUATO"]
[null,"DIRECCIÓN DE PLANEACIÓN"]
[null,"FORMATO RESUMEN INTEGRACIÓN DE POA´S"]
[]
[null,{"$f":"CONCATENATE('PLA-FO-01'!B8,\"  \",'PLA-FO-01'!D8)","v":"Nombre Rectoría de Campus / Dirección CNMS:  "}]
[null,{"$f":"CONCATENATE('PLA-FO-01'!B10,\"  \",'PLA-FO-01'!D10)","v":"Nombre RC/ División / Depto / DCNM / ENMS:  "}]
[null,{"$f":"CONCATENATE('PLA-FO-01'!B12,\"  \",'PLA-FO-01'!D12)","v":"Nombre del Proyecto:  "}]
[]
[null,"POA 2024. Resumen presupuestal por Rubro de Gasto."]
[null,"Rubro de Gasto","Suma de Monto Asignado por Meta y/o Acción"]
[null,"(en blanco)",0]
[null,"(en blanco)",0]
[null,"Total general",0]
[]
[]
[]
[]
[]
[]
[]
[]
[]
[]
[]
[]
[]
[]
[]
[]
[]
[]
[]
[]
[]
[]
[]
[]
[]
[]
[]
[]
[]
[]
[]
[]
[]
[]
[]
[]
[]
[]
[]
[]
[]
[]
[]
[]
[]
[]
[]
[]
[]
[null,{"$f":"CELL(\"contenido\",'PLA-FO-01'!D247:F247)","v":0}]
[null,{"$f":"CELL(\"contenido\",'PLA-FO-01'!D248:F248)","v":"Responsable del Proyecto"}]
[]
[null,{"$f":"CELL(\"contenido\",'PLA-FO-01'!L247:L247)","v":""}]
[null,{"$f":"CELL(\"contenido\",'PLA-FO-01'!L248:L248)","v":"Rector (a) de Campus / Director (a) del CNMS"}]

{"sheet":"Resumen PbR","index":7,"n_rows":67,"n_cols":3,"rows_kept":67,"cut":false,"hidden":true,"merged":[[9,1,9,2],[5,1,5,2],[6,1,6,2],[7,1,7,2],[1,1,1,2],[2,1,2,2],[3,1,3,2]]}
[]
[null,"UNIVERSIDAD DE GUANAJUATO"]
[null,"DIRECCIÓN DE PLANEACIÓN"]
[null,"FORMATO RESUMEN INTEGRACIÓN DE POA´S"]
[]
[null,{"$f":"CONCATENATE('PLA-FO-01'!B8,\"  \",'PLA-FO-01'!D8)","v":"Nombre Rectoría de Campus / Dirección CNMS:  "}]
[null,{"$f":"CONCATENATE('PLA-FO-01'!B10,\"  \",'PLA-FO-01'!D10)","v":"Nombre RC/ División / Depto / DCNM / ENMS:  "}]
[null,{"$f":"CONCATENATE('PLA-FO-01'!B12,\"  \",'PLA-FO-01'!D12)","v":"Nombre del Proyecto:  "}]
[]
[null,"POA 2024. Resumen PbR"]
[null,"Rubro por Programa Presupuestario/ Proceso de Gestión","Suma de Monto Asignado por Meta y/o Acción"]
[null,"(en blanco)",0]
[null,"(en blanco)",0]
[null,"Total general",0]
[]
[]
[]
[]
[]
[]
[]
[]
[]
[]
[]
[]
[]
[]
[]
[]
[]
[]
[]
[]
[]
[]
[]
[]
[]
[]
[]
[]
[]
[]
[]
[]
[]
[]
[]
[]
[]
[]
[]
[]
[]
[]
[]
[]
[]
[]
[]
[]
[null,{"$f":"CELL(\"contenido\",'PLA-FO-01'!D247:F247)","v":0}]
[null,{"$f":"CELL(\"contenido\",'PLA-FO-01'!D248:F248)","v":"Responsable del Proyecto"}]
[]
[null,{"$f":"CELL(\"contenido\",'PLA-FO-01'!L247:L247)","v":""}]
[null,{"$f":"CELL(\"contenido\",'PLA-FO-01'!L248:L248)","v":"Rector (a) de Campus / Director (a) del CNMS"}]